{"text_format":"1","workbook":"xlsx","n_sheets":14,"sheets":["INPUT DATA","JAN","DEC","NOV","OCT","SEP","AUG","JUL","JUN","MAY","APR","MAR","FEB","SETTINGS"],"not_rendered":{"charts":0,"images":9,"macros":1,"external_links":0,"defined_names":33,"comments":1,"pivot_tables":0},"unopened":[],"bounds":{"document_bytes":16777216,"sheet_cells":100000,"rows_first":2000,"rows_last":500,"rows_between":2000,"halvings":0,"cell_chars":16384,"cell_head_chars":4096},"cells_cut":0,"cells_raw":0,"read":"whole","date_system":"1900"}

{"sheet":"INPUT DATA","index":0,"n_rows":113,"n_cols":16383,"rows_kept":113,"cut":false,"hidden":false,"merged":[[44,10,44,19],[46,10,46,19],[30,16,30,17],[29,16,29,17],[37,10,37,19],[38,10,38,19],[39,10,39,19],[40,10,40,19],[41,10,41,19],[29,13,29,14],[30,13,30,14],[10,0,11,0],[0,0,1,26],[5,5,5,11],[6,5,6,11],[3,17,3,23],[4,17,4,23],[5,17,5,23],[3,5,3,11],[4,5,4,11],[94,21,94,23],[94,17,94,19],[8,17,8,23],[6,17,6,23],[7,17,7,23],[49,17,49,19],[49,21,49,23],[58,17,58,19],[58,21,58,23],[67,21,67,23],[67,17,67,19],[76,17,76,19],[76,21,76,23],[85,17,85,19],[85,21,85,23],[43,10,43,19]]}
["Input Data Sheet for School Form 2 (SF2) Daily Attendance Report of Learners"]
[]
[null,null,null,null,null,null,null,null,null,null,null,null,null,null,null,null,null,null,null,null,null,null,null,null,null,null,null,null,null,null,null,null,null,null,null,null,null,null,null,null,null,null,null,null,null,null,null,null,null,null,null,null,null,null,null,null,null,null,null,null,null,null,null,null,null,null,null,null,null,null,null,null,null,null,null,null,null,null,null,null,null,null,null,null,null,null,null,null,null,null,null,null,null,null,null,null,null,null,null,null,null,null,null,null,null,null,null,null,null,null,null,null,null,null,null,null,null,null,null,null,null,null,null,null,null,null,null,null,null,null,null,null,null,null,null,null,null,null,null,null,null,null,null,null,null,null,null,null,null,null,null,null,null,null,null,null,null,null,null,null,null,null,null,null,null,null,null,null,null,null,null,null,null,null,null,null,null,null,null,null,null,null,null,null,null,null,null,null,null,null,null,null,null,null,null,null,null,null,null,null,null,null,null,null,null,null,null,null,null,null,null,null,null,null,null,null,null,null,null,null,null,null,null,null,null,null,null,null,null,null,null,null,null,null,null,null,null,null,null,null,null,null,null,null,null,null,null,null,null,null,null,null,null,null,null,null,null,null,null,null,null,null,null,null,null,null,null,null,null,null,null,null,null,null,null,null,null,null,null,null,null,null,null,null,null,null,null,null,null,null,null,null,null,null,null,null,null,null,null,null,null,null,null,null,null,null,null,null,null,null,null,null,null,null,null,null,null,null,null,null,null,null,null,null,null,null,null,null,null,null,null,null,null,null,null,null,null,null,null,null,null,null,null,null,null,null,null,null,null,null,null,null,null,null,null,null,null,null,null,null,null,null,null,null,null,null,null,null,null,null,null,null,null,null,null,null,null,null,null,null,null,null,null,null,null,null,null,null,null,null,null,null,null,null,null,null,null,null,null,null,null,null,null,null,null,null,null,null,null,null,null,null,null,null,null,null,null,null,null,null,null,null,null,null,null,null,null,null,null,null,null,null,null,null,null,null,null,null,null,null,null,null,null,null,null,null,null,null,null,null,null,null,null,null,null,null,null,null,null,null,null,null,null,null,null,null,null,null,null,null,null,null,null,null,null,null,null,null,null,null,null,null,null,null,null,null,null,null,null,null,null,null,null,null,null,null,null,null,null,null,null,null,null,null,null,null,null,null,null,null,null,null,null,null,null,null,null,null,null,null,null,null,null,null,null,null,null,null,null,null,null,null,null,null,null,null,null,null,null,null,null,null,null,null,null,null,null,null,null,null,null,null,null,null,null,null,null,null,null,null,null,null,null,null,null,null,null,null,null,null,null,null,null,null,null,null,null,null,null,null,null,null,null,null,null,null,null,null,null,null,null,null,null,null,null,null,null,null,null,null,null,null,null,null,null,null,null,null,null,null,null,null,null,null,null,null,null,null,null,null,null,null,null,null,null,null,null,null,null,null,null,null,null,null,null,null,null,null,null,null,null,null,null,null,null,null,null,null,null,null,null,null,null,null,null,null,null,null,null,null,null,null,null,null,null,null,null,null,null,null,null,null,null,null,null,null,null,null,null,null,null,null,null,null,null,null,null,null,null,null,null,null,null,null,null,null,null,null,null,null,null,null,null,null,null,null,null,null,null,null,null,null,null,null,null,null,null,null,null,null,null,null,null,null,null,null,null,null,null,null,null,null,null,null,null,null,null,null,null,null,null,null,null,null,null,null,null,null,null,null,null,null,null,null,null,null,null,null,null,null,null,null,null,null,null,null,null,null,null,null,null,null,null,null,null,null,null,null,null,null,null,null,null,null,null,null,null,null,null,null,null,null,null,null,null,null,null,null,null,null,null,null,null,null,null,null,null,null,null,null,null,null,null,null,null,null,null,null,null,null,null,null,null,null,null,null,null,null,null,null,null,null,null,null,null,null,null,null,null,null,null,null,null,null,null,null,null,null,null,null,null,null,null,null,null,null,null,null,null,null,null,null,null,null,null,null,null,null,null,null,null,null,null,null,null,null,null,null,null,null,null,null,null,null,null,null,null,null,null,null,null,null,null,null,null,null,null,null,null,null,null,null,null,null,null,null,null,null,null,null,null,null,null,null,null,null,null,null,null,null,null,null,null,null,null,null,null,null,null,null,null,null,null,null,null,null,null,null,null,null,null,null,null,null,null,null,null,null,null,null,null,null,null,null,null,null,null,null,null,null,null,null,null,null,null,null,null,null,null,null,null,null,null,null,null,null,null,null,null,null,null,null,null,null,null,null,null,null,null,null,null,null,null,null,null,null,null,null,null,null,null,null,null,null,null,null,null,null,null,null,null,null,null,null,null,null,null,null,null,null,null,null,null,null,null,null,null,null,null,null,null,null,null,null,null,null,null,null,null,null,null,null,null,null,null,null,null,null,null,null,null,null,null,null,null,null,null,null,null,null,null,null,null,null,null,null,null,null,null,null,null,null,null,null,null,null,null,null,null,null,null,null,null,null,null,null,null,null,null,null,null,null,null,null,null,null,null,null,null,null,null,null,null,null,null,null,null,null,null,null,null,null,null,null,null,null,null,null,null,null,null,null,null,null,null,null,null,null,null,null,null,null,null,null,null,null,null,null,null,null,null,null,null,null,null,null,null,null,null,null,null,null,null,null,null,null,null,null,null,null,null,null,null,null,null,null,null,null,null,null,null,null,null,null,null,null,null,null,null,null,null,null,null,null,null,null,null,null,null,null,null,null,null,null,null,null,null,null,null,null,null,null,null,null,null,null,null,null,null,null,null,null,null,null,null,null,null,null,null,null,null,null,null,null,null,null,null,null,null,null,null,null,null,null,null,null,null,null,null,null,null,null,null,null,null,null,null,null,null,null,null,null,null,null,null,null,null,null,null,null,null,null,null,null,null,null,null,null,null,null,null,null,null,null,null,null,null,null,null,null,null,null,null,null,null,null,null,null,null,null,null,null,null,null,null,null,null,null,null,null,null,null,null,null,null,null,null,null,null,null,null,null,null,null,null,null,null,null,null,null,null,null,null,null,null,null,null,null,null,null,null,null,null,null,null,null,null,null,null,null,null,null,null,null,null,null,null,null,null,null,null,null,null,null,null,null,null,null,null,null,null,null,null,null,null,null,null,null,null,null,null,null,null,null,null,null,null,null,null,null,null,null,null,null,null,null,null,null,null,null,null,null,null,null,null,null,null,null,null,null,null,null,null,null,null,null,null,null,null,null,null,null,null,null,null,null,null,null,null,null,null,null,null,null,null,null,null,null,null,null,null,null,null,null,null,null,null,null,null,null,null,null,null,null,null,null,null,null,null,null,null,null,null,null,null,null,null,null,null,null,null,null,null,null,null,null,null,null,null,null,null,null,null,null,null,null,null,null,null,null,null,null,null,null,null,null,null,null,null,null,null,null,null,null,null,null,null,null,null,null,null,null,null,null,null,null,null,null,null,null,null,null,null,null,null,null,null,null,null,null,null,null,null,null,null,null,null,null,null,null,null,null,null,null,null,null,null,null,null,null,null,null,null,null,null,null,null,null,null,null,null,null,null,null,null,null,null,null,null,null,null,null,null,null,null,null,null,null,null,null,null,null,null,null,null,null,null,null,null,null,null,null,null,null,null,null,null,null,null,null,null,null,null,null,null,null,null,null,null,null,null,null,null,null,null,null,null,null,null,null,null,null,null,null,null,null,null,null,null,null,null,null,null,null,null,null,null,null,null,null,null,null,null,null,null,null,null,null,null,null,null,null,null,null,null,null,null,null,null,null,null,null,null,null,null,null,null,null,null,null,null,null,null,null,null,null,null,null,null,null,null,null,null,null,null,null,null,null,null,null,null,null,null,null,null,null,null,null,null,null,null,null,null,null,null,null,null,null,null,null,null,null,null,null,null,null,null,null,null,null,null,null,null,null,null,null,null,null,null,null,null,null,null,null,null,null,null,null,null,null,null,null,null,null,null,null,null,null,null,null,null,null,null,null,null,null,null,null,null,null,null,null,null,null,null,null,null,null,null,null,null,null,null,null,null,null,null,null,null,null,null,null,null,null,null,null,null,null,null,null,null,null,null,null,null,null,null,null,null,null,null,null,null,null,null,null,null,null,null,null,null,null,null,null,null,null,null,null,null,null,null,null,null,null,null,null,null,null,null,null,null,null,null,null,null,null,null,null,null,null,null,null,null,null,null,null,null,null,null,null,null,null,null,null,null,null,null,null,null,null,null,null,null,null,null,null,null,null,null,null,null,null,null,null,null,null,null,null,null,null,null,null,null,null,null,null,null,null,null,null,null,null,null,null,null,null,null,null,null,null,null,null,null,null,null,null,null,null,null,null,null,null,null,null,null,null,null,null,null,null,null,null,null,null,null,null,null,null,null,null,null,null,null,null,null,null,null,null,null,null,null,null,null,null,null,null,null,null,null,null,null,null,null,null,null,null,null,null,null,null,null,null,null,null,null,null,null,null,null,null,null,null,null,null,null,null,null,null,null,null,null,null,null,null,null,null,null,null,null,null,null,null,null,null,null,null,null,null,null,null,null,null,null,null,null,null,null,null,null,null,null,null,null,null,null,null,null,null,null,null,null,null,null,null,null,null,null,null,null,null,null,null,null,null,null,null,null,null,null,null,null,null,null,null,null,null,null,null,null,null,null,null,null,null,null,null,null,null,null,null,null,null,null,null,null,null,null,null,null,null,null,null,null,null,null,null,null,null,null,null,null,null,null,null,null,null,null,null,null,null,null,null,null,null,null,null,null,null,null,null,null,null,null,null,null,null,null,null,null,null,null,null,null,null,null,null,null,null,null,null,null,null,null,null,null,null,null,null,null,null,null,null,null,null,null,null,null,null,null,null,null,null,null,null,null,null,null,null,null,null,null,null,null,null,null,null,null,null,null,null,null,null,null,null,null,null,null,null,null,null,null,null,null,null,null,null,null,null,null,null,null,null,null,null,null,null,null,null,null,null,null,null,null,null,null,null,null,null,null,null,null,null,null,null,null,null,null,null,null,null,null,null,null,null,null,null,null,null,null,null,null,null,null,null,null,null,null,null,null,null,null,null,null,null,null,null,null,null,null,null,null,null,null,null,null,null,null,null,null,null,null,null,null,null,null,null,null,null,null,null,null,null,null,null,null,null,null,null,null,null,null,null,null,null,null,null,null,null,null,null,null,null,null,null,null,null,null,null,null,null,null,null,null,null,null,null,null,null,null,null,null,null,null,null,null,null,null,null,null,null,null,null,null,null,null,null,null,null,null,null,null,null,null,null,null,null,null,null,null,null,null,null,null,null,null,null,null,null,null,null,null,null,null,null,null,null,null,null,null,null,null,null,null,null,null,null,null,null,null,null,null,null,null,null,null,null,null,null,null,null,null,null,null,null,null,null,null,null,null,null,null,null,null,null,null,null,null,null,null,null,null,null,null,null,null,null,null,null,null,null,null,null,null,null,null,null,null,null,null,null,null,null,null,null,null,null,null,null,null,null,null,null,null,null,null,null,null,null,null,null,null,null,null,null,null,null,null,null,null,null,null,null,null,null,null,null,null,null,null,null,null,null,null,null,null,null,null,null,null,null,null,null,null,null,null,null,null,null,null,null,null,null,null,null,null,null,null,null,null,null,null,null,null,null,null,null,null,null,null,null,null,null,null,null,null,null,null,null,null,null,null,null,null,null,null,null,null,null,null,null,null,null,null,null,null,null,null,null,null,null,null,null,null,null,null,null,null,null,null,null,null,null,null,null,null,null,null,null,null,null,null,null,null,null,null,null,null,null,null,null,null,null,null,null,null,null,null,null,null,null,null,null,null,null,null,null,null,null,null,null,null,null,null,null,null,null,null,null,null,null,null,null,null,null,null,null,null,null,null,null,null,null,null,null,null,null,null,null,null,null,null,null,null,null,null,null,null,null,null,null,null,null,null,null,null,null,null,null,null,null,null,null,null,null,null,null,null,null,null,null,null,null,null,null,null,null,null,null,null,null,null,null,null,null,null,null,null,null,null,null,null,null,null,null,null,null,null,null,null,null,null,null,null,null,null,null,null,null,null,null,null,null,null,null,null,null,null,null,null,null,null,null,null,null,null,null,null,null,null,null,null,null,null,null,null,null,null,null,null,null,null,null,null,null,null,null,null,null,null,null,null,null,null,null,null,null,null,null,null,null,null,null,null,null,null,null,null,null,null,null,null,null,null,null,null,null,null,null,null,null,null,null,null,null,null,null,null,null,null,null,null,null,null,null,null,null,null,null,null,null,null,null,null,null,null,null,null,null,null,null,null,null,null,null,null,null,null,null,null,null,null,null,null,null,null,null,null,null,null,null,null,null,null,null,null,null,null,null,null,null,null,null,null,null,null,null,null,null,null,null,null,null,null,null,null,null,null,null,null,null,null,null,null,null,null,null,null,null,null,null,null,null,null,null,null,null,null,null,null,null,null,null,null,null,null,null,null,null,null,null,null,null,null,null,null,null,null,null,null,null,null,null,null,null,null,null,null,null,null,null,null,null,null,null,null,null,null,null,null,null,null,null,null,null,null,null,null,null,null,null,null,null,null,null,null,null,null,null,null,null,null,null,null,null,null,null,null,null,null,null,null,null,null,null,null,null,null,null,null,null,null,null,null,null,null,null,null,null,null,null,null,null,null,null,null,null,null,null,null,null,null,null,null,null,null,null,null,null,null,null,null,null,null,null,null,null,null,null,null,null,null,null,null,null,null,null,null,null,null,null,null,null,null,null,null,null,null,null,null,null,null,null,null,null,null,null,null,null,null,null,null,null,null,null,null,null,null,null,null,null,null,null,null,null,null,null,null,null,null,null,null,null,null,null,null,null,null,null,null,null,null,null,null,null,null,null,null,null,null,null,null,null,null,null,null,null,null,null,null,null,null,null,null,null,null,null,null,null,null,null,null,null,null,null,null,null,null,null,null,null,null,null,null,null,null,null,null,null,null,null,null,null,null,null,null,null,null,null,null,null,null,null,null,null,null,null,null,null,null,null,null,null,null,null,null,null,null,null,null,null,null,null,null,null,null,null,null,null,null,null,null,null,null,null,null,null,null,null,null,null,null,null,null,null,null,null,null,null,null,null,null,null,null,null,null,null,null,null,null,null,null,null,null,null,null,null,null,null,null,null,null,null,null,null,null,null,null,null,null,null,null,null,null,null,null,null,null,null,null,null,null,null,null,null,null,null,null,null,null,null,null,null,null,null,null,null,null,null,null,null,null,null,null,null,null,null,null,null,null,null,null,null,null,null,null,null,null,null,null,null,null,null,null,null,null,null,null,null,null,null,null,null,null,null,null,null,null,null,null,null,null,null,null,null,null,null,null,null,null,null,null,null,null,null,null,null,null,null,null,null,null,null,null,null,null,null,null,null,null,null,null,null,null,null,null,null,null,null,null,null,null,null,null,null,null,null,null,null,null,null,null,null,null,null,null,null,null,null,null,null,null,null,null,null,null,null,null,null,null,null,null,null,null,null,null,null,null,null,null,null,null,null,null,null,null,null,null,null,null,null,null,null,null,null,null,null,null,null,null,null,null,null,null,null,null,null,null,null,null,null,null,null,null,null,null,null,null,null,null,null,null,null,null,null,null,null,null,null,null,null,null,null,null,null,null,null,null,null,null,null,null,null,null,null,null,null,null,null,null,null,null,null,null,null,null,null,null,null,null,null,null,null,null,null,null,null,null,null,null,null,null,null,null,null,null,null,null,null,null,null,null,null,null,null,null,null,null,null,null,null,null,null,null,null,null,null,null,null,null,null,null,null,null,null,null,null,null,null,null,null,null,null,null,null,null,null,null,null,null,null,null,null,null,null,null,null,null,null,null,null,null,null,null,null,null,null,null,null,null,null,null,null,null,null,null,null,null,null,null,null,null,null,null,null,null,null,null,null,null,null,null,null,null,null,null,null,null,null,null,null,null,null,null,null,null,null,null,null,null,null,null,null,null,null,null,null,null,null,null,null,null,null,null,null,null,null,null,null,null,null,null,null,null,null,null,null,null,null,null,null,null,null,null,null,null,null,null,null,null,null,null,null,null,null,null,null,null,null,null,null,null,null,null,null,null,null,null,null,null,null,null,null,null,null,null,null,null,null,null,null,null,null,null,null,null,null,null,null,null,null,null,null,null,null,null,null,null,null,null,null,null,null,null,null,null,null,null,null,null,null,null,null,null,null,null,null,null,null,null,null,null,null,null,null,null,null,null,null,null,null,null,null,null,null,null,null,null,null,null,null,null,null,null,null,null,null,null,null,null,null,null,null,null,null,null,null,null,null,null,null,null,null,null,null,null,null,null,null,null,null,null,null,null,null,null,null,null,null,null,null,null,null,null,null,null,null,null,null,null,null,null,null,null,null,null,null,null,null,null,null,null,null,null,null,null,null,null,null,null,null,null,null,null,null,null,null,null,null,null,null,null,null,null,null,null,null,null,null,null,null,null,null,null,null,null,null,null,null,null,null,null,null,null,null,null,null,null,null,null,null,null,null,null,null,null,null,null,null,null,null,null,null,null,null,null,null,null,null,null,null,null,null,null,null,null,null,null,null,null,null,null,null,null,null,null,null,null,null,null,null,null,null,null,null,null,null,null,null,null,null,null,null,null,null,null,null,null,null,null,null,null,null,null,null,null,null,null,null,null,null,null,null,null,null,null,null,null,null,null,null,null,null,null,null,null,null,null,null,null,null,null,null,null,null,null,null,null,null,null,null,null,null,null,null,null,null,null,null,null,null,null,null,null,null,null,null,null,null,null,null,null,null,null,null,null,null,null,null,null,null,null,null,null,null,null,null,null,null,null,null,null,null,null,null,null,null,null,null,null,null,null,null,null,null,null,null,null,null,null,null,null,null,null,null,null,null,null,null,null,null,null,null,null,null,null,null,null,null,null,null,null,null,null,null,null,null,null,null,null,null,null,null,null,null,null,null,null,null,null,null,null,null,null,null,null,null,null,null,null,null,null,null,null,null,null,null,null,null,null,null,null,null,null,null,null,null,null,null,null,null,null,null,null,null,null,null,null,null,null,null,null,null,null,null,null,null,null,null,null,null,null,null,null,null,null,null,null,null,null,null,null,null,null,null,null,null,null,null,null,null,null,null,null,null,null,null,null,null,null,null,null,null,null,null,null,null,null,null,null,null,null,null,null,null,null,null,null,null,null,null,null,null,null,null,null,null,null,null,null,null,null,null,null,null,null,null,null,null,null,null,null,null,null,null,null,null,null,null,null,null,null,null,null,null,null,null,null,null,null,null,null,null,null,null,null,null,null,null,null,null,null,null,null,null,null,null,null,null,null,null,null,null,null,null,null,null,null,null,null,null,null,null,null,null,null,null,null,null,null,null,null,null,null,null,null,null,null,null,null,null,null,null,null,null,null,null,null,null,null,null,null,null,null,null,null,null,null,null,null,null,null,null,null,null,null,null,null,null,null,null,null,null,null,null,null,null,null,null,null,null,null,null,null,null,null,null,null,null,null,null,null,null,null,null,null,null,null,null,null,null,null,null,null,null,null,null,null,null,null,null,null,null,null,null,null,null,null,null,null,null,null,null,null,null,null,null,null,null,null,null,null,null,null,null,null,null,null,null,null,null,null,null,null,null,null,null,null,null,null,null,null,null,null,null,null,null,null,null,null,null,null,null,null,null,null,null,null,null,null,null,null,null,null,null,null,null,null,null,null,null,null,null,null,null,null,null,null,null,null,null,null,null,null,null,null,null,null,null,null,null,null,null,null,null,null,null,null,null,null,null,null,null,null,null,null,null,null,null,null,null,null,null,null,null,null,null,null,null,null,null,null,null,null,null,null,null,null,null,null,null,null,null,null,null,null,null,null,null,null,null,null,null,null,null,null,null,null,null,null,null,null,null,null,null,null,null,null,null,null,null,null,null,null,null,null,null,null,null,null,null,null,null,null,null,null,null,null,null,null,null,null,null,null,null,null,null,null,null,null,null,null,null,null,null,null,null,null,null,null,null,null,null,null,null,null,null,null,null,null,null,null,null,null,null,null,null,null,null,null,null,null,null,null,null,null,null,null,null,null,null,null,null,null,null,null,null,null,null,null,null,null,null,null,null,null,null,null,null,null,null,null,null,null,null,null,null,null,null,null,null,null,null,null,null,null,null,null,null,null,null,null,null,null,null,null,null,null,null,null,null,null,null,null,null,null,null,null,null,null,null,null,null,null,null,null,null,null,null,null,null,null,null,null,null,null,null,null,null,null,null,null,null,null,null,null,null,null,null,null,null,null,null,null,null,null,null,null,null,null,null,null,null,null,null,null,null,null,null,null,null,null,null,null,null,null,null,null,null,null,null,null,null,null,null,null,null,null,null,null,null,null,null,null,null,null,null,null,null,null,null,null,null,null,null,null,null,null,null,null,null,null,null,null,null,null,null,null,null,null,null,null,null,null,null,null,null,null,null,null,null,null,null,null,null,null,null,null,null,null,null,null,null,null,null,null,null,null,null,null,null,null,null,null,null,null,null,null,null,null,null,null,null,null,null,null,null,null,null,null,null,null,null,null,null,null,null,null,null,null,null,null,null,null,null,null,null,null,null,null,null,null,null,null,null,null,null,null,null,null,null,null,null,null,null,null,null,null,null,null,null,null,null,null,null,null,null,null,null,null,null,null,null,null,null,null,null,null,null,null,null,null,null,null,null,null,null,null,null,null,null,null,null,null,null,null,null,null,null,null,null,null,null,null,null,null,null,null,null,null,null,null,null,null,null,null,null,null,null,null,null,null,null,null,null,null,null,null,null,null,null,null,null,null,null,null,null,null,null,null,null,null,null,null,null,null,null,null,null,null,null,null,null,null,null,null,null,null,null,null,null,null,null,null,null,null,null,null,null,null,null,null,null,null,null,null,null,null,null,null,null,null,null,null,null,null,null,null,null,null,null,null,null,null,null,null,null,null,null,null,null,null,null,null,null,null,null,null,null,null,null,null,null,null,null,null,null,null,null,null,null,null,null,null,null,null,null,null,null,null,null,null,null,null,null,null,null,null,null,null,null,null,null,null,null,null,null,null,null,null,null,null,null,null,null,null,null,null,null,null,null,null,null,null,null,null,null,null,null,null,null,null,null,null,null,null,null,null,null,null,null,null,null,null,null,null,null,null,null,null,null,null,null,null,null,null,null,null,null,null,null,null,null,null,null,null,null,null,null,null,null,null,null,null,null,null,null,null,null,null,null,null,null,null,null,null,null,null,null,null,null,null,null,null,null,null,null,null,null,null,null,null,null,null,null,null,null,null,null,null,null,null,null,null,null,null,null,null,null,null,null,null,null,null,null,null,null,null,null,null,null,null,null,null,null,null,null,null,null,null,null,null,null,null,null,null,null,null,null,null,null,null,null,null,null,null,null,null,null,null,null,null,null,null,null,null,null,null,null,null,null,null,null,null,null,null,null,null,null,null,null,null,null,null,null,null,null,null,null,null,null,null,null,null,null,null,null,null,null,null,null,null,null,null,null,null,null,null,null,null,null,null,null,null,null,null,null,null,null,null,null,null,null,null,null,null,null,null,null,null,null,null,null,null,null,null,null,null,null,null,null,null,null,null,null,null,null,null,null,null,null,null,null,null,null,null,null,null,null,null,null,null,null,null,null,null,null,null,null,null,null,null,null,null,null,null,null,null,null,null,null,null,null,null,null,null,null,null,null,null,null,null,null,null,null,null,null,null,null,null,null,null,null,null,null,null,null,null,null,null,null,null,null,null,null,null,null,null,null,null,null,null,null,null,null,null,null,null,null,null,null,null,null,null,null,null,null,null,null,null,null,null,null,null,null,null,null,null,null,null,null,null,null,null,null,null,null,null,null,null,null,null,null,null,null,null,null,null,null,null,null,null,null,null,null,null,null,null,null,null,null,null,null,null,null,null,null,null,null,null,null,null,null,null,null,null,null,null,null,null,null,null,null,null,null,null,null,null,null,null,null,null,null,null,null,null,null,null,null,null,null,null,null,null,null,null,null,null,null,null,null,null,null,null,null,null,null,null,null,null,null,null,null,null,null,null,null,null,null,null,null,null,null,null,null,null,null,null,null,null,null,null,null,null,null,null,null,null,null,null,null,null,null,null,null,null,null,null,null,null,null,null,null,null,null,null,null,null,null,null,null,null,null,null,null,null,null,null,null,null,null,null,null,null,null,null,null,null,null,null,null,null,null,null,null,null,null,null,null,null,null,null,null,null,null,null,null,null,null,null,null,null,null,null,null,null,null,null,null,null,null,null,null,null,null,null,null,null,null,null,null,null,null,null,null,null,null,null,null,null,null,null,null,null,null,null,null,null,null,null,null,null,null,null,null,null,null,null,null,null,null,null,null,null,null,null,null,null,null,null,null,null,null,null,null,null,null,null,null,null,null,null,null,null,null,null,null,null,null,null,null,null,null,null,null,null,null,null,null,null,null,null,null,null,null,null,null,null,null,null,null,null,null,null,null,null,null,null,null,null,null,null,null,null,null,null,null,null,null,null,null,null,null,null,null,null,null,null,null,null,null,null,null,null,null,null,null,null,null,null,null,null,null,null,null,null,null,null,null,null,null,null,null,null,null,null,null,null,null,null,null,null,null,null,null,null,null,null,null,null,null,null,null,null,null,null,null,null,null,null,null,null,null,null,null,null,null,null,null,null,null,null,null,null,null,null,null,null,null,null,null,null,null,null,null,null,null,null,null,null,null,null,null,null,null,null,null,null,null,null,null,null,null,null,null,null,null,null,null,null,null,null,null,null,null,null,null,null,null,null,null,null,null,null,null,null,null,null,null,null,null,null,null,null,null,null,null,null,null,null,null,null,null,null,null,null,null,null,null,null,null,null,null,null,null,null,null,null,null,null,null,null,null,null,null,null,null,null,null,null,null,null,null,null,null,null,null,null,null,null,null,null,null,null,null,null,null,null,null,null,null,null,null,null,null,null,null,null,null,null,null,null,null,null,null,null,null,null,null,null,null,null,null,null,null,null,null,null,null,null,null,null,null,null,null,null,null,null,null,null,null,null,null,null,null,null,null,null,null,null,null,null,null,null,null,null,null,null,null,null,null,null,null,null,null,null,null,null,null,null,null,null,null,null,null,null,null,null,null,null,null,null,null,null,null,null,null,null,null,null,null,null,null,null,null,null,null,null,null,null,null,null,null,null,null,null,null,null,null,null,null,null,null,null,null,null,null,null,null,null,null,null,null,null,null,null,null,null,null,null,null,null,null,null,null,null,null,null,null,null,null,null,null,null,null,null,null,null,null,null,null,null,null,null,null,null,null,null,null,null,null,null,null,null,null,null,null,null,null,null,null,null,null,null,null,null,null,null,null,null,null,null,null,null,null,null,null,null,null,null,null,null,null,null,null,null,null,null,null,null,null,null,null,null,null,null,null,null,null,null,null,null,null,null,null,null,null,null,null,null,null,null,null,null,null,null,null,null,null,null,null,null,null,null,null,null,null,null,null,null,null,null,null,null,null,null,null,null,null,null,null,null,null,null,null,null,null,null,null,null,null,null,null,null,null,null,null,null,null,null,null,null,null,null,null,null,null,null,null,null,null,null,null,null,null,null,null,null,null,null,null,null,null,null,null,null,null,null,null,null,null,null,null,null,null,null,null,null,null,null,null,null,null,null,null,null,null,null,null,null,null,null,null,null,null,null,null,null,null,null,null,null,null,null,null,null,null,null,null,null,null,null,null,null,null,null,null,null,null,null,null,null,null,null,null,null,null,null,null,null,null,null,null,null,null,null,null,null,null,null,null,null,null,null,null,null,null,null,null,null,null,null,null,null,null,null,null,null,null,null,null,null,null,null,null,null,null,null,null,null,null,null,null,null,null,null,null,null,null,null,null,null,null,null,null,null,null,null,null,null,null,null,null,null,null,null,null,null,null,null,null,null,null,null,null,null,null,null,null,null,null,null,null,null,null,null,null,null,null,null,null,null,null,null,null,null,null,null,null,null,null,null,null,null,null,null,null,null,null,null,null,null,null,null,null,null,null,null,null,null,null,null,null,null,null,null,null,null,null,null,null,null,null,null,null,null,null,null,null,null,null,null,null,null,null,null,null,null,null,null,null,null,null,null,null,null,null,null,null,null,null,null,null,null,null,null,null,null,null,null,null,null,null,null,null,null,null,null,null,null,null,null,null,null,null,null,null,null,null,null,null,null,null,null,null,null,null,null,null,null,null,null,null,null,null,null,null,null,null,null,null,null,null,null,null,null,null,null,null,null,null,null,null,null,null,null,null,null,null,null,null,null,null,null,null,null,null,null,null,null,null,null,null,null,null,null,null,null,null,null,null,null,null,null,null,null,null,null,null,null,null,null,null,null,null,null,null,null,null,null,null,null,null,null,null,null,null,null,null,null,null,null,null,null,null,null,null,null,null,null,null,null,null,null,null,null,null,null,null,null,null,null,null,null,null,null,null,null,null,null,null,null,null,null,null,null,null,null,null,null,null,null,null,null,null,null,null,null,null,null,null,null,null,null,null,null,null,null,null,null,null,null,null,null,null,null,null,null,null,null,null,null,null,null,null,null,null,null,null,null,null,null,null,null,null,null,null,null,null,null,null,null,null,null,null,null,null,null,null,null,null,null,null,null,null,null,null,null,null,null,null,null,null,null,null,null,null,null,null,null,null,null,null,null,null,null,null,null,null,null,null,null,null,null,null,null,null,null,null,null,null,null,null,null,null,null,null,null,null,null,null,null,null,null,null,null,null,null,null,null,null,null,null,null,null,null,null,null,null,null,null,null,null,null,null,null,null,null,null,null,null,null,null,null,null,null,null,null,null,null,null,null,null,null,null,null,null,null,null,null,null,null,null,null,null,null,null,null,null,null,null,null,null,null,null,null,null,null,null,null,null,null,null,null,null,null,null,null,null,null,null,null,null,null,null,null,null,null,null,null,null,null,null,null,null,null,null,null,null,null,null,null,null,null,null,null,null,null,null,null,null,null,null,null,null,null,null,null,null,null,null,null,null,null,null,null,null,null,null,null,null,null,null,null,null,null,null,null,null,null,null,null,null,null,null,null,null,null,null,null,null,null,null,null,null,null,null,null,null,null,null,null,null,null,null,null,null,null,null,null,null,null,null,null,null,null,null,null,null,null,null,null,null,null,null,null,null,null,null,null,null,null,null,null,null,null,null,null,null,null,null,null,null,null,null,null,null,null,null,null,null,null,null,null,null,null,null,null,null,null,null,null,null,null,null,null,null,null,null,null,null,null,null,null,null,null,null,null,null,null,null,null,null,null,null,null,null,null,null,null,null,null,null,null,null,null,null,null,null,null,null,null,null,null,null,null,null,null,null,null,null,null,null,null,null,null,null,null,null,null,null,null,null,null,null,null,null,null,null,null,null,null,null,null,null,null,null,null,null,null,null,null,null,null,null,null,null,null,null,null,null,null,null,null,null,null,null,null,null,null,null,null,null,null,null,null,null,null,null,null,null,null,null,null,null,null,null,null,null,null,null,null,null,null,null,null,null,null,null,null,null,null,null,null,null,null,null,null,null,null,null,null,null,null,null,null,null,null,null,null,null,null,null,null,null,null,null,null,null,null,null,null,null,null,null,null,null,null,null,null,null,null,null,null,null,null,null,null,null,null,null,null,null,null,null,null,null,null,null,null,null,null,null,null,null,null,null,null,null,null,null,null,null,null,null,null,null,null,null,null,null,null,null,null,null,null,null,null,null,null,null,null,null,null,null,null,null,null,null,null,null,null,null,null,null,null,null,null,null,null,null,null,null,null,null,null,null,null,null,null,null,null,null,null,null,null,null,null,null,null,null,null,null,null,null,null,null,null,null,null,null,null,null,null,null,null,null,null,null,null,null,null,null,null,null,null,null,null,null,null,null,null,null,null,null,null,null,null,null,null,null,null,null,null,null,null,null,null,null,null,null,null,null,null,null,null,null,null,null,null,null,null,null,null,null,null,null,null,null,null,null,null,null,null,null,null,null,null,null,null,null,null,null,null,null,null,null,null,null,null,null,null,null,null,null,null,null,null,null,null,null,null,null,null,null,null,null,null,null,null,null,null,null,null,null,null,null,null,null,null,null,null,null,null,null,null,null,null,null,null,null,null,null,null,null,null,null,null,null,null,null,null,null,null,null,null,null,null,null,null,null,null,null,null,null,null,null,null,null,null,null,null,null,null,null,null,null,null,null,null,null,null,null,null,null,null,null,null,null,null,null,null,null,null,null,null,null,null,null,null,null,null,null,null,null,null,null,null,null,null,null,null,null,null,null,null,null,null,null,null,null,null,null,null,null,null,null,null,null,null,null,null,null,null,null,null,null,null,null,null,null,null,null,null,null,null,null,null,null,null,null,null,null,null,null,null,null,null,null,null,null,null,null,null,null,null,null,null,null,null,null,null,null,null,null,null,null,null,null,null,null,null,null,null,null,null,null,null,null,null,null,null,null,null,null,null,null,null,null,null,null,null,null,null,null,null,null,null,null,null,null,null,null,null,null,null,null,null,null,null,null,null,null,null,null,null,null,null,null,null,null,null,null,null,null,null,null,null,null,null,null,null,null,null,null,null,null,null,null,null,null,null,null,null,null,null,null,null,null,null,null,null,null,null,null,null,null,null,null,null,null,null,null,null,null,null,null,null,null,null,null,null,null,null,null,null,null,null,null,null,null,null,null,null,null,null,null,null,null,null,null,null,null,null,null,null,null,null,null,null,null,null,null,null,null,null,null,null,null,null,null,null,null,null,null,null,null,null,null,null,null,null,null,null,null,null,null,null,null,null,null,null,null,null,null,null,null,null,null,null,null,null,null,null,null,null,null,null,null,null,null,null,null,null,null,null,null,null,null,null,null,null,null,null,null,null,null,null,null,null,null,null,null,null,null,null,null,null,null,null,null,null,null,null,null,null,null,null,null,null,null,null,null,null,null,null,null,null,null,null,null,null,null,null,null,null,null,null,null,null,null,null,null,null,null,null,null,null,null,null,null,null,null,null,null,null,null,null,null,null,null,null,null,null,null,null,null,null,null,null,null,null,null,null,null,null,null,null,null,null,null,null,null,null,null,null,null,null,null,null,null,null,null,null,null,null,null,null,null,null,null,null,null,null,null,null,null,null,null,null,null,null,null,null,null,null,null,null,null,null,null,null,null,null,null,null,null,null,null,null,null,null,null,null,null,null,null,null,null,null,null,null,null,null,null,null,null,null,null,null,null,null,null,null,null,null,null,null,null,null,null,null,null,null,null,null,null,null,null,null,null,null,null,null,null,null,null,null,null,null,null,null,null,null,null,null,null,null,null,null,null,null,null,null,null,null,null,null,null,null,null,null,null,null,null,null,null,null,null,null,null,null,null,null,null,null,null,null,null,null,null,null,null,null,null,null,null,null,null,null,null,null,null,null,null,null,null,null,null,null,null,null,null,null,null,null,null,null,null,null,null,null,null,null,null,null,null,null,null,null,null,null,null,null,null,null,null,null,null,null,null,null,null,null,null,null,null,null,null,null,null,null,null,null,null,null,null,null,null,null,null,null,null,null,null,null,null,null,null,null,null,null,null,null,null,null,null,null,null,null,null,null,null,null,null,null,null,null,null,null,null,null,null,null,null,null,null,null,null,null,null,null,null,null,null,null,null,null,null,null,null,null,null,null,null,null,null,null,null,null,null,null,null,null,null,null,null,null,null,null,null,null,null,null,null,null,null,null,null,null,null,null,null,null,null,null,null,null,null,null,null,null,null,null,null,null,null,null,null,null,null,null,null,null,null,null,null,null,null,null,null,null,null,null,null,null,null,null,null,null,null,null,null,null,null,null,null,null,null,null,null,null,null,null,null,null,null,null,null,null,null,null,null,null,null,null,null,null,null,null,null,null,null,null,null,null,null,null,null,null,null,null,null,null,null,null,null,null,null,null,null,null,null,null,null,null,null,null,null,null,null,null,null,null,null,null,null,null,null,null,null,null,null,null,null,null,null,null,null,null,null,null,null,null,null,null,null,null,null,null,null,null,null,null,null,null,null,null,null,null,null,null,null,null,null,null,null,null,null,null,null,null,null,null,null,null,null,null,null,null,null,null,null,null,null,null,null,null,null,null,null,null,null,null,null,null,null,null,null,null,null,null,null,null,null,null,null,null,null,null,null,null,null,null,null,null,null,null,null,null,null,null,null,null,null,null,null,null,null,null,null,null,null,null,null,null,null,null,null,null,null,null,null,null,null,null,null,null,null,null,null,null,null,null,null,null,null,null,null,null,null,null,null,null,null,null,null,null,null,null,null,null,null,null,null,null,null,null,null,null,null,null,null,null,null,null,null,null,null,null,null,null,null,null,null,null,null,null,null,null,null,null,null,null,null,null,null,null,null,null,null,null,null,null,null,null,null,null,null,null,null,null,null,null,null,null,null,null,null,null,null,null,null,null,null,null,null,null,null,null,null,null,null,null,null,null,null,null,null,null,null,null,null,null,null,null,null,null,null,null,null,null,null,null,null,null,null,null,null,null,null,null,null,null,null,null,null,null,null,null,null,null,null,null,null,null,null,null,null,null,null,null,null,null,null,null,null,null,null,null,null,null,null,null,null,null,null,null,null,null,null,null,null,null,null,null,null,null,null,null,null,null,null,null,null,null,null,null,null,null,null,null,null,null,null,null,null,null,null,null,null,null,null,null,null,null,null,null,null,null,null,null,null,null,null,null,null,null,null,null,null,null,null,null,null,null,null,null,null,null,null,null,null,null,null,null,null,null,null,null,null,null,null,null,null,null,null,null,null,null,null,null,null,null,null,null,null,null,null,null,null,null,null,null,null,null,null,null,null,null,null,null,null,null,null,null,null,null,null,null,null,null,null,null,null,null,null,null,null,null,null,null,null,null,null,null,null,null,null,null,null,null,null,null,null,null,null,null,null,null,null,null,null,null,null,null,null,null,null,null,null,null,null,null,null,null,null,null,null,null,null,null,null,null,null,null,null,null,null,null,null,null,null,null,null,null,null,null,null,null,null,null,null,null,null,null,null,null,null,null,null,null,null,null,null,null,null,null,null,null,null,null,null,null,null,null,null,null,null,null,null,null,null,null,null,null,null,null,null,null,null,null,null,null,null,null,null,null,null,null,null,null,null,null,null,null,null,null,null,null,null,null,null,null,null,null,null,null,null,null,null,null,null,null,null,null,null,null,null,null,null,null,null,null,null,null,null,null,null,null,null,null,null,null,null,null,null,null,null,null,null,null,null,null,null,null,null,null,null,null,null,null,null,null,null,null,null,null,null,null,null,null,null,null,null,null,null,null,null,null,null,null,null,null,null,null,null,null,null,null,null,null,null,null,null,null,null,null,null,null,null,null,null,null,null,null,null,null,null,null,null,null,null,null,null,null,null,null,null,null,null,null,null,null,null,null,null,null,null,null,null,null,null,null,null,null,null,null,null,null,null,null,null,null,null,null,null,null,null,null,null,null,null,null,null,null,null,null,null,null,null,null,null,null,null,null,null,null,null,null,null,null,null,null,null,null,null,null,null,null,null,null,null,null,null,null,null,null,null,null,null,null,null,null,null,null,null,null,null,null,null,null,null,null,null,null,null,null,null,null,null,null,null,null,null,null,null,null,null,null,null,null,null,null,null,null,null,null,null,null,null,null,null,null,null,null,null,null,null,null,null,null,null,null,null,null,null,null,null,null,null,null,null,null,null,null,null,null,null,null,null,null,null,null,null,null,null,null,null,null,null,null,null,null,null,null,null,null,null,null,null,null,null,null,null,null,null,null,null,null,null,null,null,null,null,null,null,null,null,null,null,null,null,null,null,null,null,null,null,null,null,null,null,null,null,null,null,null,null,null,null,null,null,null,null,null,null,null,null,null,null,null,null,null,null,null,null,null,null,null,null,null,null,null,null,null,null,null,null,null,null,null,null,null,null,null,null,null,null,null,null,null,null,null,null,null,null,null,null,null,null,null,null,null,null,null,null,null,null,null,null,null,null,null,null,null,null,null,null,null,null,null,null,null,null,null,null,null,null,null,null,null,null,null,null,null,null,null,null,null,null,null,null,null,null,null,null,null,null,null,null,null,null,null,null,null,null,null,null,null,null,null,null,null,null,null,null,null,null,null,null,null,null,null,null,null,null,null,null,null,null,null,null,null,null,null,null,null,null,null,null,null,null,null,null,null,null,null,null,null,null,null,null,null,null,null,null,null,null,null,null,null,null,null,null,null,null,null,null,null,null,null,null,null,null,null,null,null,null,null,null,null,null,null,null,null,null,null,null,null,null,null,null,null,null,null,null,null,null,null,null,null,null,null,null,null,null,null,null,null,null,null,null,null,null,null,null,null,null,null,null,null,null,null,null,null,null,null,null,null,null,null,null,null,null,null,null,null,null,null,null,null,null,null,null,null,null,null,null,null,null,null,null,null,null,null,null,null,null,null,null,null,null,null,null,null,null,null,null,null,null,null,null,null,null,null,null,null,null,null,null,null,null,null,null,null,null,null,null,null,null,null,null,null,null,null,null,null,null,null,null,null,null,null,null,null,null,null,null,null,null,null,null,null,null,null,null,null,null,null,null,null,null,null,null,null,null,null,null,null,null,null,null,null,null,null,null,null,null,null,null,null,null,null,null,null,null,null,null,null,null,null,null,null,null,null,null,null,null,null,null,null,null,null,null,null,null,null,null,null,null,null,null,null,null,null,null,null,null,null,null,null,null,null,null,null,null,null,null,null,null,null,null,null,null,null,null,null,null,null,null,null,null,null,null,null,null,null,null,null,null,null,null,null,null,null,null,null,null,null,null,null,null,null,null,null,null,null,null,null,null,null,null,null,null,null,null,null,null,null,null,null,null,null,null,null,null,null,null,null,null,null,null,null,null,null,null,null,null,null,null,null,null,null,null,null,null,null,null,null,null,null,null,null,null,null,null,null,null,null,null,null,null,null,null,null,null,null,null,null,null,null,null,null,null,null,null,null,null,null,null,null,null,null,null,null,null,null,null,null,null,null,null,null,null,null,null,null,null,null,null,null,null,null,null,null,null,null,null,null,null,null,null,null,null,null,null,null,null,null,null,null,null,null,null,null,null,null,null,null,null,null,null,null,null,null,null,null,null,null,null,null,null,null,null,null,null,null,null,null,null,null,null,null,null,null,null,null,null,null,null,null,null,null,null,null,null,null,null,null,null,null,null,null,null,null,null,null,null,null,null,null,null,null,null,null,null,null,null,null,null,null,null,null,null,null,null,null,null,null,null,null,null,null,null,null,null,null,null,null,null,null,null,null,null,null,null,null,null,null,null,null,null,null,null,null,null,null,null,null,null,null,null,null,null,null,null,null,null,null,null,null,null,null,null,null,null,null,null,null,null,null,null,null,null,null,null,null,null,null,null,null,null,null,null,null,null,null,null,null,null,null,null,null,null,null,null,null,null,null,null,null,null,null,null,null,null,null,null,null,null,null,null,null,null,null,null,null,null,null,null,null,null,null,null,null,null,null,null,null,null,null,null,null,null,null,null,null,null,null,null,null,null,null,null,null,null,null,null,null,null,null,null,null,null,null,null,null,null,null,null,null,null,null,null,null,null,null,null,null,null,null,null,null,null,null,null,null,null,null,null,null,null,null,null,null,null,null,null,null,null,null,null,null,null,null,null,null,null,null,null,null,null,null,null,null,null,null,null,null,null,null,null,null,null,null,null,null,null,null,null,null,null,null,null,null,null,null,null,null,null,null,null,null,null,null,null,null,null,null,null,null,null,null,null,null,null,null,null,null,null,null,null,null,null,null,null,null,null,null,null,null,null,null,null,null,null,null,null,null,null,null,null,null,null,null,null,null,null,null,null,null,null,null,null,null,null,null,null,null,null,null,null,null,null,null,null,null,null,null,null,null,null,null,null,null,null,null,null,null,null,null,null,null,null,null,null,null,null,null,null,null,null,null,null,null,null,null,null,null,null,null,null,null,null,null,null,null,null,null,null,null,null,null,null,null,null,null,null,null,null,null,null,null,null,null,null,null,null,null,null,null,null,null,null,null,null,null,null,null,null,null,null,null,null,null,null,null,null,null,null,null,null,null,null,null,null,null,null,null,null,null,null,null,null,null,null,null,null,null,null,null,null,null,null,null,null,null,null,null,null,null,null,null,null,null,null,null,null,null,null,null,null,null,null,null,null,null,null,null,null,null,null,null,null,null,null,null,null,null,null,null,null,null,null,null,null,null,null,null,null,null,null,null,null,null,null,null,null,null,null,null,null,null,null,null,null,null,null,null,null,null,null,null,null,null,null,null,null,null,null,null,null,null,null,null,null,null,null,null,null,null,null,null,null,null,null,null,null,null,null,null,null,null,null,null,null,null,null,null,null,null,null,null,null,null,null,null,null,null,null,null,null,null,null,null,null,null,null,null,null,null,null,null,null,null,null,null,null,null,null,null,null,null,null,null,null,null,null,null,null,null,null,null,null,null,null,null,null,null,null,null,null,null,null,null,null,null,null,null,null,null,null,null,null,null,null,null,null,null,null,null,null,null,null,null,null,null,null,null,null,null,null,null,null,null,null,null,null,null,null,null,null,null,null,null,null,null,null,null,null,null,null,null,null,null,null,null,null,null,null,null,null,null,null,null,null,null,null,null,null,null,null,null,null,null,null,null,null,null,null,null,null,null,null,null,null,null,null,null,null,null,null,null,null,null,null,null,null,null,null,null,null,null,null,null,null,null,null,null,null,null,null,null,null,null,null,null,null,null,null,null,null,null,null,null,null,null,null,null,null,null,null,null,null,null,null,null,null,null,null,null,null,null,null,null,null,null,null,null,null,null,null,null,null,null,null,null,null,null,null,null,null,null,null,null,null,null,null,null,null,null,null,null,null,null,null,null,null,null,null,null,null,null,null,null,null,null,null,null,null,null,null,null,null,null,null,null,null,null,null,null,null,null,null,null,null,null,null,null,null,null,null,null,null,null,null,null,null,null,null,null,null,null,null,null,null,null,null,null,null,null,null,null,null,null,null,null,null,null,null,null,null,null,null,null,null,null,null,null,null,null,null,null,null,null,null,null,null,null,null,null,null,null,null,null,null,null,null,null,null,null,null,null,null,null,null,null,null,null,null,null,null,null,null,null,null,null,null,null,null,null,null,null,null,null,null,null,null,null,null,null,null,null,null,null,null,null,null,null,null,null,null,null,null,null,null,null,null,null,null,null,null,null,null,null,null,null,null,null,null,null,null,null,null,null,null,null,null,null,null,null,null,null,null,null,null,null,null,null,null,null,null,null,null,null,null,null,null,null,null,null,null,null,null,null,null,null,null,null,null,null,null,null,null,null,null,null,null,null,null,null,null,null,null,null,null,null,null,null,null,null,null,null,null,null,null,null,null,null,null,null,null,null,null,null,null,null,null,null,null,null,null,null,null,null,null,null,null,null,null,null,null,null,null,null,null,null,null,null,null,null,null,null,null,null,null,null,null,null,null,null,null,null,null,null,null,null,null,null,null,null,null,null,null,null,null,null,null,null,null,null,null,null,null,null,null,null,null,null,null,null,null,null,null,null,null,null,null,null,null,null,null,null,null,null,null,null,null,null,null,null,null,null,null,null,null,null,null,null,null,null,null,null,null,null,null,null,null,null,null,null,null,null,null,null,null,null,null,null,null,null,null,null,null,null,null,null,null,null,null,null,null,null,null,null,null,null,null,null,null,null,null,null,null,null,null,null,null,null,null,null,null,null,null,null,null,null,null,null,null,null,null,null,null,null,null,null,null,null,null,null,null,null,null,null,null,null,null,null,null,null,null,null,null,null,null,null,null,null,null,null,null,null,null,null,null,null,null,null,null,null,null,null,null,null,null,null,null,null,null,null,null,null,null,null,null,null,null,null,null,null,null,null,null,null,null,null,null,null,null,null,null,null,null,null,null,null,null,null,null,null,null,null,null,null,null,null,null,null,null,null,null,null,null,null,null,null,null,null,null,null,null,null,null,null,null,null,null,null,null,null,null,null,null,null,null,null,null,null,null,null,null,null,null,null,null,null,null,null,null,null,null,null,null,null,null,null,null,null,null,null,null,null,null,null,null,null,null,null,null,null,null,null,null,null,null,null,null,null,null,null,null,null,null,null,null,null,null,null,null,null,null,null,null,null,null,null,null,null,null,null,null,null,null,null,null,null,null,null,null,null,null,null,null,null,null,null,null,null,null,null,null,null,null,null,null,null,null,null,null,null,null,null,null,null,null,null,null,null,null,null,null,null,null,null,null,null,null,null,null,null,null,null,null,null,null,null,null,null,null,null,null,null,null,null,null,null,null,null,null,null,null,null,null,null,null,null,null,null,null,null,null,null,null,null,null,null,null,null,null,null,null,null,null,null,null,null,null,null,null,null,null,null,null,null,null,null,null,null,null,null,null,null,null,null,null,null,null,null,null,null,null,null,null,null,null,null,null,null,null,null,null,null,null,null,null,null,null,null,null,null,null,null,null,null,null,null,null,null,null,null,null,null,null,null,null,null,null,null,null,null,null,null,null,null,null,null,null,null,null,null,null,null,null,null,null,null,null,null,null,null,null,null,null,null,null,null,null,null,null,null,null,null,null,null,null,null,null,null,null,null,null,null,null,null,null,null,null,null,null,null,null,null,null,null,null,null,null,null,null,null,null,null,null,null,null,null,null,null,null,null,null,null,null,null,null,null,null,null,null,null,null,null,null,null,null,null,null,null,null,null,null,null,null,null,null,null,null,null,null,null,null,null,null,null,null,null,null,null,null,null,null,null,null,null,null,null,null,null,null,null,null,null,null,null,null,null,null,null,null,null,null,null,null,null,null,null,null,null,null,null,null,null,null,null,null,null,null,null,null,null,null,null,null,null,null,null,null,null,null,null,null,null,null,null,null,null,null,null,null,null,null,null,null,null,null,null,null,null,null,null,null,null,null,null,null,null,null,null,null,null,null,null,null,null,null,null,null,null,null,null,null,null,null,null,null,null,null,null,null,null,null,null,null,null,null,null,null,null,null,null,null,null,null,null,null,null,null,null,null,null,null,null,null,null,null,null,null,null,null,null,null,null,null,null,null,null,null,null,null,null,null,null,null,null,null,null,null,null,null,null,null,null,null,null,null,null,null,null,null,null,null,null,null,null,null,null,null,null,null,null,null,null,null,null,null,null,null,null,null,null,null,null,null,null,null,null,null,null,null,null,null,null,null,null,null,null,null,null,null,null,null,null,null,null,null,null,null,null,null,null,null,null,null,null,null,null,null,null,null,null,null,null,null,null,null,null,null,null,null,null,null,null,null,null,null,null,null,null,null,null,null,null,null,null,null,null,null,null,null,null,null,null,null,null,null,null,null,null,null,null,null,null,null,null,null,null,null,null,null,null,null,null,null,null,null,null,null,null,null,null,null,null,null,null,null,null,null,null,null,null,null,null,null,null,null,null,null,null,null,null,null,null,null,null,null,null,null,null,null,null,null,null,null,null,null,null,null,null,null,null,null,null,null,null,null,null,null,null,null,null,null,null,null,null,null,null,null,null,null,null,null,null,null,null,null,null,null,null,null,null,null,null,null,null,null,null,null,null,null,null,null,null,null,null,null,null,null,null,null,null,null,null,null,null,null,null,null,null,null,null,null,null,null,null,null,null,null,null,null,null,null,null,null,null,null,null,null,null,null,null,null,null,null,null,null,null,null,null,null,null,null,null,null,null,null,null,null,null,null,null,null,null,null,null,null,null,null,null,null,null,null,null,null,null,null,null,null,null,null,null,null,null,null,null,null,null,null,null,null,null,null,null,null,null,null,null,null,null,null,null,null,null,null,null,null,null,null,null,null,null,null,null,null,null,null,null,null,null,null,null,null,null,null,null,null,null,null,null,null,null,null,null,null,null,null,null,null,null,null,null,null,null,null,null,null,null,null,null,null,null,null,null,null,null,null,null,null,null,null,null,null,null,null,null,null,null,null,null,null,null,null,null,null,null,null,null,null,null,null,null,null,null,null,null,null,null,null,null,null,null,null,null,null,null,null,null,null,null,null,null,null,null,null,null,null,null,null,null,null,null,null,null,null,null,null,null,null,null,null,null,null,null,null,null,null,null,null,null,null,null,null,null,null,null,null,null,null,null,null,null,null,null,null,null,null,null,null,null,null,null,null,null,null,null,null,null,null,null,null,null,null,null,null,null,null,null,null,null,null,null,null,null,null,null,null,null,null,null,null,null,null,null,null,null,null,null,null,null,null,null,null,null,null,null,null,null,null,null,null,null,null,null,null,null,null,null,null,null,null,null,null,null,null,null,null,null,null,null,null,null,null,null,null,null,null,null,null,null,null,null,null,null,null,null,null,null,null,null,null,null,null,null,null,null,null,null,null,null,null,null,null,null,null,null,null,null,null,null,null,null,null,null,null,null,null,null,null,null,null,null,null,null,null,null,null,null,null,null,null,null,null,null,null,null,null,null,null,null,null,null,null,null,null,null,null,null,null,null,null,null,null,null,null,null,null,null,null,null,null,null,null,null,null,null,null,null,null,null,null,null,null,null,null,null,null,null,null,null,null,null,null,null,null,null,null,null,null,null,null,null,null,null,null,null,null,null,null,null,null,null,null,null,null,null,null,null,null,null,null,null,null,null,null,null,null,null,null,null,null,null,null,null,null,null,null,null,null,null,null,null,null,null,null,null,null,null,null,null,null,null,null,null,null,null,null,null,null,null,null,null,null,null,null,null,null,null,null,null,null,null,null,null,null,null,null,null,null,null,null,null,null,null,null,null,null,null,null,null,null,null,null,null,null,null,null,null,null,null,null,null,null,null,null,null,null,null,null,null,null,null,null,null,null,null,null,null,null,null,null,null,null,null,null,null,null,null,null,null,null,null,null,null,null,null,null,null,null,null,null,null,null,null,null,null,null,null,null,null,null,null,null,null,null,null,null,null,null,null,null,null,null,null,null,null,null,null,null,null,null,null,null,null,null,null,null,null,null,null,null,null,null,null,null,null,null,null,null,null,null,null,null,null,null,null,null,null,null,null,null,null,null,null,null,null,null,null,null,null,null,null,null,null,null,null,null,null,null,null,null,null,null,null,null,null,null,null,null,null,null,null,null,null,null,null,null,null,null,null,null,null,null,null,null,null,null,null,null,null,null,null,null,null,null,null,null,null,null,null,null,null,null,null,null,null,null,null,null,null,null,null,null,null,null,null,null,null,null,null,null,null,null,null,null,null,null,null,null,null,null,null,null,null,null,null,null,null,null,null,null,null,null,null,null,null,null,null,null,null,null,null,null,null,null,null,null,null,null,null,null,null,null,null,null,null,null,null,null,null,null,null,null,null,null,null,null,null,null,null,null,null,null,null,null,null,null,null,null,null,null,null,null,null,null,null,null,null,null,null,null,null,null,null,null,null,null,null,null,null,null,null,null,null,null,null,null,null,null,null,null,null,null,null,null,null,null,null,null,null,null,null,null,null,null,null,null,null,null,null,null,null,null,null,null,null,null,null,null,null,null,null,null,null,null,null,null,null,null,null,null,null,null,null,null,null,null,null,null,null,null,null,null,null,null,null,null,null,null,null,null,null,null,null,null,null,null,null,null,null,null,null,null,null,null,null,null,null,null,null,null,null,null,null,null,null,null,null,null,null,null,null,null,null,null,null,null,null,null,null,null,null,null,null,null,null,null,null,null,null,null,null,null,null,null,null,null,null,null,null,null,null,null,null,null,null,null,null,null,null,null,null,null,null,null,null,null,null,null,null,null,null,null,null,null,null,null,null,null,null,null,null,null,null,null,null,null,null,null,null,null,null,null,null,null,null,null,null,null,null,null,null,null,null,null,null,null,null,null,null,null,null,null,null,null,null,null,null,null,null,null,null,null,null,null,null,null,null,null,null,null,null,null,null,null,null,null,null,null,null,null,null,null,null,null,null,null,null,null,null,null,null,null,null,null,null,null,null,null,null,null,null,null,null,null,null,null,null,null,null,null,null,null,null,null,null,null,null,null,null,null,null,null,null,null,null,null,null,null,null,null,null,null,null,null,null,null,null,null,null,null,null,null,null,null,null,null,null,null,null,null,null,null,null,null,null,null,null,null,null,null,null,null,null,null,null,null,null,null,null,null,null,null,null,null,null,null,null,null,null,null,null,null,null,null,null,null,null,null,null,null,null,null,null,null,null,null,null,null,null,null,null,null,null,null,null,null,null,null,null,null,null,null,null,null,null,null,null,null,null,null,null,null,null,null,null,null,null,null,null,null,null,null,null,null,null,null,null,null,null,null,null,null,null,null,null,null,null,null,null,null,null,null,null,null,null,null,null,null,null,null,null,null,null,null,null,null,null,null,null,null,null,null,null,null,null,null,null,null,null,null,null,null,null,null,null,null,null,null,null,null,null,null,null,null,null,null,null,null,null,null,null,null,null,null,null,null,null,null,null,null,null,null,null,null,null,null,null,null,null,null,null,null,null,null,null,null,null,null,null,null,null,null,null,null,null,null,null,null,null,null,null,null,null,null,null,null,null,null,null,null,null,null,null,null,null,null,null,null,null,null,null,null,null,null,null,null,null,null,null,null,null,null,null,null,null,null,null,null,null,null,null,null,null,null,null,null,null,null,null,null,null,null,null,null,null,null,null,null,null,null,null,null,null,null,null,null,null,null,null,null,null,null,null,null,null,null,null,null,null,null,null,null,null,null,null,null,null,null,null,null,null,null,null,null,null,null,null,null,null,null,null,null,null,null,null,null,null,null,null,null,null,null,null,null,null,null,null,null,null,null,null,null,null,null,null,null,null,null,null,null,null,null,null,null,null,null,null,null,null,null,null,null,null,null,null,null,null,null,null,null,null,null,null,null,null,null,null,null,null,null,null,null,null,null,null,null,null,null,null,null,null,null,null,null,null,null,null,null,null,null,null,null,null,null,null,null,null,null,null,null,null,null,null,null,null,null,null,null,null,null,null,null,null,null,null,null,null,null,null,null,null,null,null,null,null,null,null,null,null,null,null,null,null,null,null,null,null,null,null,null,null,null,null,null,null,null,null,null,null,null,null,null,null,null,null,null,null,null,null,null,null,null,null,null,null,null,null,null,null,null,null,null,null,null,null,null,null,null,null,null,null,null,null,null,null,null,null,null,null,null,null,null,null,null,null,null,null,null,null,null,null,null,null,null,null,null,null,null,null,null,null,null,null,null,null,null,null,null,null,null,null,null,null,null,null,null,null,null,null,null,null,null,null,null,null,null,null,null,null,null,null,null,null,null,null,null,null,null,null,null,null,null,null,null,null,null,null,null,null,null,null,null,null,null,null,null,null,null,null,null,null,null,null,null,null,null,null,null,null,null,null,null,null,null,null,null,null,null,null,null,null,null,null,null,null,null,null,null,null,null,null,null,null,null,null,null,null,null,null,null,null,null,null,null,null,null,null,null,null,null,null,null,null,null,null,null,null,null,null,null,null,null,null,null,null,null,null,null,null,null,null,null,null,null,null,null,null,null,null,null,null,null,null,null,null,null,null,null,null,null,null,null,null,null,null,null,null,null,null,null,null,null,null,null,null,null,null,null,null,null,null,null,null,null,null,null,null,null,null,null,null,null,null,null,null,null,null,null,null,null,null,null,null,null,null,null,null,null,null,null,null,null,null,null,null,null,null,null,null,null,null,null,null,null,null,null,null,null,null,null,null,null,null,null,null,null,null,null,null,null,null,null,null,null,null,null,null,null,null,null,null,null,null,null,null,null,null,null,null,null,null,null,null,null,null,null,null,null,null,null,null,null,null,null,null,null,null,null,null,null,null,null,null,null,null,null,null,null,null,null,null,null,null,null,null,null,null,null,null,null,null,null,null,null,null,null,null,null,null,null,null,null,null,null,null,null,null,null,null,null,null,null,null,null,null,null,null,null,null,null,null,null,null,null,null,null,null,null,null,null,null,null,null,null,null,null,null,null,null,null,null,null,null,null,null,null,null,null,null,null,null,null,null,null,null,null,null,null,null,null,null,null,null,null,null,null,null,null,null,null,null,null,null,null,null,null,null,null,null,null,null,null,null,null,null,null,null,null,null,null,null,null,null,null,null,null,null,null,null,null,null,null,null,null,null,null,null,null,null,null,null,null,null,null,null,null,null,null,null,null,null,null,null,null,null,null,null,null,null,null,null,null,null,null,null,null,null,null,null,null,null,null,null,null,null,null,null,null,null,null,null,null,null,null,null,null,null,null,null,null,null,null,null,null,null,null,null,null,null,null,null,null,null,null,null,null,null,null,null,null,null,null,null,null,null,null,null,null,null,null,null,null,null,null,null,null,null,null,null,null,null,null,null,null,null,null,null,null,null,null,null,null,null,null,null,null,null,null,null,null,null,null,null,null,null,null,null,null,null,null,null,null,null,null,null,null,null,null,null,null,null,null,null,null,null,null,null,null,null,null,null,null,null,null,null,null,null,null,null,null,null,null,null,null,null,null,null,null,null,null,null,null,null,null,null,null,null,null,null,null,null,null,null,null,null,null,null,null,null,null,null,null,null,null,null,null,null,null,null,null,null,null,null,null,null,null,null,null,null,null,null,null,null,null,null,null,null,null,null,null,null,null,null,null,null,null,null,null,null,null,null,null,null,null,null,null,null,null,null,null,null,null,null,null,null,null,null,null,null,null,null,null,null,null,null,null,null,null,null,null,null,null,null,null,null,null,null,null,null,null,null,null,null,null,null,null,null,null,null,null,null,null,null,null,null,null,null,null,null,null,null,null,null,null,null,null,null,null,null,null,null,null,null,null,null,null,null,null,null,null,null,null,null,null,null,null,null,null,null,null,null,null,null,null,null,null,null,null,null,null,null,null,null,null,null,null,null,null,null,null,null,null,null,null,null,null,null,null,null,null,null,null,null,null,null,null,null,null,null,null,null,null,null,null,null,null,null,null,null,null,null,null,null,null,null,null,null,null,null,null,null,null,null,null,null,null,null,null,null,null,null,null,null,null,null,null,null,null,null,null,null,null,null,null,null,null,null,null,null,null,null,null,null,null,null,null,null,null,null,null,null,null,null,null,null,null,null,null,null,null,null,null,null,null,null,null,null,null,null,null,null,null,null,null,null,null,null,null,null,null,null,null,null,null,null,null,null,null,null,null,null,null,null,null,null,null,null,null,null,null,null,null,null,null,null,null,null,null,null,null,null,null,null,null,null,null,null,null,null,null,null,null,null,null,null,null,null,null,null,null,null,null,null,null,null,null,null,null,null,null,null,null,null,null,null,null,null,null,null,null,null,null,null,null,null,null,null,null,null,null,null,null,null,null,null,null,null,null,null,null,null,null,null,null,null,null,null,null,null,null,null,null,null,null,null,null,null,null,null,null,null,null,null,null,null,null,null,null,null,null,null,null,null,null,null,null,null,null,null,null,null,null,null,null,null,null,null,null,null,null,null,null,null,null,null,null,null,null,null,null,null,null,null,null,null,null,null,null,null,null,null,null,null,null,null,null,null,null,null,null,null,null,null,null,null,null,null,null,null,null,null,null,null,null,null,null,null,null,null,null,null,null,null,null,null,null,null,null,null,null,null,null,null,null,null,null,null,null,null,null,null,null,null,null,null,null,null,null,null,null,null,null,null,null,null,null,null,null,null,null,null,null,null,null,null,null,null,null,null,null,null,null,null,null,null,null,null,null,null,null,null,null,null,null,null,null,null,null,null,null,null,null,null,null,null,null,null,null,null,null,null,null,null,null,null,null,null,null,null,null,null,null,null,null,null,null,null,null,null,null,null,null,null,null,null,null,null,null,null,null,null,null,null,null,null,null,null,null,null,null,null,null,null,null,null,null,null,null,null,null,null,null,null,null,null,null,null,null,null,null,null,null,null,null,null,null,null,null,null,null,null,null,null,null,null,null,null,null,null,null,null,null,null,null,null,null,null,null,null,null,null,null,null,null,null,null,null,null,null,null,null,null,null,null,null,null,null,null,null,null,null,null,null,null,null,null,null,null,null,null,null,null,null,null,null,null,null,null,null,null,null,null,null,null,null,null,null,null,null,null,null,null,null,null,null,null,null,null,null,null,null,null,null,null,null,null,null,null,null,null,null,null,null,null,null,null,null,null,null,null,null,null,null,null,null,null,null,null,null,null,null,null,null,null,null,null,null,null,null,null,null,null,null,null,null,null,null,null,null,null,null,null,null,null,null,null,null,null,null,null,null,null,null,null,null,null,null,null,null,null,null,null,null,null,null,null,null,null,null,null,null,null,null,null,null,null,null,null,null,null,null,null,null,null,null,null,null,null,null,null,null,null,null,null,null,null,null,null,null,null,null,null,null,null,null,null,null,null,null,null,null,null,null,null,null,null,null,null,null,null,null,null,null,null,null,null,null,null,null,null,null,null,null,null,null,null,null,null,null,null,null,null,null,null,null,null,null,null,null,null,null,null,null,null,null,null,null,null,null,null,null,null,null,null,null,null,null,null,null,null,null,null,null,null,null,null,null,null,null,null,null,null,null,null,null,null,null,null,null,null,null,null,null,null,null,null,null,null,null,null,null,null,null,null,null,null,null,null,null,null,null,null,null,null,null,null,null,null,null,null,null,null,null,null,null,null,null,null,null,null,null,null,null,null,null,null,null,null,null,null,null,null,null,null,null,null,null,null,null,null,null,null,null,null,null,null,null,null,null,null,null,null,null,null,null,null,null,null,null,null,null,null,null,null,null,null,null,null,null,null,null,null,null,null,null,null,null,null,null,null,null,null,null,null,null,null,null,null,null,null,null,null,null,null,null,null,null,null,null,null,null,null,null,null,null,null,null,null,null,null,null,null,null,null,null,null,null,null,null,null,null,null,null,null,null,null,null,null,null,null,null,null,null,null,null,null,null,null,null,null,null,null,null,null,null,null,null,null,null,null,null,null,null,null,null,null,null,null,null,null,null,null,null,null,null,null,null,null,null,null,null,null,null,null,null,null,null,null,null,null,null,null,null,null,null,null,null,null,null,null,null,null,null,null,null,null,null,null,null,null,null,null,null,null,null,null,null,null,null,null,null,null,null,null,null,null,null,null,null,null,null,null,null,null,null,null,null,null,null,null,null,null,null,null,null,null,null,null,null,null,null,null,null,null,null,null,null,null,null,null,null,null,null,null,null,null,null,null,null,null,null,null,null,null,null,null,null,null,null,null,null,null,null,null,null,null,null,null,null,null,null,null,null,null,null,null,null,null,null,null,null,null,null,null,null,null,null,null,null,null,null,null,null,null,null,null,null,null,null,null,null,null,null,null,null,null,null,null,null,null,null,null,null,null,null,null,null,null,null,null,null,null,null,null,null,null,null,null,null,null,null,null,null,null,null,null,null,null,null,null,null,null,null,null,null,null,null,null,null,null,null,null,null,null,null,null,null,null,null,null,null,null,null,null,null,null,null,null,null,null,null,null,null,null,null,null,null,null,null,null,null,null,null,null,null,null,null,null,null,null,null,null,null,null,null,null,null,null,null,null,null,null,null,null,null,null,null,null,null,null,null,null,null,null,null,null,null,null,null,null,null,null,null,null,null,null,null,null,null,null,null,null,null,null,null,null,null,null,null,null,null,null,null,null,null,null,null,null,null,null,null,null,null,null,null,null,null,null,null,null,null,null,null,null,null,null,null,null,null,null,null,null,null,null,null,null,null,null,null,null,null,null,null,null,null,null,null,null,null,null,null,null,null,null,null,null,null,null,null,null,null,null,null,null,null,null,null,null,null,null,null,null,null,null,null,null,null,null,null,null,null,null,null,null,null,null,null,null,null,null,null,null,null,null,null,null,null,null,null,null,null,null,null,null,null,null,null,null,null,null,null,null,null,null,null,null,null,null,null,null,null,null,null,null,null,null,null,null,null,null,null,null,null,null,null,null,null,null,null,null,null,null,null,null,null,null,null,null,null,null,null,null,null,null,null,null,null,null,null,null,null,null,null,null,null,null,null,null,null,null,null,null,null,null,null,null,null,null,null,null,null,null,null,null,null,null,null,null,null,null,null,null,null,null,null,null,null,null,null,null,null,null,null,null,null,null,null,null,null,null,null,null,null,null,null,null,null,null,null,null,null,null,null,null,null,null,null,null,null,null,null,null,null,null,null,null,null,null,null,null,null,null,null,null,null,null,null,null,null,null,null,null,null,null,null,null,null,null,null,null,null,null,null,null,null,null,null,null,null,null,null,null,null,null,null,null,null,null,null,null,null,null,null,null,null,null,null,null,null,null,null,null,null,null,null,null,null,null,null,null,null,null,null,null,null,null,null,null,null,null,null,null,null,null,null,null,null,null,null,null,null,null,null,null,null,null,null,null,null,null,null,null,null,null,null,null,null,null,null,null,null,null,null,null,null,null,null,null,null,null,null,null,null,null,null,null,null,null,null,null,null,null,null,null,null,null,null,null,null,null,null,null,null,null,null,null,null,null,null,null,null,null,null,null,null,null,null,null,null,null,null,null,null,null,null,null,null,null,null,null,null,null,null,null,null,null,null,null,null,null,null,null,null,null,null,null,null,null,null,null,null,null,null,null,null,null,null,null,null,null,null,null,null,null,null,null,null,null,null,null,null,null,null,null,null,null,null,null,null,null,null,null,null,null,null,null,null,null,null,null,null,null,null,null,null,null,null,null,null,null,null,null,null,null,null,null,null,null,null,null,null,null,null,null,null,null,null,null,null,null,null,null,null,null,null,null,null,null,null,null,null,null,null,null,null,null,null,null,null,null,null,null,null,null,null,null,null,null,null,null,null,null,null,null,null,null,null,null,null,null,null,null,null,null,null,null,null,null,null,null,null,null,null,null,null,null,null,null,null,null,null,null,null,null,null,null,null,null,null,null,null,null,null,null,null,null,null,null,null,null,null,null,null,null,null,null,null,null,null,null,null,null,null,null,null,null,null,null,null,null,null,null,null,null,null,null,null,null,null,null,null,null,null,null,null,null,null,null,null,null,null,null,null,null,null,null,null,null,null,null,null,null,null,null,null,null,null,null,null,null,null,null,null,null,null,null,null,null,null,null,null,null,null,null,null,null,null,null,null,null,null,null,null,null,null,null,null,null,null,null,null,null,null,null,null,null,null,null,null,null,null,null,null,null,null,null,null,null,null,null,null,null,null,null,null,null,null,null,null,null,null,null,null,null,null,null,null,null,null,null,null,null,null,null,null,null,null,null,null,null,null,null,null,null,null,null,null,null,null,null,null,null,null,null,null,null,null,null,null,null,null,null,null,null,null,null,null,null,null,null,null,null,null,null,null,null,null,null,null,null,null,null,null,null,null,null,null,null,null,null,null,null,null,null,null,null,null,null,null,null,null,null,null,null,null,null,null,null,null,null,null,null,null,null,null,null,null,null,null,null,null,null,null,null,null,null,null,null,null,null,null,null,null,null,null,null,null,null,null,null,null,null,null,null,null,null,null,null,null,null,null,null,null,null,null,null,null,null,null,null,null,null,null,null,null,null,null,null,null,null,null,null,null,null,null,null,null,null,null,null,null,null,null,null,null,null,null,null,null,null,null,null,null,null,null,null,null,null,null,null,null,null,null,null,null,null,null,null,null,null,null,null,null,null,null,null,null,null,null,null,null,null,null,null,null,null,null,null,null,null,null,null,null,null,null,null,null,null,null,null,null,null,null,null,null,null,null,null,null,null,null,null,null,null,null,null,null,null,null,null,null,null,null,null,null,null,null,null,null,null,null,null,null,null,null,null,null,null,null,null,null,null,null,null,null,null,null,null,null,null,null,null,null,null,null,null,null,null,null,null,null,null,null,null,null,null,null,null,null,null,null,null,null,null,null,null,null,null,null,null,null,null,null,null,null,null,null,null,null,null,null,null,null,null,null,null,null,null,null,null,null,null,null,null,null,null,null,null,null,null,null,null,null,null,null,null,null,null,null,null,null,null,null,null,null,null,null,null,null,null,null,null,null,null,null,null,null,null,null,null,null,null,null,null,null,null,null,null,null,null,null,null,null,null,null,null,null,null,null,null,null,null,null,null,null,null,null,null,null,null,null,null,null,null,null,null,null,null,null,null,null,null,null,null,null,null,null,null,null,null,null,null,null,null,null,null,null,null,null,null,null,null,null,null,null,null,null,null,null,null,null,null,null,null,null,null,null,null,null,null,null,null,null,null,null,null,null,null,null,null,null,null,null,null,null,null,null,null,null,null,null,null,null,null,null,null,null,null,null,null,null,null,null,null,null,null,null,null,null,null,null,null,null,null,null,null,null,null,null,null,null,null,null,null,null,null,null,null,null,null,null,null,null,null,null,null,null,null,null,null,null,null,null,null,null,null,null,null,null,null,null,null,null,null,null,null,null,null,null,null,null,null,null,null,null,null,null,null,null,null,null,null,null,null,null,null,null,null,null,null,null,null,null,null,null,null,null,null,null,null,null,null,null,null,null,null,null,null,null,null,null,null,null,null,null,null,null,null,null,null,null,null,null,null,null,null,null,null,null,null,null,null,null,null,null,null,null,null,null,null,null,null,null,null,null,null,null,null,null,null,null,null,null,null,null,null,null,null,null,null,null,null,null,null,null,null,null,null,null,null,null,null,null,null,null,null,null,null,null,null,null,null,null,null,null,null,null,null,null,null,null,null,null,null,null,null,null,null,null,null,null,null,null,null,null,null,null,null,null,null,null,null,null,null,null,null,null,null,null,null,null,null,null,null,null,null,null,null,null,null,null,null,null,null,null,null,null,null,null,null,null,null,null,null,null,null,null,null,null,null,null,null,null,null,null,null,null,null,null,null,null,null,null,null,null,null,null,null,null,null,null,null,null,null,null,null,null,null,null,null,null,null,null,null,null,null,null,null,null,null,null,null,null,null,null,null,null,null,null,null,null,null,null,null,null,null,null,null,null,null,null,null,null,null,null,null,null,null,null,null,null,null,null,null,null,null,null,null,null,null,null,null,null,null,null,null,null,null,null,null,null,null,null,null,null,null,null,null,null,null,null,null,null,null,null,null,null,null,null,null,null,null,null,null,null,null,null,null,null,null,null,null,null,null,null,null,null,null,null,null,null,null,null,null,null,null,null,null,null,null,null,null,null,null,null,null,null,null,null,null,null,null,null,null,null,null,null,null,null,null,null,null,null,null,null,null,null,null,null,null,null,null,"Data List"]
[null,null,"REGION*",null,null,null,null,null,null,null,null,null,null,"SCHOOL YEAR*",null,null,null,null,null,null,null,null,null,null,null,null,null,null,null,null,null,null,null,null,null,null,null,null,null,null,null,null,null,null,null,null,null,null,null,null,null,null,null,null,null,null,null,null,null,null,null,null,null,null,null,null,null,null,null,null,null,null,null,null,null,null,null,null,null,null,null,null,null,null,null,null,null,null,null,null,null,null,null,null,null,null,null,null,null,null,null,null,null,null,null,null,null,null,null,null,null,null,null,null,null,null,null,null,null,null,null,null,null,null,null,null,null,null,null,null,null,null,null,null,null,null,null,null,null,null,null,null,null,null,null,null,null,null,null,null,null,null,null,null,null,null,null,null,null,null,null,null,null,null,null,null,null,null,null,null,null,null,null,null,null,null,null,null,null,null,null,null,null,null,null,null,null,null,null,null,null,null,null,null,null,null,null,null,null,null,null,null,null,null,null,null,null,null,null,null,null,null,null,null,null,null,null,null,null,null,null,null,null,null,null,null,null,null,null,null,null,null,null,null,null,null,null,null,null,null,null,null,null,null,null,null,null,null,null,null,null,null,null,null,null,null,null,null,null,null,null,null,null,null,null,null,null,null,null,null,null,null,null,null,null,null,null,null,null,null,null,null,null,null,null,null,null,null,null,null,null,null,null,null,null,null,null,null,null,null,null,null,null,null,null,null,null,null,null,null,null,null,null,null,null,null,null,null,null,null,null,null,null,null,null,null,null,null,null,null,null,null,null,null,null,null,null,null,null,null,null,null,null,null,null,null,null,null,null,null,null,null,null,null,null,null,null,null,null,null,null,null,null,null,null,null,null,null,null,null,null,null,null,null,null,null,null,null,null,null,null,null,null,null,null,null,null,null,null,null,null,null,null,null,null,null,null,null,null,null,null,null,null,null,null,null,null,null,null,null,null,null,null,null,null,null,null,null,null,null,null,null,null,null,null,null,null,null,null,null,null,null,null,null,null,null,null,null,null,null,null,null,null,null,null,null,null,null,null,null,null,null,null,null,null,null,null,null,null,null,null,null,null,null,null,null,null,null,null,null,null,null,null,null,null,null,null,null,null,null,null,null,null,null,null,null,null,null,null,null,null,null,null,null,null,null,null,null,null,null,null,null,null,null,null,null,null,null,null,null,null,null,null,null,null,null,null,null,null,null,null,null,null,null,null,null,null,null,null,null,null,null,null,null,null,null,null,null,null,null,null,null,null,null,null,null,null,null,null,null,null,null,null,null,null,null,null,null,null,null,null,null,null,null,null,null,null,null,null,null,null,null,null,null,null,null,null,null,null,null,null,null,null,null,null,null,null,null,null,null,null,null,null,null,null,null,null,null,null,null,null,null,null,null,null,null,null,null,null,null,null,null,null,null,null,null,null,null,null,null,null,null,null,null,null,null,null,null,null,null,null,null,null,null,null,null,null,null,null,null,null,null,null,null,null,null,null,null,null,null,null,null,null,null,null,null,null,null,null,null,null,null,null,null,null,null,null,null,null,null,null,null,null,null,null,null,null,null,null,null,null,null,null,null,null,null,null,null,null,null,null,null,null,null,null,null,null,null,null,null,null,null,null,null,null,null,null,null,null,null,null,null,null,null,null,null,null,null,null,null,null,null,null,null,null,null,null,null,null,null,null,null,null,null,null,null,null,null,null,null,null,null,null,null,null,null,null,null,null,null,null,null,null,null,null,null,null,null,null,null,null,null,null,null,null,null,null,null,null,null,null,null,null,null,null,null,null,null,null,null,null,null,null,null,null,null,null,null,null,null,null,null,null,null,null,null,null,null,null,null,null,null,null,null,null,null,null,null,null,null,null,null,null,null,null,null,null,null,null,null,null,null,null,null,null,null,null,null,null,null,null,null,null,null,null,null,null,null,null,null,null,null,null,null,null,null,null,null,null,null,null,null,null,null,null,null,null,null,null,null,null,null,null,null,null,null,null,null,null,null,null,null,null,null,null,null,null,null,null,null,null,null,null,null,null,null,null,null,null,null,null,null,null,null,null,null,null,null,null,null,null,null,null,null,null,null,null,null,null,null,null,null,null,null,null,null,null,null,null,null,null,null,null,null,null,null,null,null,null,null,null,null,null,null,null,null,null,null,null,null,null,null,null,null,null,null,null,null,null,null,null,null,null,null,null,null,null,null,null,null,null,null,null,null,null,null,null,null,null,null,null,null,null,null,null,null,null,null,null,null,null,null,null,null,null,null,null,null,null,null,null,null,null,null,null,null,null,null,null,null,null,null,null,null,null,null,null,null,null,null,null,null,null,null,null,null,null,null,null,null,null,null,null,null,null,null,null,null,null,null,null,null,null,null,null,null,null,null,null,null,null,null,null,null,null,null,null,null,null,null,null,null,null,null,null,null,null,null,null,null,null,null,null,null,null,null,null,null,null,null,null,null,null,null,null,null,null,null,null,null,null,null,null,null,null,null,null,null,null,null,null,null,null,null,null,null,null,null,null,null,null,null,null,null,null,null,null,null,null,null,null,null,null,null,null,null,null,null,null,null,null,null,null,null,null,null,null,null,null,null,null,null,null,null,null,null,null,null,null,null,null,null,null,null,null,null,null,null,null,null,null,null,null,null,null,null,null,null,null,null,null,null,null,null,null,null,null,null,null,null,null,null,null,null,null,null,null,null,null,null,null,null,null,null,null,null,null,null,null,null,null,null,null,null,null,null,null,null,null,null,null,null,null,null,null,null,null,null,null,null,null,null,null,null,null,null,null,null,null,null,null,null,null,null,null,null,null,null,null,null,null,null,null,null,null,null,null,null,null,null,null,null,null,null,null,null,null,null,null,null,null,null,null,null,null,null,null,null,null,null,null,null,null,null,null,null,null,null,null,null,null,null,null,null,null,null,null,null,null,null,null,null,null,null,null,null,null,null,null,null,null,null,null,null,null,null,null,null,null,null,null,null,null,null,null,null,null,null,null,null,null,null,null,null,null,null,null,null,null,null,null,null,null,null,null,null,null,null,null,null,null,null,null,null,null,null,null,null,null,null,null,null,null,null,null,null,null,null,null,null,null,null,null,null,null,null,null,null,null,null,null,null,null,null,null,null,null,null,null,null,null,null,null,null,null,null,null,null,null,null,null,null,null,null,null,null,null,null,null,null,null,null,null,null,null,null,null,null,null,null,null,null,null,null,null,null,null,null,null,null,null,null,null,null,null,null,null,null,null,null,null,null,null,null,null,null,null,null,null,null,null,null,null,null,null,null,null,null,null,null,null,null,null,null,null,null,null,null,null,null,null,null,null,null,null,null,null,null,null,null,null,null,null,null,null,null,null,null,null,null,null,null,null,null,null,null,null,null,null,null,null,null,null,null,null,null,null,null,null,null,null,null,null,null,null,null,null,null,null,null,null,null,null,null,null,null,null,null,null,null,null,null,null,null,null,null,null,null,null,null,null,null,null,null,null,null,null,null,null,null,null,null,null,null,null,null,null,null,null,null,null,null,null,null,null,null,null,null,null,null,null,null,null,null,null,null,null,null,null,null,null,null,null,null,null,null,null,null,null,null,null,null,null,null,null,null,null,null,null,null,null,null,null,null,null,null,null,null,null,null,null,null,null,null,null,null,null,null,null,null,null,null,null,null,null,null,null,null,null,null,null,null,null,null,null,null,null,null,null,null,null,null,null,null,null,null,null,null,null,null,null,null,null,null,null,null,null,null,null,null,null,null,null,null,null,null,null,null,null,null,null,null,null,null,null,null,null,null,null,null,null,null,null,null,null,null,null,null,null,null,null,null,null,null,null,null,null,null,null,null,null,null,null,null,null,null,null,null,null,null,null,null,null,null,null,null,null,null,null,null,null,null,null,null,null,null,null,null,null,null,null,null,null,null,null,null,null,null,null,null,null,null,null,null,null,null,null,null,null,null,null,null,null,null,null,null,null,null,null,null,null,null,null,null,null,null,null,null,null,null,null,null,null,null,null,null,null,null,null,null,null,null,null,null,null,null,null,null,null,null,null,null,null,null,null,null,null,null,null,null,null,null,null,null,null,null,null,null,null,null,null,null,null,null,null,null,null,null,null,null,null,null,null,null,null,null,null,null,null,null,null,null,null,null,null,null,null,null,null,null,null,null,null,null,null,null,null,null,null,null,null,null,null,null,null,null,null,null,null,null,null,null,null,null,null,null,null,null,null,null,null,null,null,null,null,null,null,null,null,null,null,null,null,null,null,null,null,null,null,null,null,null,null,null,null,null,null,null,null,null,null,null,null,null,null,null,null,null,null,null,null,null,null,null,null,null,null,null,null,null,null,null,null,null,null,null,null,null,null,null,null,null,null,null,null,null,null,null,null,null,null,null,null,null,null,null,null,null,null,null,null,null,null,null,null,null,null,null,null,null,null,null,null,null,null,null,null,null,null,null,null,null,null,null,null,null,null,null,null,null,null,null,null,null,null,null,null,null,null,null,null,null,null,null,null,null,null,null,null,null,null,null,null,null,null,null,null,null,null,null,null,null,null,null,null,null,null,null,null,null,null,null,null,null,null,null,null,null,null,null,null,null,null,null,null,null,null,null,null,null,null,null,null,null,null,null,null,null,null,null,null,null,null,null,null,null,null,null,null,null,null,null,null,null,null,null,null,null,null,null,null,null,null,null,null,null,null,null,null,null,null,null,null,null,null,null,null,null,null,null,null,null,null,null,null,null,null,null,null,null,null,null,null,null,null,null,null,null,null,null,null,null,null,null,null,null,null,null,null,null,null,null,null,null,null,null,null,null,null,null,null,null,null,null,null,null,null,null,null,null,null,null,null,null,null,null,null,null,null,null,null,null,null,null,null,null,null,null,null,null,null,null,null,null,null,null,null,null,null,null,null,null,null,null,null,null,null,null,null,null,null,null,null,null,null,null,null,null,null,null,null,null,null,null,null,null,null,null,null,null,null,null,null,null,null,null,null,null,null,null,null,null,null,null,null,null,null,null,null,null,null,null,null,null,null,null,null,null,null,null,null,null,null,null,null,null,null,null,null,null,null,null,null,null,null,null,null,null,null,null,null,null,null,null,null,null,null,null,null,null,null,null,null,null,null,null,null,null,null,null,null,null,null,null,null,null,null,null,null,null,null,null,null,null,null,null,null,null,null,null,null,null,null,null,null,null,null,null,null,null,null,null,null,null,null,null,null,null,null,null,null,null,null,null,null,null,null,null,null,null,null,null,null,null,null,null,null,null,null,null,null,null,null,null,null,null,null,null,null,null,null,null,null,null,null,null,null,null,null,null,null,null,null,null,null,null,null,null,null,null,null,null,null,null,null,null,null,null,null,null,null,null,null,null,null,null,null,null,null,null,null,null,null,null,null,null,null,null,null,null,null,null,null,null,null,null,null,null,null,null,null,null,null,null,null,null,null,null,null,null,null,null,null,null,null,null,null,null,null,null,null,null,null,null,null,null,null,null,null,null,null,null,null,null,null,null,null,null,null,null,null,null,null,null,null,null,null,null,null,null,null,null,null,null,null,null,null,null,null,null,null,null,null,null,null,null,null,null,null,null,null,null,null,null,null,null,null,null,null,null,null,null,null,null,null,null,null,null,null,null,null,null,null,null,null,null,null,null,null,null,null,null,null,null,null,null,null,null,null,null,null,null,null,null,null,null,null,null,null,null,null,null,null,null,null,null,null,null,null,null,null,null,null,null,null,null,null,null,null,null,null,null,null,null,null,null,null,null,null,null,null,null,null,null,null,null,null,null,null,null,null,null,null,null,null,null,null,null,null,null,null,null,null,null,null,null,null,null,null,null,null,null,null,null,null,null,null,null,null,null,null,null,null,null,null,null,null,null,null,null,null,null,null,null,null,null,null,null,null,null,null,null,null,null,null,null,null,null,null,null,null,null,null,null,null,null,null,null,null,null,null,null,null,null,null,null,null,null,null,null,null,null,null,null,null,null,null,null,null,null,null,null,null,null,null,null,null,null,null,null,null,null,null,null,null,null,null,null,null,null,null,null,null,null,null,null,null,null,null,null,null,null,null,null,null,null,null,null,null,null,null,null,null,null,null,null,null,null,null,null,null,null,null,null,null,null,null,null,null,null,null,null,null,null,null,null,null,null,null,null,null,null,null,null,null,null,null,null,null,null,null,null,null,null,null,null,null,null,null,null,null,null,null,null,null,null,null,null,null,null,null,null,null,null,null,null,null,null,null,null,null,null,null,null,null,null,null,null,null,null,null,null,null,null,null,null,null,null,null,null,null,null,null,null,null,null,null,null,null,null,null,null,null,null,null,null,null,null,null,null,null,null,null,null,null,null,null,null,null,null,null,null,null,null,null,null,null,null,null,null,null,null,null,null,null,null,null,null,null,null,null,null,null,null,null,null,null,null,null,null,null,null,null,null,null,null,null,null,null,null,null,null,null,null,null,null,null,null,null,null,null,null,null,null,null,null,null,null,null,null,null,null,null,null,null,null,null,null,null,null,null,null,null,null,null,null,null,null,null,null,null,null,null,null,null,null,null,null,null,null,null,null,null,null,null,null,null,null,null,null,null,null,null,null,null,null,null,null,null,null,null,null,null,null,null,null,null,null,null,null,null,null,null,null,null,null,null,null,null,null,null,null,null,null,null,null,null,null,null,null,null,null,null,null,null,null,null,null,null,null,null,null,null,null,null,null,null,null,null,null,null,null,null,null,null,null,null,null,null,null,null,null,null,null,null,null,null,null,null,null,null,null,null,null,null,null,null,null,null,null,null,null,null,null,null,null,null,null,null,null,null,null,null,null,null,null,null,null,null,null,null,null,null,null,null,null,null,null,null,null,null,null,null,null,null,null,null,null,null,null,null,null,null,null,null,null,null,null,null,null,null,null,null,null,null,null,null,null,null,null,null,null,null,null,null,null,null,null,null,null,null,null,null,null,null,null,null,null,null,null,null,null,null,null,null,null,null,null,null,null,null,null,null,null,null,null,null,null,null,null,null,null,null,null,null,null,null,null,null,null,null,null,null,null,null,null,null,null,null,null,null,null,null,null,null,null,null,null,null,null,null,null,null,null,null,null,null,null,null,null,null,null,null,null,null,null,null,null,null,null,null,null,null,null,null,null,null,null,null,null,null,null,null,null,null,null,null,null,null,null,null,null,null,null,null,null,null,null,null,null,null,null,null,null,null,null,null,null,null,null,null,null,null,null,null,null,null,null,null,null,null,null,null,null,null,null,null,null,null,null,null,null,null,null,null,null,null,null,null,null,null,null,null,null,null,null,null,null,null,null,null,null,null,null,null,null,null,null,null,null,null,null,null,null,null,null,null,null,null,null,null,null,null,null,null,null,null,null,null,null,null,null,null,null,null,null,null,null,null,null,null,null,null,null,null,null,null,null,null,null,null,null,null,null,null,null,null,null,null,null,null,null,null,null,null,null,null,null,null,null,null,null,null,null,null,null,null,null,null,null,null,null,null,null,null,null,null,null,null,null,null,null,null,null,null,null,null,null,null,null,null,null,null,null,null,null,null,null,null,null,null,null,null,null,null,null,null,null,null,null,null,null,null,null,null,null,null,null,null,null,null,null,null,null,null,null,null,null,null,null,null,null,null,null,null,null,null,null,null,null,null,null,null,null,null,null,null,null,null,null,null,null,null,null,null,null,null,null,null,null,null,null,null,null,null,null,null,null,null,null,null,null,null,null,null,null,null,null,null,null,null,null,null,null,null,null,null,null,null,null,null,null,null,null,null,null,null,null,null,null,null,null,null,null,null,null,null,null,null,null,null,null,null,null,null,null,null,null,null,null,null,null,null,null,null,null,null,null,null,null,null,null,null,null,null,null,null,null,null,null,null,null,null,null,null,null,null,null,null,null,null,null,null,null,null,null,null,null,null,null,null,null,null,null,null,null,null,null,null,null,null,null,null,null,null,null,null,null,null,null,null,null,null,null,null,null,null,null,null,null,null,null,null,null,null,null,null,null,null,null,null,null,null,null,null,null,null,null,null,null,null,null,null,null,null,null,null,null,null,null,null,null,null,null,null,null,null,null,null,null,null,null,null,null,null,null,null,null,null,null,null,null,null,null,null,null,null,null,null,null,null,null,null,null,null,null,null,null,null,null,null,null,null,null,null,null,null,null,null,null,null,null,null,null,null,null,null,null,null,null,null,null,null,null,null,null,null,null,null,null,null,null,null,null,null,null,null,null,null,null,null,null,null,null,null,null,null,null,null,null,null,null,null,null,null,null,null,null,null,null,null,null,null,null,null,null,null,null,null,null,null,null,null,null,null,null,null,null,null,null,null,null,null,null,null,null,null,null,null,null,null,null,null,null,null,null,null,null,null,null,null,null,null,null,null,null,null,null,null,null,null,null,null,null,null,null,null,null,null,null,null,null,null,null,null,null,null,null,null,null,null,null,null,null,null,null,null,null,null,null,null,null,null,null,null,null,null,null,null,null,null,null,null,null,null,null,null,null,null,null,null,null,null,null,null,null,null,null,null,null,null,null,null,null,null,null,null,null,null,null,null,null,null,null,null,null,null,null,null,null,null,null,null,null,null,null,null,null,null,null,null,null,null,null,null,null,null,null,null,null,null,null,null,null,null,null,null,null,null,null,null,null,null,null,null,null,null,null,null,null,null,null,null,null,null,null,null,null,null,null,null,null,null,null,null,null,null,null,null,null,null,null,null,null,null,null,null,null,null,null,null,null,null,null,null,null,null,null,null,null,null,null,null,null,null,null,null,null,null,null,null,null,null,null,null,null,null,null,null,null,null,null,null,null,null,null,null,null,null,null,null,null,null,null,null,null,null,null,null,null,null,null,null,null,null,null,null,null,null,null,null,null,null,null,null,null,null,null,null,null,null,null,null,null,null,null,null,null,null,null,null,null,null,null,null,null,null,null,null,null,null,null,null,null,null,null,null,null,null,null,null,null,null,null,null,null,null,null,null,null,null,null,null,null,null,null,null,null,null,null,null,null,null,null,null,null,null,null,null,null,null,null,null,null,null,null,null,null,null,null,null,null,null,null,null,null,null,null,null,null,null,null,null,null,null,null,null,null,null,null,null,null,null,null,null,null,null,null,null,null,null,null,null,null,null,null,null,null,null,null,null,null,null,null,null,null,null,null,null,null,null,null,null,null,null,null,null,null,null,null,null,null,null,null,null,null,null,null,null,null,null,null,null,null,null,null,null,null,null,null,null,null,null,null,null,null,null,null,null,null,null,null,null,null,null,null,null,null,null,null,null,null,null,null,null,null,null,null,null,null,null,null,null,null,null,null,null,null,null,null,null,null,null,null,null,null,null,null,null,null,null,null,null,null,null,null,null,null,null,null,null,null,null,null,null,null,null,null,null,null,null,null,null,null,null,null,null,null,null,null,null,null,null,null,null,null,null,null,null,null,null,null,null,null,null,null,null,null,null,null,null,null,null,null,null,null,null,null,null,null,null,null,null,null,null,null,null,null,null,null,null,null,null,null,null,null,null,null,null,null,null,null,null,null,null,null,null,null,null,null,null,null,null,null,null,null,null,null,null,null,null,null,null,null,null,null,null,null,null,null,null,null,null,null,null,null,null,null,null,null,null,null,null,null,null,null,null,null,null,null,null,null,null,null,null,null,null,null,null,null,null,null,null,null,null,null,null,null,null,null,null,null,null,null,null,null,null,null,null,null,null,null,null,null,null,null,null,null,null,null,null,null,null,null,null,null,null,null,null,null,null,null,null,null,null,null,null,null,null,null,null,null,null,null,null,null,null,null,null,null,null,null,null,null,null,null,null,null,null,null,null,null,null,null,null,null,null,null,null,null,null,null,null,null,null,null,null,null,null,null,null,null,null,null,null,null,null,null,null,null,null,null,null,null,null,null,null,null,null,null,null,null,null,null,null,null,null,null,null,null,null,null,null,null,null,null,null,null,null,null,null,null,null,null,null,null,null,null,null,null,null,null,null,null,null,null,null,null,null,null,null,null,null,null,null,null,null,null,null,null,null,null,null,null,null,null,null,null,null,null,null,null,null,null,null,null,null,null,null,null,null,null,null,null,null,null,null,null,null,null,null,null,null,null,null,null,null,null,null,null,null,null,null,null,null,null,null,null,null,null,null,null,null,null,null,null,null,null,null,null,null,null,null,null,null,null,null,null,null,null,null,null,null,null,null,null,null,null,null,null,null,null,null,null,null,null,null,null,null,null,null,null,null,null,null,null,null,null,null,null,null,null,null,null,null,null,null,null,null,null,null,null,null,null,null,null,null,null,null,null,null,null,null,null,null,null,null,null,null,null,null,null,null,null,null,null,null,null,null,null,null,null,null,null,null,null,null,null,null,null,null,null,null,null,null,null,null,null,null,null,null,null,null,null,null,null,null,null,null,null,null,null,null,null,null,null,null,null,null,null,null,null,null,null,null,null,null,null,null,null,null,null,null,null,null,null,null,null,null,null,null,null,null,null,null,null,null,null,null,null,null,null,null,null,null,null,null,null,null,null,null,null,null,null,null,null,null,null,null,null,null,null,null,null,null,null,null,null,null,null,null,null,null,null,null,null,null,null,null,null,null,null,null,null,null,null,null,null,null,null,null,null,null,null,null,null,null,null,null,null,null,null,null,null,null,null,null,null,null,null,null,null,null,null,null,null,null,null,null,null,null,null,null,null,null,null,null,null,null,null,null,null,null,null,null,null,null,null,null,null,null,null,null,null,null,null,null,null,null,null,null,null,null,null,null,null,null,null,null,null,null,null,null,null,null,null,null,null,null,null,null,null,null,null,null,null,null,null,null,null,null,null,null,null,null,null,null,null,null,null,null,null,null,null,null,null,null,null,null,null,null,null,null,null,null,null,null,null,null,null,null,null,null,null,null,null,null,null,null,null,null,null,null,null,null,null,null,null,null,null,null,null,null,null,null,null,null,null,null,null,null,null,null,null,null,null,null,null,null,null,null,null,null,null,null,null,null,null,null,null,null,null,null,null,null,null,null,null,null,null,null,null,null,null,null,null,null,null,null,null,null,null,null,null,null,null,null,null,null,null,null,null,null,null,null,null,null,null,null,null,null,null,null,null,null,null,null,null,null,null,null,null,null,null,null,null,null,null,null,null,null,null,null,null,null,null,null,null,null,null,null,null,null,null,null,null,null,null,null,null,null,null,null,null,null,null,null,null,null,null,null,null,null,null,null,null,null,null,null,null,null,null,null,null,null,null,null,null,null,null,null,null,null,null,null,null,null,null,null,null,null,null,null,null,null,null,null,null,null,null,null,null,null,null,null,null,null,null,null,null,null,null,null,null,null,null,null,null,null,null,null,null,null,null,null,null,null,null,null,null,null,null,null,null,null,null,null,null,null,null,null,null,null,null,null,null,null,null,null,null,null,null,null,null,null,null,null,null,null,null,null,null,null,null,null,null,null,null,null,null,null,null,null,null,null,null,null,null,null,null,null,null,null,null,null,null,null,null,null,null,null,null,null,null,null,null,null,null,null,null,null,null,null,null,null,null,null,null,null,null,null,null,null,null,null,null,null,null,null,null,null,null,null,null,null,null,null,null,null,null,null,null,null,null,null,null,null,null,null,null,null,null,null,null,null,null,null,null,null,null,null,null,null,null,null,null,null,null,null,null,null,null,null,null,null,null,null,null,null,null,null,null,null,null,null,null,null,null,null,null,null,null,null,null,null,null,null,null,null,null,null,null,null,null,null,null,null,null,null,null,null,null,null,null,null,null,null,null,null,null,null,null,null,null,null,null,null,null,null,null,null,null,null,null,null,null,null,null,null,null,null,null,null,null,null,null,null,null,null,null,null,null,null,null,null,null,null,null,null,null,null,null,null,null,null,null,null,null,null,null,null,null,null,null,null,null,null,null,null,null,null,null,null,null,null,null,null,null,null,null,null,null,null,null,null,null,null,null,null,null,null,null,null,null,null,null,null,null,null,null,null,null,null,null,null,null,null,null,null,null,null,null,null,null,null,null,null,null,null,null,null,null,null,null,null,null,null,null,null,null,null,null,null,null,null,null,null,null,null,null,null,null,null,null,null,null,null,null,null,null,null,null,null,null,null,null,null,null,null,null,null,null,null,null,null,null,null,null,null,null,null,null,null,null,null,null,null,null,null,null,null,null,null,null,null,null,null,null,null,null,null,null,null,null,null,null,null,null,null,null,null,null,null,null,null,null,null,null,null,null,null,null,null,null,null,null,null,null,null,null,null,null,null,null,null,null,null,null,null,null,null,null,null,null,null,null,null,null,null,null,null,null,null,null,null,null,null,null,null,null,null,null,null,null,null,null,null,null,null,null,null,null,null,null,null,null,null,null,null,null,null,null,null,null,null,null,null,null,null,null,null,null,null,null,null,null,null,null,null,null,null,null,null,null,null,null,null,null,null,null,null,null,null,null,null,null,null,null,null,null,null,null,null,null,null,null,null,null,null,null,null,null,null,null,null,null,null,null,null,null,null,null,null,null,null,null,null,null,null,null,null,null,null,null,null,null,null,null,null,null,null,null,null,null,null,null,null,null,null,null,null,null,null,null,null,null,null,null,null,null,null,null,null,null,null,null,null,null,null,null,null,null,null,null,null,null,null,null,null,null,null,null,null,null,null,null,null,null,null,null,null,null,null,null,null,null,null,null,null,null,null,null,null,null,null,null,null,null,null,null,null,null,null,null,null,null,null,null,null,null,null,null,null,null,null,null,null,null,null,null,null,null,null,null,null,null,null,null,null,null,null,null,null,null,null,null,null,null,null,null,null,null,null,null,null,null,null,null,null,null,null,null,null,null,null,null,null,null,null,null,null,null,null,null,null,null,null,null,null,null,null,null,null,null,null,null,null,null,null,null,null,null,null,null,null,null,null,null,null,null,null,null,null,null,null,null,null,null,null,null,null,null,null,null,null,null,null,null,null,null,null,null,null,null,null,null,null,null,null,null,null,null,null,null,null,null,null,null,null,null,null,null,null,null,null,null,null,null,null,null,null,null,null,null,null,null,null,null,null,null,null,null,null,null,null,null,null,null,null,null,null,null,null,null,null,null,null,null,null,null,null,null,null,null,null,null,null,null,null,null,null,null,null,null,null,null,null,null,null,null,null,null,null,null,null,null,null,null,null,null,null,null,null,null,null,null,null,null,null,null,null,null,null,null,null,null,null,null,null,null,null,null,null,null,null,null,null,null,null,null,null,null,null,null,null,null,null,null,null,null,null,null,null,null,null,null,null,null,null,null,null,null,null,null,null,null,null,null,null,null,null,null,null,null,null,null,null,null,null,null,null,null,null,null,null,null,null,null,null,null,null,null,null,null,null,null,null,null,null,null,null,null,null,null,null,null,null,null,null,null,null,null,null,null,null,null,null,null,null,null,null,null,null,null,null,null,null,null,null,null,null,null,null,null,null,null,null,null,null,null,null,null,null,null,null,null,null,null,null,null,null,null,null,null,null,null,null,null,null,null,null,null,null,null,null,null,null,null,null,null,null,null,null,null,null,null,null,null,null,null,null,null,null,null,null,null,null,null,null,null,null,null,null,null,null,null,null,null,null,null,null,null,null,null,null,null,null,null,null,null,null,null,null,null,null,null,null,null,null,null,null,null,null,null,null,null,null,null,null,null,null,null,null,null,null,null,null,null,null,null,null,null,null,null,null,null,null,null,null,null,null,null,null,null,null,null,null,null,null,null,null,null,null,null,null,null,null,null,null,null,null,null,null,null,null,null,null,null,null,null,null,null,null,null,null,null,null,null,null,null,null,null,null,null,null,null,null,null,null,null,null,null,null,null,null,null,null,null,null,null,null,null,null,null,null,null,null,null,null,null,null,null,null,null,null,null,null,null,null,null,null,null,null,null,null,null,null,null,null,null,null,null,null,null,null,null,null,null,null,null,null,null,null,null,null,null,null,null,null,null,null,null,null,null,null,null,null,null,null,null,null,null,null,null,null,null,null,null,null,null,null,null,null,null,null,null,null,null,null,null,null,null,null,null,null,null,null,null,null,null,null,null,null,null,null,null,null,null,null,null,null,null,null,null,null,null,null,null,null,null,null,null,null,null,null,null,null,null,null,null,null,null,null,null,null,null,null,null,null,null,null,null,null,null,null,null,null,null,null,null,null,null,null,null,null,null,null,null,null,null,null,null,null,null,null,null,null,null,null,null,null,null,null,null,null,null,null,null,null,null,null,null,null,null,null,null,null,null,null,null,null,null,null,null,null,null,null,null,null,null,null,null,null,null,null,null,null,null,null,null,null,null,null,null,null,null,null,null,null,null,null,null,null,null,null,null,null,null,null,null,null,null,null,null,null,null,null,null,null,null,null,null,null,null,null,null,null,null,null,null,null,null,null,null,null,null,null,null,null,null,null,null,null,null,null,null,null,null,null,null,null,null,null,null,null,null,null,null,null,null,null,null,null,null,null,null,null,null,null,null,null,null,null,null,null,null,null,null,null,null,null,null,null,null,null,null,null,null,null,null,null,null,null,null,null,null,null,null,null,null,null,null,null,null,null,null,null,null,null,null,null,null,null,null,null,null,null,null,null,null,null,null,null,null,null,null,null,null,null,null,null,null,null,null,null,null,null,null,null,null,null,null,null,null,null,null,null,null,null,null,null,null,null,null,null,null,null,null,null,null,null,null,null,null,null,null,null,null,null,null,null,null,null,null,null,null,null,null,null,null,null,null,null,null,null,null,null,null,null,null,null,null,null,null,null,null,null,null,null,null,null,null,null,null,null,null,null,null,null,null,null,null,null,null,null,null,null,null,null,null,null,null,null,null,null,null,null,null,null,null,null,null,null,null,null,null,null,null,null,null,null,null,null,null,null,null,null,null,null,null,null,null,null,null,null,null,null,null,null,null,null,null,null,null,null,null,null,null,null,null,null,null,null,null,null,null,null,null,null,null,null,null,null,null,null,null,null,null,null,null,null,null,null,null,null,null,null,null,null,null,null,null,null,null,null,null,null,null,null,null,null,null,null,null,null,null,null,null,null,null,null,null,null,null,null,null,null,null,null,null,null,null,null,null,null,null,null,null,null,null,null,null,null,null,null,null,null,null,null,null,null,null,null,null,null,null,null,null,null,null,null,null,null,null,null,null,null,null,null,null,null,null,null,null,null,null,null,null,null,null,null,null,null,null,null,null,null,null,null,null,null,null,null,null,null,null,null,null,null,null,null,null,null,null,null,null,null,null,null,null,null,null,null,null,null,null,null,null,null,null,null,null,null,null,null,null,null,null,null,null,null,null,null,null,null,null,null,null,null,null,null,null,null,null,null,null,null,null,null,null,null,null,null,null,null,null,null,null,null,null,null,null,null,null,null,null,null,null,null,null,null,null,null,null,null,null,null,null,null,null,null,null,null,null,null,null,null,null,null,null,null,null,null,null,null,null,null,null,null,null,null,null,null,null,null,null,null,null,null,null,null,null,null,null,null,null,null,null,null,null,null,null,null,null,null,null,null,null,null,null,null,null,null,null,null,null,null,null,null,null,null,null,null,null,null,null,null,null,null,null,null,null,null,null,null,null,null,null,null,null,null,null,null,null,null,null,null,null,null,null,null,null,null,null,null,null,null,null,null,null,null,null,null,null,null,null,null,null,null,null,null,null,null,null,null,null,null,null,null,null,null,null,null,null,null,null,null,null,null,null,null,null,null,null,null,null,null,null,null,null,null,null,null,null,null,null,null,null,null,null,null,null,null,null,null,null,null,null,null,null,null,null,null,null,null,null,null,null,null,null,null,null,null,null,null,null,null,null,null,null,null,null,null,null,null,null,null,null,null,null,null,null,null,null,null,null,null,null,null,null,null,null,null,null,null,null,null,null,null,null,null,null,null,null,null,null,null,null,null,null,null,null,null,null,null,null,null,null,null,null,null,null,null,null,null,null,null,null,null,null,null,null,null,null,null,null,null,null,null,null,null,null,null,null,null,null,null,null,null,null,null,null,null,null,null,null,null,null,null,null,null,null,null,null,null,null,null,null,null,null,null,null,null,null,null,null,null,null,null,null,null,null,null,null,null,null,null,null,null,null,null,null,null,null,null,null,null,null,null,null,null,null,null,null,null,null,null,null,null,null,null,null,null,null,null,null,null,null,null,null,null,null,null,null,null,null,null,null,null,null,null,null,null,null,null,null,null,null,null,null,null,null,null,null,null,null,null,null,null,null,null,null,null,null,null,null,null,null,null,null,null,null,null,null,null,null,null,null,null,null,null,null,null,null,null,null,null,null,null,null,null,null,null,null,null,null,null,null,null,null,null,null,null,null,null,null,null,null,null,null,null,null,null,null,null,null,null,null,null,null,null,null,null,null,null,null,null,null,null,null,null,null,null,null,null,null,null,null,null,null,null,null,null,null,null,null,null,null,null,null,null,null,null,null,null,null,null,null,null,null,null,null,null,null,null,null,null,null,null,null,null,null,null,null,null,null,null,null,null,null,null,null,null,null,null,null,null,null,null,null,null,null,null,null,null,null,null,null,null,null,null,null,null,null,null,null,null,null,null,null,null,null,null,null,null,null,null,null,null,null,null,null,null,null,null,null,null,null,null,null,null,null,null,null,null,null,null,null,null,null,null,null,null,null,null,null,null,null,null,null,null,null,null,null,null,null,null,null,null,null,null,null,null,null,null,null,null,null,null,null,null,null,null,null,null,null,null,null,null,null,null,null,null,null,null,null,null,null,null,null,null,null,null,null,null,null,null,null,null,null,null,null,null,null,null,null,null,null,null,null,null,null,null,null,null,null,null,null,null,null,null,null,null,null,null,null,null,null,null,null,null,null,null,null,null,null,null,null,null,null,null,null,null,null,null,null,null,null,null,null,null,null,null,null,null,null,null,null,null,null,null,null,null,null,null,null,null,null,null,null,null,null,null,null,null,null,null,null,null,null,null,null,null,null,null,null,null,null,null,null,null,null,null,null,null,null,null,null,null,null,null,null,null,null,null,null,null,null,null,null,null,null,null,null,null,null,null,null,null,null,null,null,null,null,null,null,null,null,null,null,null,null,null,null,null,null,null,null,null,null,null,null,null,null,null,null,null,null,null,null,null,null,null,null,null,null,null,null,null,null,null,null,null,null,null,null,null,null,null,null,null,null,null,null,null,null,null,null,null,null,null,null,null,null,null,null,null,null,null,null,null,null,null,null,null,null,null,null,null,null,null,null,null,null,null,null,null,null,null,null,null,null,null,null,null,null,null,null,null,null,null,null,null,null,null,null,null,null,null,null,null,null,null,null,null,null,null,null,null,null,null,null,null,null,null,null,null,null,null,null,null,null,null,null,null,null,null,null,null,null,null,null,null,null,null,null,null,null,null,null,null,null,null,null,null,null,null,null,null,null,null,null,null,null,null,null,null,null,null,null,null,null,null,null,null,null,null,null,null,null,null,null,null,null,null,null,null,null,null,null,null,null,null,null,null,null,null,null,null,null,null,null,null,null,null,null,null,null,null,null,null,null,null,null,null,null,null,null,null,null,null,null,null,null,null,null,null,null,null,null,null,null,null,null,null,null,null,null,null,null,null,null,null,null,null,null,null,null,null,null,null,null,null,null,null,null,null,null,null,null,null,null,null,null,null,null,null,null,null,null,null,null,null,null,null,null,null,null,null,null,null,null,null,null,null,null,null,null,null,null,null,null,null,null,null,null,null,null,null,null,null,null,null,null,null,null,null,null,null,null,null,null,null,null,null,null,null,null,null,null,null,null,null,null,null,null,null,null,null,null,null,null,null,null,null,null,null,null,null,null,null,null,null,null,null,null,null,null,null,null,null,null,null,null,null,null,null,null,null,null,null,null,null,null,null,null,null,null,null,null,null,null,null,null,null,null,null,null,null,null,null,null,null,null,null,null,null,null,null,null,null,null,null,null,null,null,null,null,null,null,null,null,null,null,null,null,null,null,null,null,null,null,null,null,null,null,null,null,null,null,null,null,null,null,null,null,null,null,null,null,null,null,null,null,null,null,null,null,null,null,null,null,null,null,null,null,null,null,null,null,null,null,null,null,null,null,null,null,null,null,null,null,null,null,null,null,null,null,null,null,null,null,null,null,null,null,null,null,null,null,null,null,null,null,null,null,null,null,null,null,null,null,null,null,null,null,null,null,null,null,null,null,null,null,null,null,null,null,null,null,null,null,null,null,null,null,null,null,null,null,null,null,null,null,null,null,null,null,null,null,null,null,null,null,null,null,null,null,null,null,null,null,null,null,null,null,null,null,null,null,null,null,null,null,null,null,null,null,null,null,null,null,null,null,null,null,null,null,null,null,null,null,null,null,null,null,null,null,null,null,null,null,null,null,null,null,null,null,null,null,null,null,null,null,null,null,null,null,null,null,null,null,null,null,null,null,null,null,null,null,null,null,null,null,null,null,null,null,null,null,null,null,null,null,null,null,null,null,null,null,null,null,null,null,null,null,null,null,null,null,null,null,null,null,null,null,null,null,null,null,null,null,null,null,null,null,null,null,null,null,null,null,null,null,null,null,null,null,null,null,null,null,null,null,null,null,null,null,null,null,null,null,null,null,null,null,null,null,null,null,null,null,null,null,null,null,null,null,null,null,null,null,null,null,null,null,null,null,null,null,null,null,null,null,null,null,null,null,null,null,null,null,null,null,null,null,null,null,null,null,null,null,null,null,null,null,null,null,null,null,null,null,null,null,null,null,null,null,null,null,null,null,null,null,null,null,null,null,null,null,null,null,null,null,null,null,null,null,null,null,null,null,null,null,null,null,null,null,null,null,null,null,null,null,null,null,null,null,null,null,null,null,null,null,null,null,null,null,null,null,null,null,null,null,null,null,null,null,null,null,null,null,null,null,null,null,null,null,null,null,null,null,null,null,null,null,null,null,null,null,null,null,null,null,null,null,null,null,null,null,null,null,null,null,null,null,null,null,null,null,null,null,null,null,null,null,null,null,null,null,null,null,null,null,null,null,null,null,null,null,null,null,null,null,null,null,null,null,null,null,null,null,null,null,null,null,null,null,null,null,null,null,null,null,null,null,null,null,null,null,null,null,null,null,null,null,null,null,null,null,null,null,null,null,null,null,null,null,null,null,null,null,null,null,null,null,null,null,null,null,null,null,null,null,null,null,null,null,null,null,null,null,null,null,null,null,null,null,null,null,null,null,null,null,null,null,null,null,null,null,null,null,null,null,null,null,null,null,null,null,null,null,null,null,null,null,null,null,null,null,null,null,null,null,null,null,null,null,null,null,null,null,null,null,null,null,null,null,null,null,null,null,null,null,null,null,null,null,null,null,null,null,null,null,null,null,null,null,null,null,null,null,null,null,null,null,null,null,null,null,null,null,null,null,null,null,null,null,null,null,null,null,null,null,null,null,null,null,null,null,null,null,null,null,null,null,null,null,null,null,null,null,null,null,null,null,null,null,null,null,null,null,null,null,null,null,null,null,null,null,null,null,null,null,null,null,null,null,null,null,null,null,null,null,null,null,null,null,null,null,null,null,null,null,null,null,null,null,null,null,null,null,null,null,null,null,null,null,null,null,null,null,null,null,null,null,null,null,null,null,null,null,null,null,null,null,null,null,null,null,null,null,null,null,null,null,null,null,null,null,null,null,null,null,null,null,null,null,null,null,null,null,null,null,null,null,null,null,null,null,null,null,null,null,null,null,null,null,null,null,null,null,null,null,null,null,null,null,null,null,null,null,null,null,null,null,null,null,null,null,null,null,null,null,null,null,null,null,null,null,null,null,null,null,null,null,null,null,null,null,null,null,null,null,null,null,null,null,null,null,null,null,null,null,null,null,null,null,null,null,null,null,null,null,null,null,null,null,null,null,null,null,null,null,null,null,null,null,null,null,null,null,null,null,null,null,null,null,null,null,null,null,null,null,null,null,null,null,null,null,null,null,null,null,null,null,null,null,null,null,null,null,null,null,null,null,null,null,null,null,null,null,null,null,null,null,null,null,null,null,null,null,null,null,null,null,null,null,null,null,null,null,null,null,null,null,null,null,null,null,null,null,null,null,null,null,null,null,null,null,null,null,null,null,null,null,null,null,null,null,null,null,null,null,null,null,null,null,null,null,null,null,null,null,null,null,null,null,null,null,null,null,null,null,null,null,null,null,null,null,null,null,null,null,null,null,null,null,null,null,null,null,null,null,null,null,null,null,null,null,null,null,null,null,null,null,null,null,null,null,null,null,null,null,null,null,null,null,null,null,null,null,null,null,null,null,null,null,null,null,null,null,null,null,null,null,null,null,null,null,null,null,null,null,null,null,null,null,null,null,null,null,null,null,null,null,null,null,null,null,null,null,null,null,null,null,null,null,null,null,null,null,null,null,null,null,null,null,null,null,null,null,null,null,null,null,null,null,null,null,null,null,null,null,null,null,null,null,null,null,null,null,null,null,null,null,null,null,null,null,null,null,null,null,null,null,null,null,null,null,null,null,null,null,null,null,null,null,null,null,null,null,null,null,null,null,null,null,null,null,null,null,null,null,null,null,null,null,null,null,null,null,null,null,null,null,null,null,null,null,null,null,null,null,null,null,null,null,null,null,null,null,null,null,null,null,null,null,null,null,null,null,null,null,null,null,null,null,null,null,null,null,null,null,null,null,null,null,null,null,null,null,null,null,null,null,null,null,null,null,null,null,null,null,null,null,null,null,null,null,null,null,null,null,null,null,null,null,null,null,null,null,null,null,null,null,null,null,null,null,null,null,null,null,null,null,null,null,null,null,null,null,null,null,null,null,null,null,null,null,null,null,null,null,null,null,null,null,null,null,null,null,null,null,null,null,null,null,null,null,null,null,null,null,null,null,null,null,null,null,null,null,null,null,null,null,null,null,null,null,null,null,null,null,null,null,null,null,null,null,null,null,null,null,null,null,null,null,null,null,null,null,null,null,null,null,null,null,null,null,null,null,null,null,null,null,null,null,null,null,null,null,null,null,null,null,null,null,null,null,null,null,null,null,null,null,null,null,null,null,null,null,null,null,null,null,null,null,null,null,null,null,null,null,null,null,null,null,null,null,null,null,null,null,null,null,null,null,null,null,null,null,null,null,null,null,null,null,null,null,null,null,null,null,null,null,null,null,null,null,null,null,null,null,null,null,null,null,null,null,null,null,null,null,null,null,null,null,null,null,null,null,null,null,null,null,null,null,null,null,null,null,null,null,null,null,null,null,null,null,null,null,null,null,null,null,null,null,null,null,null,null,null,null,null,null,null,null,null,null,null,null,null,null,null,null,null,null,null,null,null,null,null,null,null,null,null,null,null,null,null,null,null,null,null,null,null,null,null,null,null,null,null,null,null,null,null,null,null,null,null,null,null,null,null,null,null,null,null,null,null,null,null,null,null,null,null,null,null,null,null,null,null,null,null,null,null,null,null,null,null,null,null,null,null,null,null,null,null,null,null,null,null,null,null,null,null,null,null,null,null,null,null,null,null,null,null,null,null,null,null,null,null,null,null,null,null,null,null,null,null,null,null,null,null,null,null,null,null,null,null,null,null,null,null,null,null,null,null,null,null,null,null,null,null,null,null,null,null,null,null,null,null,null,null,null,null,null,null,null,null,null,null,null,null,null,null,null,null,null,null,null,null,null,null,null,null,null,null,null,null,null,null,null,null,null,null,null,null,null,null,null,null,null,null,null,null,null,null,null,null,null,null,null,null,null,null,null,null,null,null,null,null,null,null,null,null,null,null,null,null,null,null,null,null,null,null,null,null,null,null,null,null,null,null,null,null,null,null,null,null,null,null,null,null,null,null,null,null,null,null,null,null,null,null,null,null,null,null,null,null,null,null,null,null,null,null,null,null,null,null,null,null,null,null,null,null,null,null,null,null,null,null,null,null,null,null,null,null,null,null,null,null,null,null,null,null,null,null,null,null,null,null,null,null,null,null,null,null,null,null,null,null,null,null,null,null,null,null,null,null,null,null,null,null,null,null,null,null,null,null,null,null,null,null,null,null,null,null,null,null,null,null,null,null,null,null,null,null,null,null,null,null,null,null,null,null,null,null,null,null,null,null,null,null,null,null,null,null,null,null,null,null,null,null,null,null,null,null,null,null,null,null,null,null,null,null,null,null,null,null,null,null,null,null,null,null,null,null,null,null,null,null,null,null,null,null,null,null,null,null,null,null,null,null,null,null,null,null,null,null,null,null,null,null,null,null,null,null,null,null,null,null,null,null,null,null,null,null,null,null,null,null,null,null,null,null,null,null,null,null,null,null,null,null,null,null,null,null,null,null,null,null,null,null,null,null,null,null,null,null,null,null,null,null,null,null,null,null,null,null,null,null,null,null,null,null,null,null,null,null,null,null,null,null,null,null,null,null,null,null,null,null,null,null,null,null,null,null,null,null,null,null,null,null,null,null,null,null,null,null,null,null,null,null,null,null,null,null,null,null,null,null,null,null,null,null,null,null,null,null,null,null,null,null,null,null,null,null,null,null,null,null,null,null,null,null,null,null,null,null,null,null,null,null,null,null,null,null,null,null,null,null,null,null,null,null,null,null,null,null,null,null,null,null,null,null,null,null,null,null,null,null,null,null,null,null,null,null,null,null,null,null,null,null,null,null,null,null,null,null,null,null,null,null,null,null,null,null,null,null,null,null,null,null,null,null,null,null,null,null,null,null,null,null,null,null,null,null,null,null,null,null,null,null,null,null,null,null,null,null,null,null,null,null,null,null,null,null,null,null,null,null,null,null,null,null,null,null,null,null,null,null,null,null,null,null,null,null,null,null,null,null,null,null,null,null,null,null,null,null,null,null,null,null,null,null,null,null,null,null,null,null,null,null,null,null,null,null,null,null,null,null,null,null,null,null,null,null,null,null,null,null,null,null,null,null,null,null,null,null,null,null,null,null,null,null,null,null,null,null,null,null,null,null,null,null,null,null,null,null,null,null,null,null,null,null,null,null,null,null,null,null,null,null,null,null,null,null,null,null,null,null,null,null,null,null,null,null,null,null,null,null,null,null,null,null,null,null,null,null,null,null,null,null,null,null,null,null,null,null,null,null,null,null,null,null,null,null,null,null,null,null,null,null,null,null,null,null,null,null,null,null,null,null,null,null,null,null,null,null,null,null,null,null,null,null,null,null,null,null,null,null,null,null,null,null,null,null,null,null,null,null,null,null,null,null,null,null,null,null,null,null,null,null,null,null,null,null,null,null,null,null,null,null,null,null,null,null,null,null,null,null,null,null,null,null,null,null,null,null,null,null,null,null,null,null,null,null,null,null,null,null,null,null,null,null,null,null,null,null,null,null,null,null,null,null,null,null,null,null,null,null,null,null,null,null,null,null,null,null,null,null,null,null,null,null,null,null,null,null,null,null,null,null,null,null,null,null,null,null,null,null,null,null,null,null,null,null,null,null,null,null,null,null,null,null,null,null,null,null,null,null,null,null,null,null,null,null,null,null,null,null,null,null,null,null,null,null,null,null,null,null,null,null,null,null,null,null,null,null,null,null,null,null,null,null,null,null,null,null,null,null,null,null,null,null,null,null,null,null,null,null,null,null,null,null,null,null,null,null,null,null,null,null,null,null,null,null,null,null,null,null,null,null,null,null,null,null,null,null,null,null,null,null,null,null,null,null,null,null,null,null,null,null,null,null,null,null,null,null,null,null,null,null,null,null,null,null,null,null,null,null,null,null,null,null,null,null,null,null,null,null,null,null,null,null,null,null,null,null,null,null,null,null,null,null,null,null,null,null,null,null,null,null,null,null,null,null,null,null,null,null,null,null,null,null,null,null,null,null,null,null,null,null,null,null,null,null,null,null,null,null,null,null,null,null,null,null,null,null,null,null,null,null,null,null,null,null,null,null,null,null,null,null,null,null,null,null,null,null,null,null,null,null,null,null,null,null,null,null,null,null,null,null,null,null,null,null,null,null,null,null,null,null,null,null,null,null,null,null,null,null,null,null,null,null,null,null,null,null,null,null,null,null,null,null,null,null,null,null,null,null,null,null,null,null,null,null,null,null,null,null,null,null,null,null,null,null,null,null,null,null,null,null,null,null,null,null,null,null,null,null,null,null,null,null,null,null,null,null,null,null,null,null,null,null,null,null,null,null,null,null,null,null,null,null,null,null,null,null,null,null,null,null,null,null,null,null,null,null,null,null,null,null,null,null,null,null,null,null,null,null,null,null,null,null,null,null,null,null,null,null,null,null,null,null,null,null,null,null,null,null,null,null,null,null,null,null,null,null,null,null,null,null,null,null,null,null,null,null,null,null,null,null,null,null,null,null,null,null,null,null,null,null,null,null,null,null,null,null,null,null,null,null,null,null,null,null,null,null,null,null,null,null,null,null,null,null,null,null,null,null,null,null,null,null,null,null,null,null,null,null,null,null,null,null,null,null,null,null,null,null,null,null,null,null,null,null,null,null,null,null,null,null,null,null,null,null,null,null,null,null,null,null,null,null,null,null,null,null,null,null,null,null,null,null,null,null,null,null,null,null,null,null,null,null,null,null,null,null,null,null,null,null,null,null,null,null,null,null,null,null,null,null,null,null,null,null,null,null,null,null,null,null,null,null,null,null,null,null,null,null,null,null,null,null,null,null,null,null,null,null,null,null,null,null,null,null,null,null,null,null,null,null,null,null,null,null,null,null,null,null,null,null,null,null,null,null,null,null,null,null,null,null,null,null,null,null,null,null,null,null,null,null,null,null,null,null,null,null,null,null,null,null,null,null,null,null,null,null,null,null,null,null,null,null,null,null,null,null,null,null,null,null,null,null,null,null,null,null,null,null,null,null,null,null,null,null,null,null,null,null,null,null,null,null,null,null,null,null,null,null,null,null,null,null,null,null,null,null,null,null,null,null,null,null,null,null,null,null,null,null,null,null,null,null,null,null,null,null,null,null,null,null,null,null,null,null,null,null,null,null,null,null,null,null,null,null,null,null,null,null,null,null,null,null,null,null,null,null,null,null,null,null,null,null,null,null,null,null,null,null,null,null,null,null,null,null,null,null,null,null,null,null,null,null,null,null,null,null,null,null,null,null,null,null,null,null,null,null,null,null,null,null,null,null,null,null,null,null,null,null,null,null,null,null,null,null,null,null,null,null,null,null,null,null,null,null,null,null,null,null,null,null,null,null,null,null,null,null,null,null,null,null,null,null,null,null,null,null,null,null,null,null,null,null,null,null,null,null,null,null,null,null,null,null,null,null,null,null,null,null,null,null,null,null,null,null,null,null,null,null,null,null,null,null,null,null,null,null,null,null,null,null,null,null,null,null,null,null,null,null,null,null,null,null,null,null,null,null,null,null,null,null,null,null,null,null,null,null,null,null,null,null,null,null,null,null,null,null,null,null,null,null,null,null,null,null,null,null,null,null,null,null,null,null,null,null,null,null,null,null,null,null,null,null,null,null,null,null,null,null,null,null,null,null,null,null,null,null,null,null,null,null,null,null,null,null,null,null,null,null,null,null,null,null,null,null,null,null,null,null,null,null,null,null,null,null,null,null,null,null,null,null,null,null,null,null,null,null,null,null,null,null,null,null,null,null,null,null,null,null,null,null,null,null,null,null,null,null,null,null,null,null,null,null,null,null,null,null,null,null,null,null,null,null,null,null,null,null,null,null,null,null,null,null,null,null,null,null,null,null,null,null,null,null,null,null,null,null,null,null,null,null,null,null,null,null,null,null,null,null,null,null,null,null,null,null,null,null,null,null,null,null,null,null,null,null,null,null,null,null,null,null,null,null,null,null,null,null,null,null,null,null,null,null,null,null,null,null,null,null,null,null,null,null,null,null,null,null,null,null,null,null,null,null,null,null,null,null,null,null,null,null,null,null,null,null,null,null,null,null,null,null,null,null,null,null,null,null,null,null,null,null,null,null,null,null,null,null,null,null,null,null,null,null,null,null,null,null,null,null,null,null,null,null,null,null,null,null,null,null,null,null,null,null,null,null,null,null,null,null,null,null,null,null,null,null,null,null,null,null,null,null,null,null,null,null,null,null,null,null,null,null,null,null,null,null,null,null,null,null,null,null,null,null,null,null,null,null,null,null,null,null,null,null,null,null,null,null,null,null,null,null,null,null,null,null,null,null,null,null,null,null,null,null,null,null,null,null,null,null,null,null,null,null,null,null,null,null,null,null,null,null,null,null,null,null,null,null,null,null,null,null,null,null,null,null,null,null,null,null,null,null,null,null,null,null,null,null,null,null,null,null,null,null,null,null,null,null,null,null,null,null,null,null,null,null,null,null,null,null,null,null,null,null,null,null,null,null,null,null,null,null,null,null,null,null,null,null,null,null,null,null,null,null,null,null,null,null,null,null,null,null,null,null,null,null,null,null,null,null,null,null,null,null,null,null,null,null,null,null,null,null,null,null,null,null,null,null,null,null,null,null,null,null,null,null,null,null,null,null,null,null,null,null,null,null,null,null,null,null,null,null,null,null,null,null,null,null,null,null,null,null,null,null,null,null,null,null,null,null,null,null,null,null,null,null,null,null,null,null,null,null,null,null,null,null,null,null,null,null,null,null,null,null,null,null,null,null,null,null,null,null,null,null,null,null,null,null,null,null,null,null,null,null,null,null,null,null,null,null,null,null,null,null,null,null,null,null,null,null,null,null,null,null,null,null,null,null,null,null,null,null,null,null,null,null,null,null,null,null,null,null,null,null,null,null,null,null,null,null,null,null,null,null,null,null,null,null,null,null,null,null,null,null,null,null,null,null,null,null,null,null,null,null,null,null,null,null,null,null,null,null,null,null,null,null,null,null,null,null,null,null,null,null,null,null,null,null,null,null,null,null,null,null,null,null,null,null,null,null,null,null,null,null,null,null,null,null,null,null,null,null,null,null,null,null,null,null,null,null,null,null,null,null,null,null,null,null,null,null,null,null,null,null,null,null,null,null,null,null,null,null,null,null,null,null,null,null,null,null,null,null,null,null,null,null,null,null,null,null,null,null,null,null,null,null,null,null,null,null,null,null,null,null,null,null,null,null,null,null,null,null,null,null,null,null,null,null,null,null,null,null,null,null,null,null,null,null,null,null,null,null,null,null,null,null,null,null,null,null,null,null,null,null,null,null,null,null,null,null,null,null,null,null,null,null,null,null,null,null,null,null,null,null,null,null,null,null,null,null,null,null,null,null,null,null,null,null,null,null,null,null,null,null,null,null,null,null,null,null,null,null,null,null,null,null,null,null,null,null,null,null,null,null,null,null,null,null,null,null,null,null,null,null,null,null,null,null,null,null,null,null,null,null,null,null,null,null,null,null,null,null,null,null,null,null,null,null,null,null,null,null,null,null,null,null,null,null,null,null,null,null,null,null,null,null,null,null,null,null,null,null,null,null,null,null,null,null,null,null,null,null,null,null,null,null,null,null,null,null,null,null,null,null,null,null,null,null,null,null,null,null,null,null,null,null,null,null,null,null,null,null,null,null,null,null,null,null,null,null,null,null,null,null,null,null,null,null,null,null,null,null,null,null,null,null,null,null,null,null,null,null,null,null,null,null,null,null,null,null,null,null,null,null,null,null,null,null,null,null,null,null,null,null,null,null,null,null,null,null,null,null,null,null,null,null,null,null,null,null,null,null,null,null,null,null,null,null,null,null,null,null,null,null,null,null,null,null,null,null,null,null,null,null,null,null,null,null,null,null,null,null,null,null,null,null,null,null,null,null,null,null,null,null,null,null,null,null,null,null,null,null,null,null,null,null,null,null,null,null,null,null,null,null,null,null,null,null,null,null,null,null,null,null,null,null,null,null,null,null,null,null,null,null,null,null,null,null,null,null,null,null,null,null,null,null,null,null,null,null,null,null,null,null,null,null,null,null,null,null,null,null,null,null,null,null,null,null,null,null,null,null,null,null,null,null,null,null,null,null,null,null,null,null,null,null,null,null,null,null,null,null,null,null,null,null,null,null,null,null,null,null,null,null,null,null,null,null,null,null,null,null,null,null,null,null,null,null,null,null,null,null,null,null,null,null,null,null,null,null,null,null,null,null,null,null,null,null,null,null,null,null,null,null,null,null,null,null,null,null,null,null,null,null,null,null,null,null,null,null,null,null,null,null,null,null,null,null,null,null,null,null,null,null,null,null,null,null,null,null,null,null,null,null,null,null,null,null,null,null,null,null,null,null,null,null,null,null,null,null,null,null,null,null,null,null,null,null,null,null,null,null,null,null,null,null,null,null,null,null,null,null,null,null,null,null,null,null,null,null,null,null,null,null,null,null,null,null,null,null,null,null,null,null,null,null,null,null,null,null,null,null,null,null,null,null,null,null,null,null,null,null,null,null,null,null,null,null,null,null,null,null,null,null,null,null,null,null,null,null,null,null,null,null,null,null,null,null,null,null,null,null,null,null,null,null,null,null,null,null,null,null,null,null,null,null,null,null,null,null,null,null,null,null,null,null,null,null,null,null,null,null,null,null,null,null,null,null,null,null,null,null,null,null,null,null,null,null,null,null,null,null,null,null,null,null,null,null,null,null,null,null,null,null,null,null,null,null,null,null,null,null,null,null,null,null,null,null,null,null,null,null,null,null,null,null,null,null,null,null,null,null,null,null,null,null,null,null,null,null,null,null,null,null,null,null,null,null,null,null,null,null,null,null,null,null,null,null,null,null,null,null,null,null,null,null,null,null,null,null,null,null,null,null,null,null,null,null,null,null,null,null,null,null,null,null,null,null,null,null,null,null,null,null,null,null,null,null,null,null,null,null,null,null,null,null,null,null,null,null,null,null,null,null,null,null,null,null,null,null,null,null,null,null,null,null,null,null,null,null,null,null,null,null,null,null,null,null,null,null,null,null,null,null,null,null,null,null,null,null,null,null,null,null,null,null,null,null,null,null,null,null,null,null,null,null,null,null,null,null,null,null,null,null,null,null,null,null,null,null,null,null,null,null,null,null,null,null,null,null,null,null,null,null,null,null,null,null,null,null,null,null,null,null,null,null,null,null,null,null,null,null,null,null,null,null,null,null,null,null,null,null,null,null,null,null,null,null,null,null,null,null,null,null,null,null,null,null,null,null,null,null,null,null,null,null,null,null,null,null,null,null,null,null,null,null,null,null,null,null,null,null,null,null,null,null,null,null,null,null,null,null,null,null,null,null,null,null,null,null,null,null,null,null,null,null,null,null,null,null,null,null,null,null,null,null,null,null,null,null,null,null,null,null,null,null,null,null,null,null,null,null,null,null,null,null,null,null,null,null,null,null,null,null,null,null,null,null,null,null,null,null,null,null,null,null,null,null,null,null,null,null,null,null,null,null,null,null,null,null,null,null,null,null,null,null,null,null,null,null,null,null,null,null,null,null,null,null,null,null,null,null,null,null,null,null,null,null,null,null,null,null,null,null,null,null,null,null,null,null,null,null,null,null,null,null,null,null,null,null,null,null,null,null,null,null,null,null,null,null,null,null,null,null,null,null,null,null,null,null,null,null,null,null,null,null,null,null,null,null,null,null,null,null,null,null,null,null,null,null,null,null,null,null,null,null,null,null,null,null,null,null,null,null,null,null,null,null,null,null,null,null,null,null,null,null,null,null,null,null,null,null,null,null,null,null,null,null,null,null,null,null,null,null,null,null,null,null,null,null,null,null,null,null,null,null,null,null,null,null,null,null,null,null,null,null,null,null,null,null,null,null,null,null,null,null,null,null,null,null,null,null,null,null,null,null,null,null,null,null,null,null,null,null,null,null,null,null,null,null,null,null,null,null,null,null,null,null,null,null,null,null,null,null,null,null,null,null,null,null,null,null,null,null,null,null,null,null,null,null,null,null,null,null,null,null,null,null,null,null,null,null,null,null,null,null,null,null,null,null,null,null,null,null,null,null,null,null,null,null,null,null,null,null,null,null,null,null,null,null,null,null,null,null,null,null,null,null,null,null,null,null,null,null,null,null,null,null,null,null,null,null,null,null,null,null,null,null,null,null,null,null,null,null,null,null,null,null,null,null,null,null,null,null,null,null,null,null,null,null,null,null,null,null,null,null,null,null,null,null,null,null,null,null,null,null,null,null,null,null,null,null,null,null,null,null,null,null,null,null,null,null,null,null,null,null,null,null,null,null,null,null,null,null,null,null,null,null,null,null,null,null,null,null,null,null,null,null,null,null,null,null,null,null,null,null,null,null,null,null,null,null,null,null,null,null,null,null,null,null,null,null,null,null,null,null,null,null,null,null,null,null,null,null,null,null,null,null,null,null,null,null,null,null,null,null,null,null,null,null,null,null,null,null,null,null,null,null,null,null,null,null,null,null,null,null,null,null,null,null,null,null,null,null,null,null,null,null,null,null,null,null,null,null,null,null,null,null,null,null,null,null,null,null,null,null,null,null,null,null,null,null,null,null,null,null,null,null,null,null,null,null,null,null,null,null,null,null,null,null,null,null,null,null,null,null,null,null,null,null,null,null,null,null,null,null,null,null,null,null,null,null,null,null,null,null,null,null,null,null,null,null,null,null,null,null,null,null,null,null,null,null,null,null,null,null,null,null,null,null,null,null,null,null,null,null,null,null,null,null,null,null,null,null,null,null,null,null,null,null,null,null,null,null,null,null,null,null,null,null,null,null,null,null,null,null,null,null,null,null,null,null,null,null,null,null,null,null,null,null,null,null,null,null,null,null,null,null,null,null,null,null,null,null,null,null,null,null,null,null,null,null,null,null,null,null,null,null,null,null,null,null,null,null,null,null,null,null,null,null,null,null,null,null,null,null,null,null,null,null,null,null,null,null,null,null,null,null,null,null,null,null,null,null,null,null,null,null,null,null,null,null,null,null,null,null,null,null,null,null,null,null,null,null,null,null,null,null,null,null,null,null,null,null,null,null,null,null,null,null,null,null,null,null,null,null,null,null,null,null,null,null,null,null,null,null,null,null,null,null,null,null,null,null,null,null,null,null,null,null,null,null,null,null,null,null,null,null,null,null,null,null,null,null,null,null,null,null,null,null,null,null,null,null,null,null,null,null,null,null,null,null,null,null,null,null,null,null,null,null,null,null,null,null,null,null,null,null,null,null,null,null,null,null,null,null,null,null,null,null,null,null,null,null,null,null,null,null,null,null,null,null,null,null,null,null,null,null,null,null,null,null,null,null,null,null,null,null,null,null,null,null,null,null,null,null,null,null,null,null,null,null,null,null,null,null,null,null,null,null,null,null,null,null,null,null,null,null,null,null,null,null,null,null,null,null,null,null,null,null,null,null,null,null,null,null,null,null,null,null,null,null,null,null,null,null,null,null,null,null,null,null,null,null,null,null,null,null,null,null,null,null,null,null,null,null,null,null,null,null,null,null,null,null,null,null,null,null,null,null,null,null,null,null,null,null,null,null,null,null,null,null,null,null,null,null,null,null,null,null,null,null,null,null,null,null,null,null,null,null,null,null,null,null,null,null,null,null,null,null,null,null,null,null,null,null,null,null,null,null,null,null,null,null,null,null,null,null,null,null,null,null,null,null,null,null,null,null,null,null,null,null,null,null,null,null,null,null,null,null,null,null,null,null,null,null,null,null,null,null,null,null,null,null,null,null,null,null,null,null,null,null,null,null,null,null,null,null,null,null,null,null,null,null,null,null,null,null,null,null,null,null,null,null,null,null,null,null,null,null,null,null,null,null,null,null,null,null,null,null,null,null,null,null,null,null,null,null,null,null,null,null,null,null,null,null,null,null,null,null,null,null,null,null,null,null,null,null,null,null,null,null,null,null,null,null,null,null,null,null,null,null,null,null,null,null,null,null,null,null,null,null,null,null,null,null,null,null,null,null,null,null,null,null,null,null,null,null,null,null,null,null,null,null,null,null,null,null,null,null,null,null,null,null,null,null,null,null,null,null,null,null,null,null,null,null,null,null,null,null,null,null,null,null,null,null,null,null,null,null,null,null,null,null,null,null,null,null,null,null,null,null,null,null,null,null,null,null,null,null,null,null,null,null,null,null,null,null,null,null,null,null,null,null,null,null,null,null,null,null,null,null,null,null,null,null,null,null,null,null,null,null,null,null,null,null,null,null,null,null,null,null,null,null,null,null,null,null,null,null,null,null,null,null,null,null,null,null,null,null,null,null,null,null,null,null,null,null,null,null,null,null,null,null,null,null,null,null,null,null,null,null,null,null,null,null,null,null,null,null,null,null,null,null,null,null,null,null,null,null,null,null,null,null,null,null,null,null,null,null,null,null,null,null,null,null,null,null,null,null,null,null,null,null,null,null,null,null,null,null,null,null,null,null,null,null,null,null,null,null,null,null,null,null,null,null,null,null,null,null,null,null,null,null,null,null,null,null,null,null,null,null,null,null,null,null,null,null,null,null,null,null,null,null,null,null,null,null,null,null,null,null,null,null,null,null,null,null,null,null,null,null,null,null,null,null,null,null,null,null,null,null,null,null,null,null,null,null,null,null,null,null,null,null,null,null,null,null,null,null,null,null,null,null,null,null,null,null,null,null,null,null,null,null,null,null,null,null,null,null,null,null,null,null,null,null,null,null,null,null,null,null,null,null,null,null,null,null,null,null,null,null,null,null,null,null,null,null,null,null,null,null,null,null,null,null,null,null,null,null,null,null,null,null,null,null,null,null,null,null,null,null,null,null,null,null,null,null,null,null,null,null,null,null,null,null,null,null,null,null,null,null,null,null,null,null,null,null,null,null,null,null,null,null,null,null,null,null,null,null,null,null,null,null,null,null,null,null,null,null,null,null,null,null,null,null,null,null,null,null,null,null,null,null,null,null,null,null,null,null,null,null,null,null,null,null,null,null,null,null,null,null,null,null,null,null,null,null,null,null,null,null,null,null,null,null,null,null,null,null,null,null,null,null,null,null,null,null,null,null,null,null,null,null,null,null,null,null,null,null,null,null,null,null,null,null,null,null,null,null,null,null,null,null,null,null,null,null,null,null,null,null,null,null,null,null,null,null,null,null,null,null,null,null,null,null,null,null,null,null,null,null,null,null,null,null,null,null,null,null,null,null,null,null,null,null,null,null,null,null,null,null,null,null,null,null,null,null,null,null,null,null,null,null,null,null,null,null,null,null,null,null,null,null,null,null,null,null,null,null,null,null,null,null,null,null,null,null,null,null,null,null,null,null,null,null,null,null,null,null,null,null,null,null,null,null,null,null,null,null,null,null,null,null,null,null,null,null,null,null,null,null,null,null,null,null,null,null,null,null,null,null,null,null,null,null,null,null,null,null,null,null,null,null,null,null,null,null,null,null,null,null,null,null,null,null,null,null,null,null,null,null,null,null,null,null,null,null,null,null,null,null,null,null,null,null,null,null,null,null,null,null,null,null,null,null,null,null,null,null,null,null,null,null,null,null,null,null,null,null,null,null,null,null,null,null,null,null,null,null,null,null,null,null,null,null,null,null,null,null,null,null,null,null,null,null,null,null,null,null,null,null,null,null,null,null,null,null,null,null,null,null,null,null,null,null,null,null,null,null,null,null,null,null,null,null,null,null,null,null,null,null,null,null,null,null,null,null,null,null,null,null,null,null,null,null,null,null,null,null,null,null,null,null,null,null,null,null,null,null,null,null,null,null,null,null,null,null,null,null,null,null,null,null,null,null,null,null,null,null,null,null,null,null,null,null,null,null,null,null,null,null,null,null,null,null,null,null,null,null,null,null,null,null,null,null,null,null,null,null,null,null,null,null,null,null,null,null,null,null,null,null,null,null,null,null,null,null,null,null,null,null,null,null,null,null,null,null,null,null,null,null,null,null,null,null,null,null,null,null,null,null,null,null,null,null,null,null,null,null,null,null,null,null,null,null,null,null,null,null,null,null,null,null,null,null,null,null,null,null,null,null,null,null,null,null,null,null,null,null,null,null,null,null,null,null,null,null,null,null,null,null,null,null,null,null,null,null,null,null,null,null,null,null,null,null,null,null,null,null,null,null,null,null,null,null,null,null,null,null,null,null,null,null,null,null,null,null,null,null,null,null,null,null,null,null,null,null,null,null,null,null,null,null,null,null,null,null,null,null,null,null,null,null,null,null,null,null,null,null,null,null,null,null,null,null,null,null,null,null,null,null,null,null,null,null,null,null,null,null,null,null,null,null,null,null,null,null,null,null,null,null,null,null,null,null,null,null,null,null,null,null,null,null,null,null,null,null,null,null,null,null,null,null,null,null,null,null,null,null,null,null,null,null,null,null,null,null,null,null,null,null,null,null,null,null,null,null,null,null,null,null,null,null,null,null,null,null,null,null,null,null,null,null,null,null,null,null,null,null,null,null,null,null,null,null,null,null,null,null,null,null,null,null,null,null,null,null,null,null,null,null,null,null,null,null,null,null,null,null,null,null,null,null,null,null,null,null,null,null,null,null,null,null,null,null,null,null,null,null,null,null,null,null,null,null,null,null,null,null,null,null,null,null,null,null,null,null,null,null,null,null,null,null,null,null,null,null,null,null,null,null,null,null,null,null,null,null,null,null,null,null,null,null,null,null,null,null,null,null,null,null,null,null,null,null,null,null,null,null,null,null,null,null,null,null,null,null,null,null,null,null,null,null,null,null,null,null,null,null,null,null,null,null,null,null,null,null,null,null,null,null,null,null,null,null,null,null,null,null,null,null,null,null,null,null,null,null,null,null,null,null,null,null,null,null,null,null,null,null,null,null,null,null,null,null,null,null,null,null,null,null,null,null,null,null,null,null,null,null,null,null,null,null,null,null,null,null,null,null,null,null,null,null,null,null,null,null,null,null,null,null,null,null,null,null,null,null,null,null,null,null,null,null,null,null,null,null,null,null,null,null,null,null,null,null,null,null,null,null,null,null,null,null,null,null,null,null,null,null,null,null,null,null,null,null,null,null,null,null,null,null,null,null,null,null,null,null,null,null,null,null,null,null,null,null,null,null,null,null,null,null,null,null,null,null,null,null,null,null,null,null,null,null,null,null,null,null,null,null,null,null,null,null,null,null,null,null,null,null,null,null,null,null,null,null,null,null,null,null,null,null,null,null,null,null,null,null,null,null,null,null,null,null,null,null,null,null,null,null,null,null,null,null,null,null,null,null,null,null,null,null,null,null,null,null,null,null,null,null,null,null,null,null,null,null,null,null,null,null,null,null,null,null,null,null,null,null,null,null,null,null,null,null,null,null,null,null,null,null,null,null,null,null,null,null,null,null,null,null,null,null,null,null,null,null,null,null,null,null,null,null,null,null,null,null,null,null,null,null,null,null,null,null,null,null,null,null,null,null,null,null,null,null,null,null,null,null,null,null,null,null,null,null,null,null,null,null,null,null,null,null,null,null,null,null,null,null,null,null,null,null,null,null,null,null,null,null,null,null,null,null,null,null,null,null,null,null,null,null,null,null,null,null,null,null,null,null,null,null,null,null,null,null,null,null,null,null,null,null,null,null,null,null,null,null,null,null,null,null,null,null,null,null,null,null,null,null,null,null,null,null,null,null,null,null,null,null,null,null,null,null,null,null,null,null,null,null,null,null,null,null,null,null,null,null,null,null,null,null,null,null,null,null,null,null,null,null,null,null,null,null,null,null,null,null,null,null,null,null,null,null,null,null,null,null,null,null,null,null,null,null,null,null,null,null,null,null,null,null,null,null,null,null,null,null,null,null,null,null,null,null,null,null,null,null,null,null,null,null,null,null,null,null,null,null,null,null,null,null,null,null,null,null,null,null,null,null,null,null,null,null,null,null,null,null,null,null,null,null,null,null,null,null,null,null,null,null,null,null,null,null,null,null,null,null,null,null,null,null,null,null,null,null,null,null,null,null,null,null,null,null,null,null,null,null,null,null,null,null,null,null,null,null,null,null,null,null,null,null,null,null,null,null,null,null,null,null,null,null,null,null,null,null,null,null,null,null,null,null,null,null,null,null,null,null,null,null,null,null,null,null,null,null,null,null,null,null,null,null,null,null,null,null,null,null,null,null,null,null,null,null,null,null,null,null,null,null,null,null,null,null,null,null,null,null,null,null,null,null,null,null,null,null,null,null,null,null,null,null,null,null,null,null,null,null,null,null,null,null,null,null,null,null,null,null,null,null,null,null,null,null,null,null,null,null,null,null,null,null,null,null,null,null,null,null,null,null,null,null,null,null,null,null,null,null,null,null,null,null,null,null,null,null,null,null,null,null,null,null,null,null,null,null,null,null,null,null,null,null,null,null,null,null,null,null,null,null,null,null,null,null,null,null,null,null,null,null,null,null,null,null,null,null,null,null,null,null,null,null,null,null,null,null,null,null,null,null,null,null,null,null,null,null,null,null,null,null,null,null,null,null,null,null,null,null,null,null,null,null,null,null,null,null,null,null,null,null,null,null,null,null,null,null,null,null,null,null,null,null,null,null,null,null,null,null,null,null,null,null,null,null,null,null,null,null,null,null,null,null,null,null,null,null,null,null,null,null,null,null,null,null,null,null,null,null,null,null,null,null,null,null,null,null,null,null,null,null,null,null,null,null,null,null,null,null,null,null,null,null,null,null,null,null,null,null,null,null,null,null,null,null,null,null,null,null,null,null,null,null,null,null,null,null,null,null,null,null,null,null,null,null,null,null,null,null,null,null,null,null,null,null,null,null,null,null,null,null,null,null,null,null,null,null,null,null,null,null,null,null,null,null,null,null,null,null,null,null,null,null,null,null,null,null,null,null,null,null,null,null,null,null,null,null,null,null,null,null,null,null,null,null,null,null,null,null,null,null,null,null,null,null,null,null,null,null,null,null,null,null,null,null,null,null,null,null,null,null,null,null,null,null,null,null,null,null,null,null,null,null,null,null,null,null,null,null,null,null,null,null,null,null,null,null,null,null,null,null,null,null,null,null,null,null,null,null,null,null,null,null,null,null,null,null,null,null,null,null,null,null,null,null,null,null,null,null,null,null,null,null,null,null,null,null,null,null,null,null,null,null,null,null,null,null,null,null,null,null,null,null,null,null,null,null,null,null,null,null,null,null,null,null,null,null,null,null,null,null,null,null,null,null,null,null,null,null,null,null,null,null,null,null,null,null,null,null,null,null,null,null,null,null,null,null,null,null,null,null,null,null,null,null,null,null,null,null,null,null,null,null,null,null,null,null,null,null,null,null,null,null,null,null,null,null,null,null,null,null,null,null,null,null,null,null,null,null,null,null,null,"P"]
[null,null,"SCHOOL*",null,null,null,null,null,null,null,null,null,null,"SCHOOL ID*",null,null,null,null,null,null,null,null,null,null,null,null,null,null,null,null,null,null,null,null,null,null,null,null,null,null,null,null,null,null,null,null,null,null,null,null,null,null,null,null,null,null,null,null,null,null,null,null,null,null,null,null,null,null,null,null,null,null,null,null,null,null,null,null,null,null,null,null,null,null,null,null,null,null,null,null,null,null,null,null,null,null,null,null,null,null,null,null,null,null,null,null,null,null,null,null,null,null,null,null,null,null,null,null,null,null,null,null,null,null,null,null,null,null,null,null,null,null,null,null,null,null,null,null,null,null,null,null,null,null,null,null,null,null,null,null,null,null,null,null,null,null,null,null,null,null,null,null,null,null,null,null,null,null,null,null,null,null,null,null,null,null,null,null,null,null,null,null,null,null,null,null,null,null,null,null,null,null,null,null,null,null,null,null,null,null,null,null,null,null,null,null,null,null,null,null,null,null,null,null,null,null,null,null,null,null,null,null,null,null,null,null,null,null,null,null,null,null,null,null,null,null,null,null,null,null,null,null,null,null,null,null,null,null,null,null,null,null,null,null,null,null,null,null,null,null,null,null,null,null,null,null,null,null,null,null,null,null,null,null,null,null,null,null,null,null,null,null,null,null,null,null,null,null,null,null,null,null,null,null,null,null,null,null,null,null,null,null,null,null,null,null,null,null,null,null,null,null,null,null,null,null,null,null,null,null,null,null,null,null,null,null,null,null,null,null,null,null,null,null,null,null,null,null,null,null,null,null,null,null,null,null,null,null,null,null,null,null,null,null,null,null,null,null,null,null,null,null,null,null,null,null,null,null,null,null,null,null,null,null,null,null,null,null,null,null,null,null,null,null,null,null,null,null,null,null,null,null,null,null,null,null,null,null,null,null,null,null,null,null,null,null,null,null,null,null,null,null,null,null,null,null,null,null,null,null,null,null,null,null,null,null,null,null,null,null,null,null,null,null,null,null,null,null,null,null,null,null,null,null,null,null,null,null,null,null,null,null,null,null,null,null,null,null,null,null,null,null,null,null,null,null,null,null,null,null,null,null,null,null,null,null,null,null,null,null,null,null,null,null,null,null,null,null,null,null,null,null,null,null,null,null,null,null,null,null,null,null,null,null,null,null,null,null,null,null,null,null,null,null,null,null,null,null,null,null,null,null,null,null,null,null,null,null,null,null,null,null,null,null,null,null,null,null,null,null,null,null,null,null,null,null,null,null,null,null,null,null,null,null,null,null,null,null,null,null,null,null,null,null,null,null,null,null,null,null,null,null,null,null,null,null,null,null,null,null,null,null,null,null,null,null,null,null,null,null,null,null,null,null,null,null,null,null,null,null,null,null,null,null,null,null,null,null,null,null,null,null,null,null,null,null,null,null,null,null,null,null,null,null,null,null,null,null,null,null,null,null,null,null,null,null,null,null,null,null,null,null,null,null,null,null,null,null,null,null,null,null,null,null,null,null,null,null,null,null,null,null,null,null,null,null,null,null,null,null,null,null,null,null,null,null,null,null,null,null,null,null,null,null,null,null,null,null,null,null,null,null,null,null,null,null,null,null,null,null,null,null,null,null,null,null,null,null,null,null,null,null,null,null,null,null,null,null,null,null,null,null,null,null,null,null,null,null,null,null,null,null,null,null,null,null,null,null,null,null,null,null,null,null,null,null,null,null,null,null,null,null,null,null,null,null,null,null,null,null,null,null,null,null,null,null,null,null,null,null,null,null,null,null,null,null,null,null,null,null,null,null,null,null,null,null,null,null,null,null,null,null,null,null,null,null,null,null,null,null,null,null,null,null,null,null,null,null,null,null,null,null,null,null,null,null,null,null,null,null,null,null,null,null,null,null,null,null,null,null,null,null,null,null,null,null,null,null,null,null,null,null,null,null,null,null,null,null,null,null,null,null,null,null,null,null,null,null,null,null,null,null,null,null,null,null,null,null,null,null,null,null,null,null,null,null,null,null,null,null,null,null,null,null,null,null,null,null,null,null,null,null,null,null,null,null,null,null,null,null,null,null,null,null,null,null,null,null,null,null,null,null,null,null,null,null,null,null,null,null,null,null,null,null,null,null,null,null,null,null,null,null,null,null,null,null,null,null,null,null,null,null,null,null,null,null,null,null,null,null,null,null,null,null,null,null,null,null,null,null,null,null,null,null,null,null,null,null,null,null,null,null,null,null,null,null,null,null,null,null,null,null,null,null,null,null,null,null,null,null,null,null,null,null,null,null,null,null,null,null,null,null,null,null,null,null,null,null,null,null,null,null,null,null,null,null,null,null,null,null,null,null,null,null,null,null,null,null,null,null,null,null,null,null,null,null,null,null,null,null,null,null,null,null,null,null,null,null,null,null,null,null,null,null,null,null,null,null,null,null,null,null,null,null,null,null,null,null,null,null,null,null,null,null,null,null,null,null,null,null,null,null,null,null,null,null,null,null,null,null,null,null,null,null,null,null,null,null,null,null,null,null,null,null,null,null,null,null,null,null,null,null,null,null,null,null,null,null,null,null,null,null,null,null,null,null,null,null,null,null,null,null,null,null,null,null,null,null,null,null,null,null,null,null,null,null,null,null,null,null,null,null,null,null,null,null,null,null,null,null,null,null,null,null,null,null,null,null,null,null,null,null,null,null,null,null,null,null,null,null,null,null,null,null,null,null,null,null,null,null,null,null,null,null,null,null,null,null,null,null,null,null,null,null,null,null,null,null,null,null,null,null,null,null,null,null,null,null,null,null,null,null,null,null,null,null,null,null,null,null,null,null,null,null,null,null,null,null,null,null,null,null,null,null,null,null,null,null,null,null,null,null,null,null,null,null,null,null,null,null,null,null,null,null,null,null,null,null,null,null,null,null,null,null,null,null,null,null,null,null,null,null,null,null,null,null,null,null,null,null,null,null,null,null,null,null,null,null,null,null,null,null,null,null,null,null,null,null,null,null,null,null,null,null,null,null,null,null,null,null,null,null,null,null,null,null,null,null,null,null,null,null,null,null,null,null,null,null,null,null,null,null,null,null,null,null,null,null,null,null,null,null,null,null,null,null,null,null,null,null,null,null,null,null,null,null,null,null,null,null,null,null,null,null,null,null,null,null,null,null,null,null,null,null,null,null,null,null,null,null,null,null,null,null,null,null,null,null,null,null,null,null,null,null,null,null,null,null,null,null,null,null,null,null,null,null,null,null,null,null,null,null,null,null,null,null,null,null,null,null,null,null,null,null,null,null,null,null,null,null,null,null,null,null,null,null,null,null,null,null,null,null,null,null,null,null,null,null,null,null,null,null,null,null,null,null,null,null,null,null,null,null,null,null,null,null,null,null,null,null,null,null,null,null,null,null,null,null,null,null,null,null,null,null,null,null,null,null,null,null,null,null,null,null,null,null,null,null,null,null,null,null,null,null,null,null,null,null,null,null,null,null,null,null,null,null,null,null,null,null,null,null,null,null,null,null,null,null,null,null,null,null,null,null,null,null,null,null,null,null,null,null,null,null,null,null,null,null,null,null,null,null,null,null,null,null,null,null,null,null,null,null,null,null,null,null,null,null,null,null,null,null,null,null,null,null,null,null,null,null,null,null,null,null,null,null,null,null,null,null,null,null,null,null,null,null,null,null,null,null,null,null,null,null,null,null,null,null,null,null,null,null,null,null,null,null,null,null,null,null,null,null,null,null,null,null,null,null,null,null,null,null,null,null,null,null,null,null,null,null,null,null,null,null,null,null,null,null,null,null,null,null,null,null,null,null,null,null,null,null,null,null,null,null,null,null,null,null,null,null,null,null,null,null,null,null,null,null,null,null,null,null,null,null,null,null,null,null,null,null,null,null,null,null,null,null,null,null,null,null,null,null,null,null,null,null,null,null,null,null,null,null,null,null,null,null,null,null,null,null,null,null,null,null,null,null,null,null,null,null,null,null,null,null,null,null,null,null,null,null,null,null,null,null,null,null,null,null,null,null,null,null,null,null,null,null,null,null,null,null,null,null,null,null,null,null,null,null,null,null,null,null,null,null,null,null,null,null,null,null,null,null,null,null,null,null,null,null,null,null,null,null,null,null,null,null,null,null,null,null,null,null,null,null,null,null,null,null,null,null,null,null,null,null,null,null,null,null,null,null,null,null,null,null,null,null,null,null,null,null,null,null,null,null,null,null,null,null,null,null,null,null,null,null,null,null,null,null,null,null,null,null,null,null,null,null,null,null,null,null,null,null,null,null,null,null,null,null,null,null,null,null,null,null,null,null,null,null,null,null,null,null,null,null,null,null,null,null,null,null,null,null,null,null,null,null,null,null,null,null,null,null,null,null,null,null,null,null,null,null,null,null,null,null,null,null,null,null,null,null,null,null,null,null,null,null,null,null,null,null,null,null,null,null,null,null,null,null,null,null,null,null,null,null,null,null,null,null,null,null,null,null,null,null,null,null,null,null,null,null,null,null,null,null,null,null,null,null,null,null,null,null,null,null,null,null,null,null,null,null,null,null,null,null,null,null,null,null,null,null,null,null,null,null,null,null,null,null,null,null,null,null,null,null,null,null,null,null,null,null,null,null,null,null,null,null,null,null,null,null,null,null,null,null,null,null,null,null,null,null,null,null,null,null,null,null,null,null,null,null,null,null,null,null,null,null,null,null,null,null,null,null,null,null,null,null,null,null,null,null,null,null,null,null,null,null,null,null,null,null,null,null,null,null,null,null,null,null,null,null,null,null,null,null,null,null,null,null,null,null,null,null,null,null,null,null,null,null,null,null,null,null,null,null,null,null,null,null,null,null,null,null,null,null,null,null,null,null,null,null,null,null,null,null,null,null,null,null,null,null,null,null,null,null,null,null,null,null,null,null,null,null,null,null,null,null,null,null,null,null,null,null,null,null,null,null,null,null,null,null,null,null,null,null,null,null,null,null,null,null,null,null,null,null,null,null,null,null,null,null,null,null,null,null,null,null,null,null,null,null,null,null,null,null,null,null,null,null,null,null,null,null,null,null,null,null,null,null,null,null,null,null,null,null,null,null,null,null,null,null,null,null,null,null,null,null,null,null,null,null,null,null,null,null,null,null,null,null,null,null,null,null,null,null,null,null,null,null,null,null,null,null,null,null,null,null,null,null,null,null,null,null,null,null,null,null,null,null,null,null,null,null,null,null,null,null,null,null,null,null,null,null,null,null,null,null,null,null,null,null,null,null,null,null,null,null,null,null,null,null,null,null,null,null,null,null,null,null,null,null,null,null,null,null,null,null,null,null,null,null,null,null,null,null,null,null,null,null,null,null,null,null,null,null,null,null,null,null,null,null,null,null,null,null,null,null,null,null,null,null,null,null,null,null,null,null,null,null,null,null,null,null,null,null,null,null,null,null,null,null,null,null,null,null,null,null,null,null,null,null,null,null,null,null,null,null,null,null,null,null,null,null,null,null,null,null,null,null,null,null,null,null,null,null,null,null,null,null,null,null,null,null,null,null,null,null,null,null,null,null,null,null,null,null,null,null,null,null,null,null,null,null,null,null,null,null,null,null,null,null,null,null,null,null,null,null,null,null,null,null,null,null,null,null,null,null,null,null,null,null,null,null,null,null,null,null,null,null,null,null,null,null,null,null,null,null,null,null,null,null,null,null,null,null,null,null,null,null,null,null,null,null,null,null,null,null,null,null,null,null,null,null,null,null,null,null,null,null,null,null,null,null,null,null,null,null,null,null,null,null,null,null,null,null,null,null,null,null,null,null,null,null,null,null,null,null,null,null,null,null,null,null,null,null,null,null,null,null,null,null,null,null,null,null,null,null,null,null,null,null,null,null,null,null,null,null,null,null,null,null,null,null,null,null,null,null,null,null,null,null,null,null,null,null,null,null,null,null,null,null,null,null,null,null,null,null,null,null,null,null,null,null,null,null,null,null,null,null,null,null,null,null,null,null,null,null,null,null,null,null,null,null,null,null,null,null,null,null,null,null,null,null,null,null,null,null,null,null,null,null,null,null,null,null,null,null,null,null,null,null,null,null,null,null,null,null,null,null,null,null,null,null,null,null,null,null,null,null,null,null,null,null,null,null,null,null,null,null,null,null,null,null,null,null,null,null,null,null,null,null,null,null,null,null,null,null,null,null,null,null,null,null,null,null,null,null,null,null,null,null,null,null,null,null,null,null,null,null,null,null,null,null,null,null,null,null,null,null,null,null,null,null,null,null,null,null,null,null,null,null,null,null,null,null,null,null,null,null,null,null,null,null,null,null,null,null,null,null,null,null,null,null,null,null,null,null,null,null,null,null,null,null,null,null,null,null,null,null,null,null,null,null,null,null,null,null,null,null,null,null,null,null,null,null,null,null,null,null,null,null,null,null,null,null,null,null,null,null,null,null,null,null,null,null,null,null,null,null,null,null,null,null,null,null,null,null,null,null,null,null,null,null,null,null,null,null,null,null,null,null,null,null,null,null,null,null,null,null,null,null,null,null,null,null,null,null,null,null,null,null,null,null,null,null,null,null,null,null,null,null,null,null,null,null,null,null,null,null,null,null,null,null,null,null,null,null,null,null,null,null,null,null,null,null,null,null,null,null,null,null,null,null,null,null,null,null,null,null,null,null,null,null,null,null,null,null,null,null,null,null,null,null,null,null,null,null,null,null,null,null,null,null,null,null,null,null,null,null,null,null,null,null,null,null,null,null,null,null,null,null,null,null,null,null,null,null,null,null,null,null,null,null,null,null,null,null,null,null,null,null,null,null,null,null,null,null,null,null,null,null,null,null,null,null,null,null,null,null,null,null,null,null,null,null,null,null,null,null,null,null,null,null,null,null,null,null,null,null,null,null,null,null,null,null,null,null,null,null,null,null,null,null,null,null,null,null,null,null,null,null,null,null,null,null,null,null,null,null,null,null,null,null,null,null,null,null,null,null,null,null,null,null,null,null,null,null,null,null,null,null,null,null,null,null,null,null,null,null,null,null,null,null,null,null,null,null,null,null,null,null,null,null,null,null,null,null,null,null,null,null,null,null,null,null,null,null,null,null,null,null,null,null,null,null,null,null,null,null,null,null,null,null,null,null,null,null,null,null,null,null,null,null,null,null,null,null,null,null,null,null,null,null,null,null,null,null,null,null,null,null,null,null,null,null,null,null,null,null,null,null,null,null,null,null,null,null,null,null,null,null,null,null,null,null,null,null,null,null,null,null,null,null,null,null,null,null,null,null,null,null,null,null,null,null,null,null,null,null,null,null,null,null,null,null,null,null,null,null,null,null,null,null,null,null,null,null,null,null,null,null,null,null,null,null,null,null,null,null,null,null,null,null,null,null,null,null,null,null,null,null,null,null,null,null,null,null,null,null,null,null,null,null,null,null,null,null,null,null,null,null,null,null,null,null,null,null,null,null,null,null,null,null,null,null,null,null,null,null,null,null,null,null,null,null,null,null,null,null,null,null,null,null,null,null,null,null,null,null,null,null,null,null,null,null,null,null,null,null,null,null,null,null,null,null,null,null,null,null,null,null,null,null,null,null,null,null,null,null,null,null,null,null,null,null,null,null,null,null,null,null,null,null,null,null,null,null,null,null,null,null,null,null,null,null,null,null,null,null,null,null,null,null,null,null,null,null,null,null,null,null,null,null,null,null,null,null,null,null,null,null,null,null,null,null,null,null,null,null,null,null,null,null,null,null,null,null,null,null,null,null,null,null,null,null,null,null,null,null,null,null,null,null,null,null,null,null,null,null,null,null,null,null,null,null,null,null,null,null,null,null,null,null,null,null,null,null,null,null,null,null,null,null,null,null,null,null,null,null,null,null,null,null,null,null,null,null,null,null,null,null,null,null,null,null,null,null,null,null,null,null,null,null,null,null,null,null,null,null,null,null,null,null,null,null,null,null,null,null,null,null,null,null,null,null,null,null,null,null,null,null,null,null,null,null,null,null,null,null,null,null,null,null,null,null,null,null,null,null,null,null,null,null,null,null,null,null,null,null,null,null,null,null,null,null,null,null,null,null,null,null,null,null,null,null,null,null,null,null,null,null,null,null,null,null,null,null,null,null,null,null,null,null,null,null,null,null,null,null,null,null,null,null,null,null,null,null,null,null,null,null,null,null,null,null,null,null,null,null,null,null,null,null,null,null,null,null,null,null,null,null,null,null,null,null,null,null,null,null,null,null,null,null,null,null,null,null,null,null,null,null,null,null,null,null,null,null,null,null,null,null,null,null,null,null,null,null,null,null,null,null,null,null,null,null,null,null,null,null,null,null,null,null,null,null,null,null,null,null,null,null,null,null,null,null,null,null,null,null,null,null,null,null,null,null,null,null,null,null,null,null,null,null,null,null,null,null,null,null,null,null,null,null,null,null,null,null,null,null,null,null,null,null,null,null,null,null,null,null,null,null,null,null,null,null,null,null,null,null,null,null,null,null,null,null,null,null,null,null,null,null,null,null,null,null,null,null,null,null,null,null,null,null,null,null,null,null,null,null,null,null,null,null,null,null,null,null,null,null,null,null,null,null,null,null,null,null,null,null,null,null,null,null,null,null,null,null,null,null,null,null,null,null,null,null,null,null,null,null,null,null,null,null,null,null,null,null,null,null,null,null,null,null,null,null,null,null,null,null,null,null,null,null,null,null,null,null,null,null,null,null,null,null,null,null,null,null,null,null,null,null,null,null,null,null,null,null,null,null,null,null,null,null,null,null,null,null,null,null,null,null,null,null,null,null,null,null,null,null,null,null,null,null,null,null,null,null,null,null,null,null,null,null,null,null,null,null,null,null,null,null,null,null,null,null,null,null,null,null,null,null,null,null,null,null,null,null,null,null,null,null,null,null,null,null,null,null,null,null,null,null,null,null,null,null,null,null,null,null,null,null,null,null,null,null,null,null,null,null,null,null,null,null,null,null,null,null,null,null,null,null,null,null,null,null,null,null,null,null,null,null,null,null,null,null,null,null,null,null,null,null,null,null,null,null,null,null,null,null,null,null,null,null,null,null,null,null,null,null,null,null,null,null,null,null,null,null,null,null,null,null,null,null,null,null,null,null,null,null,null,null,null,null,null,null,null,null,null,null,null,null,null,null,null,null,null,null,null,null,null,null,null,null,null,null,null,null,null,null,null,null,null,null,null,null,null,null,null,null,null,null,null,null,null,null,null,null,null,null,null,null,null,null,null,null,null,null,null,null,null,null,null,null,null,null,null,null,null,null,null,null,null,null,null,null,null,null,null,null,null,null,null,null,null,null,null,null,null,null,null,null,null,null,null,null,null,null,null,null,null,null,null,null,null,null,null,null,null,null,null,null,null,null,null,null,null,null,null,null,null,null,null,null,null,null,null,null,null,null,null,null,null,null,null,null,null,null,null,null,null,null,null,null,null,null,null,null,null,null,null,null,null,null,null,null,null,null,null,null,null,null,null,null,null,null,null,null,null,null,null,null,null,null,null,null,null,null,null,null,null,null,null,null,null,null,null,null,null,null,null,null,null,null,null,null,null,null,null,null,null,null,null,null,null,null,null,null,null,null,null,null,null,null,null,null,null,null,null,null,null,null,null,null,null,null,null,null,null,null,null,null,null,null,null,null,null,null,null,null,null,null,null,null,null,null,null,null,null,null,null,null,null,null,null,null,null,null,null,null,null,null,null,null,null,null,null,null,null,null,null,null,null,null,null,null,null,null,null,null,null,null,null,null,null,null,null,null,null,null,null,null,null,null,null,null,null,null,null,null,null,null,null,null,null,null,null,null,null,null,null,null,null,null,null,null,null,null,null,null,null,null,null,null,null,null,null,null,null,null,null,null,null,null,null,null,null,null,null,null,null,null,null,null,null,null,null,null,null,null,null,null,null,null,null,null,null,null,null,null,null,null,null,null,null,null,null,null,null,null,null,null,null,null,null,null,null,null,null,null,null,null,null,null,null,null,null,null,null,null,null,null,null,null,null,null,null,null,null,null,null,null,null,null,null,null,null,null,null,null,null,null,null,null,null,null,null,null,null,null,null,null,null,null,null,null,null,null,null,null,null,null,null,null,null,null,null,null,null,null,null,null,null,null,null,null,null,null,null,null,null,null,null,null,null,null,null,null,null,null,null,null,null,null,null,null,null,null,null,null,null,null,null,null,null,null,null,null,null,null,null,null,null,null,null,null,null,null,null,null,null,null,null,null,null,null,null,null,null,null,null,null,null,null,null,null,null,null,null,null,null,null,null,null,null,null,null,null,null,null,null,null,null,null,null,null,null,null,null,null,null,null,null,null,null,null,null,null,null,null,null,null,null,null,null,null,null,null,null,null,null,null,null,null,null,null,null,null,null,null,null,null,null,null,null,null,null,null,null,null,null,null,null,null,null,null,null,null,null,null,null,null,null,null,null,null,null,null,null,null,null,null,null,null,null,null,null,null,null,null,null,null,null,null,null,null,null,null,null,null,null,null,null,null,null,null,null,null,null,null,null,null,null,null,null,null,null,null,null,null,null,null,null,null,null,null,null,null,null,null,null,null,null,null,null,null,null,null,null,null,null,null,null,null,null,null,null,null,null,null,null,null,null,null,null,null,null,null,null,null,null,null,null,null,null,null,null,null,null,null,null,null,null,null,null,null,null,null,null,null,null,null,null,null,null,null,null,null,null,null,null,null,null,null,null,null,null,null,null,null,null,null,null,null,null,null,null,null,null,null,null,null,null,null,null,null,null,null,null,null,null,null,null,null,null,null,null,null,null,null,null,null,null,null,null,null,null,null,null,null,null,null,null,null,null,null,null,null,null,null,null,null,null,null,null,null,null,null,null,null,null,null,null,null,null,null,null,null,null,null,null,null,null,null,null,null,null,null,null,null,null,null,null,null,null,null,null,null,null,null,null,null,null,null,null,null,null,null,null,null,null,null,null,null,null,null,null,null,null,null,null,null,null,null,null,null,null,null,null,null,null,null,null,null,null,null,null,null,null,null,null,null,null,null,null,null,null,null,null,null,null,null,null,null,null,null,null,null,null,null,null,null,null,null,null,null,null,null,null,null,null,null,null,null,null,null,null,null,null,null,null,null,null,null,null,null,null,null,null,null,null,null,null,null,null,null,null,null,null,null,null,null,null,null,null,null,null,null,null,null,null,null,null,null,null,null,null,null,null,null,null,null,null,null,null,null,null,null,null,null,null,null,null,null,null,null,null,null,null,null,null,null,null,null,null,null,null,null,null,null,null,null,null,null,null,null,null,null,null,null,null,null,null,null,null,null,null,null,null,null,null,null,null,null,null,null,null,null,null,null,null,null,null,null,null,null,null,null,null,null,null,null,null,null,null,null,null,null,null,null,null,null,null,null,null,null,null,null,null,null,null,null,null,null,null,null,null,null,null,null,null,null,null,null,null,null,null,null,null,null,null,null,null,null,null,null,null,null,null,null,null,null,null,null,null,null,null,null,null,null,null,null,null,null,null,null,null,null,null,null,null,null,null,null,null,null,null,null,null,null,null,null,null,null,null,null,null,null,null,null,null,null,null,null,null,null,null,null,null,null,null,null,null,null,null,null,null,null,null,null,null,null,null,null,null,null,null,null,null,null,null,null,null,null,null,null,null,null,null,null,null,null,null,null,null,null,null,null,null,null,null,null,null,null,null,null,null,null,null,null,null,null,null,null,null,null,null,null,null,null,null,null,null,null,null,null,null,null,null,null,null,null,null,null,null,null,null,null,null,null,null,null,null,null,null,null,null,null,null,null,null,null,null,null,null,null,null,null,null,null,null,null,null,null,null,null,null,null,null,null,null,null,null,null,null,null,null,null,null,null,null,null,null,null,null,null,null,null,null,null,null,null,null,null,null,null,null,null,null,null,null,null,null,null,null,null,null,null,null,null,null,null,null,null,null,null,null,null,null,null,null,null,null,null,null,null,null,null,null,null,null,null,null,null,null,null,null,null,null,null,null,null,null,null,null,null,null,null,null,null,null,null,null,null,null,null,null,null,null,null,null,null,null,null,null,null,null,null,null,null,null,null,null,null,null,null,null,null,null,null,null,null,null,null,null,null,null,null,null,null,null,null,null,null,null,null,null,null,null,null,null,null,null,null,null,null,null,null,null,null,null,null,null,null,null,null,null,null,null,null,null,null,null,null,null,null,null,null,null,null,null,null,null,null,null,null,null,null,null,null,null,null,null,null,null,null,null,null,null,null,null,null,null,null,null,null,null,null,null,null,null,null,null,null,null,null,null,null,null,null,null,null,null,null,null,null,null,null,null,null,null,null,null,null,null,null,null,null,null,null,null,null,null,null,null,null,null,null,null,null,null,null,null,null,null,null,null,null,null,null,null,null,null,null,null,null,null,null,null,null,null,null,null,null,null,null,null,null,null,null,null,null,null,null,null,null,null,null,null,null,null,null,null,null,null,null,null,null,null,null,null,null,null,null,null,null,null,null,null,null,null,null,null,null,null,null,null,null,null,null,null,null,null,null,null,null,null,null,null,null,null,null,null,null,null,null,null,null,null,null,null,null,null,null,null,null,null,null,null,null,null,null,null,null,null,null,null,null,null,null,null,null,null,null,null,null,null,null,null,null,null,null,null,null,null,null,null,null,null,null,null,null,null,null,null,null,null,null,null,null,null,null,null,null,null,null,null,null,null,null,null,null,null,null,null,null,null,null,null,null,null,null,null,null,null,null,null,null,null,null,null,null,null,null,null,null,null,null,null,null,null,null,null,null,null,null,null,null,null,null,null,null,null,null,null,null,null,null,null,null,null,null,null,null,null,null,null,null,null,null,null,null,null,null,null,null,null,null,null,null,null,null,null,null,null,null,null,null,null,null,null,null,null,null,null,null,null,null,null,null,null,null,null,null,null,null,null,null,null,null,null,null,null,null,null,null,null,null,null,null,null,null,null,null,null,null,null,null,null,null,null,null,null,null,null,null,null,null,null,null,null,null,null,null,null,null,null,null,null,null,null,null,null,null,null,null,null,null,null,null,null,null,null,null,null,null,null,null,null,null,null,null,null,null,null,null,null,null,null,null,null,null,null,null,null,null,null,null,null,null,null,null,null,null,null,null,null,null,null,null,null,null,null,null,null,null,null,null,null,null,null,null,null,null,null,null,null,null,null,null,null,null,null,null,null,null,null,null,null,null,null,null,null,null,null,null,null,null,null,null,null,null,null,null,null,null,null,null,null,null,null,null,null,null,null,null,null,null,null,null,null,null,null,null,null,null,null,null,null,null,null,null,null,null,null,null,null,null,null,null,null,null,null,null,null,null,null,null,null,null,null,null,null,null,null,null,null,null,null,null,null,null,null,null,null,null,null,null,null,null,null,null,null,null,null,null,null,null,null,null,null,null,null,null,null,null,null,null,null,null,null,null,null,null,null,null,null,null,null,null,null,null,null,null,null,null,null,null,null,null,null,null,null,null,null,null,null,null,null,null,null,null,null,null,null,null,null,null,null,null,null,null,null,null,null,null,null,null,null,null,null,null,null,null,null,null,null,null,null,null,null,null,null,null,null,null,null,null,null,null,null,null,null,null,null,null,null,null,null,null,null,null,null,null,null,null,null,null,null,null,null,null,null,null,null,null,null,null,null,null,null,null,null,null,null,null,null,null,null,null,null,null,null,null,null,null,null,null,null,null,null,null,null,null,null,null,null,null,null,null,null,null,null,null,null,null,null,null,null,null,null,null,null,null,null,null,null,null,null,null,null,null,null,null,null,null,null,null,null,null,null,null,null,null,null,null,null,null,null,null,null,null,null,null,null,null,null,null,null,null,null,null,null,null,null,null,null,null,null,null,null,null,null,null,null,null,null,null,null,null,null,null,null,null,null,null,null,null,null,null,null,null,null,null,null,null,null,null,null,null,null,null,null,null,null,null,null,null,null,null,null,null,null,null,null,null,null,null,null,null,null,null,null,null,null,null,null,null,null,null,null,null,null,null,null,null,null,null,null,null,null,null,null,null,null,null,null,null,null,null,null,null,null,null,null,null,null,null,null,null,null,null,null,null,null,null,null,null,null,null,null,null,null,null,null,null,null,null,null,null,null,null,null,null,null,null,null,null,null,null,null,null,null,null,null,null,null,null,null,null,null,null,null,null,null,null,null,null,null,null,null,null,null,null,null,null,null,null,null,null,null,null,null,null,null,null,null,null,null,null,null,null,null,null,null,null,null,null,null,null,null,null,null,null,null,null,null,null,null,null,null,null,null,null,null,null,null,null,null,null,null,null,null,null,null,null,null,null,null,null,null,null,null,null,null,null,null,null,null,null,null,null,null,null,null,null,null,null,null,null,null,null,null,null,null,null,null,null,null,null,null,null,null,null,null,null,null,null,null,null,null,null,null,null,null,null,null,null,null,null,null,null,null,null,null,null,null,null,null,null,null,null,null,null,null,null,null,null,null,null,null,null,null,null,null,null,null,null,null,null,null,null,null,null,null,null,null,null,null,null,null,null,null,null,null,null,null,null,null,null,null,null,null,null,null,null,null,null,null,null,null,null,null,null,null,null,null,null,null,null,null,null,null,null,null,null,null,null,null,null,null,null,null,null,null,null,null,null,null,null,null,null,null,null,null,null,null,null,null,null,null,null,null,null,null,null,null,null,null,null,null,null,null,null,null,null,null,null,null,null,null,null,null,null,null,null,null,null,null,null,null,null,null,null,null,null,null,null,null,null,null,null,null,null,null,null,null,null,null,null,null,null,null,null,null,null,null,null,null,null,null,null,null,null,null,null,null,null,null,null,null,null,null,null,null,null,null,null,null,null,null,null,null,null,null,null,null,null,null,null,null,null,null,null,null,null,null,null,null,null,null,null,null,null,null,null,null,null,null,null,null,null,null,null,null,null,null,null,null,null,null,null,null,null,null,null,null,null,null,null,null,null,null,null,null,null,null,null,null,null,null,null,null,null,null,null,null,null,null,null,null,null,null,null,null,null,null,null,null,null,null,null,null,null,null,null,null,null,null,null,null,null,null,null,null,null,null,null,null,null,null,null,null,null,null,null,null,null,null,null,null,null,null,null,null,null,null,null,null,null,null,null,null,null,null,null,null,null,null,null,null,null,null,null,null,null,null,null,null,null,null,null,null,null,null,null,null,null,null,null,null,null,null,null,null,null,null,null,null,null,null,null,null,null,null,null,null,null,null,null,null,null,null,null,null,null,null,null,null,null,null,null,null,null,null,null,null,null,null,null,null,null,null,null,null,null,null,null,null,null,null,null,null,null,null,null,null,null,null,null,null,null,null,null,null,null,null,null,null,null,null,null,null,null,null,null,null,null,null,null,null,null,null,null,null,null,null,null,null,null,null,null,null,null,null,null,null,null,null,null,null,null,null,null,null,null,null,null,null,null,null,null,null,null,null,null,null,null,null,null,null,null,null,null,null,null,null,null,null,null,null,null,null,null,null,null,null,null,null,null,null,null,null,null,null,null,null,null,null,null,null,null,null,null,null,null,null,null,null,null,null,null,null,null,null,null,null,null,null,null,null,null,null,null,null,null,null,null,null,null,null,null,null,null,null,null,null,null,null,null,null,null,null,null,null,null,null,null,null,null,null,null,null,null,null,null,null,null,null,null,null,null,null,null,null,null,null,null,null,null,null,null,null,null,null,null,null,null,null,null,null,null,null,null,null,null,null,null,null,null,null,null,null,null,null,null,null,null,null,null,null,null,null,null,null,null,null,null,null,null,null,null,null,null,null,null,null,null,null,null,null,null,null,null,null,null,null,null,null,null,null,null,null,null,null,null,null,null,null,null,null,null,null,null,null,null,null,null,null,null,null,null,null,null,null,null,null,null,null,null,null,null,null,null,null,null,null,null,null,null,null,null,null,null,null,null,null,null,null,null,null,null,null,null,null,null,null,null,null,null,null,null,null,null,null,null,null,null,null,null,null,null,null,null,null,null,null,null,null,null,null,null,null,null,null,null,null,null,null,null,null,null,null,null,null,null,null,null,null,null,null,null,null,null,null,null,null,null,null,null,null,null,null,null,null,null,null,null,null,null,null,null,null,null,null,null,null,null,null,null,null,null,null,null,null,null,null,null,null,null,null,null,null,null,null,null,null,null,null,null,null,null,null,null,null,null,null,null,null,null,null,null,null,null,null,null,null,null,null,null,null,null,null,null,null,null,null,null,null,null,null,null,null,null,null,null,null,null,null,null,null,null,null,null,null,null,null,null,null,null,null,null,null,null,null,null,null,null,null,null,null,null,null,null,null,null,null,null,null,null,null,null,null,null,null,null,null,null,null,null,null,null,null,null,null,null,null,null,null,null,null,null,null,null,null,null,null,null,null,null,null,null,null,null,null,null,null,null,null,null,null,null,null,null,null,null,null,null,null,null,null,null,null,null,null,null,null,null,null,null,null,null,null,null,null,null,null,null,null,null,null,null,null,null,null,null,null,null,null,null,null,null,null,null,null,null,null,null,null,null,null,null,null,null,null,null,null,null,null,null,null,null,null,null,null,null,null,null,null,null,null,null,null,null,null,null,null,null,null,null,null,null,null,null,null,null,null,null,null,null,null,null,null,null,null,null,null,null,null,null,null,null,null,null,null,null,null,null,null,null,null,null,null,null,null,null,null,null,null,null,null,null,null,null,null,null,null,null,null,null,null,null,null,null,null,null,null,null,null,null,null,null,null,null,null,null,null,null,null,null,null,null,null,null,null,null,null,null,null,null,null,null,null,null,null,null,null,null,null,null,null,null,null,null,null,null,null,null,null,null,null,null,null,null,null,null,null,null,null,null,null,null,null,null,null,null,null,null,null,null,null,null,null,null,null,null,null,null,null,null,null,null,null,null,null,null,null,null,null,null,null,null,null,null,null,null,null,null,null,null,null,null,null,null,null,null,null,null,null,null,null,null,null,null,null,null,null,null,null,null,null,null,null,null,null,null,null,null,null,null,null,null,null,null,null,null,null,null,null,null,null,null,null,null,null,null,null,null,null,null,null,null,null,null,null,null,null,null,null,null,null,null,null,null,null,null,null,null,null,null,null,null,null,null,null,null,null,null,null,null,null,null,null,null,null,null,null,null,null,null,null,null,null,null,null,null,null,null,null,null,null,null,null,null,null,null,null,null,null,null,null,null,null,null,null,null,null,null,null,null,null,null,null,null,null,null,null,null,null,null,null,null,null,null,null,null,null,null,null,null,null,null,null,null,null,null,null,null,null,null,null,null,null,null,null,null,null,null,null,null,null,null,null,null,null,null,null,null,null,null,null,null,null,null,null,null,null,null,null,null,null,null,null,null,null,null,null,null,null,null,null,null,null,null,null,null,null,null,null,null,null,null,null,null,null,null,null,null,null,null,null,null,null,null,null,null,null,null,null,null,null,null,null,null,null,null,null,null,null,null,null,null,null,null,null,null,null,null,null,null,null,null,null,null,null,null,null,null,null,null,null,null,null,null,null,null,null,null,null,null,null,null,null,null,null,null,null,null,null,null,null,null,null,null,null,null,null,null,null,null,null,null,null,null,null,null,null,null,null,null,null,null,null,null,null,null,null,null,null,null,null,null,null,null,null,null,null,null,null,null,null,null,null,null,null,null,null,null,null,null,null,null,null,null,null,null,null,null,null,null,null,null,null,null,null,null,null,null,null,null,null,null,null,null,null,null,null,null,null,null,null,null,null,null,null,null,null,null,null,null,null,null,null,null,null,null,null,null,null,null,null,null,null,null,null,null,null,null,null,null,null,null,null,null,null,null,null,null,null,null,null,null,null,null,null,null,null,null,null,null,null,null,null,null,null,null,null,null,null,null,null,null,null,null,null,null,null,null,null,null,null,null,null,null,null,null,null,null,null,null,null,null,null,null,null,null,null,null,null,null,null,null,null,null,null,null,null,null,null,null,null,null,null,null,null,null,null,null,null,null,null,null,null,null,null,null,null,null,null,null,null,null,null,null,null,null,null,null,null,null,null,null,null,null,null,null,null,null,null,null,null,null,null,null,null,null,null,null,null,null,null,null,null,null,null,null,null,null,null,null,null,null,null,null,null,null,null,null,null,null,null,null,null,null,null,null,null,null,null,null,null,null,null,null,null,null,null,null,null,null,null,null,null,null,null,null,null,null,null,null,null,null,null,null,null,null,null,null,null,null,null,null,null,null,null,null,null,null,null,null,null,null,null,null,null,null,null,null,null,null,null,null,null,null,null,null,null,null,null,null,null,null,null,null,null,null,null,null,null,null,null,null,null,null,null,null,null,null,null,null,null,null,null,null,null,null,null,null,null,null,null,null,null,null,null,null,null,null,null,null,null,null,null,null,null,null,null,null,null,null,null,null,null,null,null,null,null,null,null,null,null,null,null,null,null,null,null,null,null,null,null,null,null,null,null,null,null,null,null,null,null,null,null,null,null,null,null,null,null,null,null,null,null,null,null,null,null,null,null,null,null,null,null,null,null,null,null,null,null,null,null,null,null,null,null,null,null,null,null,null,null,null,null,null,null,null,null,null,null,null,null,null,null,null,null,null,null,null,null,null,null,null,null,null,null,null,null,null,null,null,null,null,null,null,null,null,null,null,null,null,null,null,null,null,null,null,null,null,null,null,null,null,null,null,null,null,null,null,null,null,null,null,null,null,null,null,null,null,null,null,null,null,null,null,null,null,null,null,null,null,null,null,null,null,null,null,null,null,null,null,null,null,null,null,null,null,null,null,null,null,null,null,null,null,null,null,null,null,null,null,null,null,null,null,null,null,null,null,null,null,null,null,null,null,null,null,null,null,null,null,null,null,null,null,null,null,null,null,null,null,null,null,null,null,null,null,null,null,null,null,null,null,null,null,null,null,null,null,null,null,null,null,null,null,null,null,null,null,null,null,null,null,null,null,null,null,null,null,null,null,null,null,null,null,null,null,null,null,null,null,null,null,null,null,null,null,null,null,null,null,null,null,null,null,null,null,null,null,null,null,null,null,null,null,null,null,null,null,null,null,null,null,null,null,null,null,null,null,null,null,null,null,null,null,null,null,null,null,null,null,null,null,null,null,null,null,null,null,null,null,null,null,null,null,null,null,null,null,null,null,null,null,null,null,null,null,null,null,null,null,null,null,null,null,null,null,null,null,null,null,null,null,null,null,null,null,null,null,null,null,null,null,null,null,null,null,null,null,null,null,null,null,null,null,null,null,null,null,null,null,null,null,null,null,null,null,null,null,null,null,null,null,null,null,null,null,null,null,null,null,null,null,null,null,null,null,null,null,null,null,null,null,null,null,null,null,null,null,null,null,null,null,null,null,null,null,null,null,null,null,null,null,null,null,null,null,null,null,null,null,null,null,null,null,null,null,null,null,null,null,null,null,null,null,null,null,null,null,null,null,null,null,null,null,null,null,null,null,null,null,null,null,null,null,null,null,null,null,null,null,null,null,null,null,null,null,null,null,null,null,null,null,null,null,null,null,null,null,null,null,null,null,null,null,null,null,null,null,null,null,null,null,null,null,null,null,null,null,null,null,null,null,null,null,null,null,null,null,null,null,null,null,null,null,null,null,null,null,null,null,null,null,null,null,null,null,null,null,null,null,null,null,null,null,null,null,null,null,null,null,null,null,null,null,null,null,null,null,null,null,null,null,null,null,null,null,null,null,null,null,null,null,null,null,null,null,null,null,null,null,null,null,null,null,null,null,null,null,null,null,null,null,null,null,null,null,null,null,null,null,null,null,null,null,null,null,null,null,null,null,null,null,null,null,null,null,null,null,null,null,null,null,null,null,null,null,null,null,null,null,null,null,null,null,null,null,null,null,null,null,null,null,null,null,null,null,null,null,null,null,null,null,null,null,null,null,null,null,null,null,null,null,null,null,null,null,null,null,null,null,null,null,null,null,null,null,null,null,null,null,null,null,null,null,null,null,null,null,null,null,null,null,null,null,null,null,null,null,null,null,null,null,null,null,null,null,null,null,null,null,null,null,null,null,null,null,null,null,null,null,null,null,null,null,null,null,null,null,null,null,null,null,null,null,null,null,null,null,null,null,null,null,null,null,null,null,null,null,null,null,null,null,null,null,null,null,null,null,null,null,null,null,null,null,null,null,null,null,null,null,null,null,null,null,null,null,null,null,null,null,null,null,null,null,null,null,null,null,null,null,null,null,null,null,null,null,null,null,null,null,null,null,null,null,null,null,null,null,null,null,null,null,null,null,null,null,null,null,null,null,null,null,null,null,null,null,null,null,null,null,null,null,null,null,null,null,null,null,null,null,null,null,null,null,null,null,null,null,null,null,null,null,null,null,null,null,null,null,null,null,null,null,null,null,null,null,null,null,null,null,null,null,null,null,null,null,null,null,null,null,null,null,null,null,null,null,null,null,null,null,null,null,null,null,null,null,null,null,null,null,null,null,null,null,null,null,null,null,null,null,null,null,null,null,null,null,null,null,null,null,null,null,null,null,null,null,null,null,null,null,null,null,null,null,null,null,null,null,null,null,null,null,null,null,null,null,null,null,null,null,null,null,null,null,null,null,null,null,null,null,null,null,null,null,null,null,null,null,null,null,null,null,null,null,null,null,null,null,null,null,null,null,null,null,null,null,null,null,null,null,null,null,null,null,null,null,null,null,null,null,null,null,null,null,null,null,null,null,null,null,null,null,null,null,null,null,null,null,null,null,null,null,null,null,null,null,null,null,null,null,null,null,null,null,null,null,null,null,null,null,null,null,null,null,null,null,null,null,null,null,null,null,null,null,null,null,null,null,null,null,null,null,null,null,null,null,null,null,null,null,null,null,null,null,null,null,null,null,null,null,null,null,null,null,null,null,null,null,null,null,null,null,null,null,null,null,null,null,null,null,null,null,null,null,null,null,null,null,null,null,null,null,null,null,null,null,null,null,null,null,null,null,null,null,null,null,null,null,null,null,null,null,null,null,null,null,null,null,null,null,null,null,null,null,null,null,null,null,null,null,null,null,null,null,null,null,null,null,null,null,null,null,null,null,null,null,null,null,null,null,null,null,null,null,null,null,null,null,null,null,null,null,null,null,null,null,null,null,null,null,null,null,null,null,null,null,null,null,null,null,null,null,null,null,null,null,null,null,null,null,null,null,null,null,null,null,null,null,null,null,null,null,null,null,null,null,null,null,null,null,null,null,null,null,null,null,null,null,null,null,null,null,null,null,null,null,null,null,null,null,null,null,null,null,null,null,null,null,null,null,null,null,null,null,null,null,null,null,null,null,null,null,null,null,null,null,null,null,null,null,null,null,null,null,null,null,null,null,null,null,null,null,null,null,null,null,null,null,null,null,null,null,null,null,null,null,null,null,null,null,null,null,null,null,null,null,null,null,null,null,null,null,null,null,null,null,null,null,null,null,null,null,null,null,null,null,null,null,null,null,null,null,null,null,null,null,null,null,null,null,null,null,null,null,null,null,null,null,null,null,null,null,null,null,null,null,null,null,null,null,null,null,null,null,null,null,null,null,null,null,null,null,null,null,null,null,null,null,null,null,null,null,null,null,null,null,null,null,null,null,null,null,null,null,null,null,null,null,null,null,null,null,null,null,null,null,null,null,null,null,null,null,null,null,null,null,null,null,null,null,null,null,null,null,null,null,null,null,null,null,null,null,null,null,null,null,null,null,null,null,null,null,null,null,null,null,null,null,null,null,null,null,null,null,null,null,null,null,null,null,null,null,null,null,null,null,null,null,null,null,null,null,null,null,null,null,null,null,null,null,null,null,null,null,null,null,null,null,null,null,null,null,null,null,null,null,null,null,null,null,null,null,null,null,null,null,null,null,null,null,null,null,null,null,null,null,null,null,null,null,null,null,null,null,null,null,null,null,null,null,null,null,null,null,null,null,null,null,null,null,null,null,null,null,null,null,null,null,null,null,null,null,null,null,null,null,null,null,null,null,null,null,null,null,null,null,null,null,null,null,null,null,null,null,null,null,null,null,null,null,null,null,null,null,null,null,null,null,null,null,null,null,null,null,null,null,null,null,null,null,null,null,null,null,null,null,null,null,null,null,null,null,null,null,null,null,null,null,null,null,null,null,null,null,null,null,null,null,null,null,null,null,null,null,null,null,null,null,null,null,null,null,null,null,null,null,null,null,null,null,null,null,null,null,null,null,null,null,null,null,null,null,null,null,null,null,null,null,null,null,null,null,null,null,null,null,null,null,null,null,null,null,null,null,null,null,null,null,null,null,null,null,null,null,null,null,null,null,null,null,null,null,null,null,null,null,null,null,null,null,null,null,null,null,null,null,null,null,null,null,null,null,null,null,null,null,null,null,null,null,null,null,null,null,null,null,null,null,null,null,null,null,null,null,null,null,null,null,null,null,null,null,null,null,null,null,null,null,null,null,null,null,null,null,null,null,null,null,null,null,null,null,null,null,null,null,null,null,null,null,null,null,null,null,null,null,null,null,null,null,null,null,null,null,null,null,null,null,null,null,null,null,null,null,null,null,null,null,null,null,null,null,null,null,null,null,null,null,null,null,null,null,null,null,null,null,null,null,null,null,null,null,null,null,null,null,null,null,null,null,null,null,null,null,null,null,null,null,null,null,null,null,null,null,null,null,null,null,null,null,null,null,null,null,null,null,null,null,null,null,null,null,null,null,null,null,null,null,null,null,null,null,null,null,null,null,null,null,null,null,null,null,null,null,null,null,null,null,null,null,null,null,null,null,null,null,null,null,null,null,null,null,null,null,null,null,null,null,null,null,null,null,null,null,null,null,null,null,null,null,null,null,null,null,null,null,null,null,null,null,null,null,null,null,null,null,null,null,null,null,null,null,null,null,null,null,null,null,null,null,null,null,null,null,null,null,null,null,null,null,null,null,null,null,null,null,null,null,null,null,null,null,null,null,null,null,null,null,null,null,null,null,null,null,null,null,null,null,null,null,null,null,null,null,null,null,null,null,null,null,null,null,null,null,null,null,null,null,null,null,null,null,null,null,null,null,null,null,null,null,null,null,null,null,null,null,null,null,null,null,null,null,null,null,null,null,null,null,null,null,null,null,null,null,null,null,null,null,null,null,null,null,null,null,null,null,null,null,null,null,null,null,null,null,null,null,null,null,null,null,null,null,null,null,null,null,null,null,null,null,null,null,null,null,null,null,null,null,null,null,null,null,null,null,null,null,null,null,null,null,null,null,null,null,null,null,null,null,null,null,null,null,null,null,null,null,null,null,null,null,null,null,null,null,null,null,null,null,null,null,null,null,null,null,null,null,null,null,null,null,null,null,null,null,null,null,null,null,null,null,null,null,null,null,null,null,null,null,null,null,null,null,null,null,null,null,null,null,null,null,null,null,null,null,null,null,null,null,null,null,null,null,null,null,null,null,null,null,null,null,null,null,null,null,null,null,null,null,null,null,null,null,null,null,null,null,null,null,null,null,null,null,null,null,null,null,null,null,null,null,null,null,null,null,null,null,null,null,null,null,null,null,null,null,null,null,null,null,null,null,null,null,null,null,null,null,null,null,null,null,null,null,null,null,null,null,null,null,null,null,null,null,null,null,null,null,null,null,null,null,null,null,null,null,null,null,null,null,null,null,null,null,null,null,null,null,null,null,null,null,null,null,null,null,null,null,null,null,null,null,null,null,null,null,null,null,null,null,null,null,null,null,null,null,null,null,null,null,null,null,null,null,null,null,null,null,null,null,null,null,null,null,null,null,null,null,null,null,null,null,null,null,null,null,null,null,null,null,null,null,null,null,null,null,null,null,null,null,null,null,null,null,null,null,null,null,null,null,null,null,null,null,null,null,null,null,null,null,null,null,null,null,null,null,null,null,null,null,null,null,null,null,null,null,null,null,null,null,null,null,null,null,null,null,null,null,null,null,null,null,null,null,null,null,null,null,null,null,null,null,null,null,null,null,null,null,null,null,null,null,null,null,null,null,null,null,null,null,null,null,null,null,null,null,null,null,null,null,null,null,null,null,null,null,null,null,null,null,null,null,null,null,null,null,null,null,null,null,null,null,null,null,null,null,null,null,null,null,null,null,null,null,null,null,null,null,null,null,null,null,null,null,null,null,null,null,null,null,null,null,null,null,null,null,null,null,null,null,null,null,null,null,null,null,null,null,null,null,null,null,null,null,null,null,null,null,null,null,null,null,null,null,null,null,null,null,null,null,null,null,null,null,null,null,null,null,null,null,null,null,null,null,null,null,null,null,null,null,null,null,null,null,null,null,null,null,null,null,null,null,null,null,null,null,null,null,null,null,null,null,null,null,null,null,null,null,null,null,null,null,null,null,null,null,null,null,null,null,null,null,null,null,null,null,null,null,null,null,null,null,null,null,null,null,null,null,null,null,null,null,null,null,null,null,null,null,null,null,null,null,null,null,null,null,null,null,null,null,null,null,null,null,null,null,null,null,null,null,null,null,null,null,null,null,null,null,null,null,null,null,null,null,null,null,null,null,null,null,null,null,null,null,null,null,null,null,null,null,null,null,null,null,null,null,null,null,null,null,null,null,null,null,null,null,null,null,null,null,null,null,null,null,null,null,null,null,null,null,null,null,null,null,null,null,null,null,null,null,null,null,null,null,null,null,null,null,null,null,null,null,null,null,null,null,null,null,null,null,null,null,null,null,null,null,null,null,null,null,null,null,null,null,null,null,null,null,null,null,null,null,null,null,null,null,null,null,null,null,null,null,null,null,null,null,null,null,null,null,null,null,null,null,null,null,null,null,null,null,null,null,null,null,null,null,null,null,null,null,null,null,null,null,null,null,null,null,null,null,null,null,null,null,null,null,null,null,null,null,null,null,null,null,null,null,null,null,null,null,null,null,null,null,null,null,null,null,null,null,null,null,null,null,null,null,null,null,null,null,null,null,null,null,null,null,null,null,null,null,null,null,null,null,null,null,null,null,null,null,null,null,null,null,null,null,null,null,null,null,null,null,null,null,null,null,null,null,null,null,null,null,null,null,null,null,null,null,null,null,null,null,null,null,null,null,null,null,null,null,null,null,null,null,null,null,null,null,null,null,null,null,null,null,null,null,null,null,null,null,null,null,null,null,null,null,null,null,null,null,null,null,null,null,null,null,null,null,null,null,null,null,null,null,null,null,null,null,null,null,null,null,null,null,null,null,null,null,null,null,null,null,null,null,null,null,null,null,null,null,null,null,null,null,null,null,null,null,null,null,null,null,null,null,null,null,null,null,null,null,null,null,null,null,null,null,null,null,null,null,null,null,null,null,null,null,null,null,null,null,null,null,null,null,null,null,null,null,null,null,null,null,null,null,null,null,null,null,null,null,null,null,null,null,null,null,null,null,null,null,null,null,null,null,null,null,null,null,null,null,null,null,null,null,null,null,null,null,null,null,null,null,null,null,null,null,null,null,null,null,null,null,null,null,null,null,null,null,null,null,null,null,null,null,null,null,null,null,null,null,null,null,null,null,null,null,null,null,null,null,null,null,null,null,null,null,null,null,null,null,null,null,null,null,null,null,null,null,null,null,null,null,null,null,null,null,null,null,null,null,null,null,null,null,null,null,null,null,null,null,null,null,null,null,null,null,null,null,null,null,null,null,null,null,null,null,null,null,null,null,null,null,null,null,null,null,null,null,null,null,null,null,null,null,null,null,null,null,null,null,null,null,null,null,null,null,null,null,null,null,null,null,null,null,null,null,null,null,null,null,null,null,null,null,null,null,null,null,null,null,null,null,null,null,null,null,null,null,null,null,null,null,null,null,null,null,null,null,null,null,null,null,null,null,null,null,null,null,null,null,null,null,null,null,null,null,null,null,null,null,null,null,null,null,null,null,null,null,null,null,null,null,null,null,null,null,null,null,null,null,null,null,null,null,null,null,null,null,null,null,null,null,null,null,null,null,null,null,null,null,null,null,null,null,null,null,null,null,null,null,null,null,null,null,null,null,null,null,null,null,null,null,null,null,null,null,null,null,null,null,null,null,null,null,null,null,null,null,null,null,null,null,null,null,null,null,null,null,null,null,null,null,null,null,null,null,null,null,null,null,null,null,null,null,null,null,null,null,null,null,null,null,null,null,null,null,null,null,null,null,null,null,null,null,null,null,null,null,null,null,null,null,null,null,null,null,null,null,null,null,null,null,null,null,null,null,null,null,null,null,null,null,null,null,null,null,null,null,null,null,null,null,null,null,null,null,null,null,null,null,null,null,null,null,null,null,null,null,null,null,null,null,null,null,null,null,null,null,null,null,null,null,null,null,null,null,null,null,null,null,null,null,null,null,null,null,null,null,null,null,null,null,null,null,null,null,null,null,null,null,null,null,null,null,null,null,null,null,null,null,null,null,null,null,null,null,null,null,null,null,null,null,null,null,null,null,null,null,null,null,null,null,null,null,null,null,null,null,null,null,null,null,null,null,null,null,null,null,null,null,null,null,null,null,null,null,null,null,null,null,null,null,null,null,null,null,null,null,null,null,null,null,null,null,null,null,null,null,null,null,null,null,null,null,null,null,null,null,null,null,null,null,null,null,null,null,null,null,null,null,null,null,null,null,null,null,null,null,null,null,null,null,null,null,null,null,null,null,null,null,null,null,null,null,null,null,null,null,null,null,null,null,null,null,null,null,null,null,null,null,null,null,null,null,null,null,null,null,null,null,null,null,null,null,null,null,null,null,null,null,null,null,null,null,null,null,null,null,null,null,null,null,null,null,null,null,null,null,null,null,null,null,null,null,null,null,null,null,null,null,null,null,null,null,null,null,null,null,null,null,null,null,null,null,null,null,null,null,null,null,null,null,null,null,null,null,null,null,null,null,null,null,null,null,null,null,null,null,null,null,null,null,null,null,null,null,null,null,null,null,null,null,null,null,null,null,null,null,null,null,null,null,null,null,null,null,null,null,null,null,null,null,null,null,null,null,null,null,null,null,null,null,null,null,null,null,null,null,null,null,null,null,null,null,null,null,null,null,null,null,null,null,null,null,null,null,null,null,null,null,null,null,null,null,null,null,null,null,null,null,null,null,null,null,null,null,null,null,null,null,null,null,null,null,null,null,null,null,null,null,null,null,null,null,null,null,null,null,null,null,null,null,null,null,null,null,null,null,null,null,null,null,null,null,null,null,null,null,null,null,null,null,null,null,null,null,null,null,null,null,null,null,null,null,null,null,null,null,null,null,null,null,null,null,null,null,null,null,null,null,null,null,null,null,null,null,null,null,null,null,null,null,null,null,null,null,null,null,null,null,null,null,null,null,null,null,null,null,null,null,null,null,null,null,null,null,null,null,null,null,null,null,null,null,null,null,null,null,null,null,null,null,null,null,null,null,null,null,null,null,null,null,null,null,null,null,null,null,null,null,null,null,null,null,null,null,null,null,null,null,null,null,null,null,null,null,null,null,null,null,null,null,null,null,null,null,null,null,null,null,null,null,null,null,null,null,null,null,null,null,null,null,null,null,null,null,null,null,null,null,null,null,null,null,null,null,null,null,null,null,null,null,null,null,null,null,null,null,null,null,null,null,null,null,null,null,null,null,null,null,null,null,null,null,null,null,null,null,null,null,null,null,null,null,null,null,null,null,null,null,null,null,null,null,null,null,null,null,null,null,null,null,null,null,null,null,null,null,null,null,null,null,null,null,null,null,null,null,null,null,null,null,null,null,null,null,null,null,null,null,null,null,null,null,null,null,null,null,null,null,null,null,null,null,null,null,null,null,null,null,null,null,null,null,null,null,null,null,null,null,null,null,null,null,null,null,null,null,null,null,null,null,null,null,null,null,null,null,null,null,null,null,null,null,null,null,null,null,null,null,null,null,null,null,null,null,null,null,null,null,null,null,null,null,null,null,null,null,null,null,null,null,null,null,null,null,null,null,null,null,null,null,null,null,null,null,null,null,null,null,null,null,null,null,null,null,null,null,null,null,null,null,null,null,null,null,null,null,null,null,null,null,null,null,null,null,null,null,null,null,null,null,null,null,null,null,null,null,null,null,null,null,null,null,null,null,null,null,null,null,null,null,null,null,null,null,null,null,null,null,null,null,null,null,null,null,null,null,null,null,null,null,null,null,null,null,null,null,null,null,null,null,null,null,null,null,null,null,null,null,null,null,null,null,null,null,null,null,null,null,null,null,null,null,null,null,null,null,null,null,null,null,null,null,null,null,null,null,null,null,null,null,null,null,null,null,null,null,null,null,null,null,null,null,null,null,null,null,null,null,null,null,null,null,null,null,null,null,null,null,null,null,null,null,null,null,null,null,null,null,null,null,null,null,null,null,null,null,null,null,null,null,null,null,null,null,null,null,null,null,null,null,null,null,null,null,null,null,null,null,null,null,null,null,null,null,null,null,null,null,null,null,null,null,null,null,null,null,null,null,null,null,null,null,null,null,null,null,null,null,null,null,null,null,null,null,null,null,null,null,null,null,null,null,null,null,null,null,null,null,null,null,null,null,null,null,null,null,null,null,null,null,null,null,null,null,null,null,null,null,null,null,null,null,null,null,null,null,null,null,null,null,null,null,null,null,null,null,null,null,null,null,null,null,null,null,null,null,null,null,null,null,null,null,null,null,null,null,null,null,null,null,null,null,null,null,null,null,null,null,null,null,null,null,null,null,null,null,null,null,null,null,null,null,null,null,null,null,null,null,null,null,null,null,null,null,null,null,null,null,null,null,null,null,null,null,null,null,null,null,null,null,null,null,null,null,null,null,null,null,null,null,null,null,null,null,null,null,null,null,null,null,null,null,null,null,null,null,null,null,null,null,null,null,null,null,null,null,null,null,null,null,null,null,null,null,null,null,null,null,null,null,null,null,null,null,null,null,null,null,null,null,null,null,null,null,null,null,null,null,null,null,null,null,null,null,null,null,null,null,null,null,null,null,null,null,null,null,null,null,null,null,null,null,null,null,null,null,null,null,null,null,null,null,null,null,null,null,null,null,null,null,null,null,null,null,null,null,null,null,null,null,null,null,null,null,null,null,null,null,null,null,null,null,null,null,null,null,null,null,null,null,null,null,null,null,null,null,null,null,null,null,null,null,null,null,null,null,null,null,null,null,null,null,null,null,null,null,null,null,null,null,null,null,null,null,null,null,null,null,null,null,null,null,null,null,null,null,null,null,null,null,null,null,null,null,null,null,null,null,null,null,null,null,null,null,null,null,null,null,null,null,null,null,null,null,null,null,null,null,null,null,null,null,null,null,null,null,null,null,null,null,null,null,null,null,null,null,null,null,null,null,null,null,null,null,null,null,null,null,null,null,null,null,null,null,null,null,null,null,null,null,null,null,null,null,null,null,null,null,null,null,null,null,null,null,null,null,null,null,null,null,null,null,null,null,null,null,null,null,null,null,null,null,null,null,null,null,null,null,null,null,null,null,null,null,null,null,null,null,null,null,null,null,null,null,null,null,null,null,null,null,null,null,null,null,null,null,null,null,null,null,null,null,null,null,null,null,null,null,null,null,null,null,null,null,null,null,null,null,null,null,null,null,null,null,null,null,null,null,null,null,null,null,null,null,null,null,null,null,null,null,null,null,null,null,null,null,null,null,null,null,null,null,null,null,null,null,null,null,null,null,null,null,null,null,null,null,null,null,null,null,null,null,null,null,null,null,null,null,null,null,null,null,null,null,null,null,null,null,null,null,null,null,null,null,null,null,null,null,null,null,null,null,null,null,null,null,null,null,null,null,null,null,null,null,null,null,null,null,null,null,null,null,null,null,null,null,null,null,null,null,null,null,null,null,null,null,null,null,null,null,null,null,null,null,null,null,null,null,null,null,null,null,null,null,null,null,null,null,null,null,null,null,null,null,null,null,null,null,null,null,null,null,null,null,null,null,null,null,null,null,null,null,null,null,null,null,null,null,null,null,null,null,null,null,null,null,null,null,null,null,null,null,null,null,null,null,null,null,null,null,null,null,null,null,null,null,null,null,null,null,null,null,null,null,null,null,null,null,null,null,null,null,null,null,null,null,null,null,null,null,null,null,null,null,null,null,null,null,null,null,null,null,null,null,null,null,null,null,null,null,null,null,null,null,null,null,null,null,null,null,null,null,null,null,null,null,null,null,null,null,null,null,null,null,null,null,null,null,null,null,null,null,null,null,null,null,null,null,null,null,null,null,null,null,null,null,null,null,null,null,null,null,null,null,null,null,null,null,null,null,null,null,null,null,null,null,null,null,null,null,null,null,null,null,null,null,null,null,null,null,null,null,null,null,null,null,null,null,null,null,null,null,null,null,null,null,null,null,null,null,null,null,null,null,null,null,null,null,null,null,null,null,null,null,null,null,null,null,null,null,null,null,null,null,null,null,null,null,null,null,null,null,null,null,null,null,null,null,null,null,null,null,null,null,null,null,null,null,null,null,null,null,null,null,null,null,null,null,null,null,null,null,null,null,null,null,null,null,null,null,null,null,null,null,null,null,null,null,null,null,null,null,null,null,null,null,null,null,null,null,null,null,null,null,null,null,null,null,null,null,null,null,null,null,null,null,null,null,null,null,null,null,null,null,null,null,null,null,null,null,null,null,null,null,null,null,null,null,null,null,null,null,null,null,null,null,null,null,null,null,null,null,null,null,null,null,null,null,null,null,null,null,null,null,null,null,null,null,null,null,null,null,null,null,null,null,null,null,null,null,null,null,null,null,null,null,null,null,null,null,null,null,null,null,null,null,null,null,null,null,null,null,null,null,null,null,null,null,null,null,null,null,null,null,null,null,null,null,null,null,null,null,null,null,null,null,null,null,null,null,null,null,null,null,null,null,null,null,null,null,null,null,null,null,null,null,null,null,null,null,null,null,null,null,null,null,null,null,null,null,null,null,null,null,null,null,null,null,null,null,null,null,null,null,null,null,null,null,null,null,null,null,null,null,null,null,null,null,null,null,null,null,null,null,null,null,null,null,null,null,null,null,null,null,null,null,null,null,null,null,null,null,null,null,null,null,null,null,null,null,null,null,null,null,null,null,null,null,null,null,null,null,null,null,null,null,null,null,null,null,null,null,null,null,null,null,null,null,null,null,null,null,null,null,null,null,null,null,null,null,null,null,null,null,null,null,null,null,null,null,null,null,null,null,null,null,null,null,null,null,null,null,null,null,null,null,null,null,null,null,null,null,null,null,null,null,null,null,null,null,null,null,null,null,null,null,null,null,null,null,null,null,null,null,null,null,null,null,null,null,null,null,null,null,null,null,null,null,null,null,null,null,null,null,null,null,null,null,null,null,null,null,null,null,null,null,null,null,null,null,null,null,null,null,null,null,null,null,null,null,null,null,null,null,null,null,null,null,null,null,null,null,null,null,null,null,null,null,null,null,null,null,null,null,null,null,null,null,null,null,null,null,null,null,null,null,null,null,null,null,null,null,null,null,null,null,null,null,null,null,null,null,null,null,null,null,null,null,null,null,null,null,null,null,null,null,null,null,null,null,null,null,null,null,null,null,null,null,null,null,null,null,null,null,null,null,null,null,null,null,null,null,null,null,null,null,null,null,null,null,null,null,null,null,null,null,null,null,null,null,null,null,null,null,null,null,null,null,null,null,null,null,null,null,null,null,null,null,null,null,null,null,null,null,null,null,null,null,null,null,null,null,null,null,null,null,null,null,null,null,null,null,null,null,null,null,null,null,null,null,null,null,null,null,null,null,null,null,null,null,null,null,null,null,null,null,null,null,null,null,null,null,null,null,null,null,null,null,null,null,null,null,null,null,null,null,null,null,null,null,null,null,null,null,null,null,null,null,null,null,null,null,null,null,null,null,null,null,null,null,null,null,null,null,null,null,null,null,null,null,null,null,null,null,null,null,null,null,null,null,null,null,null,null,null,null,null,null,null,null,null,null,null,null,null,null,null,null,null,null,null,null,null,null,null,null,null,null,null,null,null,null,null,null,null,null,null,null,null,null,null,null,null,null,null,null,null,null,null,null,null,null,null,null,null,null,null,null,null,null,null,null,null,null,null,null,null,null,null,null,null,null,null,null,null,null,null,null,null,null,null,null,null,null,null,null,null,null,null,null,null,null,null,null,null,null,null,null,null,null,null,null,null,null,null,null,null,null,null,null,null,null,null,null,null,null,null,null,null,null,null,null,null,null,null,null,null,null,null,null,null,null,null,null,null,null,null,null,null,null,null,null,null,null,null,null,null,null,null,null,null,null,null,null,null,null,null,null,null,null,null,null,null,null,null,null,null,null,null,null,null,null,null,null,null,null,null,null,null,null,null,null,null,null,null,null,null,null,null,null,null,null,null,null,null,null,null,null,null,null,null,null,null,null,null,null,null,null,null,null,null,null,null,null,null,null,null,null,null,null,null,null,null,null,null,null,null,null,null,null,null,null,null,null,null,null,null,null,null,null,null,null,null,null,null,null,null,null,null,null,null,null,null,null,null,null,null,null,null,null,null,null,null,null,null,null,null,null,null,null,null,null,null,null,null,null,null,null,null,null,null,null,null,null,null,null,null,null,null,null,null,null,null,null,null,null,null,null,null,null,null,null,null,null,null,null,null,null,null,null,null,null,null,null,null,null,null,null,null,null,null,null,null,null,null,null,null,null,null,null,null,null,null,null,null,null,null,null,null,null,null,null,null,null,null,null,null,null,null,null,null,null,null,null,null,null,null,null,null,null,null,null,null,null,null,null,null,null,null,null,null,null,null,null,null,null,null,null,null,null,null,null,null,null,null,null,null,null,null,null,null,null,null,null,null,null,null,null,null,null,null,null,null,null,null,null,null,null,null,null,null,null,null,null,null,null,null,null,null,null,null,null,null,null,null,null,null,null,null,null,null,null,null,null,null,null,null,null,null,null,null,null,null,null,null,null,null,null,null,null,null,null,null,null,null,null,null,null,null,null,null,null,null,null,null,null,null,null,null,null,null,null,null,null,null,null,null,null,null,null,null,null,null,null,null,null,null,null,null,null,null,null,null,null,null,null,null,null,null,null,null,null,null,null,null,null,null,null,null,null,null,null,null,null,null,null,null,null,null,null,null,null,null,null,null,null,null,null,null,null,null,null,null,null,null,null,null,null,null,null,null,null,null,null,null,null,null,null,null,null,null,null,null,null,null,null,null,null,null,null,null,null,null,null,null,null,null,null,null,null,null,null,null,null,null,null,null,null,null,null,null,null,null,null,null,null,null,null,null,null,null,null,null,null,null,null,null,null,null,null,null,null,null,null,null,null,null,null,null,null,null,null,null,null,null,null,null,null,null,null,null,null,null,null,null,null,null,null,null,null,null,null,null,null,null,null,null,null,null,null,null,null,null,null,null,null,null,null,null,null,null,null,null,null,null,null,null,null,null,null,null,null,null,null,null,null,null,null,null,null,null,null,null,null,null,null,null,null,null,null,null,null,null,null,null,null,null,null,null,null,null,null,null,null,null,null,null,null,null,null,null,null,null,null,null,null,null,null,null,null,null,null,null,null,null,null,null,null,null,null,null,null,null,null,null,null,null,null,null,null,null,null,null,null,null,null,null,null,null,null,null,null,null,null,null,null,null,null,null,null,null,null,null,null,null,null,null,null,null,null,null,null,null,null,null,null,null,null,null,null,null,null,null,null,null,null,null,null,null,null,null,null,null,null,null,null,null,null,null,null,null,null,null,null,null,null,null,null,null,null,null,null,null,null,null,null,null,null,null,null,null,null,null,null,null,null,null,null,null,null,null,null,null,null,null,null,null,null,null,null,null,null,null,null,null,null,null,null,null,null,null,null,null,null,null,null,null,null,null,null,null,null,null,null,null,null,null,null,null,null,null,null,null,null,null,null,null,null,null,null,null,null,null,null,null,null,null,null,null,null,null,null,null,null,null,null,null,null,null,null,null,null,null,null,null,null,null,null,null,null,null,null,null,null,null,null,null,null,null,null,null,null,null,null,null,null,null,null,null,null,null,null,null,null,null,null,null,null,null,null,null,null,null,null,null,null,null,null,null,null,null,null,null,null,null,null,null,null,null,null,null,null,null,null,null,null,null,null,null,null,null,null,null,null,null,null,null,null,null,null,null,null,null,null,null,null,null,null,null,null,null,null,null,null,null,null,null,null,null,null,null,null,null,null,null,null,null,null,null,null,null,null,null,null,null,null,null,null,null,null,null,null,null,null,null,null,null,null,null,null,null,null,null,null,null,null,null,null,null,null,null,null,null,null,null,null,null,null,null,null,null,null,null,null,null,null,null,null,null,null,null,null,null,null,null,null,null,null,null,null,null,null,null,null,null,null,null,null,null,null,null,null,null,null,null,null,null,null,null,null,null,null,null,null,null,null,null,null,null,null,null,null,null,null,null,null,null,null,null,null,null,null,null,null,null,null,null,null,null,null,null,null,null,null,null,null,null,null,null,null,null,null,null,null,null,null,null,null,null,null,null,null,null,null,null,null,null,null,null,null,null,null,null,null,null,null,null,null,null,null,null,null,null,null,null,null,null,null,null,null,null,null,null,null,null,null,null,null,null,null,null,null,null,null,null,null,null,null,null,null,null,null,null,null,null,null,null,null,null,null,null,null,null,null,null,null,null,null,null,null,null,null,null,null,null,null,null,null,null,null,null,null,null,null,null,null,null,null,null,null,null,null,null,null,null,null,null,null,null,null,null,null,null,null,null,null,null,null,null,null,null,null,null,null,null,null,null,null,null,null,null,null,null,null,null,null,null,null,null,null,null,null,null,null,null,null,null,null,null,null,null,null,null,null,null,null,null,null,null,null,null,null,null,null,null,null,null,null,null,null,null,null,null,null,null,null,null,null,null,null,null,null,null,null,null,null,null,null,null,null,null,null,null,null,null,null,null,null,null,null,null,null,null,null,null,null,null,null,null,null,null,null,null,null,null,null,null,null,null,null,null,null,null,null,null,null,null,null,null,null,null,null,null,null,null,null,null,null,null,null,null,null,null,null,null,null,null,null,null,null,null,null,null,null,null,null,null,null,null,null,null,null,null,null,null,null,null,null,null,null,null,null,null,null,null,null,null,null,null,null,null,null,null,null,null,null,null,null,null,null,null,null,null,null,null,null,null,null,null,null,null,null,null,null,null,null,null,null,null,null,null,null,null,null,null,null,null,null,null,null,null,null,null,null,null,null,null,null,null,null,null,null,null,null,null,null,null,null,null,null,null,null,null,null,null,null,null,null,null,null,null,null,null,null,null,null,null,null,null,null,null,null,null,null,null,null,null,null,null,null,null,null,null,null,null,null,null,null,null,null,null,null,null,null,null,null,null,null,null,null,null,null,null,null,null,null,null,null,null,null,null,null,null,null,null,null,null,null,null,null,null,null,null,null,null,null,null,null,null,null,null,null,null,null,null,null,null,null,null,null,null,null,null,null,null,null,null,null,null,null,null,null,null,null,null,null,null,null,null,null,null,null,null,null,null,null,null,null,null,null,null,null,null,null,null,null,null,null,null,null,null,null,null,null,null,null,null,null,null,null,null,null,null,null,null,null,null,null,null,null,null,null,null,null,null,null,null,null,null,null,null,null,null,null,null,null,null,null,null,null,null,null,null,null,null,null,null,null,null,null,null,null,null,null,null,null,null,null,null,null,null,null,null,null,null,null,null,null,null,null,null,null,null,null,null,null,null,null,null,null,null,null,null,null,null,null,null,null,null,null,null,null,null,null,null,null,null,null,null,null,null,null,null,null,null,null,null,null,null,null,null,null,null,null,null,null,null,null,null,null,null,null,null,null,null,null,null,null,null,null,null,null,null,null,null,null,null,null,null,null,null,null,null,null,null,null,null,null,null,null,null,null,null,null,null,null,null,null,null,null,null,null,null,null,null,null,null,null,null,null,null,null,null,null,null,null,null,null,null,null,null,null,null,null,null,null,null,null,null,null,null,null,null,null,null,null,null,null,null,null,null,null,null,null,null,null,null,null,null,null,null,null,null,null,null,null,null,null,null,null,null,null,null,null,null,null,null,null,null,null,null,null,null,null,null,null,null,null,null,null,null,null,null,null,null,null,null,null,null,null,null,null,null,null,null,null,null,null,null,null,null,null,null,null,null,null,null,null,null,null,null,null,null,null,null,null,null,null,null,null,null,null,null,null,null,null,null,null,null,null,null,null,null,null,null,null,null,null,null,null,null,null,null,null,null,null,null,null,null,null,null,null,null,null,null,null,null,null,null,null,null,null,null,null,null,null,null,null,null,null,null,null,null,null,null,null,null,null,null,null,null,null,null,null,null,null,null,null,null,null,null,null,null,null,null,null,null,null,null,null,null,null,null,null,null,null,null,null,null,null,null,null,null,null,null,null,null,null,null,null,null,null,null,null,null,null,null,null,null,null,null,null,null,null,null,null,null,null,null,null,null,null,null,null,null,null,null,null,null,null,null,null,null,null,null,null,null,null,null,null,null,null,null,null,null,null,null,null,null,null,null,null,null,null,null,null,null,null,null,null,null,null,null,null,null,null,null,null,null,null,null,null,null,null,null,null,null,null,null,null,null,null,null,null,null,null,null,null,null,null,null,null,null,null,null,null,null,null,null,null,null,null,null,null,null,null,null,null,null,null,null,null,null,null,null,null,null,null,null,null,null,null,null,null,null,null,null,null,null,null,null,null,null,null,null,null,null,null,null,null,null,null,null,null,null,null,null,null,null,null,null,null,null,null,null,null,null,null,null,null,null,null,null,null,null,null,null,null,null,null,null,null,null,null,null,null,null,null,null,null,null,null,null,null,null,null,null,null,null,null,null,null,null,null,null,null,null,null,null,null,null,null,null,null,null,null,null,null,null,null,null,null,null,null,null,null,null,null,null,null,null,null,null,null,null,null,null,null,null,null,null,null,null,null,null,null,null,null,null,null,null,null,null,null,null,null,null,null,null,null,null,null,null,null,null,null,null,null,null,null,null,null,null,null,null,null,null,null,null,null,null,null,null,null,null,null,null,null,null,null,null,null,null,null,null,null,null,null,null,null,null,null,null,null,null,null,null,null,null,null,null,null,null,null,null,null,null,null,null,null,null,null,null,null,null,null,null,null,null,null,null,null,null,null,null,null,null,null,null,null,null,null,null,null,null,null,null,null,null,null,null,null,null,null,null,null,null,null,null,null,null,null,null,null,null,null,null,null,null,null,null,null,null,null,null,null,null,null,null,null,null,null,null,null,null,null,null,null,null,null,null,null,null,null,null,null,null,null,null,null,null,null,null,null,"A"]
[null,null,"DISTRICT*",null,null,null,null,null,null,null,null,null,null,"SCHOOL HEAD*",null,null,null,null,null,null,null,null,null,null,null,null,null,null,null,null,null,null,null,null,null,null,null,null,null,null,null,null,null,null,null,null,null,null,null,null,null,null,null,null,null,null,null,null,null,null,null,null,null,null,null,null,null,null,null,null,null,null,null,null,null,null,null,null,null,null,null,null,null,null,null,null,null,null,null,null,null,null,null,null,null,null,null,null,null,null,null,null,null,null,null,null,null,null,null,null,null,null,null,null,null,null,null,null,null,null,null,null,null,null,null,null,null,null,null,null,null,null,null,null,null,null,null,null,null,null,null,null,null,null,null,null,null,null,null,null,null,null,null,null,null,null,null,null,null,null,null,null,null,null,null,null,null,null,null,null,null,null,null,null,null,null,null,null,null,null,null,null,null,null,null,null,null,null,null,null,null,null,null,null,null,null,null,null,null,null,null,null,null,null,null,null,null,null,null,null,null,null,null,null,null,null,null,null,null,null,null,null,null,null,null,null,null,null,null,null,null,null,null,null,null,null,null,null,null,null,null,null,null,null,null,null,null,null,null,null,null,null,null,null,null,null,null,null,null,null,null,null,null,null,null,null,null,null,null,null,null,null,null,null,null,null,null,null,null,null,null,null,null,null,null,null,null,null,null,null,null,null,null,null,null,null,null,null,null,null,null,null,null,null,null,null,null,null,null,null,null,null,null,null,null,null,null,null,null,null,null,null,null,null,null,null,null,null,null,null,null,null,null,null,null,null,null,null,null,null,null,null,null,null,null,null,null,null,null,null,null,null,null,null,null,null,null,null,null,null,null,null,null,null,null,null,null,null,null,null,null,null,null,null,null,null,null,null,null,null,null,null,null,null,null,null,null,null,null,null,null,null,null,null,null,null,null,null,null,null,null,null,null,null,null,null,null,null,null,null,null,null,null,null,null,null,null,null,null,null,null,null,null,null,null,null,null,null,null,null,null,null,null,null,null,null,null,null,null,null,null,null,null,null,null,null,null,null,null,null,null,null,null,null,null,null,null,null,null,null,null,null,null,null,null,null,null,null,null,null,null,null,null,null,null,null,null,null,null,null,null,null,null,null,null,null,null,null,null,null,null,null,null,null,null,null,null,null,null,null,null,null,null,null,null,null,null,null,null,null,null,null,null,null,null,null,null,null,null,null,null,null,null,null,null,null,null,null,null,null,null,null,null,null,null,null,null,null,null,null,null,null,null,null,null,null,null,null,null,null,null,null,null,null,null,null,null,null,null,null,null,null,null,null,null,null,null,null,null,null,null,null,null,null,null,null,null,null,null,null,null,null,null,null,null,null,null,null,null,null,null,null,null,null,null,null,null,null,null,null,null,null,null,null,null,null,null,null,null,null,null,null,null,null,null,null,null,null,null,null,null,null,null,null,null,null,null,null,null,null,null,null,null,null,null,null,null,null,null,null,null,null,null,null,null,null,null,null,null,null,null,null,null,null,null,null,null,null,null,null,null,null,null,null,null,null,null,null,null,null,null,null,null,null,null,null,null,null,null,null,null,null,null,null,null,null,null,null,null,null,null,null,null,null,null,null,null,null,null,null,null,null,null,null,null,null,null,null,null,null,null,null,null,null,null,null,null,null,null,null,null,null,null,null,null,null,null,null,null,null,null,null,null,null,null,null,null,null,null,null,null,null,null,null,null,null,null,null,null,null,null,null,null,null,null,null,null,null,null,null,null,null,null,null,null,null,null,null,null,null,null,null,null,null,null,null,null,null,null,null,null,null,null,null,null,null,null,null,null,null,null,null,null,null,null,null,null,null,null,null,null,null,null,null,null,null,null,null,null,null,null,null,null,null,null,null,null,null,null,null,null,null,null,null,null,null,null,null,null,null,null,null,null,null,null,null,null,null,null,null,null,null,null,null,null,null,null,null,null,null,null,null,null,null,null,null,null,null,null,null,null,null,null,null,null,null,null,null,null,null,null,null,null,null,null,null,null,null,null,null,null,null,null,null,null,null,null,null,null,null,null,null,null,null,null,null,null,null,null,null,null,null,null,null,null,null,null,null,null,null,null,null,null,null,null,null,null,null,null,null,null,null,null,null,null,null,null,null,null,null,null,null,null,null,null,null,null,null,null,null,null,null,null,null,null,null,null,null,null,null,null,null,null,null,null,null,null,null,null,null,null,null,null,null,null,null,null,null,null,null,null,null,null,null,null,null,null,null,null,null,null,null,null,null,null,null,null,null,null,null,null,null,null,null,null,null,null,null,null,null,null,null,null,null,null,null,null,null,null,null,null,null,null,null,null,null,null,null,null,null,null,null,null,null,null,null,null,null,null,null,null,null,null,null,null,null,null,null,null,null,null,null,null,null,null,null,null,null,null,null,null,null,null,null,null,null,null,null,null,null,null,null,null,null,null,null,null,null,null,null,null,null,null,null,null,null,null,null,null,null,null,null,null,null,null,null,null,null,null,null,null,null,null,null,null,null,null,null,null,null,null,null,null,null,null,null,null,null,null,null,null,null,null,null,null,null,null,null,null,null,null,null,null,null,null,null,null,null,null,null,null,null,null,null,null,null,null,null,null,null,null,null,null,null,null,null,null,null,null,null,null,null,null,null,null,null,null,null,null,null,null,null,null,null,null,null,null,null,null,null,null,null,null,null,null,null,null,null,null,null,null,null,null,null,null,null,null,null,null,null,null,null,null,null,null,null,null,null,null,null,null,null,null,null,null,null,null,null,null,null,null,null,null,null,null,null,null,null,null,null,null,null,null,null,null,null,null,null,null,null,null,null,null,null,null,null,null,null,null,null,null,null,null,null,null,null,null,null,null,null,null,null,null,null,null,null,null,null,null,null,null,null,null,null,null,null,null,null,null,null,null,null,null,null,null,null,null,null,null,null,null,null,null,null,null,null,null,null,null,null,null,null,null,null,null,null,null,null,null,null,null,null,null,null,null,null,null,null,null,null,null,null,null,null,null,null,null,null,null,null,null,null,null,null,null,null,null,null,null,null,null,null,null,null,null,null,null,null,null,null,null,null,null,null,null,null,null,null,null,null,null,null,null,null,null,null,null,null,null,null,null,null,null,null,null,null,null,null,null,null,null,null,null,null,null,null,null,null,null,null,null,null,null,null,null,null,null,null,null,null,null,null,null,null,null,null,null,null,null,null,null,null,null,null,null,null,null,null,null,null,null,null,null,null,null,null,null,null,null,null,null,null,null,null,null,null,null,null,null,null,null,null,null,null,null,null,null,null,null,null,null,null,null,null,null,null,null,null,null,null,null,null,null,null,null,null,null,null,null,null,null,null,null,null,null,null,null,null,null,null,null,null,null,null,null,null,null,null,null,null,null,null,null,null,null,null,null,null,null,null,null,null,null,null,null,null,null,null,null,null,null,null,null,null,null,null,null,null,null,null,null,null,null,null,null,null,null,null,null,null,null,null,null,null,null,null,null,null,null,null,null,null,null,null,null,null,null,null,null,null,null,null,null,null,null,null,null,null,null,null,null,null,null,null,null,null,null,null,null,null,null,null,null,null,null,null,null,null,null,null,null,null,null,null,null,null,null,null,null,null,null,null,null,null,null,null,null,null,null,null,null,null,null,null,null,null,null,null,null,null,null,null,null,null,null,null,null,null,null,null,null,null,null,null,null,null,null,null,null,null,null,null,null,null,null,null,null,null,null,null,null,null,null,null,null,null,null,null,null,null,null,null,null,null,null,null,null,null,null,null,null,null,null,null,null,null,null,null,null,null,null,null,null,null,null,null,null,null,null,null,null,null,null,null,null,null,null,null,null,null,null,null,null,null,null,null,null,null,null,null,null,null,null,null,null,null,null,null,null,null,null,null,null,null,null,null,null,null,null,null,null,null,null,null,null,null,null,null,null,null,null,null,null,null,null,null,null,null,null,null,null,null,null,null,null,null,null,null,null,null,null,null,null,null,null,null,null,null,null,null,null,null,null,null,null,null,null,null,null,null,null,null,null,null,null,null,null,null,null,null,null,null,null,null,null,null,null,null,null,null,null,null,null,null,null,null,null,null,null,null,null,null,null,null,null,null,null,null,null,null,null,null,null,null,null,null,null,null,null,null,null,null,null,null,null,null,null,null,null,null,null,null,null,null,null,null,null,null,null,null,null,null,null,null,null,null,null,null,null,null,null,null,null,null,null,null,null,null,null,null,null,null,null,null,null,null,null,null,null,null,null,null,null,null,null,null,null,null,null,null,null,null,null,null,null,null,null,null,null,null,null,null,null,null,null,null,null,null,null,null,null,null,null,null,null,null,null,null,null,null,null,null,null,null,null,null,null,null,null,null,null,null,null,null,null,null,null,null,null,null,null,null,null,null,null,null,null,null,null,null,null,null,null,null,null,null,null,null,null,null,null,null,null,null,null,null,null,null,null,null,null,null,null,null,null,null,null,null,null,null,null,null,null,null,null,null,null,null,null,null,null,null,null,null,null,null,null,null,null,null,null,null,null,null,null,null,null,null,null,null,null,null,null,null,null,null,null,null,null,null,null,null,null,null,null,null,null,null,null,null,null,null,null,null,null,null,null,null,null,null,null,null,null,null,null,null,null,null,null,null,null,null,null,null,null,null,null,null,null,null,null,null,null,null,null,null,null,null,null,null,null,null,null,null,null,null,null,null,null,null,null,null,null,null,null,null,null,null,null,null,null,null,null,null,null,null,null,null,null,null,null,null,null,null,null,null,null,null,null,null,null,null,null,null,null,null,null,null,null,null,null,null,null,null,null,null,null,null,null,null,null,null,null,null,null,null,null,null,null,null,null,null,null,null,null,null,null,null,null,null,null,null,null,null,null,null,null,null,null,null,null,null,null,null,null,null,null,null,null,null,null,null,null,null,null,null,null,null,null,null,null,null,null,null,null,null,null,null,null,null,null,null,null,null,null,null,null,null,null,null,null,null,null,null,null,null,null,null,null,null,null,null,null,null,null,null,null,null,null,null,null,null,null,null,null,null,null,null,null,null,null,null,null,null,null,null,null,null,null,null,null,null,null,null,null,null,null,null,null,null,null,null,null,null,null,null,null,null,null,null,null,null,null,null,null,null,null,null,null,null,null,null,null,null,null,null,null,null,null,null,null,null,null,null,null,null,null,null,null,null,null,null,null,null,null,null,null,null,null,null,null,null,null,null,null,null,null,null,null,null,null,null,null,null,null,null,null,null,null,null,null,null,null,null,null,null,null,null,null,null,null,null,null,null,null,null,null,null,null,null,null,null,null,null,null,null,null,null,null,null,null,null,null,null,null,null,null,null,null,null,null,null,null,null,null,null,null,null,null,null,null,null,null,null,null,null,null,null,null,null,null,null,null,null,null,null,null,null,null,null,null,null,null,null,null,null,null,null,null,null,null,null,null,null,null,null,null,null,null,null,null,null,null,null,null,null,null,null,null,null,null,null,null,null,null,null,null,null,null,null,null,null,null,null,null,null,null,null,null,null,null,null,null,null,null,null,null,null,null,null,null,null,null,null,null,null,null,null,null,null,null,null,null,null,null,null,null,null,null,null,null,null,null,null,null,null,null,null,null,null,null,null,null,null,null,null,null,null,null,null,null,null,null,null,null,null,null,null,null,null,null,null,null,null,null,null,null,null,null,null,null,null,null,null,null,null,null,null,null,null,null,null,null,null,null,null,null,null,null,null,null,null,null,null,null,null,null,null,null,null,null,null,null,null,null,null,null,null,null,null,null,null,null,null,null,null,null,null,null,null,null,null,null,null,null,null,null,null,null,null,null,null,null,null,null,null,null,null,null,null,null,null,null,null,null,null,null,null,null,null,null,null,null,null,null,null,null,null,null,null,null,null,null,null,null,null,null,null,null,null,null,null,null,null,null,null,null,null,null,null,null,null,null,null,null,null,null,null,null,null,null,null,null,null,null,null,null,null,null,null,null,null,null,null,null,null,null,null,null,null,null,null,null,null,null,null,null,null,null,null,null,null,null,null,null,null,null,null,null,null,null,null,null,null,null,null,null,null,null,null,null,null,null,null,null,null,null,null,null,null,null,null,null,null,null,null,null,null,null,null,null,null,null,null,null,null,null,null,null,null,null,null,null,null,null,null,null,null,null,null,null,null,null,null,null,null,null,null,null,null,null,null,null,null,null,null,null,null,null,null,null,null,null,null,null,null,null,null,null,null,null,null,null,null,null,null,null,null,null,null,null,null,null,null,null,null,null,null,null,null,null,null,null,null,null,null,null,null,null,null,null,null,null,null,null,null,null,null,null,null,null,null,null,null,null,null,null,null,null,null,null,null,null,null,null,null,null,null,null,null,null,null,null,null,null,null,null,null,null,null,null,null,null,null,null,null,null,null,null,null,null,null,null,null,null,null,null,null,null,null,null,null,null,null,null,null,null,null,null,null,null,null,null,null,null,null,null,null,null,null,null,null,null,null,null,null,null,null,null,null,null,null,null,null,null,null,null,null,null,null,null,null,null,null,null,null,null,null,null,null,null,null,null,null,null,null,null,null,null,null,null,null,null,null,null,null,null,null,null,null,null,null,null,null,null,null,null,null,null,null,null,null,null,null,null,null,null,null,null,null,null,null,null,null,null,null,null,null,null,null,null,null,null,null,null,null,null,null,null,null,null,null,null,null,null,null,null,null,null,null,null,null,null,null,null,null,null,null,null,null,null,null,null,null,null,null,null,null,null,null,null,null,null,null,null,null,null,null,null,null,null,null,null,null,null,null,null,null,null,null,null,null,null,null,null,null,null,null,null,null,null,null,null,null,null,null,null,null,null,null,null,null,null,null,null,null,null,null,null,null,null,null,null,null,null,null,null,null,null,null,null,null,null,null,null,null,null,null,null,null,null,null,null,null,null,null,null,null,null,null,null,null,null,null,null,null,null,null,null,null,null,null,null,null,null,null,null,null,null,null,null,null,null,null,null,null,null,null,null,null,null,null,null,null,null,null,null,null,null,null,null,null,null,null,null,null,null,null,null,null,null,null,null,null,null,null,null,null,null,null,null,null,null,null,null,null,null,null,null,null,null,null,null,null,null,null,null,null,null,null,null,null,null,null,null,null,null,null,null,null,null,null,null,null,null,null,null,null,null,null,null,null,null,null,null,null,null,null,null,null,null,null,null,null,null,null,null,null,null,null,null,null,null,null,null,null,null,null,null,null,null,null,null,null,null,null,null,null,null,null,null,null,null,null,null,null,null,null,null,null,null,null,null,null,null,null,null,null,null,null,null,null,null,null,null,null,null,null,null,null,null,null,null,null,null,null,null,null,null,null,null,null,null,null,null,null,null,null,null,null,null,null,null,null,null,null,null,null,null,null,null,null,null,null,null,null,null,null,null,null,null,null,null,null,null,null,null,null,null,null,null,null,null,null,null,null,null,null,null,null,null,null,null,null,null,null,null,null,null,null,null,null,null,null,null,null,null,null,null,null,null,null,null,null,null,null,null,null,null,null,null,null,null,null,null,null,null,null,null,null,null,null,null,null,null,null,null,null,null,null,null,null,null,null,null,null,null,null,null,null,null,null,null,null,null,null,null,null,null,null,null,null,null,null,null,null,null,null,null,null,null,null,null,null,null,null,null,null,null,null,null,null,null,null,null,null,null,null,null,null,null,null,null,null,null,null,null,null,null,null,null,null,null,null,null,null,null,null,null,null,null,null,null,null,null,null,null,null,null,null,null,null,null,null,null,null,null,null,null,null,null,null,null,null,null,null,null,null,null,null,null,null,null,null,null,null,null,null,null,null,null,null,null,null,null,null,null,null,null,null,null,null,null,null,null,null,null,null,null,null,null,null,null,null,null,null,null,null,null,null,null,null,null,null,null,null,null,null,null,null,null,null,null,null,null,null,null,null,null,null,null,null,null,null,null,null,null,null,null,null,null,null,null,null,null,null,null,null,null,null,null,null,null,null,null,null,null,null,null,null,null,null,null,null,null,null,null,null,null,null,null,null,null,null,null,null,null,null,null,null,null,null,null,null,null,null,null,null,null,null,null,null,null,null,null,null,null,null,null,null,null,null,null,null,null,null,null,null,null,null,null,null,null,null,null,null,null,null,null,null,null,null,null,null,null,null,null,null,null,null,null,null,null,null,null,null,null,null,null,null,null,null,null,null,null,null,null,null,null,null,null,null,null,null,null,null,null,null,null,null,null,null,null,null,null,null,null,null,null,null,null,null,null,null,null,null,null,null,null,null,null,null,null,null,null,null,null,null,null,null,null,null,null,null,null,null,null,null,null,null,null,null,null,null,null,null,null,null,null,null,null,null,null,null,null,null,null,null,null,null,null,null,null,null,null,null,null,null,null,null,null,null,null,null,null,null,null,null,null,null,null,null,null,null,null,null,null,null,null,null,null,null,null,null,null,null,null,null,null,null,null,null,null,null,null,null,null,null,null,null,null,null,null,null,null,null,null,null,null,null,null,null,null,null,null,null,null,null,null,null,null,null,null,null,null,null,null,null,null,null,null,null,null,null,null,null,null,null,null,null,null,null,null,null,null,null,null,null,null,null,null,null,null,null,null,null,null,null,null,null,null,null,null,null,null,null,null,null,null,null,null,null,null,null,null,null,null,null,null,null,null,null,null,null,null,null,null,null,null,null,null,null,null,null,null,null,null,null,null,null,null,null,null,null,null,null,null,null,null,null,null,null,null,null,null,null,null,null,null,null,null,null,null,null,null,null,null,null,null,null,null,null,null,null,null,null,null,null,null,null,null,null,null,null,null,null,null,null,null,null,null,null,null,null,null,null,null,null,null,null,null,null,null,null,null,null,null,null,null,null,null,null,null,null,null,null,null,null,null,null,null,null,null,null,null,null,null,null,null,null,null,null,null,null,null,null,null,null,null,null,null,null,null,null,null,null,null,null,null,null,null,null,null,null,null,null,null,null,null,null,null,null,null,null,null,null,null,null,null,null,null,null,null,null,null,null,null,null,null,null,null,null,null,null,null,null,null,null,null,null,null,null,null,null,null,null,null,null,null,null,null,null,null,null,null,null,null,null,null,null,null,null,null,null,null,null,null,null,null,null,null,null,null,null,null,null,null,null,null,null,null,null,null,null,null,null,null,null,null,null,null,null,null,null,null,null,null,null,null,null,null,null,null,null,null,null,null,null,null,null,null,null,null,null,null,null,null,null,null,null,null,null,null,null,null,null,null,null,null,null,null,null,null,null,null,null,null,null,null,null,null,null,null,null,null,null,null,null,null,null,null,null,null,null,null,null,null,null,null,null,null,null,null,null,null,null,null,null,null,null,null,null,null,null,null,null,null,null,null,null,null,null,null,null,null,null,null,null,null,null,null,null,null,null,null,null,null,null,null,null,null,null,null,null,null,null,null,null,null,null,null,null,null,null,null,null,null,null,null,null,null,null,null,null,null,null,null,null,null,null,null,null,null,null,null,null,null,null,null,null,null,null,null,null,null,null,null,null,null,null,null,null,null,null,null,null,null,null,null,null,null,null,null,null,null,null,null,null,null,null,null,null,null,null,null,null,null,null,null,null,null,null,null,null,null,null,null,null,null,null,null,null,null,null,null,null,null,null,null,null,null,null,null,null,null,null,null,null,null,null,null,null,null,null,null,null,null,null,null,null,null,null,null,null,null,null,null,null,null,null,null,null,null,null,null,null,null,null,null,null,null,null,null,null,null,null,null,null,null,null,null,null,null,null,null,null,null,null,null,null,null,null,null,null,null,null,null,null,null,null,null,null,null,null,null,null,null,null,null,null,null,null,null,null,null,null,null,null,null,null,null,null,null,null,null,null,null,null,null,null,null,null,null,null,null,null,null,null,null,null,null,null,null,null,null,null,null,null,null,null,null,null,null,null,null,null,null,null,null,null,null,null,null,null,null,null,null,null,null,null,null,null,null,null,null,null,null,null,null,null,null,null,null,null,null,null,null,null,null,null,null,null,null,null,null,null,null,null,null,null,null,null,null,null,null,null,null,null,null,null,null,null,null,null,null,null,null,null,null,null,null,null,null,null,null,null,null,null,null,null,null,null,null,null,null,null,null,null,null,null,null,null,null,null,null,null,null,null,null,null,null,null,null,null,null,null,null,null,null,null,null,null,null,null,null,null,null,null,null,null,null,null,null,null,null,null,null,null,null,null,null,null,null,null,null,null,null,null,null,null,null,null,null,null,null,null,null,null,null,null,null,null,null,null,null,null,null,null,null,null,null,null,null,null,null,null,null,null,null,null,null,null,null,null,null,null,null,null,null,null,null,null,null,null,null,null,null,null,null,null,null,null,null,null,null,null,null,null,null,null,null,null,null,null,null,null,null,null,null,null,null,null,null,null,null,null,null,null,null,null,null,null,null,null,null,null,null,null,null,null,null,null,null,null,null,null,null,null,null,null,null,null,null,null,null,null,null,null,null,null,null,null,null,null,null,null,null,null,null,null,null,null,null,null,null,null,null,null,null,null,null,null,null,null,null,null,null,null,null,null,null,null,null,null,null,null,null,null,null,null,null,null,null,null,null,null,null,null,null,null,null,null,null,null,null,null,null,null,null,null,null,null,null,null,null,null,null,null,null,null,null,null,null,null,null,null,null,null,null,null,null,null,null,null,null,null,null,null,null,null,null,null,null,null,null,null,null,null,null,null,null,null,null,null,null,null,null,null,null,null,null,null,null,null,null,null,null,null,null,null,null,null,null,null,null,null,null,null,null,null,null,null,null,null,null,null,null,null,null,null,null,null,null,null,null,null,null,null,null,null,null,null,null,null,null,null,null,null,null,null,null,null,null,null,null,null,null,null,null,null,null,null,null,null,null,null,null,null,null,null,null,null,null,null,null,null,null,null,null,null,null,null,null,null,null,null,null,null,null,null,null,null,null,null,null,null,null,null,null,null,null,null,null,null,null,null,null,null,null,null,null,null,null,null,null,null,null,null,null,null,null,null,null,null,null,null,null,null,null,null,null,null,null,null,null,null,null,null,null,null,null,null,null,null,null,null,null,null,null,null,null,null,null,null,null,null,null,null,null,null,null,null,null,null,null,null,null,null,null,null,null,null,null,null,null,null,null,null,null,null,null,null,null,null,null,null,null,null,null,null,null,null,null,null,null,null,null,null,null,null,null,null,null,null,null,null,null,null,null,null,null,null,null,null,null,null,null,null,null,null,null,null,null,null,null,null,null,null,null,null,null,null,null,null,null,null,null,null,null,null,null,null,null,null,null,null,null,null,null,null,null,null,null,null,null,null,null,null,null,null,null,null,null,null,null,null,null,null,null,null,null,null,null,null,null,null,null,null,null,null,null,null,null,null,null,null,null,null,null,null,null,null,null,null,null,null,null,null,null,null,null,null,null,null,null,null,null,null,null,null,null,null,null,null,null,null,null,null,null,null,null,null,null,null,null,null,null,null,null,null,null,null,null,null,null,null,null,null,null,null,null,null,null,null,null,null,null,null,null,null,null,null,null,null,null,null,null,null,null,null,null,null,null,null,null,null,null,null,null,null,null,null,null,null,null,null,null,null,null,null,null,null,null,null,null,null,null,null,null,null,null,null,null,null,null,null,null,null,null,null,null,null,null,null,null,null,null,null,null,null,null,null,null,null,null,null,null,null,null,null,null,null,null,null,null,null,null,null,null,null,null,null,null,null,null,null,null,null,null,null,null,null,null,null,null,null,null,null,null,null,null,null,null,null,null,null,null,null,null,null,null,null,null,null,null,null,null,null,null,null,null,null,null,null,null,null,null,null,null,null,null,null,null,null,null,null,null,null,null,null,null,null,null,null,null,null,null,null,null,null,null,null,null,null,null,null,null,null,null,null,null,null,null,null,null,null,null,null,null,null,null,null,null,null,null,null,null,null,null,null,null,null,null,null,null,null,null,null,null,null,null,null,null,null,null,null,null,null,null,null,null,null,null,null,null,null,null,null,null,null,null,null,null,null,null,null,null,null,null,null,null,null,null,null,null,null,null,null,null,null,null,null,null,null,null,null,null,null,null,null,null,null,null,null,null,null,null,null,null,null,null,null,null,null,null,null,null,null,null,null,null,null,null,null,null,null,null,null,null,null,null,null,null,null,null,null,null,null,null,null,null,null,null,null,null,null,null,null,null,null,null,null,null,null,null,null,null,null,null,null,null,null,null,null,null,null,null,null,null,null,null,null,null,null,null,null,null,null,null,null,null,null,null,null,null,null,null,null,null,null,null,null,null,null,null,null,null,null,null,null,null,null,null,null,null,null,null,null,null,null,null,null,null,null,null,null,null,null,null,null,null,null,null,null,null,null,null,null,null,null,null,null,null,null,null,null,null,null,null,null,null,null,null,null,null,null,null,null,null,null,null,null,null,null,null,null,null,null,null,null,null,null,null,null,null,null,null,null,null,null,null,null,null,null,null,null,null,null,null,null,null,null,null,null,null,null,null,null,null,null,null,null,null,null,null,null,null,null,null,null,null,null,null,null,null,null,null,null,null,null,null,null,null,null,null,null,null,null,null,null,null,null,null,null,null,null,null,null,null,null,null,null,null,null,null,null,null,null,null,null,null,null,null,null,null,null,null,null,null,null,null,null,null,null,null,null,null,null,null,null,null,null,null,null,null,null,null,null,null,null,null,null,null,null,null,null,null,null,null,null,null,null,null,null,null,null,null,null,null,null,null,null,null,null,null,null,null,null,null,null,null,null,null,null,null,null,null,null,null,null,null,null,null,null,null,null,null,null,null,null,null,null,null,null,null,null,null,null,null,null,null,null,null,null,null,null,null,null,null,null,null,null,null,null,null,null,null,null,null,null,null,null,null,null,null,null,null,null,null,null,null,null,null,null,null,null,null,null,null,null,null,null,null,null,null,null,null,null,null,null,null,null,null,null,null,null,null,null,null,null,null,null,null,null,null,null,null,null,null,null,null,null,null,null,null,null,null,null,null,null,null,null,null,null,null,null,null,null,null,null,null,null,null,null,null,null,null,null,null,null,null,null,null,null,null,null,null,null,null,null,null,null,null,null,null,null,null,null,null,null,null,null,null,null,null,null,null,null,null,null,null,null,null,null,null,null,null,null,null,null,null,null,null,null,null,null,null,null,null,null,null,null,null,null,null,null,null,null,null,null,null,null,null,null,null,null,null,null,null,null,null,null,null,null,null,null,null,null,null,null,null,null,null,null,null,null,null,null,null,null,null,null,null,null,null,null,null,null,null,null,null,null,null,null,null,null,null,null,null,null,null,null,null,null,null,null,null,null,null,null,null,null,null,null,null,null,null,null,null,null,null,null,null,null,null,null,null,null,null,null,null,null,null,null,null,null,null,null,null,null,null,null,null,null,null,null,null,null,null,null,null,null,null,null,null,null,null,null,null,null,null,null,null,null,null,null,null,null,null,null,null,null,null,null,null,null,null,null,null,null,null,null,null,null,null,null,null,null,null,null,null,null,null,null,null,null,null,null,null,null,null,null,null,null,null,null,null,null,null,null,null,null,null,null,null,null,null,null,null,null,null,null,null,null,null,null,null,null,null,null,null,null,null,null,null,null,null,null,null,null,null,null,null,null,null,null,null,null,null,null,null,null,null,null,null,null,null,null,null,null,null,null,null,null,null,null,null,null,null,null,null,null,null,null,null,null,null,null,null,null,null,null,null,null,null,null,null,null,null,null,null,null,null,null,null,null,null,null,null,null,null,null,null,null,null,null,null,null,null,null,null,null,null,null,null,null,null,null,null,null,null,null,null,null,null,null,null,null,null,null,null,null,null,null,null,null,null,null,null,null,null,null,null,null,null,null,null,null,null,null,null,null,null,null,null,null,null,null,null,null,null,null,null,null,null,null,null,null,null,null,null,null,null,null,null,null,null,null,null,null,null,null,null,null,null,null,null,null,null,null,null,null,null,null,null,null,null,null,null,null,null,null,null,null,null,null,null,null,null,null,null,null,null,null,null,null,null,null,null,null,null,null,null,null,null,null,null,null,null,null,null,null,null,null,null,null,null,null,null,null,null,null,null,null,null,null,null,null,null,null,null,null,null,null,null,null,null,null,null,null,null,null,null,null,null,null,null,null,null,null,null,null,null,null,null,null,null,null,null,null,null,null,null,null,null,null,null,null,null,null,null,null,null,null,null,null,null,null,null,null,null,null,null,null,null,null,null,null,null,null,null,null,null,null,null,null,null,null,null,null,null,null,null,null,null,null,null,null,null,null,null,null,null,null,null,null,null,null,null,null,null,null,null,null,null,null,null,null,null,null,null,null,null,null,null,null,null,null,null,null,null,null,null,null,null,null,null,null,null,null,null,null,null,null,null,null,null,null,null,null,null,null,null,null,null,null,null,null,null,null,null,null,null,null,null,null,null,null,null,null,null,null,null,null,null,null,null,null,null,null,null,null,null,null,null,null,null,null,null,null,null,null,null,null,null,null,null,null,null,null,null,null,null,null,null,null,null,null,null,null,null,null,null,null,null,null,null,null,null,null,null,null,null,null,null,null,null,null,null,null,null,null,null,null,null,null,null,null,null,null,null,null,null,null,null,null,null,null,null,null,null,null,null,null,null,null,null,null,null,null,null,null,null,null,null,null,null,null,null,null,null,null,null,null,null,null,null,null,null,null,null,null,null,null,null,null,null,null,null,null,null,null,null,null,null,null,null,null,null,null,null,null,null,null,null,null,null,null,null,null,null,null,null,null,null,null,null,null,null,null,null,null,null,null,null,null,null,null,null,null,null,null,null,null,null,null,null,null,null,null,null,null,null,null,null,null,null,null,null,null,null,null,null,null,null,null,null,null,null,null,null,null,null,null,null,null,null,null,null,null,null,null,null,null,null,null,null,null,null,null,null,null,null,null,null,null,null,null,null,null,null,null,null,null,null,null,null,null,null,null,null,null,null,null,null,null,null,null,null,null,null,null,null,null,null,null,null,null,null,null,null,null,null,null,null,null,null,null,null,null,null,null,null,null,null,null,null,null,null,null,null,null,null,null,null,null,null,null,null,null,null,null,null,null,null,null,null,null,null,null,null,null,null,null,null,null,null,null,null,null,null,null,null,null,null,null,null,null,null,null,null,null,null,null,null,null,null,null,null,null,null,null,null,null,null,null,null,null,null,null,null,null,null,null,null,null,null,null,null,null,null,null,null,null,null,null,null,null,null,null,null,null,null,null,null,null,null,null,null,null,null,null,null,null,null,null,null,null,null,null,null,null,null,null,null,null,null,null,null,null,null,null,null,null,null,null,null,null,null,null,null,null,null,null,null,null,null,null,null,null,null,null,null,null,null,null,null,null,null,null,null,null,null,null,null,null,null,null,null,null,null,null,null,null,null,null,null,null,null,null,null,null,null,null,null,null,null,null,null,null,null,null,null,null,null,null,null,null,null,null,null,null,null,null,null,null,null,null,null,null,null,null,null,null,null,null,null,null,null,null,null,null,null,null,null,null,null,null,null,null,null,null,null,null,null,null,null,null,null,null,null,null,null,null,null,null,null,null,null,null,null,null,null,null,null,null,null,null,null,null,null,null,null,null,null,null,null,null,null,null,null,null,null,null,null,null,null,null,null,null,null,null,null,null,null,null,null,null,null,null,null,null,null,null,null,null,null,null,null,null,null,null,null,null,null,null,null,null,null,null,null,null,null,null,null,null,null,null,null,null,null,null,null,null,null,null,null,null,null,null,null,null,null,null,null,null,null,null,null,null,null,null,null,null,null,null,null,null,null,null,null,null,null,null,null,null,null,null,null,null,null,null,null,null,null,null,null,null,null,null,null,null,null,null,null,null,null,null,null,null,null,null,null,null,null,null,null,null,null,null,null,null,null,null,null,null,null,null,null,null,null,null,null,null,null,null,null,null,null,null,null,null,null,null,null,null,null,null,null,null,null,null,null,null,null,null,null,null,null,null,null,null,null,null,null,null,null,null,null,null,null,null,null,null,null,null,null,null,null,null,null,null,null,null,null,null,null,null,null,null,null,null,null,null,null,null,null,null,null,null,null,null,null,null,null,null,null,null,null,null,null,null,null,null,null,null,null,null,null,null,null,null,null,null,null,null,null,null,null,null,null,null,null,null,null,null,null,null,null,null,null,null,null,null,null,null,null,null,null,null,null,null,null,null,null,null,null,null,null,null,null,null,null,null,null,null,null,null,null,null,null,null,null,null,null,null,null,null,null,null,null,null,null,null,null,null,null,null,null,null,null,null,null,null,null,null,null,null,null,null,null,null,null,null,null,null,null,null,null,null,null,null,null,null,null,null,null,null,null,null,null,null,null,null,null,null,null,null,null,null,null,null,null,null,null,null,null,null,null,null,null,null,null,null,null,null,null,null,null,null,null,null,null,null,null,null,null,null,null,null,null,null,null,null,null,null,null,null,null,null,null,null,null,null,null,null,null,null,null,null,null,null,null,null,null,null,null,null,null,null,null,null,null,null,null,null,null,null,null,null,null,null,null,null,null,null,null,null,null,null,null,null,null,null,null,null,null,null,null,null,null,null,null,null,null,null,null,null,null,null,null,null,null,null,null,null,null,null,null,null,null,null,null,null,null,null,null,null,null,null,null,null,null,null,null,null,null,null,null,null,null,null,null,null,null,null,null,null,null,null,null,null,null,null,null,null,null,null,null,null,null,null,null,null,null,null,null,null,null,null,null,null,null,null,null,null,null,null,null,null,null,null,null,null,null,null,null,null,null,null,null,null,null,null,null,null,null,null,null,null,null,null,null,null,null,null,null,null,null,null,null,null,null,null,null,null,null,null,null,null,null,null,null,null,null,null,null,null,null,null,null,null,null,null,null,null,null,null,null,null,null,null,null,null,null,null,null,null,null,null,null,null,null,null,null,null,null,null,null,null,null,null,null,null,null,null,null,null,null,null,null,null,null,null,null,null,null,null,null,null,null,null,null,null,null,null,null,null,null,null,null,null,null,null,null,null,null,null,null,null,null,null,null,null,null,null,null,null,null,null,null,null,null,null,null,null,null,null,null,null,null,null,null,null,null,null,null,null,null,null,null,null,null,null,null,null,null,null,null,null,null,null,null,null,null,null,null,null,null,null,null,null,null,null,null,null,null,null,null,null,null,null,null,null,null,null,null,null,null,null,null,null,null,null,null,null,null,null,null,null,null,null,null,null,null,null,null,null,null,null,null,null,null,null,null,null,null,null,null,null,null,null,null,null,null,null,null,null,null,null,null,null,null,null,null,null,null,null,null,null,null,null,null,null,null,null,null,null,null,null,null,null,null,null,null,null,null,null,null,null,null,null,null,null,null,null,null,null,null,null,null,null,null,null,null,null,null,null,null,null,null,null,null,null,null,null,null,null,null,null,null,null,null,null,null,null,null,null,null,null,null,null,null,null,null,null,null,null,null,null,null,null,null,null,null,null,null,null,null,null,null,null,null,null,null,null,null,null,null,null,null,null,null,null,null,null,null,null,null,null,null,null,null,null,null,null,null,null,null,null,null,null,null,null,null,null,null,null,null,null,null,null,null,null,null,null,null,null,null,null,null,null,null,null,null,null,null,null,null,null,null,null,null,null,null,null,null,null,null,null,null,null,null,null,null,null,null,null,null,null,null,null,null,null,null,null,null,null,null,null,null,null,null,null,null,null,null,null,null,null,null,null,null,null,null,null,null,null,null,null,null,null,null,null,null,null,null,null,null,null,null,null,null,null,null,null,null,null,null,null,null,null,null,null,null,null,null,null,null,null,null,null,null,null,null,null,null,null,null,null,null,null,null,null,null,null,null,null,null,null,null,null,null,null,null,null,null,null,null,null,null,null,null,null,null,null,null,null,null,null,null,null,null,null,null,null,null,null,null,null,null,null,null,null,null,null,null,null,null,null,null,null,null,null,null,null,null,null,null,null,null,null,null,null,null,null,null,null,null,null,null,null,null,null,null,null,null,null,null,null,null,null,null,null,null,null,null,null,null,null,null,null,null,null,null,null,null,null,null,null,null,null,null,null,null,null,null,null,null,null,null,null,null,null,null,null,null,null,null,null,null,null,null,null,null,null,null,null,null,null,null,null,null,null,null,null,null,null,null,null,null,null,null,null,null,null,null,null,null,null,null,null,null,null,null,null,null,null,null,null,null,null,null,null,null,null,null,null,null,null,null,null,null,null,null,null,null,null,null,null,null,null,null,null,null,null,null,null,null,null,null,null,null,null,null,null,null,null,null,null,null,null,null,null,null,null,null,null,null,null,null,null,null,null,null,null,null,null,null,null,null,null,null,null,null,null,null,null,null,null,null,null,null,null,null,null,null,null,null,null,null,null,null,null,null,null,null,null,null,null,null,null,null,null,null,null,null,null,null,null,null,null,null,null,null,null,null,null,null,null,null,null,null,null,null,null,null,null,null,null,null,null,null,null,null,null,null,null,null,null,null,null,null,null,null,null,null,null,null,null,null,null,null,null,null,null,null,null,null,null,null,null,null,null,null,null,null,null,null,null,null,null,null,null,null,null,null,null,null,null,null,null,null,null,null,null,null,null,null,null,null,null,null,null,null,null,null,null,null,null,null,null,null,null,null,null,null,null,null,null,null,null,null,null,null,null,null,null,null,null,null,null,null,null,null,null,null,null,null,null,null,null,null,null,null,null,null,null,null,null,null,null,null,null,null,null,null,null,null,null,null,null,null,null,null,null,null,null,null,null,null,null,null,null,null,null,null,null,null,null,null,null,null,null,null,null,null,null,null,null,null,null,null,null,null,null,null,null,null,null,null,null,null,null,null,null,null,null,null,null,null,null,null,null,null,null,null,null,null,null,null,null,null,null,null,null,null,null,null,null,null,null,null,null,null,null,null,null,null,null,null,null,null,null,null,null,null,null,null,null,null,null,null,null,null,null,null,null,null,null,null,null,null,null,null,null,null,null,null,null,null,null,null,null,null,null,null,null,null,null,null,null,null,null,null,null,null,null,null,null,null,null,null,null,null,null,null,null,null,null,null,null,null,null,null,null,null,null,null,null,null,null,null,null,null,null,null,null,null,null,null,null,null,null,null,null,null,null,null,null,null,null,null,null,null,null,null,null,null,null,null,null,null,null,null,null,null,null,null,null,null,null,null,null,null,null,null,null,null,null,null,null,null,null,null,null,null,null,null,null,null,null,null,null,null,null,null,null,null,null,null,null,null,null,null,null,null,null,null,null,null,null,null,null,null,null,null,null,null,null,null,null,null,null,null,null,null,null,null,null,null,null,null,null,null,null,null,null,null,null,null,null,null,null,null,null,null,null,null,null,null,null,null,null,null,null,null,null,null,null,null,null,null,null,null,null,null,null,null,null,null,null,null,null,null,null,null,null,null,null,null,null,null,null,null,null,null,null,null,null,null,null,null,null,null,null,null,null,null,null,null,null,null,null,null,null,null,null,null,null,null,null,null,null,null,null,null,null,null,null,null,null,null,null,null,null,null,null,null,null,null,null,null,null,null,null,null,null,null,null,null,null,null,null,null,null,null,null,null,null,null,null,null,null,null,null,null,null,null,null,null,null,null,null,null,null,null,null,null,null,null,null,null,null,null,null,null,null,null,null,null,null,null,null,null,null,null,null,null,null,null,null,null,null,null,null,null,null,null,null,null,null,null,null,null,null,null,null,null,null,null,null,null,null,null,null,null,null,null,null,null,null,null,null,null,null,null,null,null,null,null,null,null,null,null,null,null,null,null,null,null,null,null,null,null,null,null,null,null,null,null,null,null,null,null,null,null,null,null,null,null,null,null,null,null,null,null,null,null,null,null,null,null,null,null,null,null,null,null,null,null,null,null,null,null,null,null,null,null,null,null,null,null,null,null,null,null,null,null,null,null,null,null,null,null,null,null,null,null,null,null,null,null,null,null,null,null,null,null,null,null,null,null,null,null,null,null,null,null,null,null,null,null,null,null,null,null,null,null,null,null,null,null,null,null,null,null,null,null,null,null,null,null,null,null,null,null,null,null,null,null,null,null,null,null,null,null,null,null,null,null,null,null,null,null,null,null,null,null,null,null,null,null,null,null,null,null,null,null,null,null,null,null,null,null,null,null,null,null,null,null,null,null,null,null,null,null,null,null,null,null,null,null,null,null,null,null,null,null,null,null,null,null,null,null,null,null,null,null,null,null,null,null,null,null,null,null,null,null,null,null,null,null,null,null,null,null,null,null,null,null,null,null,null,null,null,null,null,null,null,null,null,null,null,null,null,null,null,null,null,null,null,null,null,null,null,null,null,null,null,null,null,null,null,null,null,null,null,null,null,null,null,null,null,null,null,null,null,null,null,null,null,null,null,null,null,null,null,null,null,null,null,null,null,null,null,null,null,null,null,null,null,null,null,null,null,null,null,null,null,null,null,null,null,null,null,null,null,null,null,null,null,null,null,null,null,null,null,null,null,null,null,null,null,null,null,null,null,null,null,null,null,null,null,null,null,null,null,null,null,null,null,null,null,null,null,null,null,null,null,null,null,null,null,null,null,null,null,null,null,null,null,null,null,null,null,null,null,null,null,null,null,null,null,null,null,null,null,null,null,null,null,null,null,null,null,null,null,null,null,null,null,null,null,null,null,null,null,null,null,null,null,null,null,null,null,null,null,null,null,null,null,null,null,null,null,null,null,null,null,null,null,null,null,null,null,null,null,null,null,null,null,null,null,null,null,null,null,null,null,null,null,null,null,null,null,null,null,null,null,null,null,null,null,null,null,null,null,null,null,null,null,null,null,null,null,null,null,null,null,null,null,null,null,null,null,null,null,null,null,null,null,null,null,null,null,null,null,null,null,null,null,null,null,null,null,null,null,null,null,null,null,null,null,null,null,null,null,null,null,null,null,null,null,null,null,null,null,null,null,null,null,null,null,null,null,null,null,null,null,null,null,null,null,null,null,null,null,null,null,null,null,null,null,null,null,null,null,null,null,null,null,null,null,null,null,null,null,null,null,null,null,null,null,null,null,null,null,null,null,null,null,null,null,null,null,null,null,null,null,null,null,null,null,null,null,null,null,null,null,null,null,null,null,null,null,null,null,null,null,null,null,null,null,null,null,null,null,null,null,null,null,null,null,null,null,null,null,null,null,null,null,null,null,null,null,null,null,null,null,null,null,null,null,null,null,null,null,null,null,null,null,null,null,null,null,null,null,null,null,null,null,null,null,null,null,null,null,null,null,null,null,null,null,null,null,null,null,null,null,null,null,null,null,null,null,null,null,null,null,null,null,null,null,null,null,null,null,null,null,null,null,null,null,null,null,null,null,null,null,null,null,null,null,null,null,null,null,null,null,null,null,null,null,null,null,null,null,null,null,null,null,null,null,null,null,null,null,null,null,null,null,null,null,null,null,null,null,null,null,null,null,null,null,null,null,null,null,null,null,null,null,null,null,null,null,null,null,null,null,null,null,null,null,null,null,null,null,null,null,null,null,null,null,null,null,null,null,null,null,null,null,null,null,null,null,null,null,null,null,null,null,null,null,null,null,null,null,null,null,null,null,null,null,null,null,null,null,null,null,null,null,null,null,null,null,null,null,null,null,null,null,null,null,null,null,null,null,null,null,null,null,null,null,null,null,null,null,null,null,null,null,null,null,null,null,null,null,null,null,null,null,null,null,null,null,null,null,null,null,null,null,null,null,null,null,null,null,null,null,null,null,null,null,null,null,null,null,null,null,null,null,null,null,null,null,null,null,null,null,null,null,null,null,null,null,null,null,null,null,null,null,null,null,null,null,null,null,null,null,null,null,null,null,null,null,null,null,null,null,null,null,null,null,null,null,null,null,null,null,null,null,null,null,null,null,null,null,null,null,null,null,null,null,null,null,null,null,null,null,null,null,null,null,null,null,null,null,null,null,null,null,null,null,null,null,null,null,null,null,null,null,null,null,null,null,null,null,null,null,null,null,null,null,null,null,null,null,null,null,null,null,null,null,null,null,null,null,null,null,null,null,null,null,null,null,null,null,null,null,null,null,null,null,null,null,null,null,null,null,null,null,null,null,null,null,null,null,null,null,null,null,null,null,null,null,null,null,null,null,null,null,null,null,null,null,null,null,null,null,null,null,null,null,null,null,null,null,null,null,null,null,null,null,null,null,null,null,null,null,null,null,null,null,null,null,null,null,null,null,null,null,null,null,null,null,null,null,null,null,null,null,null,null,null,null,null,null,null,null,null,null,null,null,null,null,null,null,null,null,null,null,null,null,null,null,null,null,null,null,null,null,null,null,null,null,null,null,null,null,null,null,null,null,null,null,null,null,null,null,null,null,null,null,null,null,null,null,null,null,null,null,null,null,null,null,null,null,null,null,null,null,null,null,null,null,null,null,null,null,null,null,null,null,null,null,null,null,null,null,null,null,null,null,null,null,null,null,null,null,null,null,null,null,null,null,null,null,null,null,null,null,null,null,null,null,null,null,null,null,null,null,null,null,null,null,null,null,null,null,null,null,null,null,null,null,null,null,null,null,null,null,null,null,null,null,null,null,null,null,null,null,null,null,null,null,null,null,null,null,null,null,null,null,null,null,null,null,null,null,null,null,null,null,null,null,null,null,null,null,null,null,null,null,null,null,null,null,null,null,null,null,null,null,null,null,null,null,null,null,null,null,null,null,null,null,null,null,null,null,null,null,null,null,null,null,null,null,null,null,null,null,null,null,null,null,null,null,null,null,null,null,null,null,null,null,null,null,null,null,null,null,null,null,null,null,null,null,null,null,null,null,null,null,null,null,null,null,null,null,null,null,null,null,null,null,null,null,null,null,null,null,null,null,null,null,null,null,null,null,null,null,null,null,null,null,null,null,null,null,null,null,null,null,null,null,null,null,null,null,null,null,null,null,null,null,null,null,null,null,null,null,null,null,null,null,null,null,null,null,null,null,null,null,null,null,null,null,null,null,null,null,null,null,null,null,null,null,null,null,null,null,null,null,null,null,null,null,null,null,null,null,null,null,null,null,null,null,null,null,null,null,null,null,null,null,null,null,null,null,null,null,null,null,null,null,null,null,null,null,null,null,null,null,null,null,null,null,null,null,null,null,null,null,null,null,null,null,null,null,null,null,null,null,null,null,null,null,null,null,null,null,null,null,null,null,null,null,null,null,null,null,null,null,null,null,null,null,null,null,null,null,null,null,null,null,null,null,null,null,null,null,null,null,null,null,null,null,null,null,null,null,null,null,null,null,null,null,null,null,null,null,null,null,null,null,null,null,null,null,null,null,null,null,null,null,null,null,null,null,null,null,null,null,null,null,null,null,null,null,null,null,null,null,null,null,null,null,null,null,null,null,null,null,null,null,null,null,null,null,null,null,null,null,null,null,null,null,null,null,null,null,null,null,null,null,null,null,null,null,null,null,null,null,null,null,null,null,null,null,null,null,null,null,null,null,null,null,null,null,null,null,null,null,null,null,null,null,null,null,null,null,null,null,null,null,null,null,null,null,null,null,null,null,null,null,null,null,null,null,null,null,null,null,null,null,null,null,null,null,null,null,null,null,null,null,null,null,null,null,null,null,null,null,null,null,null,null,null,null,null,null,null,null,null,null,null,null,null,null,null,null,null,null,null,null,null,null,null,null,null,null,null,null,null,null,null,null,null,null,null,null,null,null,null,null,null,null,null,null,null,null,null,null,null,null,null,null,null,null,null,null,null,null,null,null,null,null,null,null,null,null,null,null,null,null,null,null,null,null,null,null,null,null,null,null,null,null,null,null,null,null,null,null,null,null,null,null,null,null,null,null,null,null,null,null,null,null,null,null,null,null,null,null,null,null,null,null,null,null,null,null,null,null,null,null,null,null,null,null,null,null,null,null,null,null,null,null,null,null,null,null,null,null,null,null,null,null,null,null,null,null,null,null,null,null,null,null,null,null,null,null,null,null,null,null,null,null,null,null,null,null,null,null,null,null,null,null,null,null,null,null,null,null,null,null,null,null,null,null,null,null,null,null,null,null,null,null,null,null,null,null,null,null,null,null,null,null,null,null,null,null,null,null,null,null,null,null,null,null,null,null,null,null,null,null,null,null,null,null,null,null,null,null,null,null,null,null,null,null,null,null,null,null,null,null,null,null,null,null,null,null,null,null,null,null,null,null,null,null,null,null,null,null,null,null,null,null,null,null,null,null,null,null,null,null,null,null,null,null,null,null,null,null,null,null,null,null,null,null,null,null,null,null,null,null,null,null,null,null,null,null,null,null,null,null,null,null,null,null,null,null,null,null,null,null,null,null,null,null,null,null,null,null,null,null,null,null,null,null,null,null,null,null,null,null,null,null,null,null,null,null,null,null,null,null,null,null,null,null,null,null,null,null,null,null,null,null,null,null,null,null,null,null,null,null,null,null,null,null,null,null,null,null,null,null,null,null,null,null,null,null,null,null,null,null,null,null,null,null,null,null,null,null,null,null,null,null,null,null,null,null,null,null,null,null,null,null,null,null,null,null,null,null,null,null,null,null,null,null,null,null,null,null,null,null,null,null,null,null,null,null,null,null,null,null,null,null,null,null,null,null,null,null,null,null,null,null,null,null,null,null,null,null,null,null,null,null,null,null,null,null,null,null,null,null,null,null,null,null,null,null,null,null,null,null,null,null,null,null,null,null,null,null,null,null,null,null,null,null,null,null,null,null,null,null,null,null,null,null,null,null,null,null,null,null,null,null,null,null,null,null,null,null,null,null,null,null,null,null,null,null,null,null,null,null,null,null,null,null,null,null,null,null,null,null,null,null,null,null,null,null,null,null,null,null,null,null,null,null,null,null,null,null,null,null,null,null,null,null,null,null,null,null,null,null,null,null,null,null,null,null,null,null,null,null,null,null,null,null,null,null,null,null,null,null,null,null,null,null,null,null,null,null,null,null,null,null,null,null,null,null,null,null,null,null,null,null,null,null,null,null,null,null,null,null,null,null,null,null,null,null,null,null,null,null,null,null,null,null,null,null,null,null,null,null,null,null,null,null,null,null,null,null,null,null,null,null,null,null,null,null,null,null,null,null,null,null,null,null,null,null,null,null,null,null,null,null,null,null,null,null,null,null,null,null,null,null,null,null,null,null,null,null,null,null,null,null,null,null,null,null,null,null,null,null,null,null,null,null,null,null,null,null,null,null,null,null,null,null,null,null,null,null,null,null,null,null,null,null,null,null,null,null,null,null,null,null,null,null,null,null,null,null,null,null,null,null,null,null,null,null,null,null,null,null,null,null,null,null,null,null,null,null,null,null,null,null,null,null,null,null,null,null,null,null,null,null,null,null,null,null,null,null,null,null,null,null,null,null,null,null,null,null,null,null,null,null,null,null,null,null,null,null,null,null,null,null,null,null,null,null,null,null,null,null,null,null,null,null,null,null,null,null,null,null,null,null,null,null,null,null,null,null,null,null,null,null,null,null,null,null,null,null,null,null,null,null,null,null,null,null,null,null,null,null,null,null,null,null,null,null,null,null,null,null,null,null,null,null,null,null,null,null,null,null,null,null,null,null,null,null,null,null,null,null,null,null,null,null,null,null,null,null,null,null,null,null,null,null,null,null,null,null,null,null,null,null,null,null,null,null,null,null,null,null,null,null,null,null,null,null,null,null,null,null,null,null,null,null,null,null,null,null,null,null,null,null,null,null,null,null,null,null,null,null,null,null,null,null,null,null,null,null,null,null,null,null,null,null,null,null,null,null,null,null,null,null,null,null,null,null,null,null,null,null,null,null,null,null,null,null,null,null,null,null,null,null,null,null,null,null,null,null,null,null,null,null,null,null,null,null,null,null,null,null,null,null,null,null,null,null,null,null,null,null,null,null,null,null,null,null,null,null,null,null,null,null,null,null,null,null,null,null,null,null,null,null,null,null,null,null,null,null,null,null,null,null,null,null,null,null,null,null,null,null,null,null,null,null,null,null,null,null,null,null,null,null,null,null,null,null,null,null,null,null,null,null,null,null,null,null,null,null,null,null,null,null,null,null,null,null,null,null,null,null,null,null,null,null,null,null,null,null,null,null,null,null,null,null,null,null,null,null,null,null,null,null,null,null,null,null,null,null,null,null,null,null,null,null,null,null,null,null,null,null,null,null,null,null,null,null,null,null,null,null,null,null,null,null,null,null,null,null,null,null,null,null,null,null,null,null,null,null,null,null,null,null,null,null,null,null,null,null,null,null,null,null,null,null,null,null,null,null,null,null,null,null,null,null,null,null,null,null,null,null,null,null,null,null,null,null,null,null,null,null,null,null,null,null,null,null,null,null,null,null,null,null,null,null,null,null,null,null,null,null,null,null,null,null,null,null,null,null,null,null,null,null,null,null,null,null,null,null,null,null,null,null,null,null,null,null,null,null,null,null,null,null,null,null,null,null,null,null,null,null,null,null,null,null,null,null,null,null,null,null,null,null,null,null,null,null,null,null,null,null,null,null,null,null,null,null,null,null,null,null,null,null,null,null,null,null,null,null,null,null,null,null,null,null,null,null,null,null,null,null,null,null,null,null,null,null,null,null,null,null,null,null,null,null,null,null,null,null,null,null,null,null,null,null,null,null,null,null,null,null,null,null,null,null,null,null,null,null,null,null,null,null,null,null,null,null,null,null,null,null,null,null,null,null,null,null,null,null,null,null,null,null,null,null,null,null,null,null,null,null,null,null,null,null,null,null,null,null,null,null,null,null,null,null,null,null,null,null,null,null,null,null,null,null,null,null,null,null,null,null,null,null,null,null,null,null,null,null,null,null,null,null,null,null,null,null,null,null,null,null,null,null,null,null,null,null,null,null,null,null,null,null,null,null,null,null,null,null,null,null,null,null,null,null,null,null,null,null,null,null,null,null,null,null,null,null,null,null,null,null,null,null,null,null,null,null,null,null,null,null,null,null,null,null,null,null,null,null,null,null,null,null,null,null,null,null,null,null,null,null,null,null,null,null,null,null,null,null,null,null,null,null,null,null,null,null,null,null,null,null,null,null,null,null,null,null,null,null,null,null,null,null,null,null,null,null,null,null,null,null,null,null,null,null,null,null,null,null,null,null,null,null,null,null,null,null,null,null,null,null,null,null,null,null,null,null,null,null,null,null,null,null,null,null,null,null,null,null,null,null,null,null,null,null,null,null,null,null,null,null,null,null,null,null,null,null,null,null,null,null,null,null,null,null,null,null,null,null,null,null,null,null,null,null,null,null,null,null,null,null,null,null,null,null,null,null,null,null,null,null,null,null,null,null,null,null,null,null,null,null,null,null,null,null,null,null,null,null,null,null,null,null,null,null,null,null,null,null,null,null,null,null,null,null,null,null,null,null,null,null,null,null,null,null,null,null,null,null,null,null,null,null,null,null,null,null,null,null,null,null,null,null,null,null,null,null,null,null,null,null,null,null,null,null,null,null,null,null,null,null,null,null,null,null,null,null,null,null,null,null,null,null,null,null,null,null,null,null,null,null,null,null,null,null,null,null,null,null,null,null,null,null,null,null,null,null,null,null,null,null,null,null,null,null,null,null,null,null,null,null,null,null,null,null,null,null,null,null,null,null,null,null,null,null,null,null,null,null,null,null,null,null,null,null,null,null,null,null,null,null,null,null,null,null,null,null,null,null,null,null,null,null,null,null,null,null,null,null,null,null,null,null,null,null,null,null,null,null,null,null,null,null,null,null,null,null,null,null,null,null,null,null,null,null,null,null,null,null,null,null,null,null,null,null,null,null,null,null,null,null,null,null,null,null,null,null,null,null,null,null,null,null,null,null,null,null,null,null,null,null,null,null,null,null,null,null,null,null,null,null,null,null,null,null,null,null,null,null,null,null,null,null,null,null,null,null,null,null,null,null,null,null,null,null,null,null,null,null,null,null,null,null,null,null,null,null,null,null,null,null,null,null,null,null,null,null,null,null,null,null,null,null,null,null,null,null,null,null,null,null,null,null,null,null,null,null,null,null,null,null,null,null,null,null,null,null,null,null,null,null,null,null,null,null,null,null,null,null,null,null,null,null,null,null,null,null,null,null,null,null,null,null,null,null,null,null,null,null,null,null,null,null,null,null,null,null,null,null,null,null,null,null,null,null,null,null,null,null,null,null,null,null,null,null,null,null,null,null,null,null,null,null,null,null,null,null,null,null,null,null,null,null,null,null,null,null,null,null,null,null,null,null,null,null,null,null,null,null,null,null,null,null,null,null,null,null,null,null,null,null,null,null,null,null,null,null,null,null,null,null,null,null,null,null,null,null,null,null,null,null,null,null,null,null,null,null,null,null,null,null,null,null,null,null,null,null,null,null,null,null,null,null,null,null,null,null,null,null,null,null,null,null,null,null,null,null,null,null,null,null,null,null,null,null,null,null,null,null,null,null,null,null,null,null,null,null,null,null,null,null,null,null,null,null,null,null,null,null,null,null,null,null,null,null,null,null,null,null,null,null,null,null,null,null,null,null,null,null,null,null,null,null,null,null,null,null,null,null,null,null,null,null,null,null,null,null,null,null,null,null,null,null,null,null,null,null,null,null,null,null,null,null,null,null,null,null,null,null,null,null,null,null,null,null,null,null,null,null,null,null,null,null,null,null,null,null,null,null,null,null,null,null,null,null,null,null,null,null,null,null,null,null,null,null,null,null,null,null,null,null,null,null,null,null,null,null,null,null,null,null,null,null,null,null,null,null,null,null,null,null,null,null,null,null,null,null,null,null,null,null,null,null,null,null,null,null,null,null,null,null,null,null,null,null,null,null,null,null,null,null,null,null,null,null,null,null,null,null,null,null,null,null,null,null,null,null,null,null,null,null,null,null,null,null,null,null,null,null,null,null,null,null,null,null,null,null,null,null,null,null,null,null,null,null,null,null,null,null,null,null,null,null,null,null,null,null,null,null,null,null,null,null,null,null,null,null,null,null,null,null,null,null,null,null,null,null,null,null,null,null,null,null,null,null,null,null,null,null,null,null,null,null,null,null,null,null,null,null,null,null,null,null,null,null,null,null,null,null,null,null,null,null,null,null,null,null,null,null,null,null,null,null,null,null,null,null,null,null,null,null,null,null,null,null,null,null,null,null,null,null,null,null,null,null,null,null,null,null,null,null,null,null,null,null,null,null,null,null,null,null,null,null,null,null,null,null,null,null,null,null,null,null,null,null,null,null,null,null,null,null,null,null,null,null,null,null,null,null,null,null,null,null,null,null,null,null,null,null,null,null,null,null,null,null,null,null,null,null,null,null,null,null,null,null,null,null,null,null,null,null,null,null,null,null,null,null,null,null,null,null,null,null,null,null,null,null,null,null,null,null,null,null,null,null,null,null,null,null,null,null,null,null,null,null,null,null,null,null,null,null,null,null,null,null,null,null,null,null,null,null,null,null,null,null,null,null,null,null,null,null,null,null,null,null,null,null,null,null,null,null,null,null,null,null,null,null,null,null,null,null,null,null,null,null,null,null,null,null,null,null,null,null,null,null,null,null,null,null,null,null,null,null,null,null,null,null,null,null,null,null,null,null,null,null,null,null,null,null,null,null,null,null,null,null,null,null,null,null,null,null,null,null,null,null,null,null,null,null,null,null,null,null,null,null,null,null,null,null,null,null,null,null,null,null,null,null,null,null,null,null,null,null,null,null,null,null,null,null,null,null,null,null,null,null,null,null,null,null,null,null,null,null,null,null,null,null,null,null,null,null,null,null,null,null,null,null,null,null,null,null,null,null,null,null,null,null,null,null,null,null,null,null,null,null,null,null,null,null,null,null,null,null,null,null,null,null,null,null,null,null,null,null,null,null,null,null,null,null,null,null,null,null,null,null,null,null,null,null,null,null,null,null,null,null,null,null,null,null,null,null,null,null,null,null,null,null,null,null,null,null,null,null,null,null,null,null,null,null,null,null,null,null,null,null,null,null,null,null,null,null,null,null,null,null,null,null,null,null,null,null,null,null,null,null,null,null,null,null,null,null,null,null,null,null,null,null,null,null,null,null,null,null,null,null,null,null,null,null,null,null,null,null,null,null,null,null,null,null,null,null,null,null,null,null,null,null,null,null,null,null,null,null,null,null,null,null,null,null,null,null,null,null,null,null,null,null,null,null,null,null,null,null,null,null,null,null,null,null,null,null,null,null,null,null,null,null,null,null,null,null,null,null,null,null,null,null,null,null,null,null,null,null,null,null,null,null,null,null,null,null,null,null,null,null,null,null,null,null,null,null,null,null,null,null,null,null,null,null,null,null,null,null,null,null,null,null,null,null,null,null,null,null,null,null,null,null,null,null,null,null,null,null,null,null,null,null,null,null,null,null,null,null,null,null,null,null,null,null,null,null,null,null,null,null,null,null,null,null,null,null,null,null,null,null,null,null,null,null,null,null,null,null,null,null,null,null,null,null,null,null,null,null,null,null,null,null,null,null,null,null,null,null,null,null,null,null,null,null,null,null,null,null,null,null,null,null,null,null,null,null,null,null,null,null,null,null,null,null,null,null,null,null,null,null,null,null,null,null,null,null,null,null,null,null,null,null,null,null,null,null,null,null,null,null,null,null,null,null,null,null,null,null,null,null,null,null,null,null,null,null,null,null,null,null,null,null,null,null,null,null,null,null,null,null,null,null,null,null,null,null,null,null,null,null,null,null,null,null,null,null,null,null,null,null,null,null,null,null,null,null,null,null,null,null,null,null,null,null,null,null,null,null,null,null,null,null,null,null,null,null,null,null,null,null,null,null,null,null,null,null,null,null,null,null,null,null,null,null,null,null,null,null,null,null,null,null,null,null,null,null,null,null,null,null,null,null,null,null,null,null,null,null,null,null,null,null,null,null,null,null,null,null,null,null,null,null,null,null,null,null,null,null,null,null,null,null,null,null,null,null,null,null,null,null,null,null,null,null,null,null,null,null,null,null,null,null,null,null,null,null,null,null,null,null,null,null,null,null,null,null,null,null,null,null,null,null,null,null,null,null,null,null,null,null,null,null,null,null,null,null,null,null,null,null,null,null,null,null,null,null,null,null,null,null,null,null,null,null,null,null,null,null,null,null,null,null,null,null,null,null,null,null,null,null,null,null,null,null,null,null,null,null,null,null,null,null,null,null,null,null,null,null,null,null,null,null,null,null,null,null,null,null,null,null,null,null,null,null,null,null,null,null,null,null,null,null,null,null,null,null,null,null,null,null,null,null,null,null,null,null,null,null,null,null,null,null,null,null,null,null,null,null,null,null,null,null,null,null,null,null,null,null,null,null,null,null,null,null,null,null,null,null,null,null,null,null,null,null,null,null,null,null,null,null,null,null,null,null,null,null,null,null,null,null,null,null,null,null,null,null,null,null,null,null,null,null,null,null,null,null,null,null,null,null,null,null,null,null,null,null,null,null,null,null,null,null,null,null,null,null,null,null,null,null,null,null,null,null,null,null,null,null,null,null,null,null,null,null,null,null,null,null,null,null,null,null,null,null,null,null,null,null,null,null,null,null,null,null,null,null,null,null,null,null,null,null,null,null,null,null,null,null,null,null,null,null,null,null,null,null,null,null,null,null,null,null,null,null,null,null,null,null,null,null,null,null,null,null,null,null,null,null,null,null,null,null,null,null,null,null,null,null,null,null,null,null,null,null,null,null,null,null,null,null,null,null,null,null,null,null,null,null,null,null,null,null,null,null,null,null,null,null,null,null,null,null,null,null,null,null,null,null,null,null,null,null,null,null,null,null,null,null,null,null,null,null,null,null,null,null,null,null,null,null,null,null,null,null,null,null,null,null,null,null,null,null,null,null,null,null,null,null,null,null,null,null,null,null,null,null,null,null,null,null,null,null,null,null,null,null,null,null,null,null,null,null,null,null,null,null,null,null,null,null,null,null,null,null,null,null,null,null,null,null,null,null,null,null,null,null,null,null,null,null,null,null,null,null,null,null,null,null,null,null,null,null,null,null,null,null,null,null,null,null,null,null,null,null,null,null,null,null,null,null,null,null,null,null,null,null,null,null,null,null,null,null,null,null,null,null,null,null,null,null,null,null,null,null,null,null,null,null,null,null,null,null,null,null,null,null,null,null,null,null,null,null,null,null,null,null,null,null,null,null,null,null,null,null,null,null,null,null,null,null,null,null,null,null,null,null,null,null,null,null,null,null,null,null,null,null,null,null,null,null,null,null,null,null,null,null,null,null,null,null,null,null,null,null,null,null,null,null,null,null,null,null,null,null,null,null,null,null,null,null,null,null,null,null,null,null,null,null,null,null,null,null,null,null,null,null,null,null,null,null,null,null,null,null,null,null,null,null,null,null,null,null,null,null,null,null,null,null,null,null,null,null,null,null,null,null,null,null,null,null,null,null,null,null,null,null,null,null,null,null,null,null,null,null,null,null,null,null,null,null,null,null,null,null,null,null,null,null,null,null,null,null,null,null,null,null,null,null,null,null,null,null,null,null,null,null,null,null,null,null,null,null,null,null,null,null,null,null,null,null,null,null,null,null,null,null,null,null,null,null,null,null,null,null,null,null,null,null,null,null,null,null,null,null,null,null,null,null,null,null,null,null,null,null,null,null,null,null,null,null,null,null,null,null,null,null,null,null,null,null,null,null,null,null,null,null,null,null,null,null,null,null,null,null,null,null,null,null,null,null,null,null,null,null,null,null,null,null,null,null,null,null,null,null,null,null,null,null,null,null,null,null,null,null,null,null,null,null,null,null,null,null,null,null,null,null,null,null,null,null,null,null,null,null,null,null,null,null,null,null,null,null,null,null,null,null,null,null,null,null,null,null,null,null,null,null,null,null,null,null,null,null,null,null,null,null,null,null,null,null,null,null,null,null,null,null,null,null,null,null,null,null,null,null,null,null,null,null,null,null,null,null,null,null,null,null,null,null,null,null,null,null,null,null,null,null,null,null,null,null,null,null,null,null,null,null,null,null,null,null,null,null,null,null,null,null,null,null,null,null,null,null,null,null,null,null,null,null,null,null,null,null,null,null,null,null,null,null,null,null,null,null,null,null,null,null,null,null,null,null,null,null,null,null,null,null,null,null,null,null,null,null,null,null,null,null,null,null,null,null,null,null,null,null,null,null,null,null,null,null,null,null,null,null,null,null,null,null,null,null,null,null,null,null,null,null,null,null,null,null,null,null,null,null,null,null,null,null,null,null,null,null,null,null,null,null,null,null,null,null,null,null,null,null,null,null,null,null,null,null,null,null,null,null,null,null,null,null,null,null,null,null,null,null,null,null,null,null,null,null,null,null,null,null,null,null,null,null,null,null,null,null,null,null,null,null,null,null,null,null,null,null,null,null,null,null,null,null,null,null,null,null,null,null,null,null,null,null,null,null,null,null,null,null,null,null,null,null,null,null,null,null,null,null,null,null,null,null,null,null,null,null,null,null,null,null,null,null,null,null,null,null,null,null,null,null,null,null,null,null,null,null,null,null,null,null,null,null,null,null,null,null,null,null,null,null,null,null,null,null,null,null,null,null,null,null,null,null,null,null,null,null,null,null,null,null,null,null,null,null,null,null,null,null,null,null,null,null,null,null,null,null,null,null,null,null,null,null,null,null,null,null,null,null,null,null,null,null,null,null,null,null,null,null,null,null,null,null,null,null,null,null,null,null,null,null,null,null,null,null,null,null,null,null,null,null,null,null,null,null,null,null,null,null,null,null,null,null,null,null,null,null,null,null,null,null,null,null,null,null,null,null,null,null,null,null,null,null,null,null,null,null,null,null,null,null,null,null,null,null,null,null,null,null,null,null,null,null,null,null,null,null,null,null,null,null,null,null,null,null,null,null,null,null,null,null,null,null,null,null,null,null,null,null,null,null,null,null,null,null,null,null,null,null,null,null,null,null,null,null,null,null,null,null,null,null,null,null,null,null,null,null,null,null,null,null,null,null,null,null,null,null,null,null,null,null,null,null,null,null,null,null,null,null,null,null,null,null,null,null,null,null,null,null,null,null,null,null,null,null,null,null,null,null,null,null,null,null,null,null,null,null,null,null,null,null,null,null,null,null,null,null,null,null,null,null,null,null,null,null,null,null,null,null,null,null,null,null,null,null,null,null,null,null,null,null,null,null,null,null,null,null,null,null,null,null,null,null,null,null,null,null,null,null,null,null,null,null,null,null,null,null,null,null,null,null,null,null,null,null,null,null,null,null,null,null,null,null,null,null,null,null,null,null,null,null,null,null,null,null,null,null,null,null,null,null,null,null,null,null,null,null,null,null,null,null,null,null,null,null,null,null,null,null,null,null,null,null,null,null,null,null,null,null,null,null,null,null,null,null,null,null,null,null,null,null,null,null,null,null,null,null,null,null,null,null,null,null,null,null,null,null,null,null,null,null,null,null,null,null,null,null,null,null,null,null,null,null,null,null,null,null,null,null,null,null,null,null,null,null,null,null,null,null,null,null,null,null,null,null,null,null,null,null,null,null,null,null,null,null,null,null,null,null,null,null,null,null,null,null,null,null,null,null,null,null,null,null,null,null,null,null,null,null,null,null,null,null,null,null,null,null,null,null,null,null,null,null,null,null,null,null,null,null,null,null,null,null,null,null,null,null,null,null,null,null,null,null,null,null,null,null,null,null,null,null,null,null,null,null,null,null,null,null,null,null,null,null,null,null,null,null,null,null,null,null,null,null,null,null,null,null,null,null,null,null,null,null,null,null,null,null,null,null,null,null,null,null,null,null,null,null,null,null,null,null,null,null,null,null,null,null,null,null,null,null,null,null,null,null,null,null,null,null,null,null,null,null,null,null,null,null,null,null,null,null,null,null,null,null,null,null,null,null,null,null,null,null,null,null,null,null,null,null,null,null,null,null,null,null,null,null,null,null,null,null,null,null,null,null,null,null,null,null,null,null,null,null,null,null,null,null,null,null,null,null,null,null,null,null,null,null,null,null,null,null,null,null,null,null,null,null,null,null,null,null,null,null,null,null,null,null,null,null,null,null,null,null,null,null,null,null,null,null,null,null,null,null,null,null,null,null,null,null,null,null,null,null,null,null,null,null,null,null,null,null,null,null,null,null,null,null,null,null,null,null,null,null,null,null,null,null,null,null,null,null,null,null,null,null,null,null,null,null,null,null,null,null,null,null,null,null,null,null,null,null,null,null,null,null,null,null,null,null,null,null,null,null,null,null,null,null,null,null,null,null,null,null,null,null,null,null,null,null,null,null,null,null,null,null,null,null,null,null,null,null,null,null,null,null,null,null,null,null,null,null,null,null,null,null,null,null,null,null,null,null,null,null,null,null,null,null,null,null,null,null,null,null,null,null,null,null,null,null,null,null,null,null,null,null,null,null,null,null,null,null,null,null,null,null,null,null,null,null,null,null,null,null,null,null,null,null,null,null,null,null,null,null,null,null,null,null,null,null,null,null,null,null,null,null,null,null,null,null,null,null,null,null,null,null,null,null,null,null,null,null,null,null,null,null,null,null,null,null,null,null,null,null,null,null,null,null,null,null,null,null,null,null,null,null,null,null,null,null,null,null,null,null,null,null,null,null,null,null,null,null,null,null,null,null,null,null,null,null,null,null,null,null,null,null,null,null,null,null,null,null,null,null,null,null,null,null,null,null,null,null,null,null,null,null,null,null,null,null,null,null,null,null,null,null,null,null,null,null,null,null,null,null,null,null,null,null,null,null,null,null,null,null,null,null,null,null,null,null,null,null,null,null,null,null,null,null,null,null,null,null,null,null,null,null,null,null,null,null,null,null,null,null,null,null,null,null,null,null,null,null,null,null,null,null,null,null,null,null,null,null,null,null,null,null,null,null,null,null,null,null,null,null,null,null,null,null,null,null,null,null,null,null,null,null,null,null,null,null,null,null,null,null,null,null,null,null,null,null,null,null,null,null,null,null,null,null,null,null,null,null,null,null,null,null,null,null,null,null,null,null,null,null,null,null,null,null,null,null,null,null,null,null,null,null,null,null,null,null,null,null,null,null,null,null,null,null,null,null,null,null,null,null,null,null,null,null,null,null,null,null,null,null,null,null,null,null,null,null,null,null,null,null,null,null,null,null,null,null,null,null,null,null,null,null,null,null,null,null,null,null,null,null,null,null,null,null,null,null,null,null,null,null,null,null,null,null,null,null,null,null,null,null,null,null,null,null,null,null,null,null,null,null,null,null,null,null,null,null,null,null,null,null,null,null,null,null,null,null,null,null,null,null,null,null,null,null,null,null,null,null,null,null,null,null,null,null,null,null,null,null,null,null,null,null,null,null,null,null,null,null,null,null,null,null,null,null,null,null,null,null,null,null,null,null,null,null,null,null,null,null,null,null,null,null,null,null,null,null,null,null,null,null,null,null,null,null,null,null,null,null,null,null,null,null,null,null,null,null,null,null,null,null,null,null,null,null,null,null,null,null,null,null,null,null,null,null,null,null,null,null,null,null,null,null,null,null,null,null,null,null,null,null,null,null,null,null,null,null,null,null,null,null,null,null,null,null,null,null,null,null,null,null,null,null,null,null,null,null,null,null,null,null,null,null,null,null,null,null,null,null,null,null,null,null,null,null,null,null,null,null,null,null,null,null,null,null,null,null,null,null,null,null,null,null,null,null,null,null,null,null,null,null,null,null,null,null,null,null,null,null,null,null,null,null,null,null,null,null,null,null,null,null,null,null,null,null,null,null,null,null,null,null,null,null,null,null,null,null,null,null,null,null,null,null,null,null,null,null,null,null,null,null,null,null,null,null,null,null,null,null,null,null,null,null,null,null,null,null,null,null,null,null,null,null,null,null,null,null,null,null,null,null,null,null,null,null,null,null,null,null,null,null,null,null,null,null,null,null,null,null,null,null,null,null,null,null,null,null,null,null,null,null,null,null,null,null,null,null,null,null,null,null,null,null,null,null,null,null,null,null,null,null,null,null,null,null,null,null,null,null,null,null,null,null,null,null,null,null,null,null,null,null,null,null,null,null,null,null,null,null,null,null,null,null,null,null,null,null,null,null,null,null,null,null,null,null,null,null,null,null,null,null,null,null,null,null,null,null,null,null,null,null,null,null,null,null,null,null,null,null,null,null,null,null,null,null,null,null,null,null,null,null,null,null,null,null,null,null,null,null,null,null,null,null,null,null,null,null,null,null,null,null,null,null,null,null,null,null,null,null,null,null,null,null,null,null,null,null,null,null,null,null,null,null,null,null,null,null,null,null,null,null,null,null,null,null,"L"]
[null,null,"ADDRESS*",null,null,null,null,null,null,null,null,null,null,"ADVISER*",null,null,null,null,null,null,null,null,null,null,null,null,null,null,null,null,null,null,null,null,null,null,null,null,null,null,null,null,null,null,null,null,null,null,null,null,null,null,null,null,null,null,null,null,null,null,null,null,null,null,null,null,null,null,null,null,null,null,null,null,null,null,null,null,null,null,null,null,null,null,null,null,null,null,null,null,null,null,null,null,null,null,null,null,null,null,null,null,null,null,null,null,null,null,null,null,null,null,null,null,null,null,null,null,null,null,null,null,null,null,null,null,null,null,null,null,null,null,null,null,null,null,null,null,null,null,null,null,null,null,null,null,null,null,null,null,null,null,null,null,null,null,null,null,null,null,null,null,null,null,null,null,null,null,null,null,null,null,null,null,null,null,null,null,null,null,null,null,null,null,null,null,null,null,null,null,null,null,null,null,null,null,null,null,null,null,null,null,null,null,null,null,null,null,null,null,null,null,null,null,null,null,null,null,null,null,null,null,null,null,null,null,null,null,null,null,null,null,null,null,null,null,null,null,null,null,null,null,null,null,null,null,null,null,null,null,null,null,null,null,null,null,null,null,null,null,null,null,null,null,null,null,null,null,null,null,null,null,null,null,null,null,null,null,null,null,null,null,null,null,null,null,null,null,null,null,null,null,null,null,null,null,null,null,null,null,null,null,null,null,null,null,null,null,null,null,null,null,null,null,null,null,null,null,null,null,null,null,null,null,null,null,null,null,null,null,null,null,null,null,null,null,null,null,null,null,null,null,null,null,null,null,null,null,null,null,null,null,null,null,null,null,null,null,null,null,null,null,null,null,null,null,null,null,null,null,null,null,null,null,null,null,null,null,null,null,null,null,null,null,null,null,null,null,null,null,null,null,null,null,null,null,null,null,null,null,null,null,null,null,null,null,null,null,null,null,null,null,null,null,null,null,null,null,null,null,null,null,null,null,null,null,null,null,null,null,null,null,null,null,null,null,null,null,null,null,null,null,null,null,null,null,null,null,null,null,null,null,null,null,null,null,null,null,null,null,null,null,null,null,null,null,null,null,null,null,null,null,null,null,null,null,null,null,null,null,null,null,null,null,null,null,null,null,null,null,null,null,null,null,null,null,null,null,null,null,null,null,null,null,null,null,null,null,null,null,null,null,null,null,null,null,null,null,null,null,null,null,null,null,null,null,null,null,null,null,null,null,null,null,null,null,null,null,null,null,null,null,null,null,null,null,null,null,null,null,null,null,null,null,null,null,null,null,null,null,null,null,null,null,null,null,null,null,null,null,null,null,null,null,null,null,null,null,null,null,null,null,null,null,null,null,null,null,null,null,null,null,null,null,null,null,null,null,null,null,null,null,null,null,null,null,null,null,null,null,null,null,null,null,null,null,null,null,null,null,null,null,null,null,null,null,null,null,null,null,null,null,null,null,null,null,null,null,null,null,null,null,null,null,null,null,null,null,null,null,null,null,null,null,null,null,null,null,null,null,null,null,null,null,null,null,null,null,null,null,null,null,null,null,null,null,null,null,null,null,null,null,null,null,null,null,null,null,null,null,null,null,null,null,null,null,null,null,null,null,null,null,null,null,null,null,null,null,null,null,null,null,null,null,null,null,null,null,null,null,null,null,null,null,null,null,null,null,null,null,null,null,null,null,null,null,null,null,null,null,null,null,null,null,null,null,null,null,null,null,null,null,null,null,null,null,null,null,null,null,null,null,null,null,null,null,null,null,null,null,null,null,null,null,null,null,null,null,null,null,null,null,null,null,null,null,null,null,null,null,null,null,null,null,null,null,null,null,null,null,null,null,null,null,null,null,null,null,null,null,null,null,null,null,null,null,null,null,null,null,null,null,null,null,null,null,null,null,null,null,null,null,null,null,null,null,null,null,null,null,null,null,null,null,null,null,null,null,null,null,null,null,null,null,null,null,null,null,null,null,null,null,null,null,null,null,null,null,null,null,null,null,null,null,null,null,null,null,null,null,null,null,null,null,null,null,null,null,null,null,null,null,null,null,null,null,null,null,null,null,null,null,null,null,null,null,null,null,null,null,null,null,null,null,null,null,null,null,null,null,null,null,null,null,null,null,null,null,null,null,null,null,null,null,null,null,null,null,null,null,null,null,null,null,null,null,null,null,null,null,null,null,null,null,null,null,null,null,null,null,null,null,null,null,null,null,null,null,null,null,null,null,null,null,null,null,null,null,null,null,null,null,null,null,null,null,null,null,null,null,null,null,null,null,null,null,null,null,null,null,null,null,null,null,null,null,null,null,null,null,null,null,null,null,null,null,null,null,null,null,null,null,null,null,null,null,null,null,null,null,null,null,null,null,null,null,null,null,null,null,null,null,null,null,null,null,null,null,null,null,null,null,null,null,null,null,null,null,null,null,null,null,null,null,null,null,null,null,null,null,null,null,null,null,null,null,null,null,null,null,null,null,null,null,null,null,null,null,null,null,null,null,null,null,null,null,null,null,null,null,null,null,null,null,null,null,null,null,null,null,null,null,null,null,null,null,null,null,null,null,null,null,null,null,null,null,null,null,null,null,null,null,null,null,null,null,null,null,null,null,null,null,null,null,null,null,null,null,null,null,null,null,null,null,null,null,null,null,null,null,null,null,null,null,null,null,null,null,null,null,null,null,null,null,null,null,null,null,null,null,null,null,null,null,null,null,null,null,null,null,null,null,null,null,null,null,null,null,null,null,null,null,null,null,null,null,null,null,null,null,null,null,null,null,null,null,null,null,null,null,null,null,null,null,null,null,null,null,null,null,null,null,null,null,null,null,null,null,null,null,null,null,null,null,null,null,null,null,null,null,null,null,null,null,null,null,null,null,null,null,null,null,null,null,null,null,null,null,null,null,null,null,null,null,null,null,null,null,null,null,null,null,null,null,null,null,null,null,null,null,null,null,null,null,null,null,null,null,null,null,null,null,null,null,null,null,null,null,null,null,null,null,null,null,null,null,null,null,null,null,null,null,null,null,null,null,null,null,null,null,null,null,null,null,null,null,null,null,null,null,null,null,null,null,null,null,null,null,null,null,null,null,null,null,null,null,null,null,null,null,null,null,null,null,null,null,null,null,null,null,null,null,null,null,null,null,null,null,null,null,null,null,null,null,null,null,null,null,null,null,null,null,null,null,null,null,null,null,null,null,null,null,null,null,null,null,null,null,null,null,null,null,null,null,null,null,null,null,null,null,null,null,null,null,null,null,null,null,null,null,null,null,null,null,null,null,null,null,null,null,null,null,null,null,null,null,null,null,null,null,null,null,null,null,null,null,null,null,null,null,null,null,null,null,null,null,null,null,null,null,null,null,null,null,null,null,null,null,null,null,null,null,null,null,null,null,null,null,null,null,null,null,null,null,null,null,null,null,null,null,null,null,null,null,null,null,null,null,null,null,null,null,null,null,null,null,null,null,null,null,null,null,null,null,null,null,null,null,null,null,null,null,null,null,null,null,null,null,null,null,null,null,null,null,null,null,null,null,null,null,null,null,null,null,null,null,null,null,null,null,null,null,null,null,null,null,null,null,null,null,null,null,null,null,null,null,null,null,null,null,null,null,null,null,null,null,null,null,null,null,null,null,null,null,null,null,null,null,null,null,null,null,null,null,null,null,null,null,null,null,null,null,null,null,null,null,null,null,null,null,null,null,null,null,null,null,null,null,null,null,null,null,null,null,null,null,null,null,null,null,null,null,null,null,null,null,null,null,null,null,null,null,null,null,null,null,null,null,null,null,null,null,null,null,null,null,null,null,null,null,null,null,null,null,null,null,null,null,null,null,null,null,null,null,null,null,null,null,null,null,null,null,null,null,null,null,null,null,null,null,null,null,null,null,null,null,null,null,null,null,null,null,null,null,null,null,null,null,null,null,null,null,null,null,null,null,null,null,null,null,null,null,null,null,null,null,null,null,null,null,null,null,null,null,null,null,null,null,null,null,null,null,null,null,null,null,null,null,null,null,null,null,null,null,null,null,null,null,null,null,null,null,null,null,null,null,null,null,null,null,null,null,null,null,null,null,null,null,null,null,null,null,null,null,null,null,null,null,null,null,null,null,null,null,null,null,null,null,null,null,null,null,null,null,null,null,null,null,null,null,null,null,null,null,null,null,null,null,null,null,null,null,null,null,null,null,null,null,null,null,null,null,null,null,null,null,null,null,null,null,null,null,null,null,null,null,null,null,null,null,null,null,null,null,null,null,null,null,null,null,null,null,null,null,null,null,null,null,null,null,null,null,null,null,null,null,null,null,null,null,null,null,null,null,null,null,null,null,null,null,null,null,null,null,null,null,null,null,null,null,null,null,null,null,null,null,null,null,null,null,null,null,null,null,null,null,null,null,null,null,null,null,null,null,null,null,null,null,null,null,null,null,null,null,null,null,null,null,null,null,null,null,null,null,null,null,null,null,null,null,null,null,null,null,null,null,null,null,null,null,null,null,null,null,null,null,null,null,null,null,null,null,null,null,null,null,null,null,null,null,null,null,null,null,null,null,null,null,null,null,null,null,null,null,null,null,null,null,null,null,null,null,null,null,null,null,null,null,null,null,null,null,null,null,null,null,null,null,null,null,null,null,null,null,null,null,null,null,null,null,null,null,null,null,null,null,null,null,null,null,null,null,null,null,null,null,null,null,null,null,null,null,null,null,null,null,null,null,null,null,null,null,null,null,null,null,null,null,null,null,null,null,null,null,null,null,null,null,null,null,null,null,null,null,null,null,null,null,null,null,null,null,null,null,null,null,null,null,null,null,null,null,null,null,null,null,null,null,null,null,null,null,null,null,null,null,null,null,null,null,null,null,null,null,null,null,null,null,null,null,null,null,null,null,null,null,null,null,null,null,null,null,null,null,null,null,null,null,null,null,null,null,null,null,null,null,null,null,null,null,null,null,null,null,null,null,null,null,null,null,null,null,null,null,null,null,null,null,null,null,null,null,null,null,null,null,null,null,null,null,null,null,null,null,null,null,null,null,null,null,null,null,null,null,null,null,null,null,null,null,null,null,null,null,null,null,null,null,null,null,null,null,null,null,null,null,null,null,null,null,null,null,null,null,null,null,null,null,null,null,null,null,null,null,null,null,null,null,null,null,null,null,null,null,null,null,null,null,null,null,null,null,null,null,null,null,null,null,null,null,null,null,null,null,null,null,null,null,null,null,null,null,null,null,null,null,null,null,null,null,null,null,null,null,null,null,null,null,null,null,null,null,null,null,null,null,null,null,null,null,null,null,null,null,null,null,null,null,null,null,null,null,null,null,null,null,null,null,null,null,null,null,null,null,null,null,null,null,null,null,null,null,null,null,null,null,null,null,null,null,null,null,null,null,null,null,null,null,null,null,null,null,null,null,null,null,null,null,null,null,null,null,null,null,null,null,null,null,null,null,null,null,null,null,null,null,null,null,null,null,null,null,null,null,null,null,null,null,null,null,null,null,null,null,null,null,null,null,null,null,null,null,null,null,null,null,null,null,null,null,null,null,null,null,null,null,null,null,null,null,null,null,null,null,null,null,null,null,null,null,null,null,null,null,null,null,null,null,null,null,null,null,null,null,null,null,null,null,null,null,null,null,null,null,null,null,null,null,null,null,null,null,null,null,null,null,null,null,null,null,null,null,null,null,null,null,null,null,null,null,null,null,null,null,null,null,null,null,null,null,null,null,null,null,null,null,null,null,null,null,null,null,null,null,null,null,null,null,null,null,null,null,null,null,null,null,null,null,null,null,null,null,null,null,null,null,null,null,null,null,null,null,null,null,null,null,null,null,null,null,null,null,null,null,null,null,null,null,null,null,null,null,null,null,null,null,null,null,null,null,null,null,null,null,null,null,null,null,null,null,null,null,null,null,null,null,null,null,null,null,null,null,null,null,null,null,null,null,null,null,null,null,null,null,null,null,null,null,null,null,null,null,null,null,null,null,null,null,null,null,null,null,null,null,null,null,null,null,null,null,null,null,null,null,null,null,null,null,null,null,null,null,null,null,null,null,null,null,null,null,null,null,null,null,null,null,null,null,null,null,null,null,null,null,null,null,null,null,null,null,null,null,null,null,null,null,null,null,null,null,null,null,null,null,null,null,null,null,null,null,null,null,null,null,null,null,null,null,null,null,null,null,null,null,null,null,null,null,null,null,null,null,null,null,null,null,null,null,null,null,null,null,null,null,null,null,null,null,null,null,null,null,null,null,null,null,null,null,null,null,null,null,null,null,null,null,null,null,null,null,null,null,null,null,null,null,null,null,null,null,null,null,null,null,null,null,null,null,null,null,null,null,null,null,null,null,null,null,null,null,null,null,null,null,null,null,null,null,null,null,null,null,null,null,null,null,null,null,null,null,null,null,null,null,null,null,null,null,null,null,null,null,null,null,null,null,null,null,null,null,null,null,null,null,null,null,null,null,null,null,null,null,null,null,null,null,null,null,null,null,null,null,null,null,null,null,null,null,null,null,null,null,null,null,null,null,null,null,null,null,null,null,null,null,null,null,null,null,null,null,null,null,null,null,null,null,null,null,null,null,null,null,null,null,null,null,null,null,null,null,null,null,null,null,null,null,null,null,null,null,null,null,null,null,null,null,null,null,null,null,null,null,null,null,null,null,null,null,null,null,null,null,null,null,null,null,null,null,null,null,null,null,null,null,null,null,null,null,null,null,null,null,null,null,null,null,null,null,null,null,null,null,null,null,null,null,null,null,null,null,null,null,null,null,null,null,null,null,null,null,null,null,null,null,null,null,null,null,null,null,null,null,null,null,null,null,null,null,null,null,null,null,null,null,null,null,null,null,null,null,null,null,null,null,null,null,null,null,null,null,null,null,null,null,null,null,null,null,null,null,null,null,null,null,null,null,null,null,null,null,null,null,null,null,null,null,null,null,null,null,null,null,null,null,null,null,null,null,null,null,null,null,null,null,null,null,null,null,null,null,null,null,null,null,null,null,null,null,null,null,null,null,null,null,null,null,null,null,null,null,null,null,null,null,null,null,null,null,null,null,null,null,null,null,null,null,null,null,null,null,null,null,null,null,null,null,null,null,null,null,null,null,null,null,null,null,null,null,null,null,null,null,null,null,null,null,null,null,null,null,null,null,null,null,null,null,null,null,null,null,null,null,null,null,null,null,null,null,null,null,null,null,null,null,null,null,null,null,null,null,null,null,null,null,null,null,null,null,null,null,null,null,null,null,null,null,null,null,null,null,null,null,null,null,null,null,null,null,null,null,null,null,null,null,null,null,null,null,null,null,null,null,null,null,null,null,null,null,null,null,null,null,null,null,null,null,null,null,null,null,null,null,null,null,null,null,null,null,null,null,null,null,null,null,null,null,null,null,null,null,null,null,null,null,null,null,null,null,null,null,null,null,null,null,null,null,null,null,null,null,null,null,null,null,null,null,null,null,null,null,null,null,null,null,null,null,null,null,null,null,null,null,null,null,null,null,null,null,null,null,null,null,null,null,null,null,null,null,null,null,null,null,null,null,null,null,null,null,null,null,null,null,null,null,null,null,null,null,null,null,null,null,null,null,null,null,null,null,null,null,null,null,null,null,null,null,null,null,null,null,null,null,null,null,null,null,null,null,null,null,null,null,null,null,null,null,null,null,null,null,null,null,null,null,null,null,null,null,null,null,null,null,null,null,null,null,null,null,null,null,null,null,null,null,null,null,null,null,null,null,null,null,null,null,null,null,null,null,null,null,null,null,null,null,null,null,null,null,null,null,null,null,null,null,null,null,null,null,null,null,null,null,null,null,null,null,null,null,null,null,null,null,null,null,null,null,null,null,null,null,null,null,null,null,null,null,null,null,null,null,null,null,null,null,null,null,null,null,null,null,null,null,null,null,null,null,null,null,null,null,null,null,null,null,null,null,null,null,null,null,null,null,null,null,null,null,null,null,null,null,null,null,null,null,null,null,null,null,null,null,null,null,null,null,null,null,null,null,null,null,null,null,null,null,null,null,null,null,null,null,null,null,null,null,null,null,null,null,null,null,null,null,null,null,null,null,null,null,null,null,null,null,null,null,null,null,null,null,null,null,null,null,null,null,null,null,null,null,null,null,null,null,null,null,null,null,null,null,null,null,null,null,null,null,null,null,null,null,null,null,null,null,null,null,null,null,null,null,null,null,null,null,null,null,null,null,null,null,null,null,null,null,null,null,null,null,null,null,null,null,null,null,null,null,null,null,null,null,null,null,null,null,null,null,null,null,null,null,null,null,null,null,null,null,null,null,null,null,null,null,null,null,null,null,null,null,null,null,null,null,null,null,null,null,null,null,null,null,null,null,null,null,null,null,null,null,null,null,null,null,null,null,null,null,null,null,null,null,null,null,null,null,null,null,null,null,null,null,null,null,null,null,null,null,null,null,null,null,null,null,null,null,null,null,null,null,null,null,null,null,null,null,null,null,null,null,null,null,null,null,null,null,null,null,null,null,null,null,null,null,null,null,null,null,null,null,null,null,null,null,null,null,null,null,null,null,null,null,null,null,null,null,null,null,null,null,null,null,null,null,null,null,null,null,null,null,null,null,null,null,null,null,null,null,null,null,null,null,null,null,null,null,null,null,null,null,null,null,null,null,null,null,null,null,null,null,null,null,null,null,null,null,null,null,null,null,null,null,null,null,null,null,null,null,null,null,null,null,null,null,null,null,null,null,null,null,null,null,null,null,null,null,null,null,null,null,null,null,null,null,null,null,null,null,null,null,null,null,null,null,null,null,null,null,null,null,null,null,null,null,null,null,null,null,null,null,null,null,null,null,null,null,null,null,null,null,null,null,null,null,null,null,null,null,null,null,null,null,null,null,null,null,null,null,null,null,null,null,null,null,null,null,null,null,null,null,null,null,null,null,null,null,null,null,null,null,null,null,null,null,null,null,null,null,null,null,null,null,null,null,null,null,null,null,null,null,null,null,null,null,null,null,null,null,null,null,null,null,null,null,null,null,null,null,null,null,null,null,null,null,null,null,null,null,null,null,null,null,null,null,null,null,null,null,null,null,null,null,null,null,null,null,null,null,null,null,null,null,null,null,null,null,null,null,null,null,null,null,null,null,null,null,null,null,null,null,null,null,null,null,null,null,null,null,null,null,null,null,null,null,null,null,null,null,null,null,null,null,null,null,null,null,null,null,null,null,null,null,null,null,null,null,null,null,null,null,null,null,null,null,null,null,null,null,null,null,null,null,null,null,null,null,null,null,null,null,null,null,null,null,null,null,null,null,null,null,null,null,null,null,null,null,null,null,null,null,null,null,null,null,null,null,null,null,null,null,null,null,null,null,null,null,null,null,null,null,null,null,null,null,null,null,null,null,null,null,null,null,null,null,null,null,null,null,null,null,null,null,null,null,null,null,null,null,null,null,null,null,null,null,null,null,null,null,null,null,null,null,null,null,null,null,null,null,null,null,null,null,null,null,null,null,null,null,null,null,null,null,null,null,null,null,null,null,null,null,null,null,null,null,null,null,null,null,null,null,null,null,null,null,null,null,null,null,null,null,null,null,null,null,null,null,null,null,null,null,null,null,null,null,null,null,null,null,null,null,null,null,null,null,null,null,null,null,null,null,null,null,null,null,null,null,null,null,null,null,null,null,null,null,null,null,null,null,null,null,null,null,null,null,null,null,null,null,null,null,null,null,null,null,null,null,null,null,null,null,null,null,null,null,null,null,null,null,null,null,null,null,null,null,null,null,null,null,null,null,null,null,null,null,null,null,null,null,null,null,null,null,null,null,null,null,null,null,null,null,null,null,null,null,null,null,null,null,null,null,null,null,null,null,null,null,null,null,null,null,null,null,null,null,null,null,null,null,null,null,null,null,null,null,null,null,null,null,null,null,null,null,null,null,null,null,null,null,null,null,null,null,null,null,null,null,null,null,null,null,null,null,null,null,null,null,null,null,null,null,null,null,null,null,null,null,null,null,null,null,null,null,null,null,null,null,null,null,null,null,null,null,null,null,null,null,null,null,null,null,null,null,null,null,null,null,null,null,null,null,null,null,null,null,null,null,null,null,null,null,null,null,null,null,null,null,null,null,null,null,null,null,null,null,null,null,null,null,null,null,null,null,null,null,null,null,null,null,null,null,null,null,null,null,null,null,null,null,null,null,null,null,null,null,null,null,null,null,null,null,null,null,null,null,null,null,null,null,null,null,null,null,null,null,null,null,null,null,null,null,null,null,null,null,null,null,null,null,null,null,null,null,null,null,null,null,null,null,null,null,null,null,null,null,null,null,null,null,null,null,null,null,null,null,null,null,null,null,null,null,null,null,null,null,null,null,null,null,null,null,null,null,null,null,null,null,null,null,null,null,null,null,null,null,null,null,null,null,null,null,null,null,null,null,null,null,null,null,null,null,null,null,null,null,null,null,null,null,null,null,null,null,null,null,null,null,null,null,null,null,null,null,null,null,null,null,null,null,null,null,null,null,null,null,null,null,null,null,null,null,null,null,null,null,null,null,null,null,null,null,null,null,null,null,null,null,null,null,null,null,null,null,null,null,null,null,null,null,null,null,null,null,null,null,null,null,null,null,null,null,null,null,null,null,null,null,null,null,null,null,null,null,null,null,null,null,null,null,null,null,null,null,null,null,null,null,null,null,null,null,null,null,null,null,null,null,null,null,null,null,null,null,null,null,null,null,null,null,null,null,null,null,null,null,null,null,null,null,null,null,null,null,null,null,null,null,null,null,null,null,null,null,null,null,null,null,null,null,null,null,null,null,null,null,null,null,null,null,null,null,null,null,null,null,null,null,null,null,null,null,null,null,null,null,null,null,null,null,null,null,null,null,null,null,null,null,null,null,null,null,null,null,null,null,null,null,null,null,null,null,null,null,null,null,null,null,null,null,null,null,null,null,null,null,null,null,null,null,null,null,null,null,null,null,null,null,null,null,null,null,null,null,null,null,null,null,null,null,null,null,null,null,null,null,null,null,null,null,null,null,null,null,null,null,null,null,null,null,null,null,null,null,null,null,null,null,null,null,null,null,null,null,null,null,null,null,null,null,null,null,null,null,null,null,null,null,null,null,null,null,null,null,null,null,null,null,null,null,null,null,null,null,null,null,null,null,null,null,null,null,null,null,null,null,null,null,null,null,null,null,null,null,null,null,null,null,null,null,null,null,null,null,null,null,null,null,null,null,null,null,null,null,null,null,null,null,null,null,null,null,null,null,null,null,null,null,null,null,null,null,null,null,null,null,null,null,null,null,null,null,null,null,null,null,null,null,null,null,null,null,null,null,null,null,null,null,null,null,null,null,null,null,null,null,null,null,null,null,null,null,null,null,null,null,null,null,null,null,null,null,null,null,null,null,null,null,null,null,null,null,null,null,null,null,null,null,null,null,null,null,null,null,null,null,null,null,null,null,null,null,null,null,null,null,null,null,null,null,null,null,null,null,null,null,null,null,null,null,null,null,null,null,null,null,null,null,null,null,null,null,null,null,null,null,null,null,null,null,null,null,null,null,null,null,null,null,null,null,null,null,null,null,null,null,null,null,null,null,null,null,null,null,null,null,null,null,null,null,null,null,null,null,null,null,null,null,null,null,null,null,null,null,null,null,null,null,null,null,null,null,null,null,null,null,null,null,null,null,null,null,null,null,null,null,null,null,null,null,null,null,null,null,null,null,null,null,null,null,null,null,null,null,null,null,null,null,null,null,null,null,null,null,null,null,null,null,null,null,null,null,null,null,null,null,null,null,null,null,null,null,null,null,null,null,null,null,null,null,null,null,null,null,null,null,null,null,null,null,null,null,null,null,null,null,null,null,null,null,null,null,null,null,null,null,null,null,null,null,null,null,null,null,null,null,null,null,null,null,null,null,null,null,null,null,null,null,null,null,null,null,null,null,null,null,null,null,null,null,null,null,null,null,null,null,null,null,null,null,null,null,null,null,null,null,null,null,null,null,null,null,null,null,null,null,null,null,null,null,null,null,null,null,null,null,null,null,null,null,null,null,null,null,null,null,null,null,null,null,null,null,null,null,null,null,null,null,null,null,null,null,null,null,null,null,null,null,null,null,null,null,null,null,null,null,null,null,null,null,null,null,null,null,null,null,null,null,null,null,null,null,null,null,null,null,null,null,null,null,null,null,null,null,null,null,null,null,null,null,null,null,null,null,null,null,null,null,null,null,null,null,null,null,null,null,null,null,null,null,null,null,null,null,null,null,null,null,null,null,null,null,null,null,null,null,null,null,null,null,null,null,null,null,null,null,null,null,null,null,null,null,null,null,null,null,null,null,null,null,null,null,null,null,null,null,null,null,null,null,null,null,null,null,null,null,null,null,null,null,null,null,null,null,null,null,null,null,null,null,null,null,null,null,null,null,null,null,null,null,null,null,null,null,null,null,null,null,null,null,null,null,null,null,null,null,null,null,null,null,null,null,null,null,null,null,null,null,null,null,null,null,null,null,null,null,null,null,null,null,null,null,null,null,null,null,null,null,null,null,null,null,null,null,null,null,null,null,null,null,null,null,null,null,null,null,null,null,null,null,null,null,null,null,null,null,null,null,null,null,null,null,null,null,null,null,null,null,null,null,null,null,null,null,null,null,null,null,null,null,null,null,null,null,null,null,null,null,null,null,null,null,null,null,null,null,null,null,null,null,null,null,null,null,null,null,null,null,null,null,null,null,null,null,null,null,null,null,null,null,null,null,null,null,null,null,null,null,null,null,null,null,null,null,null,null,null,null,null,null,null,null,null,null,null,null,null,null,null,null,null,null,null,null,null,null,null,null,null,null,null,null,null,null,null,null,null,null,null,null,null,null,null,null,null,null,null,null,null,null,null,null,null,null,null,null,null,null,null,null,null,null,null,null,null,null,null,null,null,null,null,null,null,null,null,null,null,null,null,null,null,null,null,null,null,null,null,null,null,null,null,null,null,null,null,null,null,null,null,null,null,null,null,null,null,null,null,null,null,null,null,null,null,null,null,null,null,null,null,null,null,null,null,null,null,null,null,null,null,null,null,null,null,null,null,null,null,null,null,null,null,null,null,null,null,null,null,null,null,null,null,null,null,null,null,null,null,null,null,null,null,null,null,null,null,null,null,null,null,null,null,null,null,null,null,null,null,null,null,null,null,null,null,null,null,null,null,null,null,null,null,null,null,null,null,null,null,null,null,null,null,null,null,null,null,null,null,null,null,null,null,null,null,null,null,null,null,null,null,null,null,null,null,null,null,null,null,null,null,null,null,null,null,null,null,null,null,null,null,null,null,null,null,null,null,null,null,null,null,null,null,null,null,null,null,null,null,null,null,null,null,null,null,null,null,null,null,null,null,null,null,null,null,null,null,null,null,null,null,null,null,null,null,null,null,null,null,null,null,null,null,null,null,null,null,null,null,null,null,null,null,null,null,null,null,null,null,null,null,null,null,null,null,null,null,null,null,null,null,null,null,null,null,null,null,null,null,null,null,null,null,null,null,null,null,null,null,null,null,null,null,null,null,null,null,null,null,null,null,null,null,null,null,null,null,null,null,null,null,null,null,null,null,null,null,null,null,null,null,null,null,null,null,null,null,null,null,null,null,null,null,null,null,null,null,null,null,null,null,null,null,null,null,null,null,null,null,null,null,null,null,null,null,null,null,null,null,null,null,null,null,null,null,null,null,null,null,null,null,null,null,null,null,null,null,null,null,null,null,null,null,null,null,null,null,null,null,null,null,null,null,null,null,null,null,null,null,null,null,null,null,null,null,null,null,null,null,null,null,null,null,null,null,null,null,null,null,null,null,null,null,null,null,null,null,null,null,null,null,null,null,null,null,null,null,null,null,null,null,null,null,null,null,null,null,null,null,null,null,null,null,null,null,null,null,null,null,null,null,null,null,null,null,null,null,null,null,null,null,null,null,null,null,null,null,null,null,null,null,null,null,null,null,null,null,null,null,null,null,null,null,null,null,null,null,null,null,null,null,null,null,null,null,null,null,null,null,null,null,null,null,null,null,null,null,null,null,null,null,null,null,null,null,null,null,null,null,null,null,null,null,null,null,null,null,null,null,null,null,null,null,null,null,null,null,null,null,null,null,null,null,null,null,null,null,null,null,null,null,null,null,null,null,null,null,null,null,null,null,null,null,null,null,null,null,null,null,null,null,null,null,null,null,null,null,null,null,null,null,null,null,null,null,null,null,null,null,null,null,null,null,null,null,null,null,null,null,null,null,null,null,null,null,null,null,null,null,null,null,null,null,null,null,null,null,null,null,null,null,null,null,null,null,null,null,null,null,null,null,null,null,null,null,null,null,null,null,null,null,null,null,null,null,null,null,null,null,null,null,null,null,null,null,null,null,null,null,null,null,null,null,null,null,null,null,null,null,null,null,null,null,null,null,null,null,null,null,null,null,null,null,null,null,null,null,null,null,null,null,null,null,null,null,null,null,null,null,null,null,null,null,null,null,null,null,null,null,null,null,null,null,null,null,null,null,null,null,null,null,null,null,null,null,null,null,null,null,null,null,null,null,null,null,null,null,null,null,null,null,null,null,null,null,null,null,null,null,null,null,null,null,null,null,null,null,null,null,null,null,null,null,null,null,null,null,null,null,null,null,null,null,null,null,null,null,null,null,null,null,null,null,null,null,null,null,null,null,null,null,null,null,null,null,null,null,null,null,null,null,null,null,null,null,null,null,null,null,null,null,null,null,null,null,null,null,null,null,null,null,null,null,null,null,null,null,null,null,null,null,null,null,null,null,null,null,null,null,null,null,null,null,null,null,null,null,null,null,null,null,null,null,null,null,null,null,null,null,null,null,null,null,null,null,null,null,null,null,null,null,null,null,null,null,null,null,null,null,null,null,null,null,null,null,null,null,null,null,null,null,null,null,null,null,null,null,null,null,null,null,null,null,null,null,null,null,null,null,null,null,null,null,null,null,null,null,null,null,null,null,null,null,null,null,null,null,null,null,null,null,null,null,null,null,null,null,null,null,null,null,null,null,null,null,null,null,null,null,null,null,null,null,null,null,null,null,null,null,null,null,null,null,null,null,null,null,null,null,null,null,null,null,null,null,null,null,null,null,null,null,null,null,null,null,null,null,null,null,null,null,null,null,null,null,null,null,null,null,null,null,null,null,null,null,null,null,null,null,null,null,null,null,null,null,null,null,null,null,null,null,null,null,null,null,null,null,null,null,null,null,null,null,null,null,null,null,null,null,null,null,null,null,null,null,null,null,null,null,null,null,null,null,null,null,null,null,null,null,null,null,null,null,null,null,null,null,null,null,null,null,null,null,null,null,null,null,null,null,null,null,null,null,null,null,null,null,null,null,null,null,null,null,null,null,null,null,null,null,null,null,null,null,null,null,null,null,null,null,null,null,null,null,null,null,null,null,null,null,null,null,null,null,null,null,null,null,null,null,null,null,null,null,null,null,null,null,null,null,null,null,null,null,null,null,null,null,null,null,null,null,null,null,null,null,null,null,null,null,null,null,null,null,null,null,null,null,null,null,null,null,null,null,null,null,null,null,null,null,null,null,null,null,null,null,null,null,null,null,null,null,null,null,null,null,null,null,null,null,null,null,null,null,null,null,null,null,null,null,null,null,null,null,null,null,null,null,null,null,null,null,null,null,null,null,null,null,null,null,null,null,null,null,null,null,null,null,null,null,null,null,null,null,null,null,null,null,null,null,null,null,null,null,null,null,null,null,null,null,null,null,null,null,null,null,null,null,null,null,null,null,null,null,null,null,null,null,null,null,null,null,null,null,null,null,null,null,null,null,null,null,null,null,null,null,null,null,null,null,null,null,null,null,null,null,null,null,null,null,null,null,null,null,null,null,null,null,null,null,null,null,null,null,null,null,null,null,null,null,null,null,null,null,null,null,null,null,null,null,null,null,null,null,null,null,null,null,null,null,null,null,null,null,null,null,null,null,null,null,null,null,null,null,null,null,null,null,null,null,null,null,null,null,null,null,null,null,null,null,null,null,null,null,null,null,null,null,null,null,null,null,null,null,null,null,null,null,null,null,null,null,null,null,null,null,null,null,null,null,null,null,null,null,null,null,null,null,null,null,null,null,null,null,null,null,null,null,null,null,null,null,null,null,null,null,null,null,null,null,null,null,null,null,null,null,null,null,null,null,null,null,null,null,null,null,null,null,null,null,null,null,null,null,null,null,null,null,null,null,null,null,null,null,null,null,null,null,null,null,null,null,null,null,null,null,null,null,null,null,null,null,null,null,null,null,null,null,null,null,null,null,null,null,null,null,null,null,null,null,null,null,null,null,null,null,null,null,null,null,null,null,null,null,null,null,null,null,null,null,null,null,null,null,null,null,null,null,null,null,null,null,null,null,null,null,null,null,null,null,null,null,null,null,null,null,null,null,null,null,null,null,null,null,null,null,null,null,null,null,null,null,null,null,null,null,null,null,null,null,null,null,null,null,null,null,null,null,null,null,null,null,null,null,null,null,null,null,null,null,null,null,null,null,null,null,null,null,null,null,null,null,null,null,null,null,null,null,null,null,null,null,null,null,null,null,null,null,null,null,null,null,null,null,null,null,null,null,null,null,null,null,null,null,null,null,null,null,null,null,null,null,null,null,null,null,null,null,null,null,null,null,null,null,null,null,null,null,null,null,null,null,null,null,null,null,null,null,null,null,null,null,null,null,null,null,null,null,null,null,null,null,null,null,null,null,null,null,null,null,null,null,null,null,null,null,null,null,null,null,null,null,null,null,null,null,null,null,null,null,null,null,null,null,null,null,null,null,null,null,null,null,null,null,null,null,null,null,null,null,null,null,null,null,null,null,null,null,null,null,null,null,null,null,null,null,null,null,null,null,null,null,null,null,null,null,null,null,null,null,null,null,null,null,null,null,null,null,null,null,null,null,null,null,null,null,null,null,null,null,null,null,null,null,null,null,null,null,null,null,null,null,null,null,null,null,null,null,null,null,null,null,null,null,null,null,null,null,null,null,null,null,null,null,null,null,null,null,null,null,null,null,null,null,null,null,null,null,null,null,null,null,null,null,null,null,null,null,null,null,null,null,null,null,null,null,null,null,null,null,null,null,null,null,null,null,null,null,null,null,null,null,null,null,null,null,null,null,null,null,null,null,null,null,null,null,null,null,null,null,null,null,null,null,null,null,null,null,null,null,null,null,null,null,null,null,null,null,null,null,null,null,null,null,null,null,null,null,null,null,null,null,null,null,null,null,null,null,null,null,null,null,null,null,null,null,null,null,null,null,null,null,null,null,null,null,null,null,null,null,null,null,null,null,null,null,null,null,null,null,null,null,null,null,null,null,null,null,null,null,null,null,null,null,null,null,null,null,null,null,null,null,null,null,null,null,null,null,null,null,null,null,null,null,null,null,null,null,null,null,null,null,null,null,null,null,null,null,null,null,null,null,null,null,null,null,null,null,null,null,null,null,null,null,null,null,null,null,null,null,null,null,null,null,null,null,null,null,null,null,null,null,null,null,null,null,null,null,null,null,null,null,null,null,null,null,null,null,null,null,null,null,null,null,null,null,null,null,null,null,null,null,null,null,null,null,null,null,null,null,null,null,null,null,null,null,null,null,null,null,null,null,null,null,null,null,null,null,null,null,null,null,null,null,null,null,null,null,null,null,null,null,null,null,null,null,null,null,null,null,null,null,null,null,null,null,null,null,null,null,null,null,null,null,null,null,null,null,null,null,null,null,null,null,null,null,null,null,null,null,null,null,null,null,null,null,null,null,null,null,null,null,null,null,null,null,null,null,null,null,null,null,null,null,null,null,null,null,null,null,null,null,null,null,null,null,null,null,null,null,null,null,null,null,null,null,null,null,null,null,null,null,null,null,null,null,null,null,null,null,null,null,null,null,null,null,null,null,null,null,null,null,null,null,null,null,null,null,null,null,null,null,null,null,null,null,null,null,null,null,null,null,null,null,null,null,null,null,null,null,null,null,null,null,null,null,null,null,null,null,null,null,null,null,null,null,null,null,null,null,null,null,null,null,null,null,null,null,null,null,null,null,null,null,null,null,null,null,null,null,null,null,null,null,null,null,null,null,null,null,null,null,null,null,null,null,null,null,null,null,null,null,null,null,null,null,null,null,null,null,null,null,null,null,null,null,null,null,null,null,null,null,null,null,null,null,null,null,null,null,null,null,null,null,null,null,null,null,null,null,null,null,null,null,null,null,null,null,null,null,null,null,null,null,null,null,null,null,null,null,null,null,null,null,null,null,null,null,null,null,null,null,null,null,null,null,null,null,null,null,null,null,null,null,null,null,null,null,null,null,null,null,null,null,null,null,null,null,null,null,null,null,null,null,null,null,null,null,null,null,null,null,null,null,null,null,null,null,null,null,null,null,null,null,null,null,null,null,null,null,null,null,null,null,null,null,null,null,null,null,null,null,null,null,null,null,null,null,null,null,null,null,null,null,null,null,null,null,null,null,null,null,null,null,null,null,null,null,null,null,null,null,null,null,null,null,null,null,null,null,null,null,null,null,null,null,null,null,null,null,null,null,null,null,null,null,null,null,null,null,null,null,null,null,null,null,null,null,null,null,null,null,null,null,null,null,null,null,null,null,null,null,null,null,null,null,null,null,null,null,null,null,null,null,null,null,null,null,null,null,null,null,null,null,null,null,null,null,null,null,null,null,null,null,null,null,null,null,null,null,null,null,null,null,null,null,null,null,null,null,null,null,null,null,null,null,null,null,null,null,null,null,null,null,null,null,null,null,null,null,null,null,null,null,null,null,null,null,null,null,null,null,null,null,null,null,null,null,null,null,null,null,null,null,null,null,null,null,null,null,null,null,null,null,null,null,null,null,null,null,null,null,null,null,null,null,null,null,null,null,null,null,null,null,null,null,null,null,null,null,null,null,null,null,null,null,null,null,null,null,null,null,null,null,null,null,null,null,null,null,null,null,null,null,null,null,null,null,null,null,null,null,null,null,null,null,null,null,null,null,null,null,null,null,null,null,null,null,null,null,null,null,null,null,null,null,null,null,null,null,null,null,null,null,null,null,null,null,null,null,null,null,null,null,null,null,null,null,null,null,null,null,null,null,null,null,null,null,null,null,null,null,null,null,null,null,null,null,null,null,null,null,null,null,null,null,null,null,null,null,null,null,null,null,null,null,null,null,null,null,null,null,null,null,null,null,null,null,null,null,null,null,null,null,null,null,null,null,null,null,null,null,null,null,null,null,null,null,null,null,null,null,null,null,null,null,null,null,null,null,null,null,null,null,null,null,null,null,null,null,null,null,null,null,null,null,null,null,null,null,null,null,null,null,null,null,null,null,null,null,null,null,null,null,null,null,null,null,null,null,null,null,null,null,null,null,null,null,null,null,null,null,null,null,null,null,null,null,null,null,null,null,null,null,null,null,null,null,null,null,null,null,null,null,null,null,null,null,null,null,null,null,null,null,null,null,null,null,null,null,null,null,null,null,null,null,null,null,null,null,null,null,null,null,null,null,null,null,null,null,null,null,null,null,null,null,null,null,null,null,null,null,null,null,null,null,null,null,null,null,null,null,null,null,null,null,null,null,null,null,null,null,null,null,null,null,null,null,null,null,null,null,null,null,null,null,null,null,null,null,null,null,null,null,null,null,null,null,null,null,null,null,null,null,null,null,null,null,null,null,null,null,null,null,null,null,null,null,null,null,null,null,null,null,null,null,null,null,null,null,null,null,null,null,null,null,null,null,null,null,null,null,null,null,null,null,null,null,null,null,null,null,null,null,null,null,null,null,null,null,null,null,null,null,null,null,null,null,null,null,null,null,null,null,null,null,null,null,null,null,null,null,null,null,null,null,null,null,null,null,null,null,null,null,null,null,null,null,null,null,null,null,null,null,null,null,null,null,null,null,null,null,null,null,null,null,null,null,null,null,null,null,null,null,null,null,null,null,null,null,null,null,null,null,null,null,null,null,null,null,null,null,null,null,null,null,null,null,null,null,null,null,null,null,null,null,null,null,null,null,null,null,null,null,null,null,null,null,null,null,null,null,null,null,null,null,null,null,null,null,null,null,null,null,null,null,null,null,null,null,null,null,null,null,null,null,null,null,null,null,null,null,null,null,null,null,null,null,null,null,null,null,null,null,null,null,null,null,null,null,null,null,null,null,null,null,null,null,null,null,null,null,null,null,null,null,null,null,null,null,null,null,null,null,null,null,null,null,null,null,null,null,null,null,null,null,null,null,null,null,null,null,null,null,null,null,null,null,null,null,null,null,null,null,null,null,null,null,null,null,null,null,null,null,null,null,null,null,null,null,null,null,null,null,null,null,null,null,null,null,null,null,null,null,null,null,null,null,null,null,null,null,null,null,null,null,null,null,null,null,null,null,null,null,null,null,null,null,null,null,null,null,null,null,null,null,null,null,null,null,null,null,null,null,null,null,null,null,null,null,null,null,null,null,null,null,null,null,null,null,null,null,null,null,null,null,null,null,null,null,null,null,null,null,null,null,null,null,null,null,null,null,null,null,null,null,null,null,null,null,null,null,null,null,null,null,null,null,null,null,null,null,null,null,null,null,null,null,null,null,null,null,null,null,null,null,null,null,null,null,null,null,null,null,null,null,null,null,null,null,null,null,null,null,null,null,null,null,null,null,null,null,null,null,null,null,null,null,null,null,null,null,null,null,null,null,null,null,null,null,null,null,null,null,null,null,null,null,null,null,null,null,null,null,null,null,null,null,null,null,null,null,null,null,null,null,null,null,null,null,null,null,null,null,null,null,null,null,null,null,null,null,null,null,null,null,null,null,null,null,null,null,null,null,null,null,null,null,null,null,null,null,null,null,null,null,null,null,null,null,null,null,null,null,null,null,null,null,null,null,null,null,null,null,null,null,null,null,null,null,null,null,null,null,null,null,null,null,null,null,null,null,null,null,null,null,null,null,null,null,null,null,null,null,null,null,null,null,null,null,null,null,null,null,null,null,null,null,null,null,null,null,null,null,null,null,null,null,null,null,null,null,null,null,null,null,null,null,null,null,null,null,null,null,null,null,null,null,null,null,null,null,null,null,null,null,null,null,null,null,null,null,null,null,null,null,null,null,null,null,null,null,null,null,null,null,null,null,null,null,null,null,null,null,null,null,null,null,null,null,null,null,null,null,null,null,null,null,null,null,null,null,null,null,null,null,null,null,null,null,null,null,null,null,null,null,null,null,null,null,null,null,null,null,null,null,null,null,null,null,null,null,null,null,null,null,null,null,null,null,null,null,null,null,null,null,null,null,null,null,null,null,null,null,null,null,null,null,null,null,null,null,null,null,null,null,null,null,null,null,null,null,null,null,null,null,null,null,null,null,null,null,null,null,null,null,null,null,null,null,null,null,null,null,null,null,null,null,null,null,null,null,null,null,null,null,null,null,null,null,null,null,null,null,null,null,null,null,null,null,null,null,null,null,null,null,null,null,null,null,null,null,null,null,null,null,null,null,null,null,null,null,null,null,null,null,null,null,null,null,null,null,null,null,null,null,null,null,null,null,null,null,null,null,null,null,null,null,null,null,null,null,null,null,null,null,null,null,null,null,null,null,null,null,null,null,null,null,null,null,null,null,null,null,null,null,null,null,null,null,null,null,null,null,null,null,null,null,null,null,null,null,null,null,null,null,null,null,null,null,null,null,null,null,null,null,null,null,null,null,null,null,null,null,null,null,null,null,null,null,null,null,null,null,null,null,null,null,null,null,null,null,null,null,null,null,null,null,null,null,null,null,null,null,null,null,null,null,null,null,null,null,null,null,null,null,null,null,null,null,null,null,null,null,null,null,null,null,null,null,null,null,null,null,null,null,null,null,null,null,null,null,null,null,null,null,null,null,null,null,null,null,null,null,null,null,null,null,null,null,null,null,null,null,null,null,null,null,null,null,null,null,null,null,null,null,null,null,null,null,null,null,null,null,null,null,null,null,null,null,null,null,null,null,null,null,null,null,null,null,null,null,null,null,null,null,null,null,null,null,null,null,null,null,null,null,null,null,null,null,null,null,null,null,null,null,null,null,null,null,null,null,null,null,null,null,null,null,null,null,null,null,null,null,null,null,null,null,null,null,null,null,null,null,null,null,null,null,null,null,null,null,null,null,null,null,null,null,null,null,null,null,null,null,null,null,null,null,null,null,null,null,null,null,null,null,null,null,null,null,null,null,null,null,null,null,null,null,null,null,null,null,null,null,null,null,null,null,null,null,null,null,null,null,null,null,null,null,null,null,null,null,null,null,null,null,null,null,null,null,null,null,null,null,null,null,null,null,null,null,null,null,null,null,null,null,null,null,null,null,null,null,null,null,null,null,null,null,null,null,null,null,null,null,null,null,null,null,null,null,null,null,null,null,null,null,null,null,null,null,null,null,null,null,null,null,null,null,null,null,null,null,null,null,null,null,null,null,null,null,null,null,null,null,null,null,null,null,null,null,null,null,null,null,null,null,null,null,null,null,null,null,null,null,null,null,null,null,null,null,null,null,null,null,null,null,null,null,null,null,null,null,null,null,null,null,null,null,null,null,null,null,null,null,null,null,null,null,null,null,null,null,null,null,null,null,null,null,null,null,null,null,null,null,null,null,null,null,null,null,null,null,null,null,null,null,null,null,null,null,null,null,null,null,null,null,null,null,null,null,null,null,null,null,null,null,null,null,null,null,null,null,null,null,null,null,null,null,null,null,null,null,null,null,null,null,null,null,null,null,null,null,null,null,null,null,null,null,null,null,null,null,null,null,null,null,null,null,null,null,null,null,null,null,null,null,null,null,null,null,null,null,null,null,null,null,null,null,null,null,null,null,null,null,null,null,null,null,null,null,null,null,null,null,null,null,null,null,null,null,null,null,null,null,null,null,null,null,null,null,null,null,null,null,null,null,null,null,null,null,null,null,null,null,null,null,null,null,null,null,null,null,null,null,null,null,null,null,null,null,null,null,null,null,null,null,null,null,null,null,null,null,null,null,null,null,null,null,null,null,null,null,null,null,null,null,null,null,null,null,null,null,null,null,null,null,null,null,null,null,null,null,null,null,null,null,null,null,null,null,null,null,null,null,null,null,null,null,null,null,null,null,null,null,null,null,null,null,null,null,null,null,null,null,null,null,null,null,null,null,null,null,null,null,null,null,null,null,null,null,null,null,null,null,null,null,null,null,null,null,null,null,null,null,null,null,null,null,null,null,null,null,null,null,null,null,null,null,null,null,null,null,null,null,null,null,null,null,null,null,null,null,null,null,null,null,null,null,null,null,null,null,null,null,null,null,null,null,null,null,null,null,null,null,null,null,null,null,null,null,null,null,null,null,null,null,null,null,null,null,null,null,null,null,null,null,null,null,null,null,null,null,null,null,null,null,null,null,null,null,null,null,null,null,null,null,null,null,null,null,null,null,null,null,null,null,null,null,null,null,null,null,null,null,null,null,null,null,null,null,null,null,null,null,null,null,null,null,null,null,null,null,null,null,null,null,null,null,null,null,null,null,null,null,null,null,null,null,null,null,null,null,null,null,null,null,null,null,null,null,null,null,null,null,null,null,null,null,null,null,null,null,null,null,null,null,null,null,null,null,null,null,null,null,null,null,null,null,null,null,null,null,null,null,null,null,null,null,null,null,null,null,null,null,null,null,null,null,null,null,null,null,null,null,null,null,null,null,null,null,null,null,null,null,null,null,null,null,null,null,null,null,null,null,null,null,null,null,null,null,null,null,null,null,null,null,null,null,null,null,null,null,null,null,null,null,null,null,null,null,null,null,null,null,null,null,null,null,null,null,null,null,null,null,null,null,null,null,null,null,null,null,null,null,null,null,null,null,null,null,null,null,null,null,null,null,null,null,null,null,null,null,null,null,null,null,null,null,null,null,null,null,null,null,null,null,null,null,null,null,null,null,null,null,null,null,null,null,null,null,null,null,null,null,null,null,null,null,null,null,null,null,null,null,null,null,null,null,null,null,null,null,null,null,null,null,null,null,null,null,null,null,null,null,null,null,null,null,null,null,null,null,null,null,null,null,null,null,null,null,null,null,null,null,null,null,null,null,null,null,null,null,null,null,null,null,null,null,null,null,null,null,null,null,null,null,null,null,null,null,null,null,null,null,null,null,null,null,null,null,null,null,null,null,null,null,null,null,null,null,null,null,null,null,null,null,null,null,null,null,null,null,null,null,null,null,null,null,null,null,null,null,null,null,null,null,null,null,null,null,null,null,null,null,null,null,null,null,null,null,null,null,null,null,null,null,null,null,null,null,null,null,null,null,null,null,null,null,null,null,null,null,null,null,null,null,null,null,null,null,null,null,null,null,null,null,null,null,null,null,null,null,null,null,null,null,null,null,null,null,null,null,null,null,null,null,null,null,null,null,null,null,null,null,null,null,null,null,null,null,null,null,null,null,null,null,null,null,null,null,null,null,null,null,null,null,null,null,null,null,null,null,null,null,null,null,null,null,null,null,null,null,null,null,null,null,null,null,null,null,null,null,null,null,null,null,null,null,null,null,null,null,null,null,null,null,null,null,null,null,null,null,null,null,null,null,null,null,null,null,null,null,null,null,null,null,null,null,null,null,null,null,null,null,null,null,null,null,null,null,null,null,null,null,null,null,null,null,null,null,null,null,null,null,null,null,null,null,null,null,null,null,null,null,null,null,null,null,null,null,null,null,null,null,null,null,null,null,null,null,null,null,null,null,null,null,null,null,null,null,null,null,null,null,null,null,null,null,null,null,null,null,null,null,null,null,null,null,null,null,null,null,null,null,null,null,null,null,null,null,null,null,null,null,null,null,null,null,null,null,null,null,null,null,null,null,null,null,null,null,null,null,null,null,null,null,null,null,null,null,null,null,null,null,null,null,null,null,null,null,null,null,null,null,null,null,null,null,null,null,null,null,null,null,null,null,null,null,null,null,null,null,null,null,null,null,null,null,null,null,null,null,null,null,null,null,null,null,null,null,null,null,null,null,null,null,null,null,null,null,null,null,null,null,null,null,null,null,null,null,null,null,null,null,null,null,null,null,null,null,null,null,null,null,null,null,null,null,null,null,null,null,null,null,null,null,null,null,null,null,null,null,null,null,null,null,null,null,null,null,null,null,null,null,null,null,null,null,null,null,null,null,null,null,null,null,null,null,null,null,null,null,null,null,null,null,null,null,null,null,null,null,null,null,null,null,null,null,null,null,null,null,null,null,null,null,null,null,null,null,null,null,null,null,null,null,null,null,null,null,null,null,null,null,null,null,null,null,null,null,null,null,null,null,null,null,null,null,null,null,null,null,null,null,null,null,null,null,null,null,null,null,null,null,null,null,null,null,null,null,null,null,null,null,null,null,null,null,null,null,null,null,null,null,null,null,null,null,null,null,null,null,null,null,null,null,null,null,null,null,null,null,null,null,null,null,null,null,null,null,null,null,null,null,null,null,null,null,null,null,null,null,null,null,null,null,null,null,null,null,null,null,null,null,null,null,null,null,null,null,null,null,null,null,null,null,null,null,null,null,null,null,null,null,null,null,null,null,null,null,null,null,null,null,null,null,null,null,null,null,null,null,null,null,null,null,null,null,null,null,null,null,null,null,null,null,null,null,null,null,null,null,null,null,null,null,null,null,null,null,null,null,null,null,null,null,null,null,null,null,null,null,null,null,null,null,null,null,null,null,null,null,null,null,null,null,null,null,null,null,null,null,null,null,null,null,null,null,null,null,null,null,null,null,null,null,null,null,null,null,null,null,null,null,null,null,null,null,null,null,null,null,null,null,null,null,null,null,null,null,null,null,null,null,null,null,null,null,null,null,null,null,null,null,null,null,null,null,null,null,null,null,null,null,null,null,null,null,null,null,null,null,null,null,null,null,null,null,null,null,null,null,null,null,null,null,null,null,null,null,null,null,null,null,null,null,null,null,null,null,null,null,null,null,null,null,null,null,null,null,null,null,null,null,null,null,null,null,null,null,null,null,null,null,null,null,null,null,null,null,null,null,null,null,null,null,null,null,null,null,null,null,null,null,null,null,null,null,null,null,null,null,null,null,null,null,null,null,null,null,null,null,null,null,null,null,null,null,null,null,null,null,null,null,null,null,null,null,null,null,null,null,null,null,null,null,null,null,null,null,null,null,null,null,null,null,null,null,null,null,null,null,null,null,null,null,null,null,null,null,null,null,null,null,null,null,null,null,null,null,null,null,null,null,null,null,null,null,null,null,null,null,null,null,null,null,null,null,null,null,null,null,null,null,null,null,null,null,null,null,null,null,null,null,null,null,null,null,null,null,null,null,null,null,null,null,null,null,null,null,null,null,null,null,null,null,null,null,null,null,null,null,null,null,null,null,null,null,null,null,null,null,null,null,null,null,null,null,null,null,null,null,null,null,null,null,null,null,null,null,null,null,null,null,null,null,null,null,null,null,null,null,null,null,null,null,null,null,null,null,null,null,null,null,null,null,null,null,null,null,null,null,null,null,null,null,null,null,null,null,null,null,null,null,null,null,null,null,null,null,null,null,null,null,null,null,null,null,null,null,null,null,null,null,null,null,null,null,null,null,null,null,null,null,null,null,null,null,null,null,null,null,null,null,null,null,null,null,null,null,null,null,null,null,null,null,null,null,null,null,null,null,null,null,null,null,null,null,null,null,null,null,null,null,null,null,null,null,null,null,null,null,null,null,null,null,null,null,null,null,null,null,null,null,null,null,null,null,null,null,null,null,null,null,null,null,null,null,null,null,null,null,null,null,null,null,null,null,null,null,null,null,null,null,null,null,null,null,null,null,null,null,null,null,null,null,null,null,null,null,null,null,null,null,null,null,null,null,null,null,null,null,null,null,null,null,null,null,null,null,null,null,null,null,null,null,null,null,null,null,null,null,null,null,null,null,null,null,null,null,null,null,null,null,null,null,null,null,null,null,null,null,null,null,null,null,null,null,null,null,null,null,null,null,null,null,null,null,null,null,null,null,null,null,null,null,null,null,null,null,null,null,null,null,null,null,null,null,null,null,null,null,null,null,null,null,null,null,null,null,null,null,null,null,null,null,null,null,null,null,null,null,null,null,null,null,null,null,null,null,null,null,null,null,null,null,null,null,null,null,null,null,null,null,null,null,null,null,null,null,null,null,null,null,null,null,null,null,null,null,null,null,null,null,null,null,null,null,null,null,null,null,null,null,null,null,null,null,null,null,null,null,null,null,null,null,null,null,null,null,null,null,null,null,null,null,null,null,null,null,null,null,null,null,null,null,null,null,null,null,null,null,null,null,null,null,null,null,null,null,null,null,null,null,null,null,null,null,null,null,null,null,null,null,null,null,null,null,null,null,null,null,null,null,null,null,null,null,null,null,null,null,null,null,null,null,null,null,null,null,null,null,null,null,null,null,null,null,null,null,null,null,null,null,null,null,null,null,null,null,null,null,null,null,null,null,null,null,null,null,null,null,null,null,null,null,null,null,null,null,null,null,null,null,null,null,null,null,null,null,null,null,null,null,null,null,null,null,null,null,null,null,null,null,null,null,null,null,null,null,null,null,null,null,null,null,null,null,null,null,null,null,null,null,null,null,null,null,null,null,null,null,null,null,null,null,null,null,null,null,null,null,null,null,null,null,null,null,null,null,null,null,null,null,null,null,null,null,null,null,null,null,null,null,null,null,null,null,null,null,null,null,null,null,null,null,null,null,null,null,null,null,null,null,null,null,null,null,null,null,null,null,null,null,null,null,null,null,null,null,null,null,null,null,null,null,null,null,null,null,null,null,null,null,null,null,null,null,null,null,null,null,null,null,null,null,null,null,null,null,null,null,null,null,null,null,null,null,null,null,null,null,null,null,null,null,null,null,null,null,null,null,null,null,null,null,null,null,null,null,null,null,null,null,null,null,null,null,null,null,null,null,null,null,null,null,null,null,null,null,null,null,null,null,null,null,null,null,null,null,null,null,null,null,null,null,null,null,null,null,null,null,null,null,null,null,null,null,null,null,null,null,null,null,null,null,null,null,null,null,null,null,null,null,null,null,null,null,null,null,null,null,null,null,null,null,null,null,null,null,null,null,null,null,null,null,null,null,null,null,null,null,null,null,null,null,null,null,null,null,null,null,null,null,null,null,null,null,null,null,null,null,null,null,null,null,null,null,null,null,null,null,null,null,null,null,null,null,null,null,null,null,null,null,null,null,null,null,null,null,null,null,null,null,null,null,null,null,null,null,null,null,null,null,null,null,null,null,null,null,null,null,null,null,null,null,null,null,null,null,null,null,null,null,null,null,null,null,null,null,null,null,null,null,null,null,null,null,null,null,null,null,null,null,null,null,null,null,null,null,null,null,null,null,null,null,null,null,null,null,null,null,null,null,null,null,null,null,null,null,null,null,null,null,null,null,null,null,null,null,null,null,null,null,null,null,null,null,null,null,null,null,null,null,null,null,null,null,null,null,null,null,null,null,null,null,null,null,null,null,null,null,null,null,null,null,null,null,null,null,null,null,null,null,null,null,null,null,null,null,null,null,null,null,null,null,null,null,null,null,null,null,null,null,null,null,null,null,null,null,null,null,null,null,null,null,null,null,null,null,null,null,null,null,null,null,null,null,null,null,null,null,null,null,null,null,null,null,null,null,null,null,null,null,null,null,null,null,null,null,null,null,null,null,null,null,null,null,null,null,null,null,null,null,null,null,null,null,null,null,null,null,null,null,null,null,null,null,null,null,null,null,null,null,null,null,null,null,null,null,null,null,null,null,null,null,null,null,null,null,null,null,null,null,null,null,null,null,null,null,null,null,null,null,null,null,null,null,null,null,null,null,null,null,null,null,null,null,null,null,null,null,null,null,null,null,null,null,null,null,null,null,null,null,null,null,null,null,null,null,null,null,null,null,null,null,null,null,null,null,null,null,null,null,null,null,null,null,null,null,null,null,null,null,null,null,null,null,null,null,null,null,null,null,null,null,null,null,null,null,null,null,null,null,null,null,null,null,null,null,null,null,null,null,null,null,null,null,null,null,null,null,null,null,null,null,null,null,null,null,null,null,null,null,null,null,null,null,null,null,null,null,null,null,null,null,null,null,null,null,null,null,null,null,null,null,null,null,null,null,null,null,null,null,null,null,null,null,null,null,null,null,null,null,null,null,null,null,null,null,null,null,null,null,null,null,null,null,null,null,null,null,null,null,null,null,null,null,null,null,null,null,null,null,null,null,null,null,null,null,null,null,null,null,null,null,null,null,null,null,null,null,null,null,null,null,null,null,null,null,null,null,null,null,null,null,null,null,null,null,null,null,null,null,null,null,null,null,null,null,null,null,null,null,null,null,null,null,null,null,null,null,null,null,null,null,null,null,null,null,null,null,null,null,null,null,null,null,null,null,null,null,null,null,null,null,null,null,null,null,null,null,null,null,null,null,null,null,null,null,null,null,null,null,null,null,null,null,null,null,null,null,null,null,null,null,null,null,null,null,null,null,null,null,null,null,null,null,null,null,null,null,null,null,null,null,null,null,null,null,null,null,null,null,null,null,null,null,null,null,null,null,null,null,null,null,null,null,null,null,null,null,null,null,null,null,null,null,null,null,null,null,null,null,null,null,null,null,null,null,null,null,null,null,null,null,null,null,null,null,null,null,null,null,null,null,null,null,null,null,null,null,null,null,null,null,null,null,null,null,null,null,null,null,null,null,null,null,null,null,null,null,null,null,null,null,null,null,null,null,null,null,null,null,null,null,null,null,null,null,null,null,null,null,null,null,null,null,null,null,null,null,null,null,null,null,null,null,null,null,null,null,null,null,null,null,null,null,null,null,null,null,null,null,null,null,null,null,null,null,null,null,null,null,null,null,null,null,null,null,null,null,null,null,null,null,null,null,null,null,null,null,null,null,null,null,null,null,null,null,null,null,null,null,null,null,null,null,null,null,null,null,null,null,null,null,null,null,null,null,null,null,null,null,null,null,null,null,null,null,null,null,null,null,null,null,null,null,null,null,null,null,null,null,null,null,null,null,null,null,null,null,null,null,null,null,null,null,null,null,null,null,null,null,null,null,null,null,null,null,null,null,null,null,null,null,null,null,null,null,null,null,null,null,null,null,null,null,null,null,null,null,null,null,null,null,null,null,null,null,null,null,null,null,null,null,null,null,null,null,null,null,null,null,null,null,null,null,null,null,null,null,null,null,null,null,null,null,null,null,null,null,null,null,null,null,null,null,null,null,null,null,null,null,null,null,null,null,null,null,null,null,null,null,null,null,null,null,null,null,null,null,null,null,null,null,null,null,null,null,null,null,null,null,null,null,null,null,null,null,null,null,null,null,null,null,null,null,null,null,null,null,null,null,null,null,null,null,null,null,null,null,null,null,null,null,null,null,null,null,null,null,null,null,null,null,null,null,null,null,null,null,null,null,null,null,null,null,null,null,null,null,null,null,null,null,null,null,null,null,null,null,null,null,null,null,null,null,null,null,null,null,null,null,null,null,null,null,null,null,null,null,null,null,null,null,null,null,null,null,null,null,null,null,null,null,null,null,null,null,null,null,null,null,null,null,null,null,null,null,null,null,null,null,null,null,null,null,null,null,null,null,null,null,null,null,null,null,null,null,null,null,null,null,null,null,null,null,null,null,null,null,null,null,null,null,null,null,null,null,null,null,null,null,null,null,null,null,null,null,null,null,null,null,null,null,null,null,null,null,null,null,null,null,null,null,null,null,null,null,null,null,null,null,null,null,null,null,null,null,null,null,null,null,null,null,null,null,null,null,null,null,null,null,null,null,null,null,null,null,null,null,null,null,null,null,null,null,null,null,null,null,null,null,null,null,null,null,null,null,null,null,null,null,null,null,null,null,null,null,null,null,null,null,null,null,null,null,null,null,null,null,null,null,null,null,null,null,null,null,null,null,null,null,null,null,null,null,null,null,null,null,null,null,null,null,null,null,null,null,null,null,null,null,null,null,null,null,null,null,null,null,null,null,null,null,null,null,null,null,null,null,null,null,null,null,null,null,null,null,null,null,null,null,null,null,null,null,null,null,null,null,null,null,null,null,null,null,null,null,null,null,null,null,null,null,null,null,null,null,null,null,null,null,null,null,null,null,null,null,null,null,null,null,null,null,null,null,null,null,null,null,null,null,null,null,null,null,null,null,null,null,null,null,null,null,null,null,null,null,null,null,null,null,null,null,null,null,null,null,null,null,null,null,null,null,null,null,null,null,null,null,null,null,null,null,null,null,null,null,null,null,null,null,null,null,null,null,null,null,null,null,null,null,null,null,null,null,null,null,null,null,null,null,null,null,null,null,null,null,null,null,null,null,null,null,null,null,null,null,null,null,null,null,null,null,null,null,null,null,null,null,null,null,null,null,null,null,null,null,null,null,null,null,null,null,null,null,null,null,null,null,null,null,null,null,null,null,null,null,null,null,null,null,null,null,null,null,null,null,null,null,null,null,null,null,null,null,null,null,null,null,null,null,null,null,null,null,null,null,null,null,null,null,null,null,null,null,null,null,null,null,null,null,null,null,null,null,null,null,null,null,null,null,null,null,null,null,null,null,null,null,null,null,null,null,null,null,null,null,null,null,null,null,null,null,null,null,null,null,null,null,null,null,null,null,null,null,null,null,null,null,null,null,null,null,null,null,null,null,null,null,null,null,null,null,null,null,null,null,null,null,null,null,null,null,null,null,null,null,null,null,null,null,null,null,null,null,null,null,null,null,null,null,null,null,null,null,null,null,null,null,null,null,null,null,null,null,null,null,null,null,null,null,null,null,null,null,null,null,null,null,null,null,null,null,null,null,null,null,null,null,null,null,null,null,null,null,null,null,null,null,null,null,null,null,null,null,null,null,null,null,null,null,null,null,null,null,null,null,null,null,null,null,null,null,null,null,null,null,null,null,null,null,null,null,null,null,null,null,null,null,null,null,null,null,null,null,null,null,null,null,null,null,null,null,null,null,null,null,null,null,null,null,null,null,null,null,null,null,null,null,null,null,null,null,null,null,null,null,null,null,null,null,null,null,null,null,null,null,null,null,null,null,null,null,null,null,null,null,null,null,null,null,null,null,null,null,null,null,null,null,null,null,null,null,null,null,null,null,null,null,null,null,null,null,null,null,null,null,null,null,null,null,null,null,null,null,null,null,null,null,null,null,null,null,null,null,null,null,null,null,null,null,null,null,null,null,null,null,null,null,null,null,null,null,null,null,null,null,null,null,null,null,null,null,null,null,null,null,null,null,null,null,null,null,null,null,null,null,null,null,null,null,null,null,null,null,null,null,null,null,null,null,null,null,null,null,null,null,null,null,null,null,null,null,null,null,null,null,null,null,null,null,null,null,null,null,null,null,null,null,null,null,null,null,null,null,null,null,null,null,null,null,null,null,null,null,null,null,null,null,null,null,null,null,null,null,null,null,null,null,null,null,null,null,null,null,null,null,null,null,null,null,null,null,null,null,null,null,null,null,null,null,null,null,null,null,null,null,null,null,null,null,null,null,null,null,null,null,null,null,null,null,null,null,null,null,null,null,null,null,null,null,null,null,null,null,null,null,null,null,null,null,null,null,null,null,null,null,null,null,null,null,null,null,null,null,null,null,null,null,null,null,null,null,null,null,null,null,null,null,null,null,null,null,null,null,null,null,null,null,null,null,null,null,null,null,null,null,null,null,null,null,null,null,null,null,null,null,null,null,null,null,null,null,null,null,null,null,null,null,null,null,null,null,null,null,null,null,null,null,null,null,null,null,null,null,null,null,null,null,null,null,null,null,null,null,null,null,null,null,null,null,null,null,null,null,null,null,null,null,null,null,null,null,null,null,null,null,null,null,null,null,null,null,null,null,null,null,null,null,null,null,null,null,null,null,null,null,null,null,null,null,null,null,null,null,null,null,null,null,null,null,null,null,null,null,null,null,null,null,null,null,null,null,null,null,null,null,null,null,null,null,null,null,null,null,null,null,null,null,null,null,null,null,null,null,null,null,null,null,null,null,null,null,null,null,null,null,null,null,null,null,null,null,null,null,null,null,null,null,null,null,null,null,null,null,null,null,null,null,null,null,null,null,null,null,null,null,null,null,null,null,null,null,null,null,null,null,null,null,null,null,null,null,null,null,null,null,null,null,null,null,null,null,null,null,null,null,null,null,null,null,null,null,null,null,null,null,null,null,null,null,null,null,null,null,null,null,null,null,null,null,null,null,null,null,null,null,null,null,null,null,null,null,null,null,null,null,null,null,null,null,null,null,null,null,null,null,null,null,null,null,null,null,null,null,null,null,null,null,null,null,null,null,null,null,null,null,null,null,null,null,null,null,null,null,null,null,null,null,null,null,null,null,null,null,null,null,null,null,null,null,null,null,null,null,null,null,null,null,null,null,null,null,null,null,null,null,null,null,null,null,null,null,null,null,null,null,null,null,null,null,null,null,null,null,null,null,null,null,null,null,null,null,null,null,null,null,null,null,null,null,null,null,null,null,null,null,null,null,null,null,null,null,null,null,null,null,null,null,null,null,null,null,null,null,null,null,null,null,null,null,null,null,null,null,null,null,null,null,null,null,null,null,null,null,null,null,null,null,null,null,null,null,null,null,null,null,null,null,null,null,null,null,null,null,null,null,null,null,null,null,null,null,null,null,null,null,null,null,null,null,null,null,null,null,null,null,null,null,null,null,null,null,null,null,null,null,null,null,null,null,null,null,null,null,null,null,null,null,null,null,null,null,null,null,null,null,null,null,null,null,null,null,null,null,null,null,null,null,null,null,null,null,null,null,null,null,null,null,null,null,null,null,null,null,null,null,null,null,null,null,null,null,null,null,null,null,null,null,null,null,null,null,null,null,null,null,null,null,null,null,null,null,null,null,null,null,null,null,null,null,null,null,null,null,null,null,null,null,null,null,null,null,null,null,null,null,null,null,null,null,null,null,null,null,null,null,null,null,null,null,null,null,null,null,null,null,null,null,null,null,null,null,null,null,null,null,null,null,null,null,null,null,null,null,null,null,null,null,null,null,null,null,null,null,null,null,null,null,null,null,null,null,null,null,null,null,null,null,null,null,null,null,null,null,null,null,null,null,null,null,null,null,null,null,null,null,null,null,null,null,null,null,null,null,null,null,null,null,null,null,null,null,null,null,null,null,null,null,null,null,null,null,null,null,null,null,null,null,null,null,null,null,null,null,null,null,null,null,null,null,null,null,null,null,null,null,null,null,null,null,null,null,null,null,null,null,null,null,null,null,null,null,null,null,null,null,null,null,null,null,null,null,null,null,null,null,null,null,null,null,null,null,null,null,null,null,null,null,null,null,null,null,null,null,null,null,null,null,null,null,null,null,null,null,null,null,null,null,null,null,null,null,null,null,null,null,null,null,null,null,null,null,null,null,null,null,null,null,null,null,null,null,null,null,null,null,null,null,null,null,null,null,null,null,null,null,null,null,null,null,null,null,null,null,null,null,null,null,null,null,null,null,null,null,null,null,null,null,null,null,null,null,null,null,null,null,null,null,null,null,null,null,null,null,null,null,null,null,null,null,null,null,null,null,null,null,null,null,null,null,null,null,null,null,null,null,null,null,null,null,null,null,null,null,null,null,null,null,null,null,null,null,null,null,null,null,null,null,null,null,null,null,null,null,null,null,null,null,null,null,null,null,null,null,null,null,null,null,null,null,null,null,null,null,null,null,null,null,null,null,null,null,null,null,null,null,null,null,null,null,null,null,null,null,null,null,null,null,null,null,null,null,null,null,null,null,null,null,null,null,null,null,null,null,null,null,null,null,null,null,null,null,null,null,null,null,null,null,null,null,null,null,null,null,null,null,null,null,null,null,null,null,null,null,null,null,null,null,null,null,null,null,null,null,null,null,null,null,null,null,null,null,null,null,null,null,null,null,null,null,null,null,null,null,null,null,null,null,null,null,null,null,null,null,null,null,null,null,null,null,null,null,null,null,null,null,null,null,null,null,null,null,null,null,null,null,null,null,null,null,null,null,null,null,null,null,null,null,null,null,null,null,null,null,null,null,null,null,null,null,null,null,null,null,null,null,null,null,null,null,null,null,null,null,null,null,null,null,null,null,null,null,null,null,null,null,null,null,null,null,null,null,null,null,null,null,null,null,null,null,null,null,null,null,null,null,null,null,null,null,null,null,null,null,null,null,null,null,null,null,null,null,null,null,null,null,null,null,null,null,null,null,null,null,null,null,null,null,null,null,null,null,null,null,null,null,null,null,null,null,null,null,null,null,null,null,null,null,null,null,null,null,null,null,null,null,null,null,null,null,null,null,null,null,null,null,null,null,null,null,null,null,null,null,null,null,null,null,null,null,null,null,null,null,null,null,null,null,null,null,null,null,null,null,null,null,null,null,null,null,null,null,null,null,null,null,null,null,null,null,null,null,null,null,null,null,null,null,null,null,null,null,null,null,null,null,null,null,null,null,null,null,null,null,null,null,null,null,null,null,null,null,null,null,null,null,null,null,null,null,null,null,null,null,null,null,null,null,null,null,null,null,null,null,null,null,null,null,null,null,null,null,null,null,null,null,null,null,null,null,null,null,null,null,null,null,null,null,null,null,null,null,null,null,null,null,null,null,null,null,null,null,null,null,null,null,null,null,null,null,null,null,null,null,null,null,null,null,null,null,null,null,null,null,null,null,null,null,null,null,null,null,null,null,null,null,null,null,null,null,null,null,null,null,null,null,null,null,null,null,null,null,null,null,null,null,null,null,null,null,null,null,null,null,null,null,null,null,null,null,null,null,null,null,null,null,null,null,null,null,null,null,null,null,null,null,null,null,null,null,null,null,null,null,null,null,null,null,null,null,null,null,null,null,null,null,null,null,null,null,null,null,null,null,null,null,null,null,null,null,null,null,null,null,null,null,null,null,null,null,null,null,null,null,null,null,null,null,null,null,null,null,null,null,null,null,null,null,null,null,null,null,null,null,null,null,null,null,null,null,null,null,null,null,null,null,null,null,null,null,null,null,null,null,null,null,null,null,null,null,null,null,null,null,null,null,null,null,null,null,null,null,null,null,null,null,null,null,null,null,null,null,null,null,null,null,null,null,null,null,null,null,null,null,null,null,null,null,null,null,null,null,null,null,null,null,null,null,null,null,null,null,null,null,null,null,null,null,null,null,null,null,null,null,null,null,null,null,null,null,null,null,null,null,null,null,null,null,null,null,null,null,null,null,null,null,null,null,null,null,null,null,null,null,null,null,null,null,null,null,null,null,null,null,null,null,null,null,null,null,null,null,null,null,null,null,null,null,null,null,null,null,null,null,null,null,null,null,null,null,null,null,null,null,null,null,null,null,null,null,null,null,null,null,null,null,null,null,null,null,null,null,null,null,null,null,null,null,null,null,null,null,null,null,null,null,null,null,null,null,null,null,null,null,null,null,null,null,null,null,null,null,null,null,null,null,null,null,null,null,null,null,null,null,null,null,null,null,null,null,null,null,null,null,null,null,null,null,null,null,null,null,null,null,null,null,null,null,null,null,null,null,null,null,null,null,null,null,null,null,null,null,null,null,null,null,null,null,null,null,null,null,null,null,null,null,null,null,null,null,null,null,null,null,null,null,null,null,null,null,null,null,null,null,null,null,null,null,null,null,null,null,null,null,null,null,null,null,null,null,null,null,null,null,null,null,null,null,null,null,null,null,null,null,null,null,null,null,null,null,null,null,null,null,null,null,null,null,null,null,null,null,null,null,null,null,null,null,null,null,null,null,null,null,null,null,null,null,null,null,null,null,null,null,null,null,null,null,null,null,null,null,null,null,null,null,null,null,null,null,null,null,null,null,null,null,null,null,null,null,null,null,null,null,null,null,null,null,null,null,null,null,null,null,null,null,null,null,null,null,null,null,null,null,null,null,null,null,null,null,null,null,null,null,null,null,null,null,null,null,null,null,null,null,null,null,null,null,null,null,null,null,null,null,null,null,null,null,null,null,null,null,null,null,null,null,null,null,null,null,null,null,null,null,null,null,null,null,null,null,null,null,null,null,null,null,null,null,null,null,null,null,null,null,null,null,null,null,null,null,null,null,null,null,null,null,null,null,null,null,null,null,null,null,null,null,null,null,null,null,null,null,null,null,null,null,null,null,null,null,null,null,null,null,null,null,null,null,null,null,null,null,null,null,null,null,null,"E"]
[null,null,null,null,null,null,null,null,null,null,null,null,null,"GRADE LEVEL*"]
[null,null,null,null,null,null,null,null,null,null,null,null,null,"SECTION*"]
[]
["No.","Lastname, Firstname Middlename","Select Month:"]
[null,"MALE","January"]
[{"$f":"IF(B13=\"\",\"\",\"1\")","v":"1"},"Student 1",{"$f":"_xlfn.IFS($C$12=\"January\",JAN!AL14,$C$12=\"February\",FEB!AL14,$C$12=\"March\",MAR!AL14,$C$12=\"April\",APR!AL14,$C$12=\"May\",MAY!AL14,$C$12=\"June\",JUN!AL14,$C$12=\"July\",JUL!AL14,$C$12=\"August\",AUG!AL14,$C$12=\"September\",SEP!AL14,$C$12=\"October\",OCT!AL14,$C$12=\"November\",NOV!AL14,$C$12=\"December\",DEC!AL14)","v":25}]
[{"$f":"IF(B14=\"\",\"\",A13+1)","v":2},"Student 2",{"$f":"_xlfn.IFS($C$12=\"January\",JAN!AL15,$C$12=\"February\",FEB!AL15,$C$12=\"March\",MAR!AL15,$C$12=\"April\",APR!AL15,$C$12=\"May\",MAY!AL15,$C$12=\"June\",JUN!AL15,$C$12=\"July\",JUL!AL15,$C$12=\"August\",AUG!AL15,$C$12=\"September\",SEP!AL15,$C$12=\"October\",OCT!AL15,$C$12=\"November\",NOV!AL15,$C$12=\"December\",DEC!AL15)","v":0}]
[{"$f":"IF(B15=\"\",\"\",A14+1)","v":3},"Student 3",{"$f":"_xlfn.IFS($C$12=\"January\",JAN!AL16,$C$12=\"February\",FEB!AL16,$C$12=\"March\",MAR!AL16,$C$12=\"April\",APR!AL16,$C$12=\"May\",MAY!AL16,$C$12=\"June\",JUN!AL16,$C$12=\"July\",JUL!AL16,$C$12=\"August\",AUG!AL16,$C$12=\"September\",SEP!AL16,$C$12=\"October\",OCT!AL16,$C$12=\"November\",NOV!AL16,$C$12=\"December\",DEC!AL16)","v":0}]
[4,"Student 4",{"$f":"_xlfn.IFS($C$12=\"January\",JAN!AL17,$C$12=\"February\",FEB!AL17,$C$12=\"March\",MAR!AL17,$C$12=\"April\",APR!AL17,$C$12=\"May\",MAY!AL17,$C$12=\"June\",JUN!AL17,$C$12=\"July\",JUL!AL17,$C$12=\"August\",AUG!AL17,$C$12=\"September\",SEP!AL17,$C$12=\"October\",OCT!AL17,$C$12=\"November\",NOV!AL17,$C$12=\"December\",DEC!AL17)","v":0}]
[5,"Student 5",{"$f":"_xlfn.IFS($C$12=\"January\",JAN!AL18,$C$12=\"February\",FEB!AL18,$C$12=\"March\",MAR!AL18,$C$12=\"April\",APR!AL18,$C$12=\"May\",MAY!AL18,$C$12=\"June\",JUN!AL18,$C$12=\"July\",JUL!AL18,$C$12=\"August\",AUG!AL18,$C$12=\"September\",SEP!AL18,$C$12=\"October\",OCT!AL18,$C$12=\"November\",NOV!AL18,$C$12=\"December\",DEC!AL18)","v":0}]
[6,"Student 6",{"$f":"_xlfn.IFS($C$12=\"January\",JAN!AL19,$C$12=\"February\",FEB!AL19,$C$12=\"March\",MAR!AL19,$C$12=\"April\",APR!AL19,$C$12=\"May\",MAY!AL19,$C$12=\"June\",JUN!AL19,$C$12=\"July\",JUL!AL19,$C$12=\"August\",AUG!AL19,$C$12=\"September\",SEP!AL19,$C$12=\"October\",OCT!AL19,$C$12=\"November\",NOV!AL19,$C$12=\"December\",DEC!AL19)","v":0}]
[7,"Student 7",{"$f":"_xlfn.IFS($C$12=\"January\",JAN!AL20,$C$12=\"February\",FEB!AL20,$C$12=\"March\",MAR!AL20,$C$12=\"April\",APR!AL20,$C$12=\"May\",MAY!AL20,$C$12=\"June\",JUN!AL20,$C$12=\"July\",JUL!AL20,$C$12=\"August\",AUG!AL20,$C$12=\"September\",SEP!AL20,$C$12=\"October\",OCT!AL20,$C$12=\"November\",NOV!AL20,$C$12=\"December\",DEC!AL20)","v":0}]
[8,"Student 8",{"$f":"_xlfn.IFS($C$12=\"January\",JAN!AL21,$C$12=\"February\",FEB!AL21,$C$12=\"March\",MAR!AL21,$C$12=\"April\",APR!AL21,$C$12=\"May\",MAY!AL21,$C$12=\"June\",JUN!AL21,$C$12=\"July\",JUL!AL21,$C$12=\"August\",AUG!AL21,$C$12=\"September\",SEP!AL21,$C$12=\"October\",OCT!AL21,$C$12=\"November\",NOV!AL21,$C$12=\"December\",DEC!AL21)","v":0}]
[9,"Student 9",{"$f":"_xlfn.IFS($C$12=\"January\",JAN!AL22,$C$12=\"February\",FEB!AL22,$C$12=\"March\",MAR!AL22,$C$12=\"April\",APR!AL22,$C$12=\"May\",MAY!AL22,$C$12=\"June\",JUN!AL22,$C$12=\"July\",JUL!AL22,$C$12=\"August\",AUG!AL22,$C$12=\"September\",SEP!AL22,$C$12=\"October\",OCT!AL22,$C$12=\"November\",NOV!AL22,$C$12=\"December\",DEC!AL22)","v":0}]
[10,"Student 10",{"$f":"_xlfn.IFS($C$12=\"January\",JAN!AL23,$C$12=\"February\",FEB!AL23,$C$12=\"March\",MAR!AL23,$C$12=\"April\",APR!AL23,$C$12=\"May\",MAY!AL23,$C$12=\"June\",JUN!AL23,$C$12=\"July\",JUL!AL23,$C$12=\"August\",AUG!AL23,$C$12=\"September\",SEP!AL23,$C$12=\"October\",OCT!AL23,$C$12=\"November\",NOV!AL23,$C$12=\"December\",DEC!AL23)","v":0}]
[11,"Student 11",{"$f":"_xlfn.IFS($C$12=\"January\",JAN!AL24,$C$12=\"February\",FEB!AL24,$C$12=\"March\",MAR!AL24,$C$12=\"April\",APR!AL24,$C$12=\"May\",MAY!AL24,$C$12=\"June\",JUN!AL24,$C$12=\"July\",JUL!AL24,$C$12=\"August\",AUG!AL24,$C$12=\"September\",SEP!AL24,$C$12=\"October\",OCT!AL24,$C$12=\"November\",NOV!AL24,$C$12=\"December\",DEC!AL24)","v":0}]
[12,"Student 12",{"$f":"_xlfn.IFS($C$12=\"January\",JAN!AL25,$C$12=\"February\",FEB!AL25,$C$12=\"March\",MAR!AL25,$C$12=\"April\",APR!AL25,$C$12=\"May\",MAY!AL25,$C$12=\"June\",JUN!AL25,$C$12=\"July\",JUL!AL25,$C$12=\"August\",AUG!AL25,$C$12=\"September\",SEP!AL25,$C$12=\"October\",OCT!AL25,$C$12=\"November\",NOV!AL25,$C$12=\"December\",DEC!AL25)","v":0}]
[13,"Student 13",{"$f":"_xlfn.IFS($C$12=\"January\",JAN!AL26,$C$12=\"February\",FEB!AL26,$C$12=\"March\",MAR!AL26,$C$12=\"April\",APR!AL26,$C$12=\"May\",MAY!AL26,$C$12=\"June\",JUN!AL26,$C$12=\"July\",JUL!AL26,$C$12=\"August\",AUG!AL26,$C$12=\"September\",SEP!AL26,$C$12=\"October\",OCT!AL26,$C$12=\"November\",NOV!AL26,$C$12=\"December\",DEC!AL26)","v":0}]
[14,"Student 14",{"$f":"_xlfn.IFS($C$12=\"January\",JAN!AL27,$C$12=\"February\",FEB!AL27,$C$12=\"March\",MAR!AL27,$C$12=\"April\",APR!AL27,$C$12=\"May\",MAY!AL27,$C$12=\"June\",JUN!AL27,$C$12=\"July\",JUL!AL27,$C$12=\"August\",AUG!AL27,$C$12=\"September\",SEP!AL27,$C$12=\"October\",OCT!AL27,$C$12=\"November\",NOV!AL27,$C$12=\"December\",DEC!AL27)","v":0}]
[15,"Student 15",{"$f":"_xlfn.IFS($C$12=\"January\",JAN!AL28,$C$12=\"February\",FEB!AL28,$C$12=\"March\",MAR!AL28,$C$12=\"April\",APR!AL28,$C$12=\"May\",MAY!AL28,$C$12=\"June\",JUN!AL28,$C$12=\"July\",JUL!AL28,$C$12=\"August\",AUG!AL28,$C$12=\"September\",SEP!AL28,$C$12=\"October\",OCT!AL28,$C$12=\"November\",NOV!AL28,$C$12=\"December\",DEC!AL28)","v":0}]
[16,"Student 16",{"$f":"_xlfn.IFS($C$12=\"January\",JAN!AL29,$C$12=\"February\",FEB!AL29,$C$12=\"March\",MAR!AL29,$C$12=\"April\",APR!AL29,$C$12=\"May\",MAY!AL29,$C$12=\"June\",JUN!AL29,$C$12=\"July\",JUL!AL29,$C$12=\"August\",AUG!AL29,$C$12=\"September\",SEP!AL29,$C$12=\"October\",OCT!AL29,$C$12=\"November\",NOV!AL29,$C$12=\"December\",DEC!AL29)","v":0}]
[17,"Student 17",{"$f":"_xlfn.IFS($C$12=\"January\",JAN!AL30,$C$12=\"February\",FEB!AL30,$C$12=\"March\",MAR!AL30,$C$12=\"April\",APR!AL30,$C$12=\"May\",MAY!AL30,$C$12=\"June\",JUN!AL30,$C$12=\"July\",JUL!AL30,$C$12=\"August\",AUG!AL30,$C$12=\"September\",SEP!AL30,$C$12=\"October\",OCT!AL30,$C$12=\"November\",NOV!AL30,$C$12=\"December\",DEC!AL30)","v":0}]
[18,"Student 18",{"$f":"_xlfn.IFS($C$12=\"January\",JAN!AL31,$C$12=\"February\",FEB!AL31,$C$12=\"March\",MAR!AL31,$C$12=\"April\",APR!AL31,$C$12=\"May\",MAY!AL31,$C$12=\"June\",JUN!AL31,$C$12=\"July\",JUL!AL31,$C$12=\"August\",AUG!AL31,$C$12=\"September\",SEP!AL31,$C$12=\"October\",OCT!AL31,$C$12=\"November\",NOV!AL31,$C$12=\"December\",DEC!AL31)","v":0},null,null,null,null,null,null,null,null,null,null,"Select Month:",null,null,"Select Month:"]
[19,"Student 19",{"$f":"_xlfn.IFS($C$12=\"January\",JAN!AL32,$C$12=\"February\",FEB!AL32,$C$12=\"March\",MAR!AL32,$C$12=\"April\",APR!AL32,$C$12=\"May\",MAY!AL32,$C$12=\"June\",JUN!AL32,$C$12=\"July\",JUL!AL32,$C$12=\"August\",AUG!AL32,$C$12=\"September\",SEP!AL32,$C$12=\"October\",OCT!AL32,$C$12=\"November\",NOV!AL32,$C$12=\"December\",DEC!AL32)","v":0},null,null,null,null,null,null,null,null,null,null,"December",null,null,"February"]
[20,"Student 20",{"$f":"_xlfn.IFS($C$12=\"January\",JAN!AL33,$C$12=\"February\",FEB!AL33,$C$12=\"March\",MAR!AL33,$C$12=\"April\",APR!AL33,$C$12=\"May\",MAY!AL33,$C$12=\"June\",JUN!AL33,$C$12=\"July\",JUL!AL33,$C$12=\"August\",AUG!AL33,$C$12=\"September\",SEP!AL33,$C$12=\"October\",OCT!AL33,$C$12=\"November\",NOV!AL33,$C$12=\"December\",DEC!AL33)","v":0}]
["",null,{"$f":"_xlfn.IFS($C$12=\"January\",JAN!AL34,$C$12=\"February\",FEB!AL34,$C$12=\"March\",MAR!AL34,$C$12=\"April\",APR!AL34,$C$12=\"May\",MAY!AL34,$C$12=\"June\",JUN!AL34,$C$12=\"July\",JUL!AL34,$C$12=\"August\",AUG!AL34,$C$12=\"September\",SEP!AL34,$C$12=\"October\",OCT!AL34,$C$12=\"November\",NOV!AL34,$C$12=\"December\",DEC!AL34)","v":0}]
["",null,{"$f":"_xlfn.IFS($C$12=\"January\",JAN!AL35,$C$12=\"February\",FEB!AL35,$C$12=\"March\",MAR!AL35,$C$12=\"April\",APR!AL35,$C$12=\"May\",MAY!AL35,$C$12=\"June\",JUN!AL35,$C$12=\"July\",JUL!AL35,$C$12=\"August\",AUG!AL35,$C$12=\"September\",SEP!AL35,$C$12=\"October\",OCT!AL35,$C$12=\"November\",NOV!AL35,$C$12=\"December\",DEC!AL35)","v":0}]
["",null,{"$f":"_xlfn.IFS($C$12=\"January\",JAN!AL36,$C$12=\"February\",FEB!AL36,$C$12=\"March\",MAR!AL36,$C$12=\"April\",APR!AL36,$C$12=\"May\",MAY!AL36,$C$12=\"June\",JUN!AL36,$C$12=\"July\",JUL!AL36,$C$12=\"August\",AUG!AL36,$C$12=\"September\",SEP!AL36,$C$12=\"October\",OCT!AL36,$C$12=\"November\",NOV!AL36,$C$12=\"December\",DEC!AL36)","v":0}]
["",null,{"$f":"_xlfn.IFS($C$12=\"January\",JAN!AL37,$C$12=\"February\",FEB!AL37,$C$12=\"March\",MAR!AL37,$C$12=\"April\",APR!AL37,$C$12=\"May\",MAY!AL37,$C$12=\"June\",JUN!AL37,$C$12=\"July\",JUL!AL37,$C$12=\"August\",AUG!AL37,$C$12=\"September\",SEP!AL37,$C$12=\"October\",OCT!AL37,$C$12=\"November\",NOV!AL37,$C$12=\"December\",DEC!AL37)","v":0}]
["",null,{"$f":"_xlfn.IFS($C$12=\"January\",JAN!AL38,$C$12=\"February\",FEB!AL38,$C$12=\"March\",MAR!AL38,$C$12=\"April\",APR!AL38,$C$12=\"May\",MAY!AL38,$C$12=\"June\",JUN!AL38,$C$12=\"July\",JUL!AL38,$C$12=\"August\",AUG!AL38,$C$12=\"September\",SEP!AL38,$C$12=\"October\",OCT!AL38,$C$12=\"November\",NOV!AL38,$C$12=\"December\",DEC!AL38)","v":0}]
["",null,{"$f":"_xlfn.IFS($C$12=\"January\",JAN!AL39,$C$12=\"February\",FEB!AL39,$C$12=\"March\",MAR!AL39,$C$12=\"April\",APR!AL39,$C$12=\"May\",MAY!AL39,$C$12=\"June\",JUN!AL39,$C$12=\"July\",JUL!AL39,$C$12=\"August\",AUG!AL39,$C$12=\"September\",SEP!AL39,$C$12=\"October\",OCT!AL39,$C$12=\"November\",NOV!AL39,$C$12=\"December\",DEC!AL39)","v":0}]
["",null,{"$f":"_xlfn.IFS($C$12=\"January\",JAN!AL40,$C$12=\"February\",FEB!AL40,$C$12=\"March\",MAR!AL40,$C$12=\"April\",APR!AL40,$C$12=\"May\",MAY!AL40,$C$12=\"June\",JUN!AL40,$C$12=\"July\",JUL!AL40,$C$12=\"August\",AUG!AL40,$C$12=\"September\",SEP!AL40,$C$12=\"October\",OCT!AL40,$C$12=\"November\",NOV!AL40,$C$12=\"December\",DEC!AL40)","v":0},null,null,null,null,null,null,null,"NORBERN C. BASAYA"]
["",null,{"$f":"_xlfn.IFS($C$12=\"January\",JAN!AL41,$C$12=\"February\",FEB!AL41,$C$12=\"March\",MAR!AL41,$C$12=\"April\",APR!AL41,$C$12=\"May\",MAY!AL41,$C$12=\"June\",JUN!AL41,$C$12=\"July\",JUL!AL41,$C$12=\"August\",AUG!AL41,$C$12=\"September\",SEP!AL41,$C$12=\"October\",OCT!AL41,$C$12=\"November\",NOV!AL41,$C$12=\"December\",DEC!AL41)","v":0},null,null,null,null,null,null,null,"ICT Teacher"]
["",null,{"$f":"_xlfn.IFS($C$12=\"January\",JAN!AL42,$C$12=\"February\",FEB!AL42,$C$12=\"March\",MAR!AL42,$C$12=\"April\",APR!AL42,$C$12=\"May\",MAY!AL42,$C$12=\"June\",JUN!AL42,$C$12=\"July\",JUL!AL42,$C$12=\"August\",AUG!AL42,$C$12=\"September\",SEP!AL42,$C$12=\"October\",OCT!AL42,$C$12=\"November\",NOV!AL42,$C$12=\"December\",DEC!AL42)","v":0},null,null,null,null,null,null,null,"Dimataling National High School"]
["",null,{"$f":"_xlfn.IFS($C$12=\"January\",JAN!AL43,$C$12=\"February\",FEB!AL43,$C$12=\"March\",MAR!AL43,$C$12=\"April\",APR!AL43,$C$12=\"May\",MAY!AL43,$C$12=\"June\",JUN!AL43,$C$12=\"July\",JUL!AL43,$C$12=\"August\",AUG!AL43,$C$12=\"September\",SEP!AL43,$C$12=\"October\",OCT!AL43,$C$12=\"November\",NOV!AL43,$C$12=\"December\",DEC!AL43)","v":0},null,null,null,null,null,null,null,"DIVISION OF ZAMBOANGA DEL SUR"]
["",null,{"$f":"_xlfn.IFS($C$12=\"January\",JAN!AL44,$C$12=\"February\",FEB!AL44,$C$12=\"March\",MAR!AL44,$C$12=\"April\",APR!AL44,$C$12=\"May\",MAY!AL44,$C$12=\"June\",JUN!AL44,$C$12=\"July\",JUL!AL44,$C$12=\"August\",AUG!AL44,$C$12=\"September\",SEP!AL44,$C$12=\"October\",OCT!AL44,$C$12=\"November\",NOV!AL44,$C$12=\"December\",DEC!AL44)","v":0}]
["",null,{"$f":"_xlfn.IFS($C$12=\"January\",JAN!AL45,$C$12=\"February\",FEB!AL45,$C$12=\"March\",MAR!AL45,$C$12=\"April\",APR!AL45,$C$12=\"May\",MAY!AL45,$C$12=\"June\",JUN!AL45,$C$12=\"July\",JUL!AL45,$C$12=\"August\",AUG!AL45,$C$12=\"September\",SEP!AL45,$C$12=\"October\",OCT!AL45,$C$12=\"November\",NOV!AL45,$C$12=\"December\",DEC!AL45)","v":0},null,null,null,null,null,null,null,"Contact details:"]
["",null,{"$f":"_xlfn.IFS($C$12=\"January\",JAN!AL46,$C$12=\"February\",FEB!AL46,$C$12=\"March\",MAR!AL46,$C$12=\"April\",APR!AL46,$C$12=\"May\",MAY!AL46,$C$12=\"June\",JUN!AL46,$C$12=\"July\",JUL!AL46,$C$12=\"August\",AUG!AL46,$C$12=\"September\",SEP!AL46,$C$12=\"October\",OCT!AL46,$C$12=\"November\",NOV!AL46,$C$12=\"December\",DEC!AL46)","v":0},null,null,null,null,null,null,null,"norbzbern@gmail.com"]
["",null,{"$f":"_xlfn.IFS($C$12=\"January\",JAN!AL47,$C$12=\"February\",FEB!AL47,$C$12=\"March\",MAR!AL47,$C$12=\"April\",APR!AL47,$C$12=\"May\",MAY!AL47,$C$12=\"June\",JUN!AL47,$C$12=\"July\",JUL!AL47,$C$12=\"August\",AUG!AL47,$C$12=\"September\",SEP!AL47,$C$12=\"October\",OCT!AL47,$C$12=\"November\",NOV!AL47,$C$12=\"December\",DEC!AL47)","v":0}]
["",null,{"$f":"_xlfn.IFS($C$12=\"January\",JAN!AL48,$C$12=\"February\",FEB!AL48,$C$12=\"March\",MAR!AL48,$C$12=\"April\",APR!AL48,$C$12=\"May\",MAY!AL48,$C$12=\"June\",JUN!AL48,$C$12=\"July\",JUL!AL48,$C$12=\"August\",AUG!AL48,$C$12=\"September\",SEP!AL48,$C$12=\"October\",OCT!AL48,$C$12=\"November\",NOV!AL48,$C$12=\"December\",DEC!AL48)","v":0},null,null,null,null,null,null,null,"Version 1.0     Updated as of April 21, 2025"]
["",null,{"$f":"_xlfn.IFS($C$12=\"January\",JAN!AL49,$C$12=\"February\",FEB!AL49,$C$12=\"March\",MAR!AL49,$C$12=\"April\",APR!AL49,$C$12=\"May\",MAY!AL49,$C$12=\"June\",JUN!AL49,$C$12=\"July\",JUL!AL49,$C$12=\"August\",AUG!AL49,$C$12=\"September\",SEP!AL49,$C$12=\"October\",OCT!AL49,$C$12=\"November\",NOV!AL49,$C$12=\"December\",DEC!AL49)","v":0}]
["",null,{"$f":"_xlfn.IFS($C$12=\"January\",JAN!AL50,$C$12=\"February\",FEB!AL50,$C$12=\"March\",MAR!AL50,$C$12=\"April\",APR!AL50,$C$12=\"May\",MAY!AL50,$C$12=\"June\",JUN!AL50,$C$12=\"July\",JUL!AL50,$C$12=\"August\",AUG!AL50,$C$12=\"September\",SEP!AL50,$C$12=\"October\",OCT!AL50,$C$12=\"November\",NOV!AL50,$C$12=\"December\",DEC!AL50)","v":0}]
["",null,{"$f":"_xlfn.IFS($C$12=\"January\",JAN!AL51,$C$12=\"February\",FEB!AL51,$C$12=\"March\",MAR!AL51,$C$12=\"April\",APR!AL51,$C$12=\"May\",MAY!AL51,$C$12=\"June\",JUN!AL51,$C$12=\"July\",JUL!AL51,$C$12=\"August\",AUG!AL51,$C$12=\"September\",SEP!AL51,$C$12=\"October\",OCT!AL51,$C$12=\"November\",NOV!AL51,$C$12=\"December\",DEC!AL51)","v":0},null,null,null,"Important Data:",null,null,null,null,null,null,null,null,null,null,"JANUARY",null,null,null,"JULY"]
["",null,{"$f":"_xlfn.IFS($C$12=\"January\",JAN!AL52,$C$12=\"February\",FEB!AL52,$C$12=\"March\",MAR!AL52,$C$12=\"April\",APR!AL52,$C$12=\"May\",MAY!AL52,$C$12=\"June\",JUN!AL52,$C$12=\"July\",JUL!AL52,$C$12=\"August\",AUG!AL52,$C$12=\"September\",SEP!AL52,$C$12=\"October\",OCT!AL52,$C$12=\"November\",NOV!AL52,$C$12=\"December\",DEC!AL52)","v":0},null,null,null,null,null,null,null,null,null,null,null,null,null,null,"MALE","FEMALE","TOTAL",null,"MALE","FEMALE","TOTAL"]
["",null,{"$f":"_xlfn.IFS($C$12=\"January\",JAN!AL53,$C$12=\"February\",FEB!AL53,$C$12=\"March\",MAR!AL53,$C$12=\"April\",APR!AL53,$C$12=\"May\",MAY!AL53,$C$12=\"June\",JUN!AL53,$C$12=\"July\",JUL!AL53,$C$12=\"August\",AUG!AL53,$C$12=\"September\",SEP!AL53,$C$12=\"October\",OCT!AL53,$C$12=\"November\",NOV!AL53,$C$12=\"December\",DEC!AL53)","v":0},null,null,null,null,"Enrolment as of 1st Friday of the month",null,null,null,null,null,null,null,null,null,null,null,{"$f":"SUM(R52:S52)","v":0},null,null,null,{"$f":"SUM(V52:W52)","v":0}]
["",null,{"$f":"_xlfn.IFS($C$12=\"January\",JAN!AL54,$C$12=\"February\",FEB!AL54,$C$12=\"March\",MAR!AL54,$C$12=\"April\",APR!AL54,$C$12=\"May\",MAY!AL54,$C$12=\"June\",JUN!AL54,$C$12=\"July\",JUL!AL54,$C$12=\"August\",AUG!AL54,$C$12=\"September\",SEP!AL54,$C$12=\"October\",OCT!AL54,$C$12=\"November\",NOV!AL54,$C$12=\"December\",DEC!AL54)","v":0},null,null,null,null,"Late Enrollment during the month(beyond cut-off)",null,null,null,null,null,null,null,null,null,null,null,{"$f":"SUM(R53:S53)","v":0},null,null,null,{"$f":"SUM(V53:W53)","v":0}]
["",null,{"$f":"_xlfn.IFS($C$12=\"January\",JAN!AL55,$C$12=\"February\",FEB!AL55,$C$12=\"March\",MAR!AL55,$C$12=\"April\",APR!AL55,$C$12=\"May\",MAY!AL55,$C$12=\"June\",JUN!AL55,$C$12=\"July\",JUL!AL55,$C$12=\"August\",AUG!AL55,$C$12=\"September\",SEP!AL55,$C$12=\"October\",OCT!AL55,$C$12=\"November\",NOV!AL55,$C$12=\"December\",DEC!AL55)","v":0},null,null,null,null,"Registered Learner as of End of the Month*",null,null,null,null,null,null,null,null,null,null,null,0,null,null,null,0]
["",null,{"$f":"_xlfn.IFS($C$12=\"January\",JAN!AL56,$C$12=\"February\",FEB!AL56,$C$12=\"March\",MAR!AL56,$C$12=\"April\",APR!AL56,$C$12=\"May\",MAY!AL56,$C$12=\"June\",JUN!AL56,$C$12=\"July\",JUL!AL56,$C$12=\"August\",AUG!AL56,$C$12=\"September\",SEP!AL56,$C$12=\"October\",OCT!AL56,$C$12=\"November\",NOV!AL56,$C$12=\"December\",DEC!AL56)","v":0},null,null,null,null,"Drop out",null,null,null,null,null,null,null,null,null,null,null,0,null,null,null,0]
["",null,{"$f":"_xlfn.IFS($C$12=\"January\",JAN!AL57,$C$12=\"February\",FEB!AL57,$C$12=\"March\",MAR!AL57,$C$12=\"April\",APR!AL57,$C$12=\"May\",MAY!AL57,$C$12=\"June\",JUN!AL57,$C$12=\"July\",JUL!AL57,$C$12=\"August\",AUG!AL57,$C$12=\"September\",SEP!AL57,$C$12=\"October\",OCT!AL57,$C$12=\"November\",NOV!AL57,$C$12=\"December\",DEC!AL57)","v":0},null,null,null,null,"Transferred out",null,null,null,null,null,null,null,null,null,null,null,0,null,null,null,0]
["",null,{"$f":"_xlfn.IFS($C$12=\"January\",JAN!AL58,$C$12=\"February\",FEB!AL58,$C$12=\"March\",MAR!AL58,$C$12=\"April\",APR!AL58,$C$12=\"May\",MAY!AL58,$C$12=\"June\",JUN!AL58,$C$12=\"July\",JUL!AL58,$C$12=\"August\",AUG!AL58,$C$12=\"September\",SEP!AL58,$C$12=\"October\",OCT!AL58,$C$12=\"November\",NOV!AL58,$C$12=\"December\",DEC!AL58)","v":0},null,null,null,null,"Transferred in",null,null,null,null,null,null,null,null,null,null,null,0,null,null,null,0]
["",null,{"$f":"_xlfn.IFS($C$12=\"January\",JAN!AL59,$C$12=\"February\",FEB!AL59,$C$12=\"March\",MAR!AL59,$C$12=\"April\",APR!AL59,$C$12=\"May\",MAY!AL59,$C$12=\"June\",JUN!AL59,$C$12=\"July\",JUL!AL59,$C$12=\"August\",AUG!AL59,$C$12=\"September\",SEP!AL59,$C$12=\"October\",OCT!AL59,$C$12=\"November\",NOV!AL59,$C$12=\"December\",DEC!AL59)","v":0}]
["",null,{"$f":"_xlfn.IFS($C$12=\"January\",JAN!AL60,$C$12=\"February\",FEB!AL60,$C$12=\"March\",MAR!AL60,$C$12=\"April\",APR!AL60,$C$12=\"May\",MAY!AL60,$C$12=\"June\",JUN!AL60,$C$12=\"July\",JUL!AL60,$C$12=\"August\",AUG!AL60,$C$12=\"September\",SEP!AL60,$C$12=\"October\",OCT!AL60,$C$12=\"November\",NOV!AL60,$C$12=\"December\",DEC!AL60)","v":0},null,null,null,null,null,null,null,null,null,null,null,null,null,null,"FEBRUARY",null,null,null,"AUGUST"]
["",null,{"$f":"_xlfn.IFS($C$12=\"January\",JAN!AL61,$C$12=\"February\",FEB!AL61,$C$12=\"March\",MAR!AL61,$C$12=\"April\",APR!AL61,$C$12=\"May\",MAY!AL61,$C$12=\"June\",JUN!AL61,$C$12=\"July\",JUL!AL61,$C$12=\"August\",AUG!AL61,$C$12=\"September\",SEP!AL61,$C$12=\"October\",OCT!AL61,$C$12=\"November\",NOV!AL61,$C$12=\"December\",DEC!AL61)","v":0},null,null,null,null,null,null,null,null,null,null,null,null,null,null,"MALE","FEMALE","TOTAL",null,"MALE","FEMALE","TOTAL"]
["",null,{"$f":"_xlfn.IFS($C$12=\"January\",JAN!AL62,$C$12=\"February\",FEB!AL62,$C$12=\"March\",MAR!AL62,$C$12=\"April\",APR!AL62,$C$12=\"May\",MAY!AL62,$C$12=\"June\",JUN!AL62,$C$12=\"July\",JUL!AL62,$C$12=\"August\",AUG!AL62,$C$12=\"September\",SEP!AL62,$C$12=\"October\",OCT!AL62,$C$12=\"November\",NOV!AL62,$C$12=\"December\",DEC!AL62)","v":0},null,null,null,null,"Enrolment as of 1st Friday of the month",null,null,null,null,null,null,null,null,null,null,null,{"$f":"SUM(R61:S61)","v":0},null,null,null,{"$f":"SUM(V61:W61)","v":0}]
["",null,{"$f":"_xlfn.IFS($C$12=\"January\",JAN!AL63,$C$12=\"February\",FEB!AL63,$C$12=\"March\",MAR!AL63,$C$12=\"April\",APR!AL63,$C$12=\"May\",MAY!AL63,$C$12=\"June\",JUN!AL63,$C$12=\"July\",JUL!AL63,$C$12=\"August\",AUG!AL63,$C$12=\"September\",SEP!AL63,$C$12=\"October\",OCT!AL63,$C$12=\"November\",NOV!AL63,$C$12=\"December\",DEC!AL63)","v":0},null,null,null,null,"Late Enrollment during the month(beyond cut-off)",null,null,null,null,null,null,null,null,null,null,null,{"$f":"SUM(R62:S62)","v":0},null,null,null,{"$f":"SUM(V62:W62)","v":0}]
[null,"FEMALE",null,null,null,null,null,"Registered Learner as of End of the Month*",null,null,null,null,null,null,null,null,null,null,null,0,null,null,null,0]
[{"$f":"IF(B64=\"\",\"\",\"1\")","v":"1"},"Student 1",{"$f":"_xlfn.IFS($C$12=\"January\",JAN!AL65,$C$12=\"February\",FEB!AL65,$C$12=\"March\",MAR!AL65,$C$12=\"April\",APR!AL65,$C$12=\"May\",MAY!AL65,$C$12=\"June\",JUN!AL65,$C$12=\"July\",JUL!AL65,$C$12=\"August\",AUG!AL65,$C$12=\"September\",SEP!AL65,$C$12=\"October\",OCT!AL65,$C$12=\"November\",NOV!AL65,$C$12=\"December\",DEC!AL65)","v":0},null,null,null,null,"Drop out",null,null,null,null,null,null,null,null,null,null,null,0,null,null,null,0]
[{"$f":"IF(B65=\"\",\"\",A64+1)","v":2},"Student 2",{"$f":"_xlfn.IFS($C$12=\"January\",JAN!AL66,$C$12=\"February\",FEB!AL66,$C$12=\"March\",MAR!AL66,$C$12=\"April\",APR!AL66,$C$12=\"May\",MAY!AL66,$C$12=\"June\",JUN!AL66,$C$12=\"July\",JUL!AL66,$C$12=\"August\",AUG!AL66,$C$12=\"September\",SEP!AL66,$C$12=\"October\",OCT!AL66,$C$12=\"November\",NOV!AL66,$C$12=\"December\",DEC!AL66)","v":0},null,null,null,null,"Transferred out",null,null,null,null,null,null,null,null,null,null,null,0,null,null,null,0]
[{"$f":"IF(B66=\"\",\"\",A65+1)","v":3},"Student 3",{"$f":"_xlfn.IFS($C$12=\"January\",JAN!AL67,$C$12=\"February\",FEB!AL67,$C$12=\"March\",MAR!AL67,$C$12=\"April\",APR!AL67,$C$12=\"May\",MAY!AL67,$C$12=\"June\",JUN!AL67,$C$12=\"July\",JUL!AL67,$C$12=\"August\",AUG!AL67,$C$12=\"September\",SEP!AL67,$C$12=\"October\",OCT!AL67,$C$12=\"November\",NOV!AL67,$C$12=\"December\",DEC!AL67)","v":0},null,null,null,null,"Transferred in",null,null,null,null,null,null,null,null,null,null,null,0,null,null,null,0]
[4,"Student 4",{"$f":"_xlfn.IFS($C$12=\"January\",JAN!AL68,$C$12=\"February\",FEB!AL68,$C$12=\"March\",MAR!AL68,$C$12=\"April\",APR!AL68,$C$12=\"May\",MAY!AL68,$C$12=\"June\",JUN!AL68,$C$12=\"July\",JUL!AL68,$C$12=\"August\",AUG!AL68,$C$12=\"September\",SEP!AL68,$C$12=\"October\",OCT!AL68,$C$12=\"November\",NOV!AL68,$C$12=\"December\",DEC!AL68)","v":0}]
[5,"Student 5",{"$f":"_xlfn.IFS($C$12=\"January\",JAN!AL69,$C$12=\"February\",FEB!AL69,$C$12=\"March\",MAR!AL69,$C$12=\"April\",APR!AL69,$C$12=\"May\",MAY!AL69,$C$12=\"June\",JUN!AL69,$C$12=\"July\",JUL!AL69,$C$12=\"August\",AUG!AL69,$C$12=\"September\",SEP!AL69,$C$12=\"October\",OCT!AL69,$C$12=\"November\",NOV!AL69,$C$12=\"December\",DEC!AL69)","v":0},null,null,null,null,null,null,null,null,null,null,null,null,null,null,"MARCH",null,null,null,"SEPTEMBER"]
[6,"Student 6",{"$f":"_xlfn.IFS($C$12=\"January\",JAN!AL70,$C$12=\"February\",FEB!AL70,$C$12=\"March\",MAR!AL70,$C$12=\"April\",APR!AL70,$C$12=\"May\",MAY!AL70,$C$12=\"June\",JUN!AL70,$C$12=\"July\",JUL!AL70,$C$12=\"August\",AUG!AL70,$C$12=\"September\",SEP!AL70,$C$12=\"October\",OCT!AL70,$C$12=\"November\",NOV!AL70,$C$12=\"December\",DEC!AL70)","v":0},null,null,null,null,null,null,null,null,null,null,null,null,null,null,"MALE","FEMALE","TOTAL",null,"MALE","FEMALE","TOTAL"]
[7,"Student 7",{"$f":"_xlfn.IFS($C$12=\"January\",JAN!AL71,$C$12=\"February\",FEB!AL71,$C$12=\"March\",MAR!AL71,$C$12=\"April\",APR!AL71,$C$12=\"May\",MAY!AL71,$C$12=\"June\",JUN!AL71,$C$12=\"July\",JUL!AL71,$C$12=\"August\",AUG!AL71,$C$12=\"September\",SEP!AL71,$C$12=\"October\",OCT!AL71,$C$12=\"November\",NOV!AL71,$C$12=\"December\",DEC!AL71)","v":0},null,null,null,null,"Enrolment as of 1st Friday of the month",null,null,null,null,null,null,null,null,null,null,null,{"$f":"SUM(R70:S70)","v":0},null,null,null,{"$f":"SUM(V70:W70)","v":0}]
[8,"Student 8",{"$f":"_xlfn.IFS($C$12=\"January\",JAN!AL72,$C$12=\"February\",FEB!AL72,$C$12=\"March\",MAR!AL72,$C$12=\"April\",APR!AL72,$C$12=\"May\",MAY!AL72,$C$12=\"June\",JUN!AL72,$C$12=\"July\",JUL!AL72,$C$12=\"August\",AUG!AL72,$C$12=\"September\",SEP!AL72,$C$12=\"October\",OCT!AL72,$C$12=\"November\",NOV!AL72,$C$12=\"December\",DEC!AL72)","v":0},null,null,null,null,"Late Enrollment during the month(beyond cut-off)",null,null,null,null,null,null,null,null,null,null,null,{"$f":"SUM(R71:S71)","v":0},null,null,null,{"$f":"SUM(V71:W71)","v":0}]
[9,"Student 9",{"$f":"_xlfn.IFS($C$12=\"January\",JAN!AL73,$C$12=\"February\",FEB!AL73,$C$12=\"March\",MAR!AL73,$C$12=\"April\",APR!AL73,$C$12=\"May\",MAY!AL73,$C$12=\"June\",JUN!AL73,$C$12=\"July\",JUL!AL73,$C$12=\"August\",AUG!AL73,$C$12=\"September\",SEP!AL73,$C$12=\"October\",OCT!AL73,$C$12=\"November\",NOV!AL73,$C$12=\"December\",DEC!AL73)","v":0},null,null,null,null,"Registered Learner as of End of the Month*",null,null,null,null,null,null,null,null,null,null,null,0,null,null,null,0]
[10,"Student 10",{"$f":"_xlfn.IFS($C$12=\"January\",JAN!AL74,$C$12=\"February\",FEB!AL74,$C$12=\"March\",MAR!AL74,$C$12=\"April\",APR!AL74,$C$12=\"May\",MAY!AL74,$C$12=\"June\",JUN!AL74,$C$12=\"July\",JUL!AL74,$C$12=\"August\",AUG!AL74,$C$12=\"September\",SEP!AL74,$C$12=\"October\",OCT!AL74,$C$12=\"November\",NOV!AL74,$C$12=\"December\",DEC!AL74)","v":0},null,null,null,null,"Drop out",null,null,null,null,null,null,null,null,null,null,null,0,null,null,null,0]
[11,"Student 11",{"$f":"_xlfn.IFS($C$12=\"January\",JAN!AL75,$C$12=\"February\",FEB!AL75,$C$12=\"March\",MAR!AL75,$C$12=\"April\",APR!AL75,$C$12=\"May\",MAY!AL75,$C$12=\"June\",JUN!AL75,$C$12=\"July\",JUL!AL75,$C$12=\"August\",AUG!AL75,$C$12=\"September\",SEP!AL75,$C$12=\"October\",OCT!AL75,$C$12=\"November\",NOV!AL75,$C$12=\"December\",DEC!AL75)","v":0},null,null,null,null,"Transferred out",null,null,null,null,null,null,null,null,null,null,null,0,null,null,null,0]
[12,"Student 12",{"$f":"_xlfn.IFS($C$12=\"January\",JAN!AL76,$C$12=\"February\",FEB!AL76,$C$12=\"March\",MAR!AL76,$C$12=\"April\",APR!AL76,$C$12=\"May\",MAY!AL76,$C$12=\"June\",JUN!AL76,$C$12=\"July\",JUL!AL76,$C$12=\"August\",AUG!AL76,$C$12=\"September\",SEP!AL76,$C$12=\"October\",OCT!AL76,$C$12=\"November\",NOV!AL76,$C$12=\"December\",DEC!AL76)","v":0},null,null,null,null,"Transferred in",null,null,null,null,null,null,null,null,null,null,null,0,null,null,null,0]
[13,"Student 13",{"$f":"_xlfn.IFS($C$12=\"January\",JAN!AL77,$C$12=\"February\",FEB!AL77,$C$12=\"March\",MAR!AL77,$C$12=\"April\",APR!AL77,$C$12=\"May\",MAY!AL77,$C$12=\"June\",JUN!AL77,$C$12=\"July\",JUL!AL77,$C$12=\"August\",AUG!AL77,$C$12=\"September\",SEP!AL77,$C$12=\"October\",OCT!AL77,$C$12=\"November\",NOV!AL77,$C$12=\"December\",DEC!AL77)","v":0}]
[14,"Student 14",{"$f":"_xlfn.IFS($C$12=\"January\",JAN!AL78,$C$12=\"February\",FEB!AL78,$C$12=\"March\",MAR!AL78,$C$12=\"April\",APR!AL78,$C$12=\"May\",MAY!AL78,$C$12=\"June\",JUN!AL78,$C$12=\"July\",JUL!AL78,$C$12=\"August\",AUG!AL78,$C$12=\"September\",SEP!AL78,$C$12=\"October\",OCT!AL78,$C$12=\"November\",NOV!AL78,$C$12=\"December\",DEC!AL78)","v":0},null,null,null,null,null,null,null,null,null,null,null,null,null,null,"APRIL",null,null,null,"OCTOBER"]
[15,"Student 15",{"$f":"_xlfn.IFS($C$12=\"January\",JAN!AL79,$C$12=\"February\",FEB!AL79,$C$12=\"March\",MAR!AL79,$C$12=\"April\",APR!AL79,$C$12=\"May\",MAY!AL79,$C$12=\"June\",JUN!AL79,$C$12=\"July\",JUL!AL79,$C$12=\"August\",AUG!AL79,$C$12=\"September\",SEP!AL79,$C$12=\"October\",OCT!AL79,$C$12=\"November\",NOV!AL79,$C$12=\"December\",DEC!AL79)","v":0},null,null,null,null,null,null,null,null,null,null,null,null,null,null,"MALE","FEMALE","TOTAL",null,"MALE","FEMALE","TOTAL"]
[16,"Student 16",{"$f":"_xlfn.IFS($C$12=\"January\",JAN!AL80,$C$12=\"February\",FEB!AL80,$C$12=\"March\",MAR!AL80,$C$12=\"April\",APR!AL80,$C$12=\"May\",MAY!AL80,$C$12=\"June\",JUN!AL80,$C$12=\"July\",JUL!AL80,$C$12=\"August\",AUG!AL80,$C$12=\"September\",SEP!AL80,$C$12=\"October\",OCT!AL80,$C$12=\"November\",NOV!AL80,$C$12=\"December\",DEC!AL80)","v":0},null,null,null,null,"Enrolment as of 1st Friday of the month",null,null,null,null,null,null,null,null,null,null,null,{"$f":"SUM(R79:S79)","v":0},null,null,null,{"$f":"SUM(V79:W79)","v":0}]
[17,"Student 17",{"$f":"_xlfn.IFS($C$12=\"January\",JAN!AL81,$C$12=\"February\",FEB!AL81,$C$12=\"March\",MAR!AL81,$C$12=\"April\",APR!AL81,$C$12=\"May\",MAY!AL81,$C$12=\"June\",JUN!AL81,$C$12=\"July\",JUL!AL81,$C$12=\"August\",AUG!AL81,$C$12=\"September\",SEP!AL81,$C$12=\"October\",OCT!AL81,$C$12=\"November\",NOV!AL81,$C$12=\"December\",DEC!AL81)","v":0},null,null,null,null,"Late Enrollment during the month(beyond cut-off)",null,null,null,null,null,null,null,null,null,null,null,{"$f":"SUM(R80:S80)","v":0},null,null,null,{"$f":"SUM(V80:W80)","v":0}]
[18,"Student 18",{"$f":"_xlfn.IFS($C$12=\"January\",JAN!AL82,$C$12=\"February\",FEB!AL82,$C$12=\"March\",MAR!AL82,$C$12=\"April\",APR!AL82,$C$12=\"May\",MAY!AL82,$C$12=\"June\",JUN!AL82,$C$12=\"July\",JUL!AL82,$C$12=\"August\",AUG!AL82,$C$12=\"September\",SEP!AL82,$C$12=\"October\",OCT!AL82,$C$12=\"November\",NOV!AL82,$C$12=\"December\",DEC!AL82)","v":0},null,null,null,null,"Registered Learner as of End of the Month*",null,null,null,null,null,null,null,null,null,null,null,0,null,null,null,0]
[19,"Student 19",{"$f":"_xlfn.IFS($C$12=\"January\",JAN!AL83,$C$12=\"February\",FEB!AL83,$C$12=\"March\",MAR!AL83,$C$12=\"April\",APR!AL83,$C$12=\"May\",MAY!AL83,$C$12=\"June\",JUN!AL83,$C$12=\"July\",JUL!AL83,$C$12=\"August\",AUG!AL83,$C$12=\"September\",SEP!AL83,$C$12=\"October\",OCT!AL83,$C$12=\"November\",NOV!AL83,$C$12=\"December\",DEC!AL83)","v":0},null,null,null,null,"Drop out",null,null,null,null,null,null,null,null,null,null,null,0,null,null,null,0]
[20,"Student 20",{"$f":"_xlfn.IFS($C$12=\"January\",JAN!AL84,$C$12=\"February\",FEB!AL84,$C$12=\"March\",MAR!AL84,$C$12=\"April\",APR!AL84,$C$12=\"May\",MAY!AL84,$C$12=\"June\",JUN!AL84,$C$12=\"July\",JUL!AL84,$C$12=\"August\",AUG!AL84,$C$12=\"September\",SEP!AL84,$C$12=\"October\",OCT!AL84,$C$12=\"November\",NOV!AL84,$C$12=\"December\",DEC!AL84)","v":0},null,null,null,null,"Transferred out",null,null,null,null,null,null,null,null,null,null,null,0,null,null,null,0]
["",null,{"$f":"_xlfn.IFS($C$12=\"January\",JAN!AL85,$C$12=\"February\",FEB!AL85,$C$12=\"March\",MAR!AL85,$C$12=\"April\",APR!AL85,$C$12=\"May\",MAY!AL85,$C$12=\"June\",JUN!AL85,$C$12=\"July\",JUL!AL85,$C$12=\"August\",AUG!AL85,$C$12=\"September\",SEP!AL85,$C$12=\"October\",OCT!AL85,$C$12=\"November\",NOV!AL85,$C$12=\"December\",DEC!AL85)","v":0},null,null,null,null,"Transferred in",null,null,null,null,null,null,null,null,null,null,null,0,null,null,null,0]
["",null,{"$f":"_xlfn.IFS($C$12=\"January\",JAN!AL86,$C$12=\"February\",FEB!AL86,$C$12=\"March\",MAR!AL86,$C$12=\"April\",APR!AL86,$C$12=\"May\",MAY!AL86,$C$12=\"June\",JUN!AL86,$C$12=\"July\",JUL!AL86,$C$12=\"August\",AUG!AL86,$C$12=\"September\",SEP!AL86,$C$12=\"October\",OCT!AL86,$C$12=\"November\",NOV!AL86,$C$12=\"December\",DEC!AL86)","v":0}]
["",null,{"$f":"_xlfn.IFS($C$12=\"January\",JAN!AL87,$C$12=\"February\",FEB!AL87,$C$12=\"March\",MAR!AL87,$C$12=\"April\",APR!AL87,$C$12=\"May\",MAY!AL87,$C$12=\"June\",JUN!AL87,$C$12=\"July\",JUL!AL87,$C$12=\"August\",AUG!AL87,$C$12=\"September\",SEP!AL87,$C$12=\"October\",OCT!AL87,$C$12=\"November\",NOV!AL87,$C$12=\"December\",DEC!AL87)","v":0},null,null,null,null,null,null,null,null,null,null,null,null,null,null,"MAY",null,null,null,"NOVEMBER"]
["",null,{"$f":"_xlfn.IFS($C$12=\"January\",JAN!AL88,$C$12=\"February\",FEB!AL88,$C$12=\"March\",MAR!AL88,$C$12=\"April\",APR!AL88,$C$12=\"May\",MAY!AL88,$C$12=\"June\",JUN!AL88,$C$12=\"July\",JUL!AL88,$C$12=\"August\",AUG!AL88,$C$12=\"September\",SEP!AL88,$C$12=\"October\",OCT!AL88,$C$12=\"November\",NOV!AL88,$C$12=\"December\",DEC!AL88)","v":0},null,null,null,null,null,null,null,null,null,null,null,null,null,null,"MALE","FEMALE","TOTAL",null,"MALE","FEMALE","TOTAL"]
["",null,{"$f":"_xlfn.IFS($C$12=\"January\",JAN!AL89,$C$12=\"February\",FEB!AL89,$C$12=\"March\",MAR!AL89,$C$12=\"April\",APR!AL89,$C$12=\"May\",MAY!AL89,$C$12=\"June\",JUN!AL89,$C$12=\"July\",JUL!AL89,$C$12=\"August\",AUG!AL89,$C$12=\"September\",SEP!AL89,$C$12=\"October\",OCT!AL89,$C$12=\"November\",NOV!AL89,$C$12=\"December\",DEC!AL89)","v":0},null,null,null,null,"Enrolment as of 1st Friday of the month",null,null,null,null,null,null,null,null,null,null,null,{"$f":"SUM(R88:S88)","v":0},null,null,null,{"$f":"SUM(V88:W88)","v":0}]
["",null,{"$f":"_xlfn.IFS($C$12=\"January\",JAN!AL90,$C$12=\"February\",FEB!AL90,$C$12=\"March\",MAR!AL90,$C$12=\"April\",APR!AL90,$C$12=\"May\",MAY!AL90,$C$12=\"June\",JUN!AL90,$C$12=\"July\",JUL!AL90,$C$12=\"August\",AUG!AL90,$C$12=\"September\",SEP!AL90,$C$12=\"October\",OCT!AL90,$C$12=\"November\",NOV!AL90,$C$12=\"December\",DEC!AL90)","v":0},null,null,null,null,"Late Enrollment during the month(beyond cut-off)",null,null,null,null,null,null,null,null,null,null,null,{"$f":"SUM(R89:S89)","v":0},null,null,null,{"$f":"SUM(V89:W89)","v":0}]
["",null,{"$f":"_xlfn.IFS($C$12=\"January\",JAN!AL91,$C$12=\"February\",FEB!AL91,$C$12=\"March\",MAR!AL91,$C$12=\"April\",APR!AL91,$C$12=\"May\",MAY!AL91,$C$12=\"June\",JUN!AL91,$C$12=\"July\",JUL!AL91,$C$12=\"August\",AUG!AL91,$C$12=\"September\",SEP!AL91,$C$12=\"October\",OCT!AL91,$C$12=\"November\",NOV!AL91,$C$12=\"December\",DEC!AL91)","v":0},null,null,null,null,"Registered Learner as of End of the Month*",null,null,null,null,null,null,null,null,null,null,null,0,null,null,null,0]
["",null,{"$f":"_xlfn.IFS($C$12=\"January\",JAN!AL92,$C$12=\"February\",FEB!AL92,$C$12=\"March\",MAR!AL92,$C$12=\"April\",APR!AL92,$C$12=\"May\",MAY!AL92,$C$12=\"June\",JUN!AL92,$C$12=\"July\",JUL!AL92,$C$12=\"August\",AUG!AL92,$C$12=\"September\",SEP!AL92,$C$12=\"October\",OCT!AL92,$C$12=\"November\",NOV!AL92,$C$12=\"December\",DEC!AL92)","v":0},null,null,null,null,"Drop out",null,null,null,null,null,null,null,null,null,null,null,0,null,null,null,0]
["",null,{"$f":"_xlfn.IFS($C$12=\"January\",JAN!AL93,$C$12=\"February\",FEB!AL93,$C$12=\"March\",MAR!AL93,$C$12=\"April\",APR!AL93,$C$12=\"May\",MAY!AL93,$C$12=\"June\",JUN!AL93,$C$12=\"July\",JUL!AL93,$C$12=\"August\",AUG!AL93,$C$12=\"September\",SEP!AL93,$C$12=\"October\",OCT!AL93,$C$12=\"November\",NOV!AL93,$C$12=\"December\",DEC!AL93)","v":0},null,null,null,null,"Transferred out",null,null,null,null,null,null,null,null,null,null,null,0,null,null,null,0]
["",null,{"$f":"_xlfn.IFS($C$12=\"January\",JAN!AL94,$C$12=\"February\",FEB!AL94,$C$12=\"March\",MAR!AL94,$C$12=\"April\",APR!AL94,$C$12=\"May\",MAY!AL94,$C$12=\"June\",JUN!AL94,$C$12=\"July\",JUL!AL94,$C$12=\"August\",AUG!AL94,$C$12=\"September\",SEP!AL94,$C$12=\"October\",OCT!AL94,$C$12=\"November\",NOV!AL94,$C$12=\"December\",DEC!AL94)","v":0},null,null,null,null,"Transferred in",null,null,null,null,null,null,null,null,null,null,null,0,null,null,null,0]
["",null,{"$f":"_xlfn.IFS($C$12=\"January\",JAN!AL95,$C$12=\"February\",FEB!AL95,$C$12=\"March\",MAR!AL95,$C$12=\"April\",APR!AL95,$C$12=\"May\",MAY!AL95,$C$12=\"June\",JUN!AL95,$C$12=\"July\",JUL!AL95,$C$12=\"August\",AUG!AL95,$C$12=\"September\",SEP!AL95,$C$12=\"October\",OCT!AL95,$C$12=\"November\",NOV!AL95,$C$12=\"December\",DEC!AL95)","v":0}]
["",null,{"$f":"_xlfn.IFS($C$12=\"January\",JAN!AL96,$C$12=\"February\",FEB!AL96,$C$12=\"March\",MAR!AL96,$C$12=\"April\",APR!AL96,$C$12=\"May\",MAY!AL96,$C$12=\"June\",JUN!AL96,$C$12=\"July\",JUL!AL96,$C$12=\"August\",AUG!AL96,$C$12=\"September\",SEP!AL96,$C$12=\"October\",OCT!AL96,$C$12=\"November\",NOV!AL96,$C$12=\"December\",DEC!AL96)","v":0},null,null,null,null,null,null,null,null,null,null,null,null,null,null,"JUNE",null,null,null,"DECEMBER"]
["",null,{"$f":"_xlfn.IFS($C$12=\"January\",JAN!AL97,$C$12=\"February\",FEB!AL97,$C$12=\"March\",MAR!AL97,$C$12=\"April\",APR!AL97,$C$12=\"May\",MAY!AL97,$C$12=\"June\",JUN!AL97,$C$12=\"July\",JUL!AL97,$C$12=\"August\",AUG!AL97,$C$12=\"September\",SEP!AL97,$C$12=\"October\",OCT!AL97,$C$12=\"November\",NOV!AL97,$C$12=\"December\",DEC!AL97)","v":0},null,null,null,null,null,null,null,null,null,null,null,null,null,null,"MALE","FEMALE","TOTAL",null,"MALE","FEMALE","TOTAL"]
["",null,{"$f":"_xlfn.IFS($C$12=\"January\",JAN!AL98,$C$12=\"February\",FEB!AL98,$C$12=\"March\",MAR!AL98,$C$12=\"April\",APR!AL98,$C$12=\"May\",MAY!AL98,$C$12=\"June\",JUN!AL98,$C$12=\"July\",JUL!AL98,$C$12=\"August\",AUG!AL98,$C$12=\"September\",SEP!AL98,$C$12=\"October\",OCT!AL98,$C$12=\"November\",NOV!AL98,$C$12=\"December\",DEC!AL98)","v":0},null,null,null,null,"Enrolment as of 1st Friday of the month",null,null,null,null,null,null,null,null,null,null,null,{"$f":"SUM(R97:S97)","v":0},null,null,null,{"$f":"SUM(V97:W97)","v":0}]
["",null,{"$f":"_xlfn.IFS($C$12=\"January\",JAN!AL99,$C$12=\"February\",FEB!AL99,$C$12=\"March\",MAR!AL99,$C$12=\"April\",APR!AL99,$C$12=\"May\",MAY!AL99,$C$12=\"June\",JUN!AL99,$C$12=\"July\",JUL!AL99,$C$12=\"August\",AUG!AL99,$C$12=\"September\",SEP!AL99,$C$12=\"October\",OCT!AL99,$C$12=\"November\",NOV!AL99,$C$12=\"December\",DEC!AL99)","v":0},null,null,null,null,"Late Enrollment during the month(beyond cut-off)",null,null,null,null,null,null,null,null,null,null,null,{"$f":"SUM(R98:S98)","v":0},null,null,null,{"$f":"SUM(V98:W98)","v":0}]
["",null,{"$f":"_xlfn.IFS($C$12=\"January\",JAN!AL100,$C$12=\"February\",FEB!AL100,$C$12=\"March\",MAR!AL100,$C$12=\"April\",APR!AL100,$C$12=\"May\",MAY!AL100,$C$12=\"June\",JUN!AL100,$C$12=\"July\",JUL!AL100,$C$12=\"August\",AUG!AL100,$C$12=\"September\",SEP!AL100,$C$12=\"October\",OCT!AL100,$C$12=\"November\",NOV!AL100,$C$12=\"December\",DEC!AL100)","v":0},null,null,null,null,"Registered Learner as of End of the Month*",null,null,null,null,null,null,null,null,null,null,null,0,null,null,null,0]
["",null,{"$f":"_xlfn.IFS($C$12=\"January\",JAN!AL101,$C$12=\"February\",FEB!AL101,$C$12=\"March\",MAR!AL101,$C$12=\"April\",APR!AL101,$C$12=\"May\",MAY!AL101,$C$12=\"June\",JUN!AL101,$C$12=\"July\",JUL!AL101,$C$12=\"August\",AUG!AL101,$C$12=\"September\",SEP!AL101,$C$12=\"October\",OCT!AL101,$C$12=\"November\",NOV!AL101,$C$12=\"December\",DEC!AL101)","v":0},null,null,null,null,"Drop out",null,null,null,null,null,null,null,null,null,null,null,0,null,null,null,0]
["",null,{"$f":"_xlfn.IFS($C$12=\"January\",JAN!AL102,$C$12=\"February\",FEB!AL102,$C$12=\"March\",MAR!AL102,$C$12=\"April\",APR!AL102,$C$12=\"May\",MAY!AL102,$C$12=\"June\",JUN!AL102,$C$12=\"July\",JUL!AL102,$C$12=\"August\",AUG!AL102,$C$12=\"September\",SEP!AL102,$C$12=\"October\",OCT!AL102,$C$12=\"November\",NOV!AL102,$C$12=\"December\",DEC!AL102)","v":0},null,null,null,null,"Transferred out",null,null,null,null,null,null,null,null,null,null,null,0,null,null,null,0]
["",null,{"$f":"_xlfn.IFS($C$12=\"January\",JAN!AL103,$C$12=\"February\",FEB!AL103,$C$12=\"March\",MAR!AL103,$C$12=\"April\",APR!AL103,$C$12=\"May\",MAY!AL103,$C$12=\"June\",JUN!AL103,$C$12=\"July\",JUL!AL103,$C$12=\"August\",AUG!AL103,$C$12=\"September\",SEP!AL103,$C$12=\"October\",OCT!AL103,$C$12=\"November\",NOV!AL103,$C$12=\"December\",DEC!AL103)","v":0},null,null,null,null,"Transferred in",null,null,null,null,null,null,null,null,null,null,null,0,null,null,null,0]
["",null,{"$f":"_xlfn.IFS($C$12=\"January\",JAN!AL104,$C$12=\"February\",FEB!AL104,$C$12=\"March\",MAR!AL104,$C$12=\"April\",APR!AL104,$C$12=\"May\",MAY!AL104,$C$12=\"June\",JUN!AL104,$C$12=\"July\",JUL!AL104,$C$12=\"August\",AUG!AL104,$C$12=\"September\",SEP!AL104,$C$12=\"October\",OCT!AL104,$C$12=\"November\",NOV!AL104,$C$12=\"December\",DEC!AL104)","v":0}]
["",null,{"$f":"_xlfn.IFS($C$12=\"January\",JAN!AL105,$C$12=\"February\",FEB!AL105,$C$12=\"March\",MAR!AL105,$C$12=\"April\",APR!AL105,$C$12=\"May\",MAY!AL105,$C$12=\"June\",JUN!AL105,$C$12=\"July\",JUL!AL105,$C$12=\"August\",AUG!AL105,$C$12=\"September\",SEP!AL105,$C$12=\"October\",OCT!AL105,$C$12=\"November\",NOV!AL105,$C$12=\"December\",DEC!AL105)","v":0}]
["",null,{"$f":"_xlfn.IFS($C$12=\"January\",JAN!AL106,$C$12=\"February\",FEB!AL106,$C$12=\"March\",MAR!AL106,$C$12=\"April\",APR!AL106,$C$12=\"May\",MAY!AL106,$C$12=\"June\",JUN!AL106,$C$12=\"July\",JUL!AL106,$C$12=\"August\",AUG!AL106,$C$12=\"September\",SEP!AL106,$C$12=\"October\",OCT!AL106,$C$12=\"November\",NOV!AL106,$C$12=\"December\",DEC!AL106)","v":0}]
["",null,{"$f":"_xlfn.IFS($C$12=\"January\",JAN!AL107,$C$12=\"February\",FEB!AL107,$C$12=\"March\",MAR!AL107,$C$12=\"April\",APR!AL107,$C$12=\"May\",MAY!AL107,$C$12=\"June\",JUN!AL107,$C$12=\"July\",JUL!AL107,$C$12=\"August\",AUG!AL107,$C$12=\"September\",SEP!AL107,$C$12=\"October\",OCT!AL107,$C$12=\"November\",NOV!AL107,$C$12=\"December\",DEC!AL107)","v":0}]
["",null,{"$f":"_xlfn.IFS($C$12=\"January\",JAN!AL108,$C$12=\"February\",FEB!AL108,$C$12=\"March\",MAR!AL108,$C$12=\"April\",APR!AL108,$C$12=\"May\",MAY!AL108,$C$12=\"June\",JUN!AL108,$C$12=\"July\",JUL!AL108,$C$12=\"August\",AUG!AL108,$C$12=\"September\",SEP!AL108,$C$12=\"October\",OCT!AL108,$C$12=\"November\",NOV!AL108,$C$12=\"December\",DEC!AL108)","v":0}]
["",null,{"$f":"_xlfn.IFS($C$12=\"January\",JAN!AL109,$C$12=\"February\",FEB!AL109,$C$12=\"March\",MAR!AL109,$C$12=\"April\",APR!AL109,$C$12=\"May\",MAY!AL109,$C$12=\"June\",JUN!AL109,$C$12=\"July\",JUL!AL109,$C$12=\"August\",AUG!AL109,$C$12=\"September\",SEP!AL109,$C$12=\"October\",OCT!AL109,$C$12=\"November\",NOV!AL109,$C$12=\"December\",DEC!AL109)","v":0}]
["",null,{"$f":"_xlfn.IFS($C$12=\"January\",JAN!AL110,$C$12=\"February\",FEB!AL110,$C$12=\"March\",MAR!AL110,$C$12=\"April\",APR!AL110,$C$12=\"May\",MAY!AL110,$C$12=\"June\",JUN!AL110,$C$12=\"July\",JUL!AL110,$C$12=\"August\",AUG!AL110,$C$12=\"September\",SEP!AL110,$C$12=\"October\",OCT!AL110,$C$12=\"November\",NOV!AL110,$C$12=\"December\",DEC!AL110)","v":0}]
["",null,{"$f":"_xlfn.IFS($C$12=\"January\",JAN!AL111,$C$12=\"February\",FEB!AL111,$C$12=\"March\",MAR!AL111,$C$12=\"April\",APR!AL111,$C$12=\"May\",MAY!AL111,$C$12=\"June\",JUN!AL111,$C$12=\"July\",JUL!AL111,$C$12=\"August\",AUG!AL111,$C$12=\"September\",SEP!AL111,$C$12=\"October\",OCT!AL111,$C$12=\"November\",NOV!AL111,$C$12=\"December\",DEC!AL111)","v":0}]
["",null,{"$f":"_xlfn.IFS($C$12=\"January\",JAN!AL112,$C$12=\"February\",FEB!AL112,$C$12=\"March\",MAR!AL112,$C$12=\"April\",APR!AL112,$C$12=\"May\",MAY!AL112,$C$12=\"June\",JUN!AL112,$C$12=\"July\",JUL!AL112,$C$12=\"August\",AUG!AL112,$C$12=\"September\",SEP!AL112,$C$12=\"October\",OCT!AL112,$C$12=\"November\",NOV!AL112,$C$12=\"December\",DEC!AL112)","v":0}]
["",null,{"$f":"_xlfn.IFS($C$12=\"January\",JAN!AL113,$C$12=\"February\",FEB!AL113,$C$12=\"March\",MAR!AL113,$C$12=\"April\",APR!AL113,$C$12=\"May\",MAY!AL113,$C$12=\"June\",JUN!AL113,$C$12=\"July\",JUL!AL113,$C$12=\"August\",AUG!AL113,$C$12=\"September\",SEP!AL113,$C$12=\"October\",OCT!AL113,$C$12=\"November\",NOV!AL113,$C$12=\"December\",DEC!AL113)","v":0}]
["",null,{"$f":"_xlfn.IFS($C$12=\"January\",JAN!AL114,$C$12=\"February\",FEB!AL114,$C$12=\"March\",MAR!AL114,$C$12=\"April\",APR!AL114,$C$12=\"May\",MAY!AL114,$C$12=\"June\",JUN!AL114,$C$12=\"July\",JUL!AL114,$C$12=\"August\",AUG!AL114,$C$12=\"September\",SEP!AL114,$C$12=\"October\",OCT!AL114,$C$12=\"November\",NOV!AL114,$C$12=\"December\",DEC!AL114)","v":0}]

{"sheet":"JAN","index":1,"n_rows":147,"n_cols":39,"rows_kept":147,"cut":false,"hidden":true,"merged":[[73,30,73,35],[72,30,72,35],[35,1,35,2],[36,1,36,2],[62,1,62,2],[64,1,64,2],[37,1,37,2],[38,1,38,2],[39,1,39,2],[40,1,40,2],[41,1,41,2],[42,1,42,2],[43,1,43,2],[44,1,44,2],[66,1,66,2],[67,1,67,2],[68,1,68,2],[69,1,69,2],[70,1,70,2],[71,1,71,2],[72,1,72,2],[45,1,45,2],[46,1,46,2],[47,1,47,2],[25,30,25,35],[26,30,26,35],[27,30,27,35],[28,30,28,35],[25,1,25,2],[26,1,26,2],[27,1,27,2],[28,1,28,2],[13,1,13,2],[14,1,14,2],[15,1,15,2],[16,1,16,2],[17,1,17,2],[18,1,18,2],[19,1,19,2],[20,1,20,2],[21,1,21,2],[22,1,22,2],[23,1,23,2],[24,1,24,2],[29,1,29,2],[30,1,30,2],[31,1,31,2],[32,1,32,2],[33,1,33,2],[34,1,34,2],[136,34,137,34],[136,35,137,35],[132,27,133,32],[121,33,122,33],[121,34,122,34],[121,35,122,35],[134,27,135,32],[128,35,129,35],[128,33,129,33],[128,34,129,34],[130,27,131,32],[128,27,129,32],[130,33,131,33],[130,34,131,34],[130,35,131,35],[134,35,135,35],[134,34,135,34],[115,0,115,2],[113,1,113,2],[136,27,137,32],[125,27,126,32],[127,27,127,32],[121,27,122,32],[125,33,126,33],[134,33,135,33],[136,33,137,33],[136,1,137,6],[122,3,122,12],[116,3,116,7],[123,1,124,1],[121,1,122,1],[118,0,118,13],[119,0,119,13],[120,0,120,13],[125,3,125,12],[116,0,116,1],[133,1,133,13],[125,1,126,2],[127,0,127,11],[117,28,117,29],[75,30,75,35],[76,30,76,35],[77,30,77,35],[132,34,133,34],[80,30,80,35],[81,30,81,35],[82,30,82,35],[83,30,83,35],[114,30,114,35],[86,30,86,35],[87,30,87,35],[115,30,115,35],[123,27,124,32],[125,34,126,34],[125,35,126,35],[119,34,120,34],[119,35,120,35],[119,27,120,32],[117,33,117,35],[117,30,118,31],[85,30,85,35],[132,33,133,33],[1,0,1,35],[9,3,9,27],[31,30,31,35],[32,30,32,35],[33,30,33,35],[34,30,34,35],[35,30,35,35],[16,30,16,35],[17,30,17,35],[18,30,18,35],[13,30,13,35],[14,30,14,35],[15,30,15,35],[2,0,2,35],[9,0,12,2],[5,2,5,4],[7,23,7,24],[5,10,5,14],[5,23,5,28],[9,28,10,29],[19,30,19,35],[20,30,20,35],[21,30,21,35],[22,30,22,35],[5,16,5,22],[141,16,142,25],[24,30,24,35],[29,30,29,35],[30,30,30,35],[11,28,12,28],[11,29,12,29],[9,30,12,35],[84,30,84,35],[123,33,124,33],[123,34,124,34],[123,35,124,35],[78,30,78,35],[69,30,69,35],[64,30,64,35],[65,30,65,35],[66,30,66,35],[67,30,67,35],[68,30,68,35],[113,30,113,35],[79,30,79,35],[132,35,133,35],[70,30,70,35],[71,30,71,35],[7,2,7,14],[141,29,141,34],[145,29,145,34],[114,0,114,2],[130,0,131,14],[7,25,7,27],[7,28,7,33],[7,19,7,22],[119,33,120,33],[23,30,23,35],[36,30,36,35],[62,30,62,35],[121,0,122,0],[123,0,124,0],[125,0,126,0],[123,3,123,12],[124,3,124,12],[126,3,126,12],[121,3,121,12],[125,13,126,14],[121,13,122,14],[118,16,120,24],[128,0,129,13],[74,30,74,35],[48,1,48,2],[49,1,49,2],[50,1,50,2],[51,1,51,2],[52,1,52,2],[53,1,53,2],[54,1,54,2],[55,1,55,2],[56,1,56,2],[57,1,57,2],[58,1,58,2],[59,1,59,2],[60,1,60,2],[61,1,61,2],[88,1,88,2],[87,1,87,2],[86,1,86,2],[85,1,85,2],[84,1,84,2],[83,1,83,2],[82,1,82,2],[81,1,81,2],[80,1,80,2],[79,1,79,2],[74,1,74,2],[75,1,75,2],[78,1,78,2],[77,1,77,2],[76,1,76,2],[65,1,65,2],[73,1,73,2],[63,0,63,2],[89,1,89,2],[90,1,90,2],[91,1,91,2],[92,1,92,2],[93,1,93,2],[94,1,94,2],[95,1,95,2],[96,1,96,2],[97,1,97,2],[107,1,107,2],[108,1,108,2],[109,1,109,2],[110,1,110,2],[111,1,111,2],[112,1,112,2],[98,1,98,2],[99,1,99,2],[100,1,100,2],[101,1,101,2],[102,1,102,2],[103,1,103,2],[104,1,104,2],[105,1,105,2],[106,1,106,2]]}
[]
["School Form 2 (SF2) Daily Attendance Report of Learners"]
["(This replaced Form 1, Form 2 & STS Form 4 - Absenteeism and Dropout Profile)"]
[]
[]
[null,"School ID",{"$f":"IF('INPUT DATA'!R5=\"\",\"\",'INPUT DATA'!R5)","v":""},null,null,null,null,"School Year",null,null,{"$f":"IF('INPUT DATA'!R4=\"\",\"\",'INPUT DATA'!R4)","v":""},null,null,null,null,null,"Report for the  Month of",null,null,null,null,null,null,"January"]
[]
[null,"Name of School",{"$f":"IF('INPUT DATA'!F5=\"\",\"\",'INPUT DATA'!F5)","v":""},null,null,null,null,null,null,null,null,null,null,null,null,null,null,null,null,"Grade Level",null,null,null,{"$f":"IF('INPUT DATA'!R8=\"\",\"\",'INPUT DATA'!R8)","v":""},null,"Section",null,null,{"$f":"IF('INPUT DATA'!R9=\"\",\"\",'INPUT DATA'!R9)","v":""}]
[]
["LEARNER'S NAME                                                                                         (Last Name, First Name, Middle Name)                                  ",null,null,"(1st row for date, 2nd row for Day: M,T,W,TH,F)",null,null,null,null,null,null,null,null,null,null,null,null,null,null,null,null,null,null,null,null,null,null,null,null,"Total for the Month             ",null,"REMARK/S (If DROPPED OUT, state reason, please refer to legend number 2.\nIf TRANSFERRED IN/OUT, write the name of School.)"]
[null,null,null,1,2,3,4,5,6,7,8,9,10,11,12,13,14,15,16,17,18,19,20,21,22,23,24,25]
[null,null,null,"Mon","Tue","Wed","Thu","Fri","Mon","Tue","Wed","Thu","Fri","Mon","Tue","Wed","Thu","Fri","Mon","Tue","Wed","Thu","Fri","Mon","Tue","Wed","Thu","Fri","ABSENT","PRESENT"]
[null,null,null,false,false,false,false,false,false,false,false,false,false,false,false,false,false,false,false,false,false,false,false,false,false,false,false,false]
[{"$f":"IF(B14=\"\",\"\",\"1\")","v":"1"},{"$f":"IF('INPUT DATA'!B13=\"\",\"\",'INPUT DATA'!B13)","v":"Student 1"},null,"r","r","r","r","r","r","r","r","r","r","r","r","r","r","r","r","r","r","r","r","r","r","r","r","r",{"$f":"IF(B14=\"\",\"\",SUM(COUNTIF(D14:AB14,\"z\")*0.5,COUNTIF(D14:AB14,\"y\")*0.5,COUNTIF(D14:AB14,\"r\")))","v":25},{"$f":"IF(B14=\"\",\"\",COUNTA($D$11:$AB$11)-AC14)","v":0},null,null,null,null,null,null,null,{"$f":"MAX(FREQUENCY(IF(D14:AB14=\"r\",COLUMN(D14:AB14)),IF(D14:AB14<>\"r\",COLUMN(D14:AB14))))","v":25},{"$f":"IF(AL14>=5,1,\"\")","v":1}]
[{"$f":"IF(B15=\"\",\"\",A14+1)","v":2},{"$f":"IF('INPUT DATA'!B14=\"\",\"\",'INPUT DATA'!B14)","v":"Student 2"},null,null,null,null,null,null,null,null,null,null,null,null,null,null,null,null,null,null,null,null,null,null,null,null,null,null,{"$f":"IF(B15=\"\",\"\",SUM(COUNTIF(D15:AB15,\"z\")*0.5,COUNTIF(D15:AB15,\"y\")*0.5,COUNTIF(D15:AB15,\"r\")))","v":0},{"$f":"IF(B15=\"\",\"\",COUNTA($D$11:$AB$11)-AC15)","v":25},null,null,null,null,null,null,null,{"$f":"MAX(FREQUENCY(IF(D15:AB15=\"r\",COLUMN(D15:AB15)),IF(D15:AB15<>\"r\",COLUMN(D15:AB15))))","v":0},{"$f":"IF(AL15>=5,1,\"\")","v":""}]
[{"$f":"IF(B16=\"\",\"\",A15+1)","v":3},{"$f":"IF('INPUT DATA'!B15=\"\",\"\",'INPUT DATA'!B15)","v":"Student 3"},null,null,null,null,null,null,null,null,null,null,null,null,null,null,null,null,null,null,null,null,null,null,null,null,null,null,0,25,null,null,null,null,null,null,null,{"$f":"MAX(FREQUENCY(IF(D16:AB16=\"r\",COLUMN(D16:AB16)),IF(D16:AB16<>\"r\",COLUMN(D16:AB16))))","v":0},""]
[4,{"$f":"IF('INPUT DATA'!B16=\"\",\"\",'INPUT DATA'!B16)","v":"Student 4"},null,null,null,null,null,null,null,null,null,null,null,null,null,null,null,null,null,null,null,null,null,null,null,null,null,null,0,25,null,null,null,null,null,null,null,{"$f":"MAX(FREQUENCY(IF(D17:AB17=\"r\",COLUMN(D17:AB17)),IF(D17:AB17<>\"r\",COLUMN(D17:AB17))))","v":0},""]
[5,{"$f":"IF('INPUT DATA'!B17=\"\",\"\",'INPUT DATA'!B17)","v":"Student 5"},null,null,null,null,null,null,null,null,null,null,null,null,null,null,null,null,null,null,null,null,null,null,null,null,null,null,0,25,null,null,null,null,null,null,null,{"$f":"MAX(FREQUENCY(IF(D18:AB18=\"r\",COLUMN(D18:AB18)),IF(D18:AB18<>\"r\",COLUMN(D18:AB18))))","v":0},""]
[6,{"$f":"IF('INPUT DATA'!B18=\"\",\"\",'INPUT DATA'!B18)","v":"Student 6"},null,null,null,null,null,null,null,null,null,null,null,null,null,null,null,null,null,null,null,null,null,null,null,null,null,null,0,25,null,null,null,null,null,null,null,{"$f":"MAX(FREQUENCY(IF(D19:AB19=\"r\",COLUMN(D19:AB19)),IF(D19:AB19<>\"r\",COLUMN(D19:AB19))))","v":0},""]
[7,{"$f":"IF('INPUT DATA'!B19=\"\",\"\",'INPUT DATA'!B19)","v":"Student 7"},null,null,null,null,null,null,null,null,null,null,null,null,null,null,null,null,null,null,null,null,null,null,null,null,null,null,0,25,null,null,null,null,null,null,null,{"$f":"MAX(FREQUENCY(IF(D20:AB20=\"r\",COLUMN(D20:AB20)),IF(D20:AB20<>\"r\",COLUMN(D20:AB20))))","v":0},""]
[8,{"$f":"IF('INPUT DATA'!B20=\"\",\"\",'INPUT DATA'!B20)","v":"Student 8"},null,null,null,null,null,null,null,null,null,null,null,null,null,null,null,null,null,null,null,null,null,null,null,null,null,null,0,25,null,null,null,null,null,null,null,{"$f":"MAX(FREQUENCY(IF(D21:AB21=\"r\",COLUMN(D21:AB21)),IF(D21:AB21<>\"r\",COLUMN(D21:AB21))))","v":0},""]
[9,{"$f":"IF('INPUT DATA'!B21=\"\",\"\",'INPUT DATA'!B21)","v":"Student 9"},null,null,null,null,null,null,null,null,null,null,null,null,null,null,null,null,null,null,null,null,null,null,null,null,null,null,0,25,null,null,null,null,null,null,null,{"$f":"MAX(FREQUENCY(IF(D22:AB22=\"r\",COLUMN(D22:AB22)),IF(D22:AB22<>\"r\",COLUMN(D22:AB22))))","v":0},""]
[10,{"$f":"IF('INPUT DATA'!B22=\"\",\"\",'INPUT DATA'!B22)","v":"Student 10"},null,null,null,null,null,null,null,null,null,null,null,null,null,null,null,null,null,null,null,null,null,null,null,null,null,null,0,25,null,null,null,null,null,null,null,{"$f":"MAX(FREQUENCY(IF(D23:AB23=\"r\",COLUMN(D23:AB23)),IF(D23:AB23<>\"r\",COLUMN(D23:AB23))))","v":0},""]
[11,{"$f":"IF('INPUT DATA'!B23=\"\",\"\",'INPUT DATA'!B23)","v":"Student 11"},null,null,null,null,null,null,null,null,null,null,null,null,null,null,null,null,null,null,null,null,null,null,null,null,null,null,0,25,null,null,null,null,null,null,null,{"$f":"MAX(FREQUENCY(IF(D24:AB24=\"r\",COLUMN(D24:AB24)),IF(D24:AB24<>\"r\",COLUMN(D24:AB24))))","v":0},""]
[12,{"$f":"IF('INPUT DATA'!B24=\"\",\"\",'INPUT DATA'!B24)","v":"Student 12"},null,null,null,null,null,null,null,null,null,null,null,null,null,null,null,null,null,null,null,null,null,null,null,null,null,null,0,25,null,null,null,null,null,null,null,{"$f":"MAX(FREQUENCY(IF(D25:AB25=\"r\",COLUMN(D25:AB25)),IF(D25:AB25<>\"r\",COLUMN(D25:AB25))))","v":0},""]
[13,{"$f":"IF('INPUT DATA'!B25=\"\",\"\",'INPUT DATA'!B25)","v":"Student 13"},null,null,null,null,null,null,null,null,null,null,null,null,null,null,null,null,null,null,null,null,null,null,null,null,null,null,0,25,null,null,null,null,null,null,null,{"$f":"MAX(FREQUENCY(IF(D26:AB26=\"r\",COLUMN(D26:AB26)),IF(D26:AB26<>\"r\",COLUMN(D26:AB26))))","v":0},""]
[14,{"$f":"IF('INPUT DATA'!B26=\"\",\"\",'INPUT DATA'!B26)","v":"Student 14"},null,null,null,null,null,null,null,null,null,null,null,null,null,null,null,null,null,null,null,null,null,null,null,null,null,null,0,25,null,null,null,null,null,null,null,{"$f":"MAX(FREQUENCY(IF(D27:AB27=\"r\",COLUMN(D27:AB27)),IF(D27:AB27<>\"r\",COLUMN(D27:AB27))))","v":0},""]
[15,{"$f":"IF('INPUT DATA'!B27=\"\",\"\",'INPUT DATA'!B27)","v":"Student 15"},null,null,null,null,null,null,null,null,null,null,null,null,null,null,null,null,null,null,null,null,null,null,null,null,null,null,0,25,null,null,null,null,null,null,null,{"$f":"MAX(FREQUENCY(IF(D28:AB28=\"r\",COLUMN(D28:AB28)),IF(D28:AB28<>\"r\",COLUMN(D28:AB28))))","v":0},""]
[16,{"$f":"IF('INPUT DATA'!B28=\"\",\"\",'INPUT DATA'!B28)","v":"Student 16"},null,null,null,null,null,null,null,null,null,null,null,null,null,null,null,null,null,null,null,null,null,null,null,null,null,null,0,25,null,null,null,null,null,null,null,{"$f":"MAX(FREQUENCY(IF(D29:AB29=\"r\",COLUMN(D29:AB29)),IF(D29:AB29<>\"r\",COLUMN(D29:AB29))))","v":0},""]
[17,{"$f":"IF('INPUT DATA'!B29=\"\",\"\",'INPUT DATA'!B29)","v":"Student 17"},null,null,null,null,null,null,null,null,null,null,null,null,null,null,null,null,null,null,null,null,null,null,null,null,null,null,0,25,null,null,null,null,null,null,null,{"$f":"MAX(FREQUENCY(IF(D30:AB30=\"r\",COLUMN(D30:AB30)),IF(D30:AB30<>\"r\",COLUMN(D30:AB30))))","v":0},""]
[18,{"$f":"IF('INPUT DATA'!B30=\"\",\"\",'INPUT DATA'!B30)","v":"Student 18"},null,null,null,null,null,null,null,null,null,null,null,null,null,null,null,null,null,null,null,null,null,null,null,null,null,null,0,25,null,null,null,null,null,null,null,{"$f":"MAX(FREQUENCY(IF(D31:AB31=\"r\",COLUMN(D31:AB31)),IF(D31:AB31<>\"r\",COLUMN(D31:AB31))))","v":0},""]
[19,{"$f":"IF('INPUT DATA'!B31=\"\",\"\",'INPUT DATA'!B31)","v":"Student 19"},null,null,null,null,null,null,null,null,null,null,null,null,null,null,null,null,null,null,null,null,null,null,null,null,null,null,0,25,null,null,null,null,null,null,null,{"$f":"MAX(FREQUENCY(IF(D32:AB32=\"r\",COLUMN(D32:AB32)),IF(D32:AB32<>\"r\",COLUMN(D32:AB32))))","v":0},""]
[20,{"$f":"IF('INPUT DATA'!B32=\"\",\"\",'INPUT DATA'!B32)","v":"Student 20"},null,null,null,null,null,null,null,null,null,null,null,null,null,null,null,null,null,null,null,null,null,null,null,null,null,null,0,25,null,null,null,null,null,null,null,{"$f":"MAX(FREQUENCY(IF(D33:AB33=\"r\",COLUMN(D33:AB33)),IF(D33:AB33<>\"r\",COLUMN(D33:AB33))))","v":0},""]
["",{"$f":"IF('INPUT DATA'!B33=\"\",\"\",'INPUT DATA'!B33)","v":""},null,null,null,null,null,null,null,null,null,null,null,null,null,null,null,null,null,null,null,null,null,null,null,null,null,null,"","",null,null,null,null,null,null,null,{"$f":"MAX(FREQUENCY(IF(D34:AB34=\"r\",COLUMN(D34:AB34)),IF(D34:AB34<>\"r\",COLUMN(D34:AB34))))","v":0},""]
["",{"$f":"IF('INPUT DATA'!B34=\"\",\"\",'INPUT DATA'!B34)","v":""},null,null,null,null,null,null,null,null,null,null,null,null,null,null,null,null,null,null,null,null,null,null,null,null,null,null,"","",null,null,null,null,null,null,null,{"$f":"MAX(FREQUENCY(IF(D35:AB35=\"r\",COLUMN(D35:AB35)),IF(D35:AB35<>\"r\",COLUMN(D35:AB35))))","v":0},""]
["",{"$f":"IF('INPUT DATA'!B35=\"\",\"\",'INPUT DATA'!B35)","v":""},null,null,null,null,null,null,null,null,null,null,null,null,null,null,null,null,null,null,null,null,null,null,null,null,null,null,"","",null,null,null,null,null,null,null,{"$f":"MAX(FREQUENCY(IF(D36:AB36=\"r\",COLUMN(D36:AB36)),IF(D36:AB36<>\"r\",COLUMN(D36:AB36))))","v":0},""]
["",{"$f":"IF('INPUT DATA'!B36=\"\",\"\",'INPUT DATA'!B36)","v":""},null,null,null,null,null,null,null,null,null,null,null,null,null,null,null,null,null,null,null,null,null,null,null,null,null,null,"","",null,null,null,null,null,null,null,{"$f":"MAX(FREQUENCY(IF(D37:AB37=\"r\",COLUMN(D37:AB37)),IF(D37:AB37<>\"r\",COLUMN(D37:AB37))))","v":0},""]
["",{"$f":"IF('INPUT DATA'!B37=\"\",\"\",'INPUT DATA'!B37)","v":""},null,null,null,null,null,null,null,null,null,null,null,null,null,null,null,null,null,null,null,null,null,null,null,null,null,null,"","",null,null,null,null,null,null,null,{"$f":"MAX(FREQUENCY(IF(D38:AB38=\"r\",COLUMN(D38:AB38)),IF(D38:AB38<>\"r\",COLUMN(D38:AB38))))","v":0},""]
["",{"$f":"IF('INPUT DATA'!B38=\"\",\"\",'INPUT DATA'!B38)","v":""},null,null,null,null,null,null,null,null,null,null,null,null,null,null,null,null,null,null,null,null,null,null,null,null,null,null,"","",null,null,null,null,null,null,null,{"$f":"MAX(FREQUENCY(IF(D39:AB39=\"r\",COLUMN(D39:AB39)),IF(D39:AB39<>\"r\",COLUMN(D39:AB39))))","v":0},""]
["",{"$f":"IF('INPUT DATA'!B39=\"\",\"\",'INPUT DATA'!B39)","v":""},null,null,null,null,null,null,null,null,null,null,null,null,null,null,null,null,null,null,null,null,null,null,null,null,null,null,"","",null,null,null,null,null,null,null,{"$f":"MAX(FREQUENCY(IF(D40:AB40=\"r\",COLUMN(D40:AB40)),IF(D40:AB40<>\"r\",COLUMN(D40:AB40))))","v":0},""]
["",{"$f":"IF('INPUT DATA'!B40=\"\",\"\",'INPUT DATA'!B40)","v":""},null,null,null,null,null,null,null,null,null,null,null,null,null,null,null,null,null,null,null,null,null,null,null,null,null,null,"","",null,null,null,null,null,null,null,{"$f":"MAX(FREQUENCY(IF(D41:AB41=\"r\",COLUMN(D41:AB41)),IF(D41:AB41<>\"r\",COLUMN(D41:AB41))))","v":0},""]
["",{"$f":"IF('INPUT DATA'!B41=\"\",\"\",'INPUT DATA'!B41)","v":""},null,null,null,null,null,null,null,null,null,null,null,null,null,null,null,null,null,null,null,null,null,null,null,null,null,null,"","",null,null,null,null,null,null,null,{"$f":"MAX(FREQUENCY(IF(D42:AB42=\"r\",COLUMN(D42:AB42)),IF(D42:AB42<>\"r\",COLUMN(D42:AB42))))","v":0},""]
["",{"$f":"IF('INPUT DATA'!B42=\"\",\"\",'INPUT DATA'!B42)","v":""},null,null,null,null,null,null,null,null,null,null,null,null,null,null,null,null,null,null,null,null,null,null,null,null,null,null,"","",null,null,null,null,null,null,null,{"$f":"MAX(FREQUENCY(IF(D43:AB43=\"r\",COLUMN(D43:AB43)),IF(D43:AB43<>\"r\",COLUMN(D43:AB43))))","v":0},""]
["",{"$f":"IF('INPUT DATA'!B43=\"\",\"\",'INPUT DATA'!B43)","v":""},null,null,null,null,null,null,null,null,null,null,null,null,null,null,null,null,null,null,null,null,null,null,null,null,null,null,"","",null,null,null,null,null,null,null,{"$f":"MAX(FREQUENCY(IF(D44:AB44=\"r\",COLUMN(D44:AB44)),IF(D44:AB44<>\"r\",COLUMN(D44:AB44))))","v":0},""]
["",{"$f":"IF('INPUT DATA'!B44=\"\",\"\",'INPUT DATA'!B44)","v":""},null,null,null,null,null,null,null,null,null,null,null,null,null,null,null,null,null,null,null,null,null,null,null,null,null,null,"","",null,null,null,null,null,null,null,{"$f":"MAX(FREQUENCY(IF(D45:AB45=\"r\",COLUMN(D45:AB45)),IF(D45:AB45<>\"r\",COLUMN(D45:AB45))))","v":0},""]
["",{"$f":"IF('INPUT DATA'!B45=\"\",\"\",'INPUT DATA'!B45)","v":""},null,null,null,null,null,null,null,null,null,null,null,null,null,null,null,null,null,null,null,null,null,null,null,null,null,null,"","",null,null,null,null,null,null,null,{"$f":"MAX(FREQUENCY(IF(D46:AB46=\"r\",COLUMN(D46:AB46)),IF(D46:AB46<>\"r\",COLUMN(D46:AB46))))","v":0},""]
["",{"$f":"IF('INPUT DATA'!B46=\"\",\"\",'INPUT DATA'!B46)","v":""},null,null,null,null,null,null,null,null,null,null,null,null,null,null,null,null,null,null,null,null,null,null,null,null,null,null,"","",null,null,null,null,null,null,null,{"$f":"MAX(FREQUENCY(IF(D47:AB47=\"r\",COLUMN(D47:AB47)),IF(D47:AB47<>\"r\",COLUMN(D47:AB47))))","v":0},""]
["",{"$f":"IF('INPUT DATA'!B47=\"\",\"\",'INPUT DATA'!B47)","v":""},null,null,null,null,null,null,null,null,null,null,null,null,null,null,null,null,null,null,null,null,null,null,null,null,null,null,"","",null,null,null,null,null,null,null,{"$f":"MAX(FREQUENCY(IF(D48:AB48=\"r\",COLUMN(D48:AB48)),IF(D48:AB48<>\"r\",COLUMN(D48:AB48))))","v":0},""]
["",{"$f":"IF('INPUT DATA'!B48=\"\",\"\",'INPUT DATA'!B48)","v":""},null,null,null,null,null,null,null,null,null,null,null,null,null,null,null,null,null,null,null,null,null,null,null,null,null,null,"","",null,null,null,null,null,null,null,{"$f":"MAX(FREQUENCY(IF(D49:AB49=\"r\",COLUMN(D49:AB49)),IF(D49:AB49<>\"r\",COLUMN(D49:AB49))))","v":0},""]
["",{"$f":"IF('INPUT DATA'!B49=\"\",\"\",'INPUT DATA'!B49)","v":""},null,null,null,null,null,null,null,null,null,null,null,null,null,null,null,null,null,null,null,null,null,null,null,null,null,null,"","",null,null,null,null,null,null,null,{"$f":"MAX(FREQUENCY(IF(D50:AB50=\"r\",COLUMN(D50:AB50)),IF(D50:AB50<>\"r\",COLUMN(D50:AB50))))","v":0},""]
["",{"$f":"IF('INPUT DATA'!B50=\"\",\"\",'INPUT DATA'!B50)","v":""},null,null,null,null,null,null,null,null,null,null,null,null,null,null,null,null,null,null,null,null,null,null,null,null,null,null,"","",null,null,null,null,null,null,null,{"$f":"MAX(FREQUENCY(IF(D51:AB51=\"r\",COLUMN(D51:AB51)),IF(D51:AB51<>\"r\",COLUMN(D51:AB51))))","v":0},""]
["",{"$f":"IF('INPUT DATA'!B51=\"\",\"\",'INPUT DATA'!B51)","v":""},null,null,null,null,null,null,null,null,null,null,null,null,null,null,null,null,null,null,null,null,null,null,null,null,null,null,"","",null,null,null,null,null,null,null,{"$f":"MAX(FREQUENCY(IF(D52:AB52=\"r\",COLUMN(D52:AB52)),IF(D52:AB52<>\"r\",COLUMN(D52:AB52))))","v":0},""]
["",{"$f":"IF('INPUT DATA'!B52=\"\",\"\",'INPUT DATA'!B52)","v":""},null,null,null,null,null,null,null,null,null,null,null,null,null,null,null,null,null,null,null,null,null,null,null,null,null,null,"","",null,null,null,null,null,null,null,{"$f":"MAX(FREQUENCY(IF(D53:AB53=\"r\",COLUMN(D53:AB53)),IF(D53:AB53<>\"r\",COLUMN(D53:AB53))))","v":0},""]
["",{"$f":"IF('INPUT DATA'!B53=\"\",\"\",'INPUT DATA'!B53)","v":""},null,null,null,null,null,null,null,null,null,null,null,null,null,null,null,null,null,null,null,null,null,null,null,null,null,null,"","",null,null,null,null,null,null,null,{"$f":"MAX(FREQUENCY(IF(D54:AB54=\"r\",COLUMN(D54:AB54)),IF(D54:AB54<>\"r\",COLUMN(D54:AB54))))","v":0},""]
["",{"$f":"IF('INPUT DATA'!B54=\"\",\"\",'INPUT DATA'!B54)","v":""},null,null,null,null,null,null,null,null,null,null,null,null,null,null,null,null,null,null,null,null,null,null,null,null,null,null,"","",null,null,null,null,null,null,null,{"$f":"MAX(FREQUENCY(IF(D55:AB55=\"r\",COLUMN(D55:AB55)),IF(D55:AB55<>\"r\",COLUMN(D55:AB55))))","v":0},""]
["",{"$f":"IF('INPUT DATA'!B55=\"\",\"\",'INPUT DATA'!B55)","v":""},null,null,null,null,null,null,null,null,null,null,null,null,null,null,null,null,null,null,null,null,null,null,null,null,null,null,"","",null,null,null,null,null,null,null,{"$f":"MAX(FREQUENCY(IF(D56:AB56=\"r\",COLUMN(D56:AB56)),IF(D56:AB56<>\"r\",COLUMN(D56:AB56))))","v":0},""]
["",{"$f":"IF('INPUT DATA'!B56=\"\",\"\",'INPUT DATA'!B56)","v":""},null,null,null,null,null,null,null,null,null,null,null,null,null,null,null,null,null,null,null,null,null,null,null,null,null,null,"","",null,null,null,null,null,null,null,{"$f":"MAX(FREQUENCY(IF(D57:AB57=\"r\",COLUMN(D57:AB57)),IF(D57:AB57<>\"r\",COLUMN(D57:AB57))))","v":0},""]
["",{"$f":"IF('INPUT DATA'!B57=\"\",\"\",'INPUT DATA'!B57)","v":""},null,null,null,null,null,null,null,null,null,null,null,null,null,null,null,null,null,null,null,null,null,null,null,null,null,null,"","",null,null,null,null,null,null,null,{"$f":"MAX(FREQUENCY(IF(D58:AB58=\"r\",COLUMN(D58:AB58)),IF(D58:AB58<>\"r\",COLUMN(D58:AB58))))","v":0},""]
["",{"$f":"IF('INPUT DATA'!B58=\"\",\"\",'INPUT DATA'!B58)","v":""},null,null,null,null,null,null,null,null,null,null,null,null,null,null,null,null,null,null,null,null,null,null,null,null,null,null,"","",null,null,null,null,null,null,null,{"$f":"MAX(FREQUENCY(IF(D59:AB59=\"r\",COLUMN(D59:AB59)),IF(D59:AB59<>\"r\",COLUMN(D59:AB59))))","v":0},""]
["",{"$f":"IF('INPUT DATA'!B59=\"\",\"\",'INPUT DATA'!B59)","v":""},null,null,null,null,null,null,null,null,null,null,null,null,null,null,null,null,null,null,null,null,null,null,null,null,null,null,"","",null,null,null,null,null,null,null,{"$f":"MAX(FREQUENCY(IF(D60:AB60=\"r\",COLUMN(D60:AB60)),IF(D60:AB60<>\"r\",COLUMN(D60:AB60))))","v":0},""]
["",{"$f":"IF('INPUT DATA'!B60=\"\",\"\",'INPUT DATA'!B60)","v":""},null,null,null,null,null,null,null,null,null,null,null,null,null,null,null,null,null,null,null,null,null,null,null,null,null,null,"","",null,null,null,null,null,null,null,{"$f":"MAX(FREQUENCY(IF(D61:AB61=\"r\",COLUMN(D61:AB61)),IF(D61:AB61<>\"r\",COLUMN(D61:AB61))))","v":0},""]
["",{"$f":"IF('INPUT DATA'!B61=\"\",\"\",'INPUT DATA'!B61)","v":""},null,null,null,null,null,null,null,null,null,null,null,null,null,null,null,null,null,null,null,null,null,null,null,null,null,null,"","",null,null,null,null,null,null,null,{"$f":"MAX(FREQUENCY(IF(D62:AB62=\"r\",COLUMN(D62:AB62)),IF(D62:AB62<>\"r\",COLUMN(D62:AB62))))","v":0},""]
["",{"$f":"IF('INPUT DATA'!B62=\"\",\"\",'INPUT DATA'!B62)","v":""},null,null,null,null,null,null,null,null,null,null,null,null,null,null,null,null,null,null,null,null,null,null,null,null,null,null,"","",null,null,null,null,null,null,null,{"$f":"MAX(FREQUENCY(IF(D63:AB63=\"r\",COLUMN(D63:AB63)),IF(D63:AB63<>\"r\",COLUMN(D63:AB63))))","v":0},""]
["MALE  | TOTAL Per Day",null,null,{"$f":"IF(D11=\"\",\"\",SUM(COUNTBLANK(D14:D63)-COUNTBLANK($B$14:$B$63),COUNTIF(D14:D63,\"z\")*0.5,COUNTIF(D14:D63,\"y\")*0.5))","v":19},19,19,19,19,19,19,19,19,19,19,19,19,19,19,19,19,19,19,19,19,19,19,19,19,{"$f":"SUM(AC14:AC63)","v":25},{"$f":"SUM(AD14:AD63)","v":475},null,null,null,null,null,null,null,{"$f":"MAX(FREQUENCY(IF(D64:AB64=\"r\",COLUMN(D64:AB64)),IF(D64:AB64<>\"r\",COLUMN(D64:AB64))))","v":0},""]
[{"$f":"IF(B65=\"\",\"\",\"1\")","v":"1"},{"$f":"IF('INPUT DATA'!B64=\"\",\"\",'INPUT DATA'!B64)","v":"Student 1"},null,null,null,null,null,null,null,null,null,null,null,null,null,null,null,null,null,null,null,null,null,null,null,null,null,null,{"$f":"IF(B65=\"\",\"\",SUM(COUNTIF(D65:AB65,\"z\")*0.5,COUNTIF(D65:AB65,\"y\")*0.5,COUNTIF(D65:AB65,\"r\")))","v":0},{"$f":"IF(B65=\"\",\"\",COUNTA($D$11:$AB$11)-AC65)","v":25},null,null,null,null,null,null,null,{"$f":"MAX(FREQUENCY(IF(D65:AB65=\"r\",COLUMN(D65:AB65)),IF(D65:AB65<>\"r\",COLUMN(D65:AB65))))","v":0},""]
[{"$f":"IF(B66=\"\",\"\",A65+1)","v":2},{"$f":"IF('INPUT DATA'!B65=\"\",\"\",'INPUT DATA'!B65)","v":"Student 2"},null,null,null,null,null,null,null,null,null,null,null,null,null,null,null,null,null,null,null,null,null,null,null,null,null,null,{"$f":"IF(B66=\"\",\"\",SUM(COUNTIF(D66:AB66,\"z\")*0.5,COUNTIF(D66:AB66,\"y\")*0.5,COUNTIF(D66:AB66,\"r\")))","v":0},{"$f":"IF(B66=\"\",\"\",COUNTA($D$11:$AB$11)-AC66)","v":25},null,null,null,null,null,null,null,{"$f":"MAX(FREQUENCY(IF(D66:AB66=\"r\",COLUMN(D66:AB66)),IF(D66:AB66<>\"r\",COLUMN(D66:AB66))))","v":0},""]
[{"$f":"IF(B67=\"\",\"\",A66+1)","v":3},{"$f":"IF('INPUT DATA'!B66=\"\",\"\",'INPUT DATA'!B66)","v":"Student 3"},null,null,null,null,null,null,null,null,null,null,null,null,null,null,null,null,null,null,null,null,null,null,null,null,null,null,0,25,null,null,null,null,null,null,null,{"$f":"MAX(FREQUENCY(IF(D67:AB67=\"r\",COLUMN(D67:AB67)),IF(D67:AB67<>\"r\",COLUMN(D67:AB67))))","v":0},""]
[4,{"$f":"IF('INPUT DATA'!B67=\"\",\"\",'INPUT DATA'!B67)","v":"Student 4"},null,null,null,null,null,null,null,null,null,null,null,null,null,null,null,null,null,null,null,null,null,null,null,null,null,null,0,25,null,null,null,null,null,null,null,{"$f":"MAX(FREQUENCY(IF(D68:AB68=\"r\",COLUMN(D68:AB68)),IF(D68:AB68<>\"r\",COLUMN(D68:AB68))))","v":0},""]
[5,{"$f":"IF('INPUT DATA'!B68=\"\",\"\",'INPUT DATA'!B68)","v":"Student 5"},null,null,null,null,null,null,null,null,null,null,null,null,null,null,null,null,null,null,null,null,null,null,null,null,null,null,0,25,null,null,null,null,null,null,null,{"$f":"MAX(FREQUENCY(IF(D69:AB69=\"r\",COLUMN(D69:AB69)),IF(D69:AB69<>\"r\",COLUMN(D69:AB69))))","v":0},""]
[6,{"$f":"IF('INPUT DATA'!B69=\"\",\"\",'INPUT DATA'!B69)","v":"Student 6"},null,null,null,null,null,null,null,null,null,null,null,null,null,null,null,null,null,null,null,null,null,null,null,null,null,null,0,25,null,null,null,null,null,null,null,{"$f":"MAX(FREQUENCY(IF(D70:AB70=\"r\",COLUMN(D70:AB70)),IF(D70:AB70<>\"r\",COLUMN(D70:AB70))))","v":0},""]
[7,{"$f":"IF('INPUT DATA'!B70=\"\",\"\",'INPUT DATA'!B70)","v":"Student 7"},null,null,null,null,null,null,null,null,null,null,null,null,null,null,null,null,null,null,null,null,null,null,null,null,null,null,0,25,null,null,null,null,null,null,null,{"$f":"MAX(FREQUENCY(IF(D71:AB71=\"r\",COLUMN(D71:AB71)),IF(D71:AB71<>\"r\",COLUMN(D71:AB71))))","v":0},""]
[8,{"$f":"IF('INPUT DATA'!B71=\"\",\"\",'INPUT DATA'!B71)","v":"Student 8"},null,null,null,null,null,null,null,null,null,null,null,null,null,null,null,null,null,null,null,null,null,null,null,null,null,null,0,25,null,null,null,null,null,null,null,{"$f":"MAX(FREQUENCY(IF(D72:AB72=\"r\",COLUMN(D72:AB72)),IF(D72:AB72<>\"r\",COLUMN(D72:AB72))))","v":0},""]
[9,{"$f":"IF('INPUT DATA'!B72=\"\",\"\",'INPUT DATA'!B72)","v":"Student 9"},null,null,null,null,null,null,null,null,null,null,null,null,null,null,null,null,null,null,null,null,null,null,null,null,null,null,0,25,null,null,null,null,null,null,null,{"$f":"MAX(FREQUENCY(IF(D73:AB73=\"r\",COLUMN(D73:AB73)),IF(D73:AB73<>\"r\",COLUMN(D73:AB73))))","v":0},""]
[10,{"$f":"IF('INPUT DATA'!B73=\"\",\"\",'INPUT DATA'!B73)","v":"Student 10"},null,null,null,null,null,null,null,null,null,null,null,null,null,null,null,null,null,null,null,null,null,null,null,null,null,null,0,25,null,null,null,null,null,null,null,{"$f":"MAX(FREQUENCY(IF(D74:AB74=\"r\",COLUMN(D74:AB74)),IF(D74:AB74<>\"r\",COLUMN(D74:AB74))))","v":0},""]
[11,{"$f":"IF('INPUT DATA'!B74=\"\",\"\",'INPUT DATA'!B74)","v":"Student 11"},null,null,null,null,null,null,null,null,null,null,null,null,null,null,null,null,null,null,null,null,null,null,null,null,null,null,0,25,null,null,null,null,null,null,null,{"$f":"MAX(FREQUENCY(IF(D75:AB75=\"r\",COLUMN(D75:AB75)),IF(D75:AB75<>\"r\",COLUMN(D75:AB75))))","v":0},""]
[12,{"$f":"IF('INPUT DATA'!B75=\"\",\"\",'INPUT DATA'!B75)","v":"Student 12"},null,null,null,null,null,null,null,null,null,null,null,null,null,null,null,null,null,null,null,null,null,null,null,null,null,null,0,25,null,null,null,null,null,null,null,{"$f":"MAX(FREQUENCY(IF(D76:AB76=\"r\",COLUMN(D76:AB76)),IF(D76:AB76<>\"r\",COLUMN(D76:AB76))))","v":0},""]
[13,{"$f":"IF('INPUT DATA'!B76=\"\",\"\",'INPUT DATA'!B76)","v":"Student 13"},null,null,null,null,null,null,null,null,null,null,null,null,null,null,null,null,null,null,null,null,null,null,null,null,null,null,0,25,null,null,null,null,null,null,null,{"$f":"MAX(FREQUENCY(IF(D77:AB77=\"r\",COLUMN(D77:AB77)),IF(D77:AB77<>\"r\",COLUMN(D77:AB77))))","v":0},""]
[14,{"$f":"IF('INPUT DATA'!B77=\"\",\"\",'INPUT DATA'!B77)","v":"Student 14"},null,null,null,null,null,null,null,null,null,null,null,null,null,null,null,null,null,null,null,null,null,null,null,null,null,null,0,25,null,null,null,null,null,null,null,{"$f":"MAX(FREQUENCY(IF(D78:AB78=\"r\",COLUMN(D78:AB78)),IF(D78:AB78<>\"r\",COLUMN(D78:AB78))))","v":0},""]
[15,{"$f":"IF('INPUT DATA'!B78=\"\",\"\",'INPUT DATA'!B78)","v":"Student 15"},null,null,null,null,null,null,null,null,null,null,null,null,null,null,null,null,null,null,null,null,null,null,null,null,null,null,0,25,null,null,null,null,null,null,null,{"$f":"MAX(FREQUENCY(IF(D79:AB79=\"r\",COLUMN(D79:AB79)),IF(D79:AB79<>\"r\",COLUMN(D79:AB79))))","v":0},{"$f":"IF(AL79>=5,1,\"\")","v":""}]
[16,{"$f":"IF('INPUT DATA'!B79=\"\",\"\",'INPUT DATA'!B79)","v":"Student 16"},null,null,null,null,null,null,null,null,null,null,null,null,null,null,null,null,null,null,null,null,null,null,null,null,null,null,0,25,null,null,null,null,null,null,null,{"$f":"MAX(FREQUENCY(IF(D80:AB80=\"r\",COLUMN(D80:AB80)),IF(D80:AB80<>\"r\",COLUMN(D80:AB80))))","v":0},""]
[17,{"$f":"IF('INPUT DATA'!B80=\"\",\"\",'INPUT DATA'!B80)","v":"Student 17"},null,null,null,null,null,null,null,null,null,null,null,null,null,null,null,null,null,null,null,null,null,null,null,null,null,null,0,25,null,null,null,null,null,null,null,{"$f":"MAX(FREQUENCY(IF(D81:AB81=\"r\",COLUMN(D81:AB81)),IF(D81:AB81<>\"r\",COLUMN(D81:AB81))))","v":0},""]
[18,{"$f":"IF('INPUT DATA'!B81=\"\",\"\",'INPUT DATA'!B81)","v":"Student 18"},null,null,null,null,null,null,null,null,null,null,null,null,null,null,null,null,null,null,null,null,null,null,null,null,null,null,0,25,null,null,null,null,null,null,null,{"$f":"MAX(FREQUENCY(IF(D82:AB82=\"r\",COLUMN(D82:AB82)),IF(D82:AB82<>\"r\",COLUMN(D82:AB82))))","v":0},""]
[19,{"$f":"IF('INPUT DATA'!B82=\"\",\"\",'INPUT DATA'!B82)","v":"Student 19"},null,null,null,null,null,null,null,null,null,null,null,null,null,null,null,null,null,null,null,null,null,null,null,null,null,null,0,25,null,null,null,null,null,null,null,{"$f":"MAX(FREQUENCY(IF(D83:AB83=\"r\",COLUMN(D83:AB83)),IF(D83:AB83<>\"r\",COLUMN(D83:AB83))))","v":0},""]
[20,{"$f":"IF('INPUT DATA'!B83=\"\",\"\",'INPUT DATA'!B83)","v":"Student 20"},null,null,null,null,null,null,null,null,null,null,null,null,null,null,null,null,null,null,null,null,null,null,null,null,null,null,0,25,null,null,null,null,null,null,null,{"$f":"MAX(FREQUENCY(IF(D84:AB84=\"r\",COLUMN(D84:AB84)),IF(D84:AB84<>\"r\",COLUMN(D84:AB84))))","v":0},""]
["",{"$f":"IF('INPUT DATA'!B84=\"\",\"\",'INPUT DATA'!B84)","v":""},null,null,null,null,null,null,null,null,null,null,null,null,null,null,null,null,null,null,null,null,null,null,null,null,null,null,"","",null,null,null,null,null,null,null,{"$f":"MAX(FREQUENCY(IF(D85:AB85=\"r\",COLUMN(D85:AB85)),IF(D85:AB85<>\"r\",COLUMN(D85:AB85))))","v":0},""]
["",{"$f":"IF('INPUT DATA'!B85=\"\",\"\",'INPUT DATA'!B85)","v":""},null,null,null,null,null,null,null,null,null,null,null,null,null,null,null,null,null,null,null,null,null,null,null,null,null,null,"","",null,null,null,null,null,null,null,{"$f":"MAX(FREQUENCY(IF(D86:AB86=\"r\",COLUMN(D86:AB86)),IF(D86:AB86<>\"r\",COLUMN(D86:AB86))))","v":0},""]
["",{"$f":"IF('INPUT DATA'!B86=\"\",\"\",'INPUT DATA'!B86)","v":""},null,null,null,null,null,null,null,null,null,null,null,null,null,null,null,null,null,null,null,null,null,null,null,null,null,null,"","",null,null,null,null,null,null,null,{"$f":"MAX(FREQUENCY(IF(D87:AB87=\"r\",COLUMN(D87:AB87)),IF(D87:AB87<>\"r\",COLUMN(D87:AB87))))","v":0},""]
["",{"$f":"IF('INPUT DATA'!B87=\"\",\"\",'INPUT DATA'!B87)","v":""},null,null,null,null,null,null,null,null,null,null,null,null,null,null,null,null,null,null,null,null,null,null,null,null,null,null,"","",null,null,null,null,null,null,null,{"$f":"MAX(FREQUENCY(IF(D88:AB88=\"r\",COLUMN(D88:AB88)),IF(D88:AB88<>\"r\",COLUMN(D88:AB88))))","v":0},""]
["",{"$f":"IF('INPUT DATA'!B88=\"\",\"\",'INPUT DATA'!B88)","v":""},null,null,null,null,null,null,null,null,null,null,null,null,null,null,null,null,null,null,null,null,null,null,null,null,null,null,"","",null,null,null,null,null,null,null,{"$f":"MAX(FREQUENCY(IF(D89:AB89=\"r\",COLUMN(D89:AB89)),IF(D89:AB89<>\"r\",COLUMN(D89:AB89))))","v":0},""]
["",{"$f":"IF('INPUT DATA'!B89=\"\",\"\",'INPUT DATA'!B89)","v":""},null,null,null,null,null,null,null,null,null,null,null,null,null,null,null,null,null,null,null,null,null,null,null,null,null,null,"","",null,null,null,null,null,null,null,{"$f":"MAX(FREQUENCY(IF(D90:AB90=\"r\",COLUMN(D90:AB90)),IF(D90:AB90<>\"r\",COLUMN(D90:AB90))))","v":0},""]
["",{"$f":"IF('INPUT DATA'!B90=\"\",\"\",'INPUT DATA'!B90)","v":""},null,null,null,null,null,null,null,null,null,null,null,null,null,null,null,null,null,null,null,null,null,null,null,null,null,null,"","",null,null,null,null,null,null,null,{"$f":"MAX(FREQUENCY(IF(D91:AB91=\"r\",COLUMN(D91:AB91)),IF(D91:AB91<>\"r\",COLUMN(D91:AB91))))","v":0},""]
["",{"$f":"IF('INPUT DATA'!B91=\"\",\"\",'INPUT DATA'!B91)","v":""},null,null,null,null,null,null,null,null,null,null,null,null,null,null,null,null,null,null,null,null,null,null,null,null,null,null,"","",null,null,null,null,null,null,null,{"$f":"MAX(FREQUENCY(IF(D92:AB92=\"r\",COLUMN(D92:AB92)),IF(D92:AB92<>\"r\",COLUMN(D92:AB92))))","v":0},""]
["",{"$f":"IF('INPUT DATA'!B92=\"\",\"\",'INPUT DATA'!B92)","v":""},null,null,null,null,null,null,null,null,null,null,null,null,null,null,null,null,null,null,null,null,null,null,null,null,null,null,"","",null,null,null,null,null,null,null,{"$f":"MAX(FREQUENCY(IF(D93:AB93=\"r\",COLUMN(D93:AB93)),IF(D93:AB93<>\"r\",COLUMN(D93:AB93))))","v":0},""]
["",{"$f":"IF('INPUT DATA'!B93=\"\",\"\",'INPUT DATA'!B93)","v":""},null,null,null,null,null,null,null,null,null,null,null,null,null,null,null,null,null,null,null,null,null,null,null,null,null,null,"","",null,null,null,null,null,null,null,{"$f":"MAX(FREQUENCY(IF(D94:AB94=\"r\",COLUMN(D94:AB94)),IF(D94:AB94<>\"r\",COLUMN(D94:AB94))))","v":0},""]
["",{"$f":"IF('INPUT DATA'!B94=\"\",\"\",'INPUT DATA'!B94)","v":""},null,null,null,null,null,null,null,null,null,null,null,null,null,null,null,null,null,null,null,null,null,null,null,null,null,null,"","",null,null,null,null,null,null,null,{"$f":"MAX(FREQUENCY(IF(D95:AB95=\"r\",COLUMN(D95:AB95)),IF(D95:AB95<>\"r\",COLUMN(D95:AB95))))","v":0},""]
["",{"$f":"IF('INPUT DATA'!B95=\"\",\"\",'INPUT DATA'!B95)","v":""},null,null,null,null,null,null,null,null,null,null,null,null,null,null,null,null,null,null,null,null,null,null,null,null,null,null,"","",null,null,null,null,null,null,null,{"$f":"MAX(FREQUENCY(IF(D96:AB96=\"r\",COLUMN(D96:AB96)),IF(D96:AB96<>\"r\",COLUMN(D96:AB96))))","v":0},""]
["",{"$f":"IF('INPUT DATA'!B96=\"\",\"\",'INPUT DATA'!B96)","v":""},null,null,null,null,null,null,null,null,null,null,null,null,null,null,null,null,null,null,null,null,null,null,null,null,null,null,"","",null,null,null,null,null,null,null,{"$f":"MAX(FREQUENCY(IF(D97:AB97=\"r\",COLUMN(D97:AB97)),IF(D97:AB97<>\"r\",COLUMN(D97:AB97))))","v":0},""]
["",{"$f":"IF('INPUT DATA'!B97=\"\",\"\",'INPUT DATA'!B97)","v":""},null,null,null,null,null,null,null,null,null,null,null,null,null,null,null,null,null,null,null,null,null,null,null,null,null,null,"","",null,null,null,null,null,null,null,{"$f":"MAX(FREQUENCY(IF(D98:AB98=\"r\",COLUMN(D98:AB98)),IF(D98:AB98<>\"r\",COLUMN(D98:AB98))))","v":0},""]
["",{"$f":"IF('INPUT DATA'!B98=\"\",\"\",'INPUT DATA'!B98)","v":""},null,null,null,null,null,null,null,null,null,null,null,null,null,null,null,null,null,null,null,null,null,null,null,null,null,null,"","",null,null,null,null,null,null,null,{"$f":"MAX(FREQUENCY(IF(D99:AB99=\"r\",COLUMN(D99:AB99)),IF(D99:AB99<>\"r\",COLUMN(D99:AB99))))","v":0},""]
["",{"$f":"IF('INPUT DATA'!B99=\"\",\"\",'INPUT DATA'!B99)","v":""},null,null,null,null,null,null,null,null,null,null,null,null,null,null,null,null,null,null,null,null,null,null,null,null,null,null,"","",null,null,null,null,null,null,null,{"$f":"MAX(FREQUENCY(IF(D100:AB100=\"r\",COLUMN(D100:AB100)),IF(D100:AB100<>\"r\",COLUMN(D100:AB100))))","v":0},""]
["",{"$f":"IF('INPUT DATA'!B100=\"\",\"\",'INPUT DATA'!B100)","v":""},null,null,null,null,null,null,null,null,null,null,null,null,null,null,null,null,null,null,null,null,null,null,null,null,null,null,"","",null,null,null,null,null,null,null,{"$f":"MAX(FREQUENCY(IF(D101:AB101=\"r\",COLUMN(D101:AB101)),IF(D101:AB101<>\"r\",COLUMN(D101:AB101))))","v":0},""]
["",{"$f":"IF('INPUT DATA'!B101=\"\",\"\",'INPUT DATA'!B101)","v":""},null,null,null,null,null,null,null,null,null,null,null,null,null,null,null,null,null,null,null,null,null,null,null,null,null,null,"","",null,null,null,null,null,null,null,{"$f":"MAX(FREQUENCY(IF(D102:AB102=\"r\",COLUMN(D102:AB102)),IF(D102:AB102<>\"r\",COLUMN(D102:AB102))))","v":0},""]
["",{"$f":"IF('INPUT DATA'!B102=\"\",\"\",'INPUT DATA'!B102)","v":""},null,null,null,null,null,null,null,null,null,null,null,null,null,null,null,null,null,null,null,null,null,null,null,null,null,null,"","",null,null,null,null,null,null,null,{"$f":"MAX(FREQUENCY(IF(D103:AB103=\"r\",COLUMN(D103:AB103)),IF(D103:AB103<>\"r\",COLUMN(D103:AB103))))","v":0},""]
["",{"$f":"IF('INPUT DATA'!B103=\"\",\"\",'INPUT DATA'!B103)","v":""},null,null,null,null,null,null,null,null,null,null,null,null,null,null,null,null,null,null,null,null,null,null,null,null,null,null,"","",null,null,null,null,null,null,null,{"$f":"MAX(FREQUENCY(IF(D104:AB104=\"r\",COLUMN(D104:AB104)),IF(D104:AB104<>\"r\",COLUMN(D104:AB104))))","v":0},""]
["",{"$f":"IF('INPUT DATA'!B104=\"\",\"\",'INPUT DATA'!B104)","v":""},null,null,null,null,null,null,null,null,null,null,null,null,null,null,null,null,null,null,null,null,null,null,null,null,null,null,"","",null,null,null,null,null,null,null,{"$f":"MAX(FREQUENCY(IF(D105:AB105=\"r\",COLUMN(D105:AB105)),IF(D105:AB105<>\"r\",COLUMN(D105:AB105))))","v":0},""]
["",{"$f":"IF('INPUT DATA'!B105=\"\",\"\",'INPUT DATA'!B105)","v":""},null,null,null,null,null,null,null,null,null,null,null,null,null,null,null,null,null,null,null,null,null,null,null,null,null,null,"","",null,null,null,null,null,null,null,{"$f":"MAX(FREQUENCY(IF(D106:AB106=\"r\",COLUMN(D106:AB106)),IF(D106:AB106<>\"r\",COLUMN(D106:AB106))))","v":0},""]
["",{"$f":"IF('INPUT DATA'!B106=\"\",\"\",'INPUT DATA'!B106)","v":""},null,null,null,null,null,null,null,null,null,null,null,null,null,null,null,null,null,null,null,null,null,null,null,null,null,null,"","",null,null,null,null,null,null,null,{"$f":"MAX(FREQUENCY(IF(D107:AB107=\"r\",COLUMN(D107:AB107)),IF(D107:AB107<>\"r\",COLUMN(D107:AB107))))","v":0},""]
["",{"$f":"IF('INPUT DATA'!B107=\"\",\"\",'INPUT DATA'!B107)","v":""},null,null,null,null,null,null,null,null,null,null,null,null,null,null,null,null,null,null,null,null,null,null,null,null,null,null,"","",null,null,null,null,null,null,null,{"$f":"MAX(FREQUENCY(IF(D108:AB108=\"r\",COLUMN(D108:AB108)),IF(D108:AB108<>\"r\",COLUMN(D108:AB108))))","v":0},""]
["",{"$f":"IF('INPUT DATA'!B108=\"\",\"\",'INPUT DATA'!B108)","v":""},null,null,null,null,null,null,null,null,null,null,null,null,null,null,null,null,null,null,null,null,null,null,null,null,null,null,"","",null,null,null,null,null,null,null,{"$f":"MAX(FREQUENCY(IF(D109:AB109=\"r\",COLUMN(D109:AB109)),IF(D109:AB109<>\"r\",COLUMN(D109:AB109))))","v":0},""]
["",{"$f":"IF('INPUT DATA'!B109=\"\",\"\",'INPUT DATA'!B109)","v":""},null,null,null,null,null,null,null,null,null,null,null,null,null,null,null,null,null,null,null,null,null,null,null,null,null,null,"","",null,null,null,null,null,null,null,{"$f":"MAX(FREQUENCY(IF(D110:AB110=\"r\",COLUMN(D110:AB110)),IF(D110:AB110<>\"r\",COLUMN(D110:AB110))))","v":0},""]
["",{"$f":"IF('INPUT DATA'!B110=\"\",\"\",'INPUT DATA'!B110)","v":""},null,null,null,null,null,null,null,null,null,null,null,null,null,null,null,null,null,null,null,null,null,null,null,null,null,null,"","",null,null,null,null,null,null,null,{"$f":"MAX(FREQUENCY(IF(D111:AB111=\"r\",COLUMN(D111:AB111)),IF(D111:AB111<>\"r\",COLUMN(D111:AB111))))","v":0},""]
["",{"$f":"IF('INPUT DATA'!B111=\"\",\"\",'INPUT DATA'!B111)","v":""},null,null,null,null,null,null,null,null,null,null,null,null,null,null,null,null,null,null,null,null,null,null,null,null,null,null,"","",null,null,null,null,null,null,null,{"$f":"MAX(FREQUENCY(IF(D112:AB112=\"r\",COLUMN(D112:AB112)),IF(D112:AB112<>\"r\",COLUMN(D112:AB112))))","v":0},""]
["",{"$f":"IF('INPUT DATA'!B112=\"\",\"\",'INPUT DATA'!B112)","v":""},null,null,null,null,null,null,null,null,null,null,null,null,null,null,null,null,null,null,null,null,null,null,null,null,null,null,"","",null,null,null,null,null,null,null,{"$f":"MAX(FREQUENCY(IF(D113:AB113=\"r\",COLUMN(D113:AB113)),IF(D113:AB113<>\"r\",COLUMN(D113:AB113))))","v":0},""]
["",{"$f":"IF('INPUT DATA'!B113=\"\",\"\",'INPUT DATA'!B113)","v":""},null,null,null,null,null,null,null,null,null,null,null,null,null,null,null,null,null,null,null,null,null,null,null,null,null,null,"","",null,null,null,null,null,null,null,{"$f":"MAX(FREQUENCY(IF(D114:AB114=\"r\",COLUMN(D114:AB114)),IF(D114:AB114<>\"r\",COLUMN(D114:AB114))))","v":0},""]
["FEMALE  | TOTAL Per Day",null,null,{"$f":"IF(D11=\"\",\"\",SUM(COUNTBLANK(D65:D114)-COUNTBLANK($B$65:$B$114),COUNTIF(D65:D114,\"z\")*0.5,COUNTIF(D65:D114,\"y\")*0.5))","v":20},20,20,20,20,20,20,20,20,20,20,20,20,20,20,20,20,20,20,20,20,20,20,20,20,{"$f":"SUM(AC65:AC114)","v":0},{"$f":"SUM(AD65:AD114)","v":500}]
["    Combined TOTAL PER DAY",null,null,{"$f":"IF(D11=\"\",\"\",SUM(D64,D115))","v":39},39,39,39,39,39,39,39,39,39,39,39,39,39,39,39,39,39,39,39,39,39,39,39,39,{"$f":"SUM(AC64,AC115)","v":25},{"$f":"SUM(AD64,AD115)","v":975}]
[]
["GUIDELINES:",null,null,null,null,null,null,null,null,null,null,null,null,null,null,null,"1. CODES FOR CHECKING ATTENDANCE",null,null,null,null,null,null,null,null,null,null,"Month:",{"$f":"X6","v":"January"},null,"No. of Days of Classes:",null,{"$f":"COUNT(D11:AB11)","v":25},"Summary for the Month"]
["1. The attendance shall be accomplished daily. Refer to the codes for checking learners' attendance.",null,null,null,null,null,null,null,null,null,null,null,null,null,null,null,"blank- Present;   (x)- Absent; Tardy (half shaded= Upper for Late Commer, Lower for Cutting Classes)",null,null,null,null,null,null,null,null,null,null,null,null,null,null,null,null,"M","F","TOTAL"]
["2. Dates shall be written in the preceding columns beside Learner's Name.",null,null,null,null,null,null,null,null,null,null,null,null,null,null,null,null,null,null,null,null,null,null,null,null,null,null,"* Enrolment  as of  (1st Friday of June)",null,null,null,null,null,{"$f":"IF('INPUT DATA'!R52=\"\",\"\",'INPUT DATA'!R52)","v":""},{"$f":"IF('INPUT DATA'!S52=\"\",\"\",'INPUT DATA'!S52)","v":""},{"$f":"SUM(AH120:AI121)","v":0}]
["3. To compute the following:"]
["a.","Percentage of Enrolment =",null,"Registered Learner as of End of the Month",null,null,null,null,null,null,null,null,null,"x 100",null,null,"2. REASONS/CAUSES OF DROP-OUTS",null,null,null,null,null,null,null,null,null,null,"Late Enrollment during the month                                               (beyond cut-off)",null,null,null,null,null,{"$f":"IF('INPUT DATA'!R53=\"\",\"\",'INPUT DATA'!R53)","v":""},{"$f":"IF('INPUT DATA'!S53=\"\",\"\",'INPUT DATA'!S53)","v":""},{"$f":"SUM(AH122:AI123)","v":0}]
[null,null,null,"Enrolment as of 1st Friday of June",null,null,null,null,null,null,null,null,null,null,null,null,"a. Domestic-Related Factors"]
["b.","Average Daily Attendance = ",null,"Total Daily Attendance",null,null,null,null,null,null,null,null,null,null,null,null,"a.1. Had to take care of siblings",null,null,null,null,null,null,null,null,null,null,"Registered Learner as of end of the month",null,null,null,null,null,{"$f":"IF('INPUT DATA'!R54=\"\",\"\",'INPUT DATA'!R54)","v":""},{"$f":"IF('INPUT DATA'!S54=\"\",\"\",'INPUT DATA'!S54)","v":""},{"$f":"SUM(AH124:AI125)","v":0}]
[null,null,null,"Number of School Days in reporting month",null,null,null,null,null,null,null,null,null,null,null,null,"a.2. Early marriage/pregnancy"]
["c.","Percentage of Attendance for the month =",null,"Average daily attendance",null,null,null,null,null,null,null,null,null,"x 100",null,null,"a.3. Parents' attitude toward schooling",null,null,null,null,null,null,null,null,null,null,"Percentage of Enrolment as of end of the month",null,null,null,null,null,{"$f":"CONCATENATE(IFERROR(ROUND((AH124)/(AH120)*100,0),\"\"),\"%\")","v":"%"},{"$f":"CONCATENATE(IFERROR(ROUND((AI124)/(AI120)*100,0),\"\"),\"%\")","v":"%"},{"$f":"CONCATENATE(IFERROR(ROUND((AJ124)/(AJ120)*100,0),\"\"),\"%\")","v":"%"}]
[null,null,null,"Registered Learner as of End of the month",null,null,null,null,null,null,null,null,null,null,null,null,"a.4. Family problems"]
[null,null,null,null,null,null,null,null,null,null,null,null,null,null,null,null,"b. Individual-Related Factors",null,null,null,null,null,null,null,null,null,null,"Average Daily Attendance",null,null,null,null,null,{"$f":"IFERROR(ROUND((AD64)/COUNTA(D11:AB11),2),\"\")","v":19},{"$f":"IFERROR(ROUND((AD115/COUNTA(D11:AB11)),2),\"\")","v":20},{"$f":"IFERROR(ROUND((AD116)/COUNTA(D11:AB11),2),\"\")","v":39}]
["4. Every End of the month, the class adviser will submit this form to the office of the principal for recording of \n     summary table into the School Form 4. Once signed by the principal, this form should be returned to the adviser.",null,null,null,null,null,null,null,null,null,null,null,null,null,null,null,"b.1. Illness",null,null,null,null,null,null,null,null,null,null,"Percentage of Attendance for the month ",null,null,null,null,null,{"$f":"CONCATENATE(IFERROR(ROUND((AH128/AH124)*100,0),\"\"),\"%\")","v":"%"},{"$f":"CONCATENATE(IFERROR(ROUND((AI128/AI124)*100,0),\"\"),\"%\")","v":"%"},{"$f":"CONCATENATE(IFERROR(ROUND((AJ128/AJ124)*100,0),\"\"),\"%\")","v":"%"}]
[null,null,null,null,null,null,null,null,null,null,null,null,null,null,null,null,"b.2. Overage"]
["5. The adviser will extend neccessary intervention including but not limited to home visitation  to learner/s that committed 5 consecutive days of absences or those with potentials of dropping out",null,null,null,null,null,null,null,null,null,null,null,null,null,null,null,"b.3. Death",null,null,null,null,null,null,null,null,null,null,"Number of students with 5 consecutive days of absences:",null,null,null,null,null,{"$f":"SUM(AM14:AM63)","v":1},{"$f":"SUM(AM65:AM114)","v":0},{"$f":"SUM(AH131:AI132)","v":1}]
[null,null,null,null,null,null,null,null,null,null,null,null,null,null,null,null,"b.4. Drug Abuse"]
["6.  Attendance performance of learner is expected to reflect in Form 137 and Form 138 every grading period",null,null,null,null,null,null,null,null,null,null,null,null,null,null,null,"b.5. Poor academic performance",null,null,null,null,null,null,null,null,null,null,"Drop out",null,null,null,null,null,{"$f":"IF('INPUT DATA'!R55=\"\",\"\",'INPUT DATA'!R55)","v":""},{"$f":"IF('INPUT DATA'!S55=\"\",\"\",'INPUT DATA'!S55)","v":""},{"$f":"SUM(AH133:AI134)","v":0}]
["*","Beginning of School Year cut-off report is every 1st Friday of School Calendar Days",null,null,null,null,null,null,null,null,null,null,null,null,null,null,"b.6. Lack of interest/Distractions"]
[null,null,null,null,null,null,null,null,null,null,null,null,null,null,null,null,"b.7. Hunger/Malnutrition",null,null,null,null,null,null,null,null,null,null,"Transferred out",null,null,null,null,null,{"$f":"IF('INPUT DATA'!R56=\"\",\"\",'INPUT DATA'!R56)","v":""},{"$f":"IF('INPUT DATA'!S56=\"\",\"\",'INPUT DATA'!S56)","v":""},{"$f":"SUM(AH135:AI136)","v":0}]
[null,null,null,null,null,null,null,null,null,null,null,null,null,null,null,null,"c. School-Related Factors"]
[null,null,null,null,null,null,null,null,null,null,null,null,null,null,null,null,"c.1. Teacher Factor",null,null,null,null,null,null,null,null,null,null,"Transferred in",null,null,null,null,null,{"$f":"IF('INPUT DATA'!R57=\"\",\"\",'INPUT DATA'!R57)","v":""},{"$f":"IF('INPUT DATA'!S57=\"\",\"\",'INPUT DATA'!S57)","v":""},{"$f":"SUM(AH137:AI138)","v":0}]
[null,null,null,null,null,null,null,null,null,null,null,null,null,null,null,null,"c.2. Physical condition of classroom"]
[null,null,null,null,null,null,null,null,null,null,null,null,null,null,null,null,"c.3. Peer influence"]
[null,null,null,null,null,null,null,null,null,null,null,null,null,null,null,null,"d. Geographic/Environmental",null,null,null,null,null,null,null,null,null,null,"I certify that this is a true and correct report."]
[null,null,null,null,null,null,null,null,null,null,null,null,null,null,null,null,"d.1. Distance between home and school"]
[null,null,null,null,null,null,null,null,null,null,null,null,null,null,null,null,"d.2. Armed conflict (incl. Tribal wars & clanfeuds)",null,null,null,null,null,null,null,null,null,null,null,null,{"$f":"UPPER(IF('INPUT DATA'!R7=\"\",\"\",'INPUT DATA'!R7))","v":""}]
[null,null,null,null,null,null,null,null,null,null,null,null,null,null,null,null,null,null,null,null,null,null,null,null,null,null,null,null,"                          (Signature of Teacher over Printed Name)"]
[null,null,null,null,null,null,null,null,null,null,null,null,null,null,null,null,"d.3. Calamities/Disasters"]
[null,null,null,null,null,null,null,null,null,null,null,null,null,null,null,null,"e. Financial-Related",null,null,null,null,null,null,null,null,null,null,"Attested by:"]
[null,null,null,null,null,null,null,null,null,null,null,null,null,null,null,null,"e.1. Child labor, work",null,null,null,null,null,null,null,null,null,null,null,null,{"$f":"UPPER(IF('INPUT DATA'!R6=\"\",\"\",'INPUT DATA'!R6))","v":""}]
[null,null,null,null,null,null,null,null,null,null,null,null,null,null,null,null,"f. Others",null,null,null,null,null,null,null,null,null,null,null,null,null,null," (Signature of School Head over Printed Name)"]

{"sheet":"DEC","index":2,"n_rows":147,"n_cols":39,"rows_kept":147,"cut":false,"hidden":true,"merged":[[145,29,145,34],[136,1,137,6],[136,27,137,32],[136,33,137,33],[136,34,137,34],[136,35,137,35],[141,16,142,25],[141,29,141,34],[132,27,133,32],[132,33,133,33],[132,34,133,34],[132,35,133,35],[133,1,133,13],[134,27,135,32],[134,33,135,33],[134,34,135,34],[134,35,135,35],[128,34,129,34],[128,35,129,35],[130,0,131,14],[130,27,131,32],[130,33,131,33],[130,34,131,34],[130,35,131,35],[126,3,126,12],[127,0,127,11],[127,27,127,32],[128,0,129,13],[128,27,129,32],[128,33,129,33],[123,0,124,0],[123,1,124,1],[123,3,123,12],[123,27,124,32],[123,33,124,33],[123,34,124,34],[123,35,124,35],[124,3,124,12],[125,0,126,0],[125,1,126,2],[125,3,125,12],[125,13,126,14],[125,27,126,32],[125,33,126,33],[125,34,126,34],[125,35,126,35],[120,0,120,13],[121,0,122,0],[121,1,122,1],[121,3,121,12],[121,13,122,14],[121,27,122,32],[117,28,117,29],[117,30,118,31],[117,33,117,35],[118,0,118,13],[118,16,120,24],[119,0,119,13],[119,27,120,32],[119,33,120,33],[119,34,120,34],[119,35,120,35],[121,33,122,33],[121,34,122,34],[121,35,122,35],[122,3,122,12],[113,30,113,35],[114,0,114,2],[114,30,114,35],[115,0,115,2],[115,30,115,35],[116,0,116,1],[116,3,116,7],[108,1,108,2],[109,1,109,2],[110,1,110,2],[111,1,111,2],[112,1,112,2],[113,1,113,2],[102,1,102,2],[103,1,103,2],[104,1,104,2],[105,1,105,2],[106,1,106,2],[107,1,107,2],[96,1,96,2],[97,1,97,2],[98,1,98,2],[99,1,99,2],[100,1,100,2],[101,1,101,2],[90,1,90,2],[91,1,91,2],[92,1,92,2],[93,1,93,2],[94,1,94,2],[95,1,95,2],[86,1,86,2],[86,30,86,35],[87,1,87,2],[87,30,87,35],[88,1,88,2],[89,1,89,2],[83,1,83,2],[83,30,83,35],[84,1,84,2],[84,30,84,35],[85,1,85,2],[85,30,85,35],[80,1,80,2],[80,30,80,35],[81,1,81,2],[81,30,81,35],[82,1,82,2],[82,30,82,35],[77,1,77,2],[77,30,77,35],[78,1,78,2],[78,30,78,35],[79,1,79,2],[79,30,79,35],[74,1,74,2],[74,30,74,35],[75,1,75,2],[75,30,75,35],[76,1,76,2],[76,30,76,35],[71,1,71,2],[71,30,71,35],[72,1,72,2],[72,30,72,35],[73,1,73,2],[73,30,73,35],[68,1,68,2],[68,30,68,35],[69,1,69,2],[69,30,69,35],[70,1,70,2],[70,30,70,35],[65,1,65,2],[65,30,65,35],[66,1,66,2],[66,30,66,35],[67,1,67,2],[67,30,67,35],[61,1,61,2],[62,1,62,2],[62,30,62,35],[63,0,63,2],[64,1,64,2],[64,30,64,35],[55,1,55,2],[56,1,56,2],[57,1,57,2],[58,1,58,2],[59,1,59,2],[60,1,60,2],[49,1,49,2],[50,1,50,2],[51,1,51,2],[52,1,52,2],[53,1,53,2],[54,1,54,2],[43,1,43,2],[44,1,44,2],[45,1,45,2],[46,1,46,2],[47,1,47,2],[48,1,48,2],[37,1,37,2],[38,1,38,2],[39,1,39,2],[40,1,40,2],[41,1,41,2],[42,1,42,2],[34,1,34,2],[34,30,34,35],[35,1,35,2],[35,30,35,35],[36,1,36,2],[36,30,36,35],[31,1,31,2],[31,30,31,35],[32,1,32,2],[32,30,32,35],[33,1,33,2],[33,30,33,35],[28,1,28,2],[28,30,28,35],[29,1,29,2],[29,30,29,35],[30,1,30,2],[30,30,30,35],[25,1,25,2],[25,30,25,35],[26,1,26,2],[26,30,26,35],[27,1,27,2],[27,30,27,35],[22,1,22,2],[22,30,22,35],[23,1,23,2],[23,30,23,35],[24,1,24,2],[24,30,24,35],[19,1,19,2],[19,30,19,35],[20,1,20,2],[20,30,20,35],[21,1,21,2],[21,30,21,35],[18,1,18,2],[18,30,18,35],[11,29,12,29],[13,1,13,2],[13,30,13,35],[14,1,14,2],[14,30,14,35],[15,1,15,2],[15,30,15,35],[9,0,12,2],[9,3,9,27],[9,28,10,29],[9,30,12,35],[11,28,12,28],[16,1,16,2],[16,30,16,35],[17,1,17,2],[17,30,17,35],[1,0,1,35],[2,0,2,35],[5,2,5,4],[5,10,5,14],[5,16,5,22],[5,23,5,28],[7,2,7,14],[7,19,7,22],[7,23,7,24],[7,25,7,27],[7,28,7,33]]}
[]
["School Form 2 (SF2) Daily Attendance Report of Learners"]
["(This replaced Form 1, Form 2 & STS Form 4 - Absenteeism and Dropout Profile)"]
[]
[]
[null,"School ID",{"$f":"IF('INPUT DATA'!R5=\"\",\"\",'INPUT DATA'!R5)","v":""},null,null,null,null,"School Year",null,null,{"$f":"IF('INPUT DATA'!R4=\"\",\"\",'INPUT DATA'!R4)","v":""},null,null,null,null,null,"Report for the  Month of",null,null,null,null,null,null,"December"]
[]
[null,"Name of School",{"$f":"IF('INPUT DATA'!F5=\"\",\"\",'INPUT DATA'!F5)","v":""},null,null,null,null,null,null,null,null,null,null,null,null,null,null,null,null,"Grade Level",null,null,null,{"$f":"IF('INPUT DATA'!R8=\"\",\"\",'INPUT DATA'!R8)","v":""},null,"Section",null,null,{"$f":"IF('INPUT DATA'!R9=\"\",\"\",'INPUT DATA'!R9)","v":""}]
[]
["LEARNER'S NAME                                                                                         (Last Name, First Name, Middle Name)                                  ",null,null,"(1st row for date, 2nd row for Day: M,T,W,TH,F)",null,null,null,null,null,null,null,null,null,null,null,null,null,null,null,null,null,null,null,null,null,null,null,null,"Total for the Month             ",null,"REMARK/S (If DROPPED OUT, state reason, please refer to legend number 2.\nIf TRANSFERRED IN/OUT, write the name of School.)"]
[null,null,null,1,2,3,4,5,6,7,8,9,10,11,12,13,14,15,16,17,18,19,20,21,22,23,24,25]
[null,null,null,"Mon","Tue","Wed","Thu","Fri","Mon","Tue","Wed","Thu","Fri","Mon","Tue","Wed","Thu","Fri","Mon","Tue","Wed","Thu","Fri","Mon","Tue","Wed","Thu","Fri","ABSENT","PRESENT"]
[null,null,null,false,false,false,false,false,false,false,false,false,false,false,false,false,false,false,false,false,false,false,false,false,false,false,false,false]
[{"$f":"IF(B14=\"\",\"\",\"1\")","v":"1"},{"$f":"IF('INPUT DATA'!B13=\"\",\"\",'INPUT DATA'!B13)","v":"Student 1"},null,"r","r","r","r","r","r","r","r","r","r","r","r",null,null,null,null,null,null,null,null,null,null,null,null,null,{"$f":"IF(B14=\"\",\"\",SUM(COUNTIF(D14:AB14,\"z\")*0.5,COUNTIF(D14:AB14,\"y\")*0.5,COUNTIF(D14:AB14,\"r\")))","v":12},{"$f":"IF(B14=\"\",\"\",COUNTA($D$11:$AB$11)-AC14)","v":13},null,null,null,null,null,null,null,{"$f":"MAX(FREQUENCY(IF(D14:AB14=\"r\",COLUMN(D14:AB14)),IF(D14:AB14<>\"r\",COLUMN(D14:AB14))))","v":12},{"$f":"IF(AL14>=5,1,\"\")","v":1}]
[{"$f":"IF(B15=\"\",\"\",A14+1)","v":2},{"$f":"IF('INPUT DATA'!B14=\"\",\"\",'INPUT DATA'!B14)","v":"Student 2"},null,null,null,null,null,null,null,null,null,null,null,null,null,null,null,null,null,null,null,null,null,null,null,null,null,null,{"$f":"IF(B15=\"\",\"\",SUM(COUNTIF(D15:AB15,\"z\")*0.5,COUNTIF(D15:AB15,\"y\")*0.5,COUNTIF(D15:AB15,\"r\")))","v":0},{"$f":"IF(B15=\"\",\"\",COUNTA($D$11:$AB$11)-AC15)","v":25},null,null,null,null,null,null,null,{"$f":"MAX(FREQUENCY(IF(D15:AB15=\"r\",COLUMN(D15:AB15)),IF(D15:AB15<>\"r\",COLUMN(D15:AB15))))","v":0},{"$f":"IF(AL15>=5,1,\"\")","v":""}]
[{"$f":"IF(B16=\"\",\"\",A15+1)","v":3},{"$f":"IF('INPUT DATA'!B15=\"\",\"\",'INPUT DATA'!B15)","v":"Student 3"},null,null,null,null,null,null,null,null,null,null,null,null,null,null,null,null,null,null,null,null,null,null,null,null,null,null,0,25,null,null,null,null,null,null,null,{"$f":"MAX(FREQUENCY(IF(D16:AB16=\"r\",COLUMN(D16:AB16)),IF(D16:AB16<>\"r\",COLUMN(D16:AB16))))","v":0},""]
[4,{"$f":"IF('INPUT DATA'!B16=\"\",\"\",'INPUT DATA'!B16)","v":"Student 4"},null,null,null,null,null,null,null,null,null,null,null,null,null,null,null,null,null,null,null,null,null,null,null,null,null,null,0,25,null,null,null,null,null,null,null,{"$f":"MAX(FREQUENCY(IF(D17:AB17=\"r\",COLUMN(D17:AB17)),IF(D17:AB17<>\"r\",COLUMN(D17:AB17))))","v":0},""]
[5,{"$f":"IF('INPUT DATA'!B17=\"\",\"\",'INPUT DATA'!B17)","v":"Student 5"},null,null,null,null,null,null,null,null,null,null,null,null,null,null,null,null,null,null,null,null,null,null,null,null,null,null,0,25,null,null,null,null,null,null,null,{"$f":"MAX(FREQUENCY(IF(D18:AB18=\"r\",COLUMN(D18:AB18)),IF(D18:AB18<>\"r\",COLUMN(D18:AB18))))","v":0},""]
[6,{"$f":"IF('INPUT DATA'!B18=\"\",\"\",'INPUT DATA'!B18)","v":"Student 6"},null,null,null,null,null,null,null,null,null,null,null,null,null,null,null,null,null,null,null,null,null,null,null,null,null,null,0,25,null,null,null,null,null,null,null,{"$f":"MAX(FREQUENCY(IF(D19:AB19=\"r\",COLUMN(D19:AB19)),IF(D19:AB19<>\"r\",COLUMN(D19:AB19))))","v":0},""]
[7,{"$f":"IF('INPUT DATA'!B19=\"\",\"\",'INPUT DATA'!B19)","v":"Student 7"},null,null,null,null,null,null,null,null,null,null,null,null,null,null,null,null,null,null,null,null,null,null,null,null,null,null,0,25,null,null,null,null,null,null,null,{"$f":"MAX(FREQUENCY(IF(D20:AB20=\"r\",COLUMN(D20:AB20)),IF(D20:AB20<>\"r\",COLUMN(D20:AB20))))","v":0},""]
[8,{"$f":"IF('INPUT DATA'!B20=\"\",\"\",'INPUT DATA'!B20)","v":"Student 8"},null,null,null,null,null,null,null,null,null,null,null,null,null,null,null,null,null,null,null,null,null,null,null,null,null,null,0,25,null,null,null,null,null,null,null,{"$f":"MAX(FREQUENCY(IF(D21:AB21=\"r\",COLUMN(D21:AB21)),IF(D21:AB21<>\"r\",COLUMN(D21:AB21))))","v":0},""]
[9,{"$f":"IF('INPUT DATA'!B21=\"\",\"\",'INPUT DATA'!B21)","v":"Student 9"},null,null,null,null,null,null,null,null,null,null,null,null,null,null,null,null,null,null,null,null,null,null,null,null,null,null,0,25,null,null,null,null,null,null,null,{"$f":"MAX(FREQUENCY(IF(D22:AB22=\"r\",COLUMN(D22:AB22)),IF(D22:AB22<>\"r\",COLUMN(D22:AB22))))","v":0},""]
[10,{"$f":"IF('INPUT DATA'!B22=\"\",\"\",'INPUT DATA'!B22)","v":"Student 10"},null,null,null,null,null,null,null,null,null,null,null,null,null,null,null,null,null,null,null,null,null,null,null,null,null,null,0,25,null,null,null,null,null,null,null,{"$f":"MAX(FREQUENCY(IF(D23:AB23=\"r\",COLUMN(D23:AB23)),IF(D23:AB23<>\"r\",COLUMN(D23:AB23))))","v":0},""]
[11,{"$f":"IF('INPUT DATA'!B23=\"\",\"\",'INPUT DATA'!B23)","v":"Student 11"},null,null,null,null,null,null,null,null,null,null,null,null,null,null,null,null,null,null,null,null,null,null,null,null,null,null,0,25,null,null,null,null,null,null,null,{"$f":"MAX(FREQUENCY(IF(D24:AB24=\"r\",COLUMN(D24:AB24)),IF(D24:AB24<>\"r\",COLUMN(D24:AB24))))","v":0},""]
[12,{"$f":"IF('INPUT DATA'!B24=\"\",\"\",'INPUT DATA'!B24)","v":"Student 12"},null,null,null,null,null,null,null,null,null,null,null,null,null,null,null,null,null,null,null,null,null,null,null,null,null,null,0,25,null,null,null,null,null,null,null,{"$f":"MAX(FREQUENCY(IF(D25:AB25=\"r\",COLUMN(D25:AB25)),IF(D25:AB25<>\"r\",COLUMN(D25:AB25))))","v":0},""]
[13,{"$f":"IF('INPUT DATA'!B25=\"\",\"\",'INPUT DATA'!B25)","v":"Student 13"},null,null,null,null,null,null,null,null,null,null,null,null,null,null,null,null,null,null,null,null,null,null,null,null,null,null,0,25,null,null,null,null,null,null,null,{"$f":"MAX(FREQUENCY(IF(D26:AB26=\"r\",COLUMN(D26:AB26)),IF(D26:AB26<>\"r\",COLUMN(D26:AB26))))","v":0},""]
[14,{"$f":"IF('INPUT DATA'!B26=\"\",\"\",'INPUT DATA'!B26)","v":"Student 14"},null,null,null,null,null,null,null,null,null,null,null,null,null,null,null,null,null,null,null,null,null,null,null,null,null,null,0,25,null,null,null,null,null,null,null,{"$f":"MAX(FREQUENCY(IF(D27:AB27=\"r\",COLUMN(D27:AB27)),IF(D27:AB27<>\"r\",COLUMN(D27:AB27))))","v":0},""]
[15,{"$f":"IF('INPUT DATA'!B27=\"\",\"\",'INPUT DATA'!B27)","v":"Student 15"},null,null,null,null,null,null,null,null,null,null,null,null,null,null,null,null,null,null,null,null,null,null,null,null,null,null,0,25,null,null,null,null,null,null,null,{"$f":"MAX(FREQUENCY(IF(D28:AB28=\"r\",COLUMN(D28:AB28)),IF(D28:AB28<>\"r\",COLUMN(D28:AB28))))","v":0},""]
[16,{"$f":"IF('INPUT DATA'!B28=\"\",\"\",'INPUT DATA'!B28)","v":"Student 16"},null,null,null,null,null,null,null,null,null,null,null,null,null,null,null,null,null,null,null,null,null,null,null,null,null,null,0,25,null,null,null,null,null,null,null,{"$f":"MAX(FREQUENCY(IF(D29:AB29=\"r\",COLUMN(D29:AB29)),IF(D29:AB29<>\"r\",COLUMN(D29:AB29))))","v":0},""]
[17,{"$f":"IF('INPUT DATA'!B29=\"\",\"\",'INPUT DATA'!B29)","v":"Student 17"},null,null,null,null,null,null,null,null,null,null,null,null,null,null,null,null,null,null,null,null,null,null,null,null,null,null,0,25,null,null,null,null,null,null,null,{"$f":"MAX(FREQUENCY(IF(D30:AB30=\"r\",COLUMN(D30:AB30)),IF(D30:AB30<>\"r\",COLUMN(D30:AB30))))","v":0},""]
[18,{"$f":"IF('INPUT DATA'!B30=\"\",\"\",'INPUT DATA'!B30)","v":"Student 18"},null,null,null,null,null,null,null,null,null,null,null,null,null,null,null,null,null,null,null,null,null,null,null,null,null,null,0,25,null,null,null,null,null,null,null,{"$f":"MAX(FREQUENCY(IF(D31:AB31=\"r\",COLUMN(D31:AB31)),IF(D31:AB31<>\"r\",COLUMN(D31:AB31))))","v":0},""]
[19,{"$f":"IF('INPUT DATA'!B31=\"\",\"\",'INPUT DATA'!B31)","v":"Student 19"},null,null,null,null,null,null,null,null,null,null,null,null,null,null,null,null,null,null,null,null,null,null,null,null,null,null,0,25,null,null,null,null,null,null,null,{"$f":"MAX(FREQUENCY(IF(D32:AB32=\"r\",COLUMN(D32:AB32)),IF(D32:AB32<>\"r\",COLUMN(D32:AB32))))","v":0},""]
[20,{"$f":"IF('INPUT DATA'!B32=\"\",\"\",'INPUT DATA'!B32)","v":"Student 20"},null,null,null,null,null,null,null,null,null,null,null,null,null,null,null,null,null,null,null,null,null,null,null,null,null,null,0,25,null,null,null,null,null,null,null,{"$f":"MAX(FREQUENCY(IF(D33:AB33=\"r\",COLUMN(D33:AB33)),IF(D33:AB33<>\"r\",COLUMN(D33:AB33))))","v":0},""]
["",{"$f":"IF('INPUT DATA'!B33=\"\",\"\",'INPUT DATA'!B33)","v":""},null,null,null,null,null,null,null,null,null,null,null,null,null,null,null,null,null,null,null,null,null,null,null,null,null,null,"","",null,null,null,null,null,null,null,{"$f":"MAX(FREQUENCY(IF(D34:AB34=\"r\",COLUMN(D34:AB34)),IF(D34:AB34<>\"r\",COLUMN(D34:AB34))))","v":0},""]
["",{"$f":"IF('INPUT DATA'!B34=\"\",\"\",'INPUT DATA'!B34)","v":""},null,null,null,null,null,null,null,null,null,null,null,null,null,null,null,null,null,null,null,null,null,null,null,null,null,null,"","",null,null,null,null,null,null,null,{"$f":"MAX(FREQUENCY(IF(D35:AB35=\"r\",COLUMN(D35:AB35)),IF(D35:AB35<>\"r\",COLUMN(D35:AB35))))","v":0},""]
["",{"$f":"IF('INPUT DATA'!B35=\"\",\"\",'INPUT DATA'!B35)","v":""},null,null,null,null,null,null,null,null,null,null,null,null,null,null,null,null,null,null,null,null,null,null,null,null,null,null,"","",null,null,null,null,null,null,null,{"$f":"MAX(FREQUENCY(IF(D36:AB36=\"r\",COLUMN(D36:AB36)),IF(D36:AB36<>\"r\",COLUMN(D36:AB36))))","v":0},""]
["",{"$f":"IF('INPUT DATA'!B36=\"\",\"\",'INPUT DATA'!B36)","v":""},null,null,null,null,null,null,null,null,null,null,null,null,null,null,null,null,null,null,null,null,null,null,null,null,null,null,"","",null,null,null,null,null,null,null,{"$f":"MAX(FREQUENCY(IF(D37:AB37=\"r\",COLUMN(D37:AB37)),IF(D37:AB37<>\"r\",COLUMN(D37:AB37))))","v":0},""]
["",{"$f":"IF('INPUT DATA'!B37=\"\",\"\",'INPUT DATA'!B37)","v":""},null,null,null,null,null,null,null,null,null,null,null,null,null,null,null,null,null,null,null,null,null,null,null,null,null,null,"","",null,null,null,null,null,null,null,{"$f":"MAX(FREQUENCY(IF(D38:AB38=\"r\",COLUMN(D38:AB38)),IF(D38:AB38<>\"r\",COLUMN(D38:AB38))))","v":0},""]
["",{"$f":"IF('INPUT DATA'!B38=\"\",\"\",'INPUT DATA'!B38)","v":""},null,null,null,null,null,null,null,null,null,null,null,null,null,null,null,null,null,null,null,null,null,null,null,null,null,null,"","",null,null,null,null,null,null,null,{"$f":"MAX(FREQUENCY(IF(D39:AB39=\"r\",COLUMN(D39:AB39)),IF(D39:AB39<>\"r\",COLUMN(D39:AB39))))","v":0},""]
["",{"$f":"IF('INPUT DATA'!B39=\"\",\"\",'INPUT DATA'!B39)","v":""},null,null,null,null,null,null,null,null,null,null,null,null,null,null,null,null,null,null,null,null,null,null,null,null,null,null,"","",null,null,null,null,null,null,null,{"$f":"MAX(FREQUENCY(IF(D40:AB40=\"r\",COLUMN(D40:AB40)),IF(D40:AB40<>\"r\",COLUMN(D40:AB40))))","v":0},""]
["",{"$f":"IF('INPUT DATA'!B40=\"\",\"\",'INPUT DATA'!B40)","v":""},null,null,null,null,null,null,null,null,null,null,null,null,null,null,null,null,null,null,null,null,null,null,null,null,null,null,"","",null,null,null,null,null,null,null,{"$f":"MAX(FREQUENCY(IF(D41:AB41=\"r\",COLUMN(D41:AB41)),IF(D41:AB41<>\"r\",COLUMN(D41:AB41))))","v":0},""]
["",{"$f":"IF('INPUT DATA'!B41=\"\",\"\",'INPUT DATA'!B41)","v":""},null,null,null,null,null,null,null,null,null,null,null,null,null,null,null,null,null,null,null,null,null,null,null,null,null,null,"","",null,null,null,null,null,null,null,{"$f":"MAX(FREQUENCY(IF(D42:AB42=\"r\",COLUMN(D42:AB42)),IF(D42:AB42<>\"r\",COLUMN(D42:AB42))))","v":0},""]
["",{"$f":"IF('INPUT DATA'!B42=\"\",\"\",'INPUT DATA'!B42)","v":""},null,null,null,null,null,null,null,null,null,null,null,null,null,null,null,null,null,null,null,null,null,null,null,null,null,null,"","",null,null,null,null,null,null,null,{"$f":"MAX(FREQUENCY(IF(D43:AB43=\"r\",COLUMN(D43:AB43)),IF(D43:AB43<>\"r\",COLUMN(D43:AB43))))","v":0},""]
["",{"$f":"IF('INPUT DATA'!B43=\"\",\"\",'INPUT DATA'!B43)","v":""},null,null,null,null,null,null,null,null,null,null,null,null,null,null,null,null,null,null,null,null,null,null,null,null,null,null,"","",null,null,null,null,null,null,null,{"$f":"MAX(FREQUENCY(IF(D44:AB44=\"r\",COLUMN(D44:AB44)),IF(D44:AB44<>\"r\",COLUMN(D44:AB44))))","v":0},""]
["",{"$f":"IF('INPUT DATA'!B44=\"\",\"\",'INPUT DATA'!B44)","v":""},null,null,null,null,null,null,null,null,null,null,null,null,null,null,null,null,null,null,null,null,null,null,null,null,null,null,"","",null,null,null,null,null,null,null,{"$f":"MAX(FREQUENCY(IF(D45:AB45=\"r\",COLUMN(D45:AB45)),IF(D45:AB45<>\"r\",COLUMN(D45:AB45))))","v":0},""]
["",{"$f":"IF('INPUT DATA'!B45=\"\",\"\",'INPUT DATA'!B45)","v":""},null,null,null,null,null,null,null,null,null,null,null,null,null,null,null,null,null,null,null,null,null,null,null,null,null,null,"","",null,null,null,null,null,null,null,{"$f":"MAX(FREQUENCY(IF(D46:AB46=\"r\",COLUMN(D46:AB46)),IF(D46:AB46<>\"r\",COLUMN(D46:AB46))))","v":0},""]
["",{"$f":"IF('INPUT DATA'!B46=\"\",\"\",'INPUT DATA'!B46)","v":""},null,null,null,null,null,null,null,null,null,null,null,null,null,null,null,null,null,null,null,null,null,null,null,null,null,null,"","",null,null,null,null,null,null,null,{"$f":"MAX(FREQUENCY(IF(D47:AB47=\"r\",COLUMN(D47:AB47)),IF(D47:AB47<>\"r\",COLUMN(D47:AB47))))","v":0},""]
["",{"$f":"IF('INPUT DATA'!B47=\"\",\"\",'INPUT DATA'!B47)","v":""},null,null,null,null,null,null,null,null,null,null,null,null,null,null,null,null,null,null,null,null,null,null,null,null,null,null,"","",null,null,null,null,null,null,null,{"$f":"MAX(FREQUENCY(IF(D48:AB48=\"r\",COLUMN(D48:AB48)),IF(D48:AB48<>\"r\",COLUMN(D48:AB48))))","v":0},""]
["",{"$f":"IF('INPUT DATA'!B48=\"\",\"\",'INPUT DATA'!B48)","v":""},null,null,null,null,null,null,null,null,null,null,null,null,null,null,null,null,null,null,null,null,null,null,null,null,null,null,"","",null,null,null,null,null,null,null,{"$f":"MAX(FREQUENCY(IF(D49:AB49=\"r\",COLUMN(D49:AB49)),IF(D49:AB49<>\"r\",COLUMN(D49:AB49))))","v":0},""]
["",{"$f":"IF('INPUT DATA'!B49=\"\",\"\",'INPUT DATA'!B49)","v":""},null,null,null,null,null,null,null,null,null,null,null,null,null,null,null,null,null,null,null,null,null,null,null,null,null,null,"","",null,null,null,null,null,null,null,{"$f":"MAX(FREQUENCY(IF(D50:AB50=\"r\",COLUMN(D50:AB50)),IF(D50:AB50<>\"r\",COLUMN(D50:AB50))))","v":0},""]
["",{"$f":"IF('INPUT DATA'!B50=\"\",\"\",'INPUT DATA'!B50)","v":""},null,null,null,null,null,null,null,null,null,null,null,null,null,null,null,null,null,null,null,null,null,null,null,null,null,null,"","",null,null,null,null,null,null,null,{"$f":"MAX(FREQUENCY(IF(D51:AB51=\"r\",COLUMN(D51:AB51)),IF(D51:AB51<>\"r\",COLUMN(D51:AB51))))","v":0},""]
["",{"$f":"IF('INPUT DATA'!B51=\"\",\"\",'INPUT DATA'!B51)","v":""},null,null,null,null,null,null,null,null,null,null,null,null,null,null,null,null,null,null,null,null,null,null,null,null,null,null,"","",null,null,null,null,null,null,null,{"$f":"MAX(FREQUENCY(IF(D52:AB52=\"r\",COLUMN(D52:AB52)),IF(D52:AB52<>\"r\",COLUMN(D52:AB52))))","v":0},""]
["",{"$f":"IF('INPUT DATA'!B52=\"\",\"\",'INPUT DATA'!B52)","v":""},null,null,null,null,null,null,null,null,null,null,null,null,null,null,null,null,null,null,null,null,null,null,null,null,null,null,"","",null,null,null,null,null,null,null,{"$f":"MAX(FREQUENCY(IF(D53:AB53=\"r\",COLUMN(D53:AB53)),IF(D53:AB53<>\"r\",COLUMN(D53:AB53))))","v":0},""]
["",{"$f":"IF('INPUT DATA'!B53=\"\",\"\",'INPUT DATA'!B53)","v":""},null,null,null,null,null,null,null,null,null,null,null,null,null,null,null,null,null,null,null,null,null,null,null,null,null,null,"","",null,null,null,null,null,null,null,{"$f":"MAX(FREQUENCY(IF(D54:AB54=\"r\",COLUMN(D54:AB54)),IF(D54:AB54<>\"r\",COLUMN(D54:AB54))))","v":0},""]
["",{"$f":"IF('INPUT DATA'!B54=\"\",\"\",'INPUT DATA'!B54)","v":""},null,null,null,null,null,null,null,null,null,null,null,null,null,null,null,null,null,null,null,null,null,null,null,null,null,null,"","",null,null,null,null,null,null,null,{"$f":"MAX(FREQUENCY(IF(D55:AB55=\"r\",COLUMN(D55:AB55)),IF(D55:AB55<>\"r\",COLUMN(D55:AB55))))","v":0},""]
["",{"$f":"IF('INPUT DATA'!B55=\"\",\"\",'INPUT DATA'!B55)","v":""},null,null,null,null,null,null,null,null,null,null,null,null,null,null,null,null,null,null,null,null,null,null,null,null,null,null,"","",null,null,null,null,null,null,null,{"$f":"MAX(FREQUENCY(IF(D56:AB56=\"r\",COLUMN(D56:AB56)),IF(D56:AB56<>\"r\",COLUMN(D56:AB56))))","v":0},""]
["",{"$f":"IF('INPUT DATA'!B56=\"\",\"\",'INPUT DATA'!B56)","v":""},null,null,null,null,null,null,null,null,null,null,null,null,null,null,null,null,null,null,null,null,null,null,null,null,null,null,"","",null,null,null,null,null,null,null,{"$f":"MAX(FREQUENCY(IF(D57:AB57=\"r\",COLUMN(D57:AB57)),IF(D57:AB57<>\"r\",COLUMN(D57:AB57))))","v":0},""]
["",{"$f":"IF('INPUT DATA'!B57=\"\",\"\",'INPUT DATA'!B57)","v":""},null,null,null,null,null,null,null,null,null,null,null,null,null,null,null,null,null,null,null,null,null,null,null,null,null,null,"","",null,null,null,null,null,null,null,{"$f":"MAX(FREQUENCY(IF(D58:AB58=\"r\",COLUMN(D58:AB58)),IF(D58:AB58<>\"r\",COLUMN(D58:AB58))))","v":0},""]
["",{"$f":"IF('INPUT DATA'!B58=\"\",\"\",'INPUT DATA'!B58)","v":""},null,null,null,null,null,null,null,null,null,null,null,null,null,null,null,null,null,null,null,null,null,null,null,null,null,null,"","",null,null,null,null,null,null,null,{"$f":"MAX(FREQUENCY(IF(D59:AB59=\"r\",COLUMN(D59:AB59)),IF(D59:AB59<>\"r\",COLUMN(D59:AB59))))","v":0},""]
["",{"$f":"IF('INPUT DATA'!B59=\"\",\"\",'INPUT DATA'!B59)","v":""},null,null,null,null,null,null,null,null,null,null,null,null,null,null,null,null,null,null,null,null,null,null,null,null,null,null,"","",null,null,null,null,null,null,null,{"$f":"MAX(FREQUENCY(IF(D60:AB60=\"r\",COLUMN(D60:AB60)),IF(D60:AB60<>\"r\",COLUMN(D60:AB60))))","v":0},""]
["",{"$f":"IF('INPUT DATA'!B60=\"\",\"\",'INPUT DATA'!B60)","v":""},null,null,null,null,null,null,null,null,null,null,null,null,null,null,null,null,null,null,null,null,null,null,null,null,null,null,"","",null,null,null,null,null,null,null,{"$f":"MAX(FREQUENCY(IF(D61:AB61=\"r\",COLUMN(D61:AB61)),IF(D61:AB61<>\"r\",COLUMN(D61:AB61))))","v":0},""]
["",{"$f":"IF('INPUT DATA'!B61=\"\",\"\",'INPUT DATA'!B61)","v":""},null,null,null,null,null,null,null,null,null,null,null,null,null,null,null,null,null,null,null,null,null,null,null,null,null,null,"","",null,null,null,null,null,null,null,{"$f":"MAX(FREQUENCY(IF(D62:AB62=\"r\",COLUMN(D62:AB62)),IF(D62:AB62<>\"r\",COLUMN(D62:AB62))))","v":0},""]
["",{"$f":"IF('INPUT DATA'!B62=\"\",\"\",'INPUT DATA'!B62)","v":""},null,null,null,null,null,null,null,null,null,null,null,null,null,null,null,null,null,null,null,null,null,null,null,null,null,null,"","",null,null,null,null,null,null,null,{"$f":"MAX(FREQUENCY(IF(D63:AB63=\"r\",COLUMN(D63:AB63)),IF(D63:AB63<>\"r\",COLUMN(D63:AB63))))","v":0},""]
["MALE  | TOTAL Per Day",null,null,{"$f":"IF(D11=\"\",\"\",SUM(COUNTBLANK(D14:D63)-COUNTBLANK($B$14:$B$63),COUNTIF(D14:D63,\"z\")*0.5,COUNTIF(D14:D63,\"y\")*0.5))","v":19},19,19,19,19,19,19,19,19,19,19,19,20,20,20,20,20,20,20,20,20,20,20,20,20,{"$f":"SUM(AC14:AC63)","v":12},{"$f":"SUM(AD14:AD63)","v":488},null,null,null,null,null,null,null,{"$f":"MAX(FREQUENCY(IF(D64:AB64=\"r\",COLUMN(D64:AB64)),IF(D64:AB64<>\"r\",COLUMN(D64:AB64))))","v":0},""]
[{"$f":"IF(B65=\"\",\"\",\"1\")","v":"1"},{"$f":"IF('INPUT DATA'!B64=\"\",\"\",'INPUT DATA'!B64)","v":"Student 1"},null,null,null,null,null,null,null,null,null,null,null,null,null,null,null,null,null,null,null,null,null,null,null,null,null,null,{"$f":"IF(B65=\"\",\"\",SUM(COUNTIF(D65:AB65,\"z\")*0.5,COUNTIF(D65:AB65,\"y\")*0.5,COUNTIF(D65:AB65,\"r\")))","v":0},{"$f":"IF(B65=\"\",\"\",COUNTA($D$11:$AB$11)-AC65)","v":25},null,null,null,null,null,null,null,{"$f":"MAX(FREQUENCY(IF(D65:AB65=\"r\",COLUMN(D65:AB65)),IF(D65:AB65<>\"r\",COLUMN(D65:AB65))))","v":0},""]
[{"$f":"IF(B66=\"\",\"\",A65+1)","v":2},{"$f":"IF('INPUT DATA'!B65=\"\",\"\",'INPUT DATA'!B65)","v":"Student 2"},null,null,null,null,null,null,null,null,null,null,null,null,null,null,null,null,null,null,null,null,null,null,null,null,null,null,{"$f":"IF(B66=\"\",\"\",SUM(COUNTIF(D66:AB66,\"z\")*0.5,COUNTIF(D66:AB66,\"y\")*0.5,COUNTIF(D66:AB66,\"r\")))","v":0},{"$f":"IF(B66=\"\",\"\",COUNTA($D$11:$AB$11)-AC66)","v":25},null,null,null,null,null,null,null,{"$f":"MAX(FREQUENCY(IF(D66:AB66=\"r\",COLUMN(D66:AB66)),IF(D66:AB66<>\"r\",COLUMN(D66:AB66))))","v":0},""]
[{"$f":"IF(B67=\"\",\"\",A66+1)","v":3},{"$f":"IF('INPUT DATA'!B66=\"\",\"\",'INPUT DATA'!B66)","v":"Student 3"},null,null,null,null,null,null,null,null,null,null,null,null,null,null,null,null,null,null,null,null,null,null,null,null,null,null,0,25,null,null,null,null,null,null,null,{"$f":"MAX(FREQUENCY(IF(D67:AB67=\"r\",COLUMN(D67:AB67)),IF(D67:AB67<>\"r\",COLUMN(D67:AB67))))","v":0},""]
[4,{"$f":"IF('INPUT DATA'!B67=\"\",\"\",'INPUT DATA'!B67)","v":"Student 4"},null,null,null,null,null,null,null,null,null,null,null,null,null,null,null,null,null,null,null,null,null,null,null,null,null,null,0,25,null,null,null,null,null,null,null,{"$f":"MAX(FREQUENCY(IF(D68:AB68=\"r\",COLUMN(D68:AB68)),IF(D68:AB68<>\"r\",COLUMN(D68:AB68))))","v":0},""]
[5,{"$f":"IF('INPUT DATA'!B68=\"\",\"\",'INPUT DATA'!B68)","v":"Student 5"},null,null,null,null,null,null,null,null,null,null,null,null,null,null,null,null,null,null,null,null,null,null,null,null,null,null,0,25,null,null,null,null,null,null,null,{"$f":"MAX(FREQUENCY(IF(D69:AB69=\"r\",COLUMN(D69:AB69)),IF(D69:AB69<>\"r\",COLUMN(D69:AB69))))","v":0},""]
[6,{"$f":"IF('INPUT DATA'!B69=\"\",\"\",'INPUT DATA'!B69)","v":"Student 6"},null,null,null,null,null,null,null,null,null,null,null,null,null,null,null,null,null,null,null,null,null,null,null,null,null,null,0,25,null,null,null,null,null,null,null,{"$f":"MAX(FREQUENCY(IF(D70:AB70=\"r\",COLUMN(D70:AB70)),IF(D70:AB70<>\"r\",COLUMN(D70:AB70))))","v":0},""]
[7,{"$f":"IF('INPUT DATA'!B70=\"\",\"\",'INPUT DATA'!B70)","v":"Student 7"},null,null,null,null,null,null,null,null,null,null,null,null,null,null,null,null,null,null,null,null,null,null,null,null,null,null,0,25,null,null,null,null,null,null,null,{"$f":"MAX(FREQUENCY(IF(D71:AB71=\"r\",COLUMN(D71:AB71)),IF(D71:AB71<>\"r\",COLUMN(D71:AB71))))","v":0},""]
[8,{"$f":"IF('INPUT DATA'!B71=\"\",\"\",'INPUT DATA'!B71)","v":"Student 8"},null,null,null,null,null,null,null,null,null,null,null,null,null,null,null,null,null,null,null,null,null,null,null,null,null,null,0,25,null,null,null,null,null,null,null,{"$f":"MAX(FREQUENCY(IF(D72:AB72=\"r\",COLUMN(D72:AB72)),IF(D72:AB72<>\"r\",COLUMN(D72:AB72))))","v":0},""]
[9,{"$f":"IF('INPUT DATA'!B72=\"\",\"\",'INPUT DATA'!B72)","v":"Student 9"},null,null,null,null,null,null,null,null,null,null,null,null,null,null,null,null,null,null,null,null,null,null,null,null,null,null,0,25,null,null,null,null,null,null,null,{"$f":"MAX(FREQUENCY(IF(D73:AB73=\"r\",COLUMN(D73:AB73)),IF(D73:AB73<>\"r\",COLUMN(D73:AB73))))","v":0},""]
[10,{"$f":"IF('INPUT DATA'!B73=\"\",\"\",'INPUT DATA'!B73)","v":"Student 10"},null,null,null,null,null,null,null,null,null,null,null,null,null,null,null,null,null,null,null,null,null,null,null,null,null,null,0,25,null,null,null,null,null,null,null,{"$f":"MAX(FREQUENCY(IF(D74:AB74=\"r\",COLUMN(D74:AB74)),IF(D74:AB74<>\"r\",COLUMN(D74:AB74))))","v":0},""]
[11,{"$f":"IF('INPUT DATA'!B74=\"\",\"\",'INPUT DATA'!B74)","v":"Student 11"},null,null,null,null,null,null,null,null,null,null,null,null,null,null,null,null,null,null,null,null,null,null,null,null,null,null,0,25,null,null,null,null,null,null,null,{"$f":"MAX(FREQUENCY(IF(D75:AB75=\"r\",COLUMN(D75:AB75)),IF(D75:AB75<>\"r\",COLUMN(D75:AB75))))","v":0},""]
[12,{"$f":"IF('INPUT DATA'!B75=\"\",\"\",'INPUT DATA'!B75)","v":"Student 12"},null,null,null,null,null,null,null,null,null,null,null,null,null,null,null,null,null,null,null,null,null,null,null,null,null,null,0,25,null,null,null,null,null,null,null,{"$f":"MAX(FREQUENCY(IF(D76:AB76=\"r\",COLUMN(D76:AB76)),IF(D76:AB76<>\"r\",COLUMN(D76:AB76))))","v":0},""]
[13,{"$f":"IF('INPUT DATA'!B76=\"\",\"\",'INPUT DATA'!B76)","v":"Student 13"},null,null,null,null,null,null,null,null,null,null,null,null,null,null,null,null,null,null,null,null,null,null,null,null,null,null,0,25,null,null,null,null,null,null,null,{"$f":"MAX(FREQUENCY(IF(D77:AB77=\"r\",COLUMN(D77:AB77)),IF(D77:AB77<>\"r\",COLUMN(D77:AB77))))","v":0},""]
[14,{"$f":"IF('INPUT DATA'!B77=\"\",\"\",'INPUT DATA'!B77)","v":"Student 14"},null,null,null,null,null,null,null,null,null,null,null,null,null,null,null,null,null,null,null,null,null,null,null,null,null,null,0,25,null,null,null,null,null,null,null,{"$f":"MAX(FREQUENCY(IF(D78:AB78=\"r\",COLUMN(D78:AB78)),IF(D78:AB78<>\"r\",COLUMN(D78:AB78))))","v":0},""]
[15,{"$f":"IF('INPUT DATA'!B78=\"\",\"\",'INPUT DATA'!B78)","v":"Student 15"},null,null,null,null,null,null,null,null,null,null,null,null,null,null,null,null,null,null,null,null,null,null,null,null,null,null,0,25,null,null,null,null,null,null,null,{"$f":"MAX(FREQUENCY(IF(D79:AB79=\"r\",COLUMN(D79:AB79)),IF(D79:AB79<>\"r\",COLUMN(D79:AB79))))","v":0},{"$f":"IF(AL79>=5,1,\"\")","v":""}]
[16,{"$f":"IF('INPUT DATA'!B79=\"\",\"\",'INPUT DATA'!B79)","v":"Student 16"},null,null,null,null,null,null,null,null,null,null,null,null,null,null,null,null,null,null,null,null,null,null,null,null,null,null,0,25,null,null,null,null,null,null,null,{"$f":"MAX(FREQUENCY(IF(D80:AB80=\"r\",COLUMN(D80:AB80)),IF(D80:AB80<>\"r\",COLUMN(D80:AB80))))","v":0},""]
[17,{"$f":"IF('INPUT DATA'!B80=\"\",\"\",'INPUT DATA'!B80)","v":"Student 17"},null,null,null,null,null,null,null,null,null,null,null,null,null,null,null,null,null,null,null,null,null,null,null,null,null,null,0,25,null,null,null,null,null,null,null,{"$f":"MAX(FREQUENCY(IF(D81:AB81=\"r\",COLUMN(D81:AB81)),IF(D81:AB81<>\"r\",COLUMN(D81:AB81))))","v":0},""]
[18,{"$f":"IF('INPUT DATA'!B81=\"\",\"\",'INPUT DATA'!B81)","v":"Student 18"},null,null,null,null,null,null,null,null,null,null,null,null,null,null,null,null,null,null,null,null,null,null,null,null,null,null,0,25,null,null,null,null,null,null,null,{"$f":"MAX(FREQUENCY(IF(D82:AB82=\"r\",COLUMN(D82:AB82)),IF(D82:AB82<>\"r\",COLUMN(D82:AB82))))","v":0},""]
[19,{"$f":"IF('INPUT DATA'!B82=\"\",\"\",'INPUT DATA'!B82)","v":"Student 19"},null,null,null,null,null,null,null,null,null,null,null,null,null,null,null,null,null,null,null,null,null,null,null,null,null,null,0,25,null,null,null,null,null,null,null,{"$f":"MAX(FREQUENCY(IF(D83:AB83=\"r\",COLUMN(D83:AB83)),IF(D83:AB83<>\"r\",COLUMN(D83:AB83))))","v":0},""]
[20,{"$f":"IF('INPUT DATA'!B83=\"\",\"\",'INPUT DATA'!B83)","v":"Student 20"},null,null,null,null,null,null,null,null,null,null,null,null,null,null,null,null,null,null,null,null,null,"r","r","r","r","r",5,20,null,null,null,null,null,null,null,{"$f":"MAX(FREQUENCY(IF(D84:AB84=\"r\",COLUMN(D84:AB84)),IF(D84:AB84<>\"r\",COLUMN(D84:AB84))))","v":5},1]
["",{"$f":"IF('INPUT DATA'!B84=\"\",\"\",'INPUT DATA'!B84)","v":""},null,null,null,null,null,null,null,null,null,null,null,null,null,null,null,null,null,null,null,null,null,null,null,null,null,null,"","",null,null,null,null,null,null,null,{"$f":"MAX(FREQUENCY(IF(D85:AB85=\"r\",COLUMN(D85:AB85)),IF(D85:AB85<>\"r\",COLUMN(D85:AB85))))","v":0},""]
["",{"$f":"IF('INPUT DATA'!B85=\"\",\"\",'INPUT DATA'!B85)","v":""},null,null,null,null,null,null,null,null,null,null,null,null,null,null,null,null,null,null,null,null,null,null,null,null,null,null,"","",null,null,null,null,null,null,null,{"$f":"MAX(FREQUENCY(IF(D86:AB86=\"r\",COLUMN(D86:AB86)),IF(D86:AB86<>\"r\",COLUMN(D86:AB86))))","v":0},""]
["",{"$f":"IF('INPUT DATA'!B86=\"\",\"\",'INPUT DATA'!B86)","v":""},null,null,null,null,null,null,null,null,null,null,null,null,null,null,null,null,null,null,null,null,null,null,null,null,null,null,"","",null,null,null,null,null,null,null,{"$f":"MAX(FREQUENCY(IF(D87:AB87=\"r\",COLUMN(D87:AB87)),IF(D87:AB87<>\"r\",COLUMN(D87:AB87))))","v":0},""]
["",{"$f":"IF('INPUT DATA'!B87=\"\",\"\",'INPUT DATA'!B87)","v":""},null,null,null,null,null,null,null,null,null,null,null,null,null,null,null,null,null,null,null,null,null,null,null,null,null,null,"","",null,null,null,null,null,null,null,{"$f":"MAX(FREQUENCY(IF(D88:AB88=\"r\",COLUMN(D88:AB88)),IF(D88:AB88<>\"r\",COLUMN(D88:AB88))))","v":0},""]
["",{"$f":"IF('INPUT DATA'!B88=\"\",\"\",'INPUT DATA'!B88)","v":""},null,null,null,null,null,null,null,null,null,null,null,null,null,null,null,null,null,null,null,null,null,null,null,null,null,null,"","",null,null,null,null,null,null,null,{"$f":"MAX(FREQUENCY(IF(D89:AB89=\"r\",COLUMN(D89:AB89)),IF(D89:AB89<>\"r\",COLUMN(D89:AB89))))","v":0},""]
["",{"$f":"IF('INPUT DATA'!B89=\"\",\"\",'INPUT DATA'!B89)","v":""},null,null,null,null,null,null,null,null,null,null,null,null,null,null,null,null,null,null,null,null,null,null,null,null,null,null,"","",null,null,null,null,null,null,null,{"$f":"MAX(FREQUENCY(IF(D90:AB90=\"r\",COLUMN(D90:AB90)),IF(D90:AB90<>\"r\",COLUMN(D90:AB90))))","v":0},""]
["",{"$f":"IF('INPUT DATA'!B90=\"\",\"\",'INPUT DATA'!B90)","v":""},null,null,null,null,null,null,null,null,null,null,null,null,null,null,null,null,null,null,null,null,null,null,null,null,null,null,"","",null,null,null,null,null,null,null,{"$f":"MAX(FREQUENCY(IF(D91:AB91=\"r\",COLUMN(D91:AB91)),IF(D91:AB91<>\"r\",COLUMN(D91:AB91))))","v":0},""]
["",{"$f":"IF('INPUT DATA'!B91=\"\",\"\",'INPUT DATA'!B91)","v":""},null,null,null,null,null,null,null,null,null,null,null,null,null,null,null,null,null,null,null,null,null,null,null,null,null,null,"","",null,null,null,null,null,null,null,{"$f":"MAX(FREQUENCY(IF(D92:AB92=\"r\",COLUMN(D92:AB92)),IF(D92:AB92<>\"r\",COLUMN(D92:AB92))))","v":0},""]
["",{"$f":"IF('INPUT DATA'!B92=\"\",\"\",'INPUT DATA'!B92)","v":""},null,null,null,null,null,null,null,null,null,null,null,null,null,null,null,null,null,null,null,null,null,null,null,null,null,null,"","",null,null,null,null,null,null,null,{"$f":"MAX(FREQUENCY(IF(D93:AB93=\"r\",COLUMN(D93:AB93)),IF(D93:AB93<>\"r\",COLUMN(D93:AB93))))","v":0},""]
["",{"$f":"IF('INPUT DATA'!B93=\"\",\"\",'INPUT DATA'!B93)","v":""},null,null,null,null,null,null,null,null,null,null,null,null,null,null,null,null,null,null,null,null,null,null,null,null,null,null,"","",null,null,null,null,null,null,null,{"$f":"MAX(FREQUENCY(IF(D94:AB94=\"r\",COLUMN(D94:AB94)),IF(D94:AB94<>\"r\",COLUMN(D94:AB94))))","v":0},""]
["",{"$f":"IF('INPUT DATA'!B94=\"\",\"\",'INPUT DATA'!B94)","v":""},null,null,null,null,null,null,null,null,null,null,null,null,null,null,null,null,null,null,null,null,null,null,null,null,null,null,"","",null,null,null,null,null,null,null,{"$f":"MAX(FREQUENCY(IF(D95:AB95=\"r\",COLUMN(D95:AB95)),IF(D95:AB95<>\"r\",COLUMN(D95:AB95))))","v":0},""]
["",{"$f":"IF('INPUT DATA'!B95=\"\",\"\",'INPUT DATA'!B95)","v":""},null,null,null,null,null,null,null,null,null,null,null,null,null,null,null,null,null,null,null,null,null,null,null,null,null,null,"","",null,null,null,null,null,null,null,{"$f":"MAX(FREQUENCY(IF(D96:AB96=\"r\",COLUMN(D96:AB96)),IF(D96:AB96<>\"r\",COLUMN(D96:AB96))))","v":0},""]
["",{"$f":"IF('INPUT DATA'!B96=\"\",\"\",'INPUT DATA'!B96)","v":""},null,null,null,null,null,null,null,null,null,null,null,null,null,null,null,null,null,null,null,null,null,null,null,null,null,null,"","",null,null,null,null,null,null,null,{"$f":"MAX(FREQUENCY(IF(D97:AB97=\"r\",COLUMN(D97:AB97)),IF(D97:AB97<>\"r\",COLUMN(D97:AB97))))","v":0},""]
["",{"$f":"IF('INPUT DATA'!B97=\"\",\"\",'INPUT DATA'!B97)","v":""},null,null,null,null,null,null,null,null,null,null,null,null,null,null,null,null,null,null,null,null,null,null,null,null,null,null,"","",null,null,null,null,null,null,null,{"$f":"MAX(FREQUENCY(IF(D98:AB98=\"r\",COLUMN(D98:AB98)),IF(D98:AB98<>\"r\",COLUMN(D98:AB98))))","v":0},""]
["",{"$f":"IF('INPUT DATA'!B98=\"\",\"\",'INPUT DATA'!B98)","v":""},null,null,null,null,null,null,null,null,null,null,null,null,null,null,null,null,null,null,null,null,null,null,null,null,null,null,"","",null,null,null,null,null,null,null,{"$f":"MAX(FREQUENCY(IF(D99:AB99=\"r\",COLUMN(D99:AB99)),IF(D99:AB99<>\"r\",COLUMN(D99:AB99))))","v":0},""]
["",{"$f":"IF('INPUT DATA'!B99=\"\",\"\",'INPUT DATA'!B99)","v":""},null,null,null,null,null,null,null,null,null,null,null,null,null,null,null,null,null,null,null,null,null,null,null,null,null,null,"","",null,null,null,null,null,null,null,{"$f":"MAX(FREQUENCY(IF(D100:AB100=\"r\",COLUMN(D100:AB100)),IF(D100:AB100<>\"r\",COLUMN(D100:AB100))))","v":0},""]
["",{"$f":"IF('INPUT DATA'!B100=\"\",\"\",'INPUT DATA'!B100)","v":""},null,null,null,null,null,null,null,null,null,null,null,null,null,null,null,null,null,null,null,null,null,null,null,null,null,null,"","",null,null,null,null,null,null,null,{"$f":"MAX(FREQUENCY(IF(D101:AB101=\"r\",COLUMN(D101:AB101)),IF(D101:AB101<>\"r\",COLUMN(D101:AB101))))","v":0},""]
["",{"$f":"IF('INPUT DATA'!B101=\"\",\"\",'INPUT DATA'!B101)","v":""},null,null,null,null,null,null,null,null,null,null,null,null,null,null,null,null,null,null,null,null,null,null,null,null,null,null,"","",null,null,null,null,null,null,null,{"$f":"MAX(FREQUENCY(IF(D102:AB102=\"r\",COLUMN(D102:AB102)),IF(D102:AB102<>\"r\",COLUMN(D102:AB102))))","v":0},""]
["",{"$f":"IF('INPUT DATA'!B102=\"\",\"\",'INPUT DATA'!B102)","v":""},null,null,null,null,null,null,null,null,null,null,null,null,null,null,null,null,null,null,null,null,null,null,null,null,null,null,"","",null,null,null,null,null,null,null,{"$f":"MAX(FREQUENCY(IF(D103:AB103=\"r\",COLUMN(D103:AB103)),IF(D103:AB103<>\"r\",COLUMN(D103:AB103))))","v":0},""]
["",{"$f":"IF('INPUT DATA'!B103=\"\",\"\",'INPUT DATA'!B103)","v":""},null,null,null,null,null,null,null,null,null,null,null,null,null,null,null,null,null,null,null,null,null,null,null,null,null,null,"","",null,null,null,null,null,null,null,{"$f":"MAX(FREQUENCY(IF(D104:AB104=\"r\",COLUMN(D104:AB104)),IF(D104:AB104<>\"r\",COLUMN(D104:AB104))))","v":0},""]
["",{"$f":"IF('INPUT DATA'!B104=\"\",\"\",'INPUT DATA'!B104)","v":""},null,null,null,null,null,null,null,null,null,null,null,null,null,null,null,null,null,null,null,null,null,null,null,null,null,null,"","",null,null,null,null,null,null,null,{"$f":"MAX(FREQUENCY(IF(D105:AB105=\"r\",COLUMN(D105:AB105)),IF(D105:AB105<>\"r\",COLUMN(D105:AB105))))","v":0},""]
["",{"$f":"IF('INPUT DATA'!B105=\"\",\"\",'INPUT DATA'!B105)","v":""},null,null,null,null,null,null,null,null,null,null,null,null,null,null,null,null,null,null,null,null,null,null,null,null,null,null,"","",null,null,null,null,null,null,null,{"$f":"MAX(FREQUENCY(IF(D106:AB106=\"r\",COLUMN(D106:AB106)),IF(D106:AB106<>\"r\",COLUMN(D106:AB106))))","v":0},""]
["",{"$f":"IF('INPUT DATA'!B106=\"\",\"\",'INPUT DATA'!B106)","v":""},null,null,null,null,null,null,null,null,null,null,null,null,null,null,null,null,null,null,null,null,null,null,null,null,null,null,"","",null,null,null,null,null,null,null,{"$f":"MAX(FREQUENCY(IF(D107:AB107=\"r\",COLUMN(D107:AB107)),IF(D107:AB107<>\"r\",COLUMN(D107:AB107))))","v":0},""]
["",{"$f":"IF('INPUT DATA'!B107=\"\",\"\",'INPUT DATA'!B107)","v":""},null,null,null,null,null,null,null,null,null,null,null,null,null,null,null,null,null,null,null,null,null,null,null,null,null,null,"","",null,null,null,null,null,null,null,{"$f":"MAX(FREQUENCY(IF(D108:AB108=\"r\",COLUMN(D108:AB108)),IF(D108:AB108<>\"r\",COLUMN(D108:AB108))))","v":0},""]
["",{"$f":"IF('INPUT DATA'!B108=\"\",\"\",'INPUT DATA'!B108)","v":""},null,null,null,null,null,null,null,null,null,null,null,null,null,null,null,null,null,null,null,null,null,null,null,null,null,null,"","",null,null,null,null,null,null,null,{"$f":"MAX(FREQUENCY(IF(D109:AB109=\"r\",COLUMN(D109:AB109)),IF(D109:AB109<>\"r\",COLUMN(D109:AB109))))","v":0},""]
["",{"$f":"IF('INPUT DATA'!B109=\"\",\"\",'INPUT DATA'!B109)","v":""},null,null,null,null,null,null,null,null,null,null,null,null,null,null,null,null,null,null,null,null,null,null,null,null,null,null,"","",null,null,null,null,null,null,null,{"$f":"MAX(FREQUENCY(IF(D110:AB110=\"r\",COLUMN(D110:AB110)),IF(D110:AB110<>\"r\",COLUMN(D110:AB110))))","v":0},""]
["",{"$f":"IF('INPUT DATA'!B110=\"\",\"\",'INPUT DATA'!B110)","v":""},null,null,null,null,null,null,null,null,null,null,null,null,null,null,null,null,null,null,null,null,null,null,null,null,null,null,"","",null,null,null,null,null,null,null,{"$f":"MAX(FREQUENCY(IF(D111:AB111=\"r\",COLUMN(D111:AB111)),IF(D111:AB111<>\"r\",COLUMN(D111:AB111))))","v":0},""]
["",{"$f":"IF('INPUT DATA'!B111=\"\",\"\",'INPUT DATA'!B111)","v":""},null,null,null,null,null,null,null,null,null,null,null,null,null,null,null,null,null,null,null,null,null,null,null,null,null,null,"","",null,null,null,null,null,null,null,{"$f":"MAX(FREQUENCY(IF(D112:AB112=\"r\",COLUMN(D112:AB112)),IF(D112:AB112<>\"r\",COLUMN(D112:AB112))))","v":0},""]
["",{"$f":"IF('INPUT DATA'!B112=\"\",\"\",'INPUT DATA'!B112)","v":""},null,null,null,null,null,null,null,null,null,null,null,null,null,null,null,null,null,null,null,null,null,null,null,null,null,null,"","",null,null,null,null,null,null,null,{"$f":"MAX(FREQUENCY(IF(D113:AB113=\"r\",COLUMN(D113:AB113)),IF(D113:AB113<>\"r\",COLUMN(D113:AB113))))","v":0},""]
["",{"$f":"IF('INPUT DATA'!B113=\"\",\"\",'INPUT DATA'!B113)","v":""},null,null,null,null,null,null,null,null,null,null,null,null,null,null,null,null,null,null,null,null,null,null,null,null,null,null,"","",null,null,null,null,null,null,null,{"$f":"MAX(FREQUENCY(IF(D114:AB114=\"r\",COLUMN(D114:AB114)),IF(D114:AB114<>\"r\",COLUMN(D114:AB114))))","v":0},""]
["FEMALE  | TOTAL Per Day",null,null,{"$f":"IF(D11=\"\",\"\",SUM(COUNTBLANK(D65:D114)-COUNTBLANK($B$65:$B$114),COUNTIF(D65:D114,\"z\")*0.5,COUNTIF(D65:D114,\"y\")*0.5))","v":20},20,20,20,20,20,20,20,20,20,20,20,20,20,20,20,20,20,20,20,19,19,19,19,19,{"$f":"SUM(AC65:AC114)","v":5},{"$f":"SUM(AD65:AD114)","v":495}]
["    Combined TOTAL PER DAY",null,null,{"$f":"IF(D11=\"\",\"\",SUM(D64,D115))","v":39},39,39,39,39,39,39,39,39,39,39,39,40,40,40,40,40,40,40,40,39,39,39,39,39,{"$f":"SUM(AC64,AC115)","v":17},{"$f":"SUM(AD64,AD115)","v":983}]
[]
["GUIDELINES:",null,null,null,null,null,null,null,null,null,null,null,null,null,null,null,"1. CODES FOR CHECKING ATTENDANCE",null,null,null,null,null,null,null,null,null,null,"Month:",{"$f":"X6","v":"December"},null,"No. of Days of Classes:",null,{"$f":"COUNT(D11:AB11)","v":25},"Summary for the Month"]
["1. The attendance shall be accomplished daily. Refer to the codes for checking learners' attendance.",null,null,null,null,null,null,null,null,null,null,null,null,null,null,null,"blank- Present;   (x)- Absent; Tardy (half shaded= Upper for Late Commer, Lower for Cutting Classes)",null,null,null,null,null,null,null,null,null,null,null,null,null,null,null,null,"M","F","TOTAL"]
["2. Dates shall be written in the preceding columns beside Learner's Name.",null,null,null,null,null,null,null,null,null,null,null,null,null,null,null,null,null,null,null,null,null,null,null,null,null,null,"* Enrolment  as of  (1st Friday of June)",null,null,null,null,null,{"$f":"IF('INPUT DATA'!V97=\"\",\"\",'INPUT DATA'!V97)","v":""},{"$f":"IF('INPUT DATA'!W97=\"\",\"\",'INPUT DATA'!W97)","v":""},{"$f":"SUM(AH120:AI121)","v":0}]
["3. To compute the following:"]
["a.","Percentage of Enrolment =",null,"Registered Learner as of End of the Month",null,null,null,null,null,null,null,null,null,"x 100",null,null,"2. REASONS/CAUSES OF DROP-OUTS",null,null,null,null,null,null,null,null,null,null,"Late Enrollment during the month                                               (beyond cut-off)",null,null,null,null,null,{"$f":"IF('INPUT DATA'!V98=\"\",\"\",'INPUT DATA'!V98)","v":""},{"$f":"IF('INPUT DATA'!W98=\"\",\"\",'INPUT DATA'!W98)","v":""},{"$f":"SUM(AH122:AI123)","v":0}]
[null,null,null,"Enrolment as of 1st Friday of June",null,null,null,null,null,null,null,null,null,null,null,null,"a. Domestic-Related Factors"]
["b.","Average Daily Attendance = ",null,"Total Daily Attendance",null,null,null,null,null,null,null,null,null,null,null,null,"a.1. Had to take care of siblings",null,null,null,null,null,null,null,null,null,null,"Registered Learner as of end of the month",null,null,null,null,null,{"$f":"IF('INPUT DATA'!V99=\"\",\"\",'INPUT DATA'!V99)","v":""},{"$f":"IF('INPUT DATA'!W99=\"\",\"\",'INPUT DATA'!W99)","v":""},{"$f":"SUM(AH124:AI125)","v":0}]
[null,null,null,"Number of School Days in reporting month",null,null,null,null,null,null,null,null,null,null,null,null,"a.2. Early marriage/pregnancy"]
["c.","Percentage of Attendance for the month =",null,"Average daily attendance",null,null,null,null,null,null,null,null,null,"x 100",null,null,"a.3. Parents' attitude toward schooling",null,null,null,null,null,null,null,null,null,null,"Percentage of Enrolment as of end of the month",null,null,null,null,null,{"$f":"CONCATENATE(IFERROR(ROUND((AH124)/(AH120)*100,0),\"\"),\"%\")","v":"%"},{"$f":"CONCATENATE(IFERROR(ROUND((AI124)/(AI120)*100,0),\"\"),\"%\")","v":"%"},{"$f":"CONCATENATE(IFERROR(ROUND((AJ124)/(AJ120)*100,0),\"\"),\"%\")","v":"%"}]
[null,null,null,"Registered Learner as of End of the month",null,null,null,null,null,null,null,null,null,null,null,null,"a.4. Family problems"]
[null,null,null,null,null,null,null,null,null,null,null,null,null,null,null,null,"b. Individual-Related Factors",null,null,null,null,null,null,null,null,null,null,"Average Daily Attendance",null,null,null,null,null,{"$f":"IFERROR(ROUND((AD64)/COUNTA(D11:AB11),2),\"\")","v":19.52},{"$f":"IFERROR(ROUND((AD115/COUNTA(D11:AB11)),2),\"\")","v":19.8},{"$f":"IFERROR(ROUND((AD116)/COUNTA(D11:AB11),2),\"\")","v":39.32}]
["4. Every End of the month, the class adviser will submit this form to the office of the principal for recording of \n     summary table into the School Form 4. Once signed by the principal, this form should be returned to the adviser.",null,null,null,null,null,null,null,null,null,null,null,null,null,null,null,"b.1. Illness",null,null,null,null,null,null,null,null,null,null,"Percentage of Attendance for the month ",null,null,null,null,null,{"$f":"CONCATENATE(IFERROR(ROUND((AH128/AH124)*100,0),\"\"),\"%\")","v":"%"},{"$f":"CONCATENATE(IFERROR(ROUND((AI128/AI124)*100,0),\"\"),\"%\")","v":"%"},{"$f":"CONCATENATE(IFERROR(ROUND((AJ128/AJ124)*100,0),\"\"),\"%\")","v":"%"}]
[null,null,null,null,null,null,null,null,null,null,null,null,null,null,null,null,"b.2. Overage"]
["5. The adviser will extend neccessary intervention including but not limited to home visitation  to learner/s that committed 5 consecutive days of absences or those with potentials of dropping out",null,null,null,null,null,null,null,null,null,null,null,null,null,null,null,"b.3. Death",null,null,null,null,null,null,null,null,null,null,"Number of students with 5 consecutive days of absences:",null,null,null,null,null,{"$f":"SUM(AM14:AM63)","v":1},{"$f":"SUM(AM65:AM114)","v":1},{"$f":"SUM(AH131:AI132)","v":2}]
[null,null,null,null,null,null,null,null,null,null,null,null,null,null,null,null,"b.4. Drug Abuse"]
["6.  Attendance performance of learner is expected to reflect in Form 137 and Form 138 every grading period",null,null,null,null,null,null,null,null,null,null,null,null,null,null,null,"b.5. Poor academic performance",null,null,null,null,null,null,null,null,null,null,"Drop out",null,null,null,null,null,{"$f":"IF('INPUT DATA'!V100=\"\",\"\",'INPUT DATA'!V100)","v":""},{"$f":"IF('INPUT DATA'!W100=\"\",\"\",'INPUT DATA'!W100)","v":""},{"$f":"SUM(AH133:AI134)","v":0}]
["*","Beginning of School Year cut-off report is every 1st Friday of School Calendar Days",null,null,null,null,null,null,null,null,null,null,null,null,null,null,"b.6. Lack of interest/Distractions"]
[null,null,null,null,null,null,null,null,null,null,null,null,null,null,null,null,"b.7. Hunger/Malnutrition",null,null,null,null,null,null,null,null,null,null,"Transferred out",null,null,null,null,null,{"$f":"IF('INPUT DATA'!V101=\"\",\"\",'INPUT DATA'!V101)","v":""},{"$f":"IF('INPUT DATA'!W101=\"\",\"\",'INPUT DATA'!W101)","v":""},{"$f":"SUM(AH135:AI136)","v":0}]
[null,null,null,null,null,null,null,null,null,null,null,null,null,null,null,null,"c. School-Related Factors"]
[null,null,null,null,null,null,null,null,null,null,null,null,null,null,null,null,"c.1. Teacher Factor",null,null,null,null,null,null,null,null,null,null,"Transferred in",null,null,null,null,null,{"$f":"IF('INPUT DATA'!V102=\"\",\"\",'INPUT DATA'!V102)","v":""},{"$f":"IF('INPUT DATA'!W102=\"\",\"\",'INPUT DATA'!W102)","v":""},{"$f":"SUM(AH137:AI138)","v":0}]
[null,null,null,null,null,null,null,null,null,null,null,null,null,null,null,null,"c.2. Physical condition of classroom"]
[null,null,null,null,null,null,null,null,null,null,null,null,null,null,null,null,"c.3. Peer influence"]
[null,null,null,null,null,null,null,null,null,null,null,null,null,null,null,null,"d. Geographic/Environmental",null,null,null,null,null,null,null,null,null,null,"I certify that this is a true and correct report."]
[null,null,null,null,null,null,null,null,null,null,null,null,null,null,null,null,"d.1. Distance between home and school"]
[null,null,null,null,null,null,null,null,null,null,null,null,null,null,null,null,"d.2. Armed conflict (incl. Tribal wars & clanfeuds)",null,null,null,null,null,null,null,null,null,null,null,null,{"$f":"UPPER(IF('INPUT DATA'!R7=\"\",\"\",'INPUT DATA'!R7))","v":""}]
[null,null,null,null,null,null,null,null,null,null,null,null,null,null,null,null,null,null,null,null,null,null,null,null,null,null,null,null,"                          (Signature of Teacher over Printed Name)"]
[null,null,null,null,null,null,null,null,null,null,null,null,null,null,null,null,"d.3. Calamities/Disasters"]
[null,null,null,null,null,null,null,null,null,null,null,null,null,null,null,null,"e. Financial-Related",null,null,null,null,null,null,null,null,null,null,"Attested by:"]
[null,null,null,null,null,null,null,null,null,null,null,null,null,null,null,null,"e.1. Child labor, work",null,null,null,null,null,null,null,null,null,null,null,null,{"$f":"UPPER(IF('INPUT DATA'!R6=\"\",\"\",'INPUT DATA'!R6))","v":""}]
[null,null,null,null,null,null,null,null,null,null,null,null,null,null,null,null,"f. Others",null,null,null,null,null,null,null,null,null,null,null,null,null,null," (Signature of School Head over Printed Name)"]

{"sheet":"NOV","index":3,"n_rows":147,"n_cols":39,"rows_kept":147,"cut":false,"hidden":true,"merged":[[145,29,145,34],[136,1,137,6],[136,27,137,32],[136,33,137,33],[136,34,137,34],[136,35,137,35],[141,16,142,25],[141,29,141,34],[132,27,133,32],[132,33,133,33],[132,34,133,34],[132,35,133,35],[133,1,133,13],[134,27,135,32],[134,33,135,33],[134,34,135,34],[134,35,135,35],[128,34,129,34],[128,35,129,35],[130,0,131,14],[130,27,131,32],[130,33,131,33],[130,34,131,34],[130,35,131,35],[126,3,126,12],[127,0,127,11],[127,27,127,32],[128,0,129,13],[128,27,129,32],[128,33,129,33],[123,0,124,0],[123,1,124,1],[123,3,123,12],[123,27,124,32],[123,33,124,33],[123,34,124,34],[123,35,124,35],[124,3,124,12],[125,0,126,0],[125,1,126,2],[125,3,125,12],[125,13,126,14],[125,27,126,32],[125,33,126,33],[125,34,126,34],[125,35,126,35],[120,0,120,13],[121,0,122,0],[121,1,122,1],[121,3,121,12],[121,13,122,14],[121,27,122,32],[117,28,117,29],[117,30,118,31],[117,33,117,35],[118,0,118,13],[118,16,120,24],[119,0,119,13],[119,27,120,32],[119,33,120,33],[119,34,120,34],[119,35,120,35],[121,33,122,33],[121,34,122,34],[121,35,122,35],[122,3,122,12],[113,30,113,35],[114,0,114,2],[114,30,114,35],[115,0,115,2],[115,30,115,35],[116,0,116,1],[116,3,116,7],[108,1,108,2],[109,1,109,2],[110,1,110,2],[111,1,111,2],[112,1,112,2],[113,1,113,2],[102,1,102,2],[103,1,103,2],[104,1,104,2],[105,1,105,2],[106,1,106,2],[107,1,107,2],[96,1,96,2],[97,1,97,2],[98,1,98,2],[99,1,99,2],[100,1,100,2],[101,1,101,2],[90,1,90,2],[91,1,91,2],[92,1,92,2],[93,1,93,2],[94,1,94,2],[95,1,95,2],[86,1,86,2],[86,30,86,35],[87,1,87,2],[87,30,87,35],[88,1,88,2],[89,1,89,2],[83,1,83,2],[83,30,83,35],[84,1,84,2],[84,30,84,35],[85,1,85,2],[85,30,85,35],[80,1,80,2],[80,30,80,35],[81,1,81,2],[81,30,81,35],[82,1,82,2],[82,30,82,35],[77,1,77,2],[77,30,77,35],[78,1,78,2],[78,30,78,35],[79,1,79,2],[79,30,79,35],[74,1,74,2],[74,30,74,35],[75,1,75,2],[75,30,75,35],[76,1,76,2],[76,30,76,35],[71,1,71,2],[71,30,71,35],[72,1,72,2],[72,30,72,35],[73,1,73,2],[73,30,73,35],[68,1,68,2],[68,30,68,35],[69,1,69,2],[69,30,69,35],[70,1,70,2],[70,30,70,35],[65,1,65,2],[65,30,65,35],[66,1,66,2],[66,30,66,35],[67,1,67,2],[67,30,67,35],[61,1,61,2],[62,1,62,2],[62,30,62,35],[63,0,63,2],[64,1,64,2],[64,30,64,35],[55,1,55,2],[56,1,56,2],[57,1,57,2],[58,1,58,2],[59,1,59,2],[60,1,60,2],[49,1,49,2],[50,1,50,2],[51,1,51,2],[52,1,52,2],[53,1,53,2],[54,1,54,2],[43,1,43,2],[44,1,44,2],[45,1,45,2],[46,1,46,2],[47,1,47,2],[48,1,48,2],[37,1,37,2],[38,1,38,2],[39,1,39,2],[40,1,40,2],[41,1,41,2],[42,1,42,2],[34,1,34,2],[34,30,34,35],[35,1,35,2],[35,30,35,35],[36,1,36,2],[36,30,36,35],[31,1,31,2],[31,30,31,35],[32,1,32,2],[32,30,32,35],[33,1,33,2],[33,30,33,35],[28,1,28,2],[28,30,28,35],[29,1,29,2],[29,30,29,35],[30,1,30,2],[30,30,30,35],[25,1,25,2],[25,30,25,35],[26,1,26,2],[26,30,26,35],[27,1,27,2],[27,30,27,35],[22,1,22,2],[22,30,22,35],[23,1,23,2],[23,30,23,35],[24,1,24,2],[24,30,24,35],[19,1,19,2],[19,30,19,35],[20,1,20,2],[20,30,20,35],[21,1,21,2],[21,30,21,35],[18,1,18,2],[18,30,18,35],[11,29,12,29],[13,1,13,2],[13,30,13,35],[14,1,14,2],[14,30,14,35],[15,1,15,2],[15,30,15,35],[9,0,12,2],[9,3,9,27],[9,28,10,29],[9,30,12,35],[11,28,12,28],[16,1,16,2],[16,30,16,35],[17,1,17,2],[17,30,17,35],[1,0,1,35],[2,0,2,35],[5,2,5,4],[5,10,5,14],[5,16,5,22],[5,23,5,28],[7,2,7,14],[7,19,7,22],[7,23,7,24],[7,25,7,27],[7,28,7,33]]}
[]
["School Form 2 (SF2) Daily Attendance Report of Learners"]
["(This replaced Form 1, Form 2 & STS Form 4 - Absenteeism and Dropout Profile)"]
[]
[]
[null,"School ID",{"$f":"IF('INPUT DATA'!R5=\"\",\"\",'INPUT DATA'!R5)","v":""},null,null,null,null,"School Year",null,null,{"$f":"IF('INPUT DATA'!R4=\"\",\"\",'INPUT DATA'!R4)","v":""},null,null,null,null,null,"Report for the  Month of",null,null,null,null,null,null,"November"]
[]
[null,"Name of School",{"$f":"IF('INPUT DATA'!F5=\"\",\"\",'INPUT DATA'!F5)","v":""},null,null,null,null,null,null,null,null,null,null,null,null,null,null,null,null,"Grade Level",null,null,null,{"$f":"IF('INPUT DATA'!R8=\"\",\"\",'INPUT DATA'!R8)","v":""},null,"Section",null,null,{"$f":"IF('INPUT DATA'!R9=\"\",\"\",'INPUT DATA'!R9)","v":""}]
[]
["LEARNER'S NAME                                                                                         (Last Name, First Name, Middle Name)                                  ",null,null,"(1st row for date, 2nd row for Day: M,T,W,TH,F)",null,null,null,null,null,null,null,null,null,null,null,null,null,null,null,null,null,null,null,null,null,null,null,null,"Total for the Month             ",null,"REMARK/S (If DROPPED OUT, state reason, please refer to legend number 2.\nIf TRANSFERRED IN/OUT, write the name of School.)"]
[null,null,null,1,2,3,4,5,6,7,8,9,10,11,12,13,14,15,16,17,18,19,20,21,22,23,24,25]
[null,null,null,"Mon","Tue","Wed","Thu","Fri","Mon","Tue","Wed","Thu","Fri","Mon","Tue","Wed","Thu","Fri","Mon","Tue","Wed","Thu","Fri","Mon","Tue","Wed","Thu","Fri","ABSENT","PRESENT"]
[null,null,null,false,false,false,false,false,false,false,false,false,false,false,false,false,false,false,false,false,false,false,false,false,false,false,false,false]
[{"$f":"IF(B14=\"\",\"\",\"1\")","v":"1"},{"$f":"IF('INPUT DATA'!B13=\"\",\"\",'INPUT DATA'!B13)","v":"Student 1"},null,"r","r","r","r","r","r","r","r","r","r","r",null,null,null,null,null,null,null,null,null,null,null,null,null,null,{"$f":"IF(B14=\"\",\"\",SUM(COUNTIF(D14:AB14,\"z\")*0.5,COUNTIF(D14:AB14,\"y\")*0.5,COUNTIF(D14:AB14,\"r\")))","v":11},{"$f":"IF(B14=\"\",\"\",COUNTA($D$11:$AB$11)-AC14)","v":14},null,null,null,null,null,null,null,{"$f":"MAX(FREQUENCY(IF(D14:AB14=\"r\",COLUMN(D14:AB14)),IF(D14:AB14<>\"r\",COLUMN(D14:AB14))))","v":11},{"$f":"IF(AL14>=5,1,\"\")","v":1}]
[{"$f":"IF(B15=\"\",\"\",A14+1)","v":2},{"$f":"IF('INPUT DATA'!B14=\"\",\"\",'INPUT DATA'!B14)","v":"Student 2"},null,null,null,null,null,null,null,null,null,null,null,null,null,null,null,null,null,null,null,null,null,null,null,null,null,null,{"$f":"IF(B15=\"\",\"\",SUM(COUNTIF(D15:AB15,\"z\")*0.5,COUNTIF(D15:AB15,\"y\")*0.5,COUNTIF(D15:AB15,\"r\")))","v":0},{"$f":"IF(B15=\"\",\"\",COUNTA($D$11:$AB$11)-AC15)","v":25},null,null,null,null,null,null,null,{"$f":"MAX(FREQUENCY(IF(D15:AB15=\"r\",COLUMN(D15:AB15)),IF(D15:AB15<>\"r\",COLUMN(D15:AB15))))","v":0},{"$f":"IF(AL15>=5,1,\"\")","v":""}]
[{"$f":"IF(B16=\"\",\"\",A15+1)","v":3},{"$f":"IF('INPUT DATA'!B15=\"\",\"\",'INPUT DATA'!B15)","v":"Student 3"},null,null,null,null,null,null,null,null,null,null,null,null,null,null,null,null,null,null,null,null,null,null,null,null,null,null,0,25,null,null,null,null,null,null,null,{"$f":"MAX(FREQUENCY(IF(D16:AB16=\"r\",COLUMN(D16:AB16)),IF(D16:AB16<>\"r\",COLUMN(D16:AB16))))","v":0},""]
[4,{"$f":"IF('INPUT DATA'!B16=\"\",\"\",'INPUT DATA'!B16)","v":"Student 4"},null,null,null,null,null,null,null,null,null,null,null,null,null,null,null,null,null,null,null,null,null,null,null,null,null,null,0,25,null,null,null,null,null,null,null,{"$f":"MAX(FREQUENCY(IF(D17:AB17=\"r\",COLUMN(D17:AB17)),IF(D17:AB17<>\"r\",COLUMN(D17:AB17))))","v":0},""]
[5,{"$f":"IF('INPUT DATA'!B17=\"\",\"\",'INPUT DATA'!B17)","v":"Student 5"},null,null,null,null,null,null,null,null,null,null,null,null,null,null,null,null,null,null,null,null,null,null,null,null,null,null,0,25,null,null,null,null,null,null,null,{"$f":"MAX(FREQUENCY(IF(D18:AB18=\"r\",COLUMN(D18:AB18)),IF(D18:AB18<>\"r\",COLUMN(D18:AB18))))","v":0},""]
[6,{"$f":"IF('INPUT DATA'!B18=\"\",\"\",'INPUT DATA'!B18)","v":"Student 6"},null,null,null,null,null,null,null,null,null,null,null,null,null,null,null,null,null,null,null,null,null,null,null,null,null,null,0,25,null,null,null,null,null,null,null,{"$f":"MAX(FREQUENCY(IF(D19:AB19=\"r\",COLUMN(D19:AB19)),IF(D19:AB19<>\"r\",COLUMN(D19:AB19))))","v":0},""]
[7,{"$f":"IF('INPUT DATA'!B19=\"\",\"\",'INPUT DATA'!B19)","v":"Student 7"},null,null,null,null,null,null,null,null,null,null,null,null,null,null,null,null,null,null,null,null,null,null,null,null,null,null,0,25,null,null,null,null,null,null,null,{"$f":"MAX(FREQUENCY(IF(D20:AB20=\"r\",COLUMN(D20:AB20)),IF(D20:AB20<>\"r\",COLUMN(D20:AB20))))","v":0},""]
[8,{"$f":"IF('INPUT DATA'!B20=\"\",\"\",'INPUT DATA'!B20)","v":"Student 8"},null,null,null,null,null,null,null,null,null,null,null,null,null,null,null,null,null,null,null,null,null,null,null,null,null,null,0,25,null,null,null,null,null,null,null,{"$f":"MAX(FREQUENCY(IF(D21:AB21=\"r\",COLUMN(D21:AB21)),IF(D21:AB21<>\"r\",COLUMN(D21:AB21))))","v":0},""]
[9,{"$f":"IF('INPUT DATA'!B21=\"\",\"\",'INPUT DATA'!B21)","v":"Student 9"},null,null,null,null,null,null,null,null,null,null,null,null,null,null,null,null,null,null,null,null,null,null,null,null,null,null,0,25,null,null,null,null,null,null,null,{"$f":"MAX(FREQUENCY(IF(D22:AB22=\"r\",COLUMN(D22:AB22)),IF(D22:AB22<>\"r\",COLUMN(D22:AB22))))","v":0},""]
[10,{"$f":"IF('INPUT DATA'!B22=\"\",\"\",'INPUT DATA'!B22)","v":"Student 10"},null,null,null,null,null,null,null,null,null,null,null,null,null,null,null,null,null,null,null,null,null,null,null,null,null,null,0,25,null,null,null,null,null,null,null,{"$f":"MAX(FREQUENCY(IF(D23:AB23=\"r\",COLUMN(D23:AB23)),IF(D23:AB23<>\"r\",COLUMN(D23:AB23))))","v":0},""]
[11,{"$f":"IF('INPUT DATA'!B23=\"\",\"\",'INPUT DATA'!B23)","v":"Student 11"},null,null,null,null,null,null,null,null,null,null,null,null,null,null,null,null,null,null,null,null,null,null,null,null,null,null,0,25,null,null,null,null,null,null,null,{"$f":"MAX(FREQUENCY(IF(D24:AB24=\"r\",COLUMN(D24:AB24)),IF(D24:AB24<>\"r\",COLUMN(D24:AB24))))","v":0},""]
[12,{"$f":"IF('INPUT DATA'!B24=\"\",\"\",'INPUT DATA'!B24)","v":"Student 12"},null,null,null,null,null,null,null,null,null,null,null,null,null,null,null,null,null,null,null,null,null,null,null,null,null,null,0,25,null,null,null,null,null,null,null,{"$f":"MAX(FREQUENCY(IF(D25:AB25=\"r\",COLUMN(D25:AB25)),IF(D25:AB25<>\"r\",COLUMN(D25:AB25))))","v":0},""]
[13,{"$f":"IF('INPUT DATA'!B25=\"\",\"\",'INPUT DATA'!B25)","v":"Student 13"},null,null,null,null,null,null,null,null,null,null,null,null,null,null,null,null,null,null,null,null,null,null,null,null,null,null,0,25,null,null,null,null,null,null,null,{"$f":"MAX(FREQUENCY(IF(D26:AB26=\"r\",COLUMN(D26:AB26)),IF(D26:AB26<>\"r\",COLUMN(D26:AB26))))","v":0},""]
[14,{"$f":"IF('INPUT DATA'!B26=\"\",\"\",'INPUT DATA'!B26)","v":"Student 14"},null,null,null,null,null,null,null,null,null,null,null,null,null,null,null,null,null,null,null,null,null,null,null,null,null,null,0,25,null,null,null,null,null,null,null,{"$f":"MAX(FREQUENCY(IF(D27:AB27=\"r\",COLUMN(D27:AB27)),IF(D27:AB27<>\"r\",COLUMN(D27:AB27))))","v":0},""]
[15,{"$f":"IF('INPUT DATA'!B27=\"\",\"\",'INPUT DATA'!B27)","v":"Student 15"},null,null,null,null,null,null,null,null,null,null,null,null,null,null,null,null,null,null,null,null,null,null,null,null,null,null,0,25,null,null,null,null,null,null,null,{"$f":"MAX(FREQUENCY(IF(D28:AB28=\"r\",COLUMN(D28:AB28)),IF(D28:AB28<>\"r\",COLUMN(D28:AB28))))","v":0},""]
[16,{"$f":"IF('INPUT DATA'!B28=\"\",\"\",'INPUT DATA'!B28)","v":"Student 16"},null,null,null,null,null,null,null,null,null,null,null,null,null,null,null,null,null,null,null,null,null,null,null,null,null,null,0,25,null,null,null,null,null,null,null,{"$f":"MAX(FREQUENCY(IF(D29:AB29=\"r\",COLUMN(D29:AB29)),IF(D29:AB29<>\"r\",COLUMN(D29:AB29))))","v":0},""]
[17,{"$f":"IF('INPUT DATA'!B29=\"\",\"\",'INPUT DATA'!B29)","v":"Student 17"},null,null,null,null,null,null,null,null,null,null,null,null,null,null,null,null,null,null,null,null,null,null,null,null,null,null,0,25,null,null,null,null,null,null,null,{"$f":"MAX(FREQUENCY(IF(D30:AB30=\"r\",COLUMN(D30:AB30)),IF(D30:AB30<>\"r\",COLUMN(D30:AB30))))","v":0},""]
[18,{"$f":"IF('INPUT DATA'!B30=\"\",\"\",'INPUT DATA'!B30)","v":"Student 18"},null,null,null,null,null,null,null,null,null,null,null,null,null,null,null,null,null,null,null,null,null,null,null,null,null,null,0,25,null,null,null,null,null,null,null,{"$f":"MAX(FREQUENCY(IF(D31:AB31=\"r\",COLUMN(D31:AB31)),IF(D31:AB31<>\"r\",COLUMN(D31:AB31))))","v":0},""]
[19,{"$f":"IF('INPUT DATA'!B31=\"\",\"\",'INPUT DATA'!B31)","v":"Student 19"},null,null,null,null,null,null,null,null,null,null,null,null,null,null,null,null,null,null,null,null,null,null,null,null,null,null,0,25,null,null,null,null,null,null,null,{"$f":"MAX(FREQUENCY(IF(D32:AB32=\"r\",COLUMN(D32:AB32)),IF(D32:AB32<>\"r\",COLUMN(D32:AB32))))","v":0},""]
[20,{"$f":"IF('INPUT DATA'!B32=\"\",\"\",'INPUT DATA'!B32)","v":"Student 20"},null,null,null,null,null,null,null,null,null,null,null,null,null,null,null,null,null,null,null,null,null,null,null,null,null,null,0,25,null,null,null,null,null,null,null,{"$f":"MAX(FREQUENCY(IF(D33:AB33=\"r\",COLUMN(D33:AB33)),IF(D33:AB33<>\"r\",COLUMN(D33:AB33))))","v":0},""]
["",{"$f":"IF('INPUT DATA'!B33=\"\",\"\",'INPUT DATA'!B33)","v":""},null,null,null,null,null,null,null,null,null,null,null,null,null,null,null,null,null,null,null,null,null,null,null,null,null,null,"","",null,null,null,null,null,null,null,{"$f":"MAX(FREQUENCY(IF(D34:AB34=\"r\",COLUMN(D34:AB34)),IF(D34:AB34<>\"r\",COLUMN(D34:AB34))))","v":0},""]
["",{"$f":"IF('INPUT DATA'!B34=\"\",\"\",'INPUT DATA'!B34)","v":""},null,null,null,null,null,null,null,null,null,null,null,null,null,null,null,null,null,null,null,null,null,null,null,null,null,null,"","",null,null,null,null,null,null,null,{"$f":"MAX(FREQUENCY(IF(D35:AB35=\"r\",COLUMN(D35:AB35)),IF(D35:AB35<>\"r\",COLUMN(D35:AB35))))","v":0},""]
["",{"$f":"IF('INPUT DATA'!B35=\"\",\"\",'INPUT DATA'!B35)","v":""},null,null,null,null,null,null,null,null,null,null,null,null,null,null,null,null,null,null,null,null,null,null,null,null,null,null,"","",null,null,null,null,null,null,null,{"$f":"MAX(FREQUENCY(IF(D36:AB36=\"r\",COLUMN(D36:AB36)),IF(D36:AB36<>\"r\",COLUMN(D36:AB36))))","v":0},""]
["",{"$f":"IF('INPUT DATA'!B36=\"\",\"\",'INPUT DATA'!B36)","v":""},null,null,null,null,null,null,null,null,null,null,null,null,null,null,null,null,null,null,null,null,null,null,null,null,null,null,"","",null,null,null,null,null,null,null,{"$f":"MAX(FREQUENCY(IF(D37:AB37=\"r\",COLUMN(D37:AB37)),IF(D37:AB37<>\"r\",COLUMN(D37:AB37))))","v":0},""]
["",{"$f":"IF('INPUT DATA'!B37=\"\",\"\",'INPUT DATA'!B37)","v":""},null,null,null,null,null,null,null,null,null,null,null,null,null,null,null,null,null,null,null,null,null,null,null,null,null,null,"","",null,null,null,null,null,null,null,{"$f":"MAX(FREQUENCY(IF(D38:AB38=\"r\",COLUMN(D38:AB38)),IF(D38:AB38<>\"r\",COLUMN(D38:AB38))))","v":0},""]
["",{"$f":"IF('INPUT DATA'!B38=\"\",\"\",'INPUT DATA'!B38)","v":""},null,null,null,null,null,null,null,null,null,null,null,null,null,null,null,null,null,null,null,null,null,null,null,null,null,null,"","",null,null,null,null,null,null,null,{"$f":"MAX(FREQUENCY(IF(D39:AB39=\"r\",COLUMN(D39:AB39)),IF(D39:AB39<>\"r\",COLUMN(D39:AB39))))","v":0},""]
["",{"$f":"IF('INPUT DATA'!B39=\"\",\"\",'INPUT DATA'!B39)","v":""},null,null,null,null,null,null,null,null,null,null,null,null,null,null,null,null,null,null,null,null,null,null,null,null,null,null,"","",null,null,null,null,null,null,null,{"$f":"MAX(FREQUENCY(IF(D40:AB40=\"r\",COLUMN(D40:AB40)),IF(D40:AB40<>\"r\",COLUMN(D40:AB40))))","v":0},""]
["",{"$f":"IF('INPUT DATA'!B40=\"\",\"\",'INPUT DATA'!B40)","v":""},null,null,null,null,null,null,null,null,null,null,null,null,null,null,null,null,null,null,null,null,null,null,null,null,null,null,"","",null,null,null,null,null,null,null,{"$f":"MAX(FREQUENCY(IF(D41:AB41=\"r\",COLUMN(D41:AB41)),IF(D41:AB41<>\"r\",COLUMN(D41:AB41))))","v":0},""]
["",{"$f":"IF('INPUT DATA'!B41=\"\",\"\",'INPUT DATA'!B41)","v":""},null,null,null,null,null,null,null,null,null,null,null,null,null,null,null,null,null,null,null,null,null,null,null,null,null,null,"","",null,null,null,null,null,null,null,{"$f":"MAX(FREQUENCY(IF(D42:AB42=\"r\",COLUMN(D42:AB42)),IF(D42:AB42<>\"r\",COLUMN(D42:AB42))))","v":0},""]
["",{"$f":"IF('INPUT DATA'!B42=\"\",\"\",'INPUT DATA'!B42)","v":""},null,null,null,null,null,null,null,null,null,null,null,null,null,null,null,null,null,null,null,null,null,null,null,null,null,null,"","",null,null,null,null,null,null,null,{"$f":"MAX(FREQUENCY(IF(D43:AB43=\"r\",COLUMN(D43:AB43)),IF(D43:AB43<>\"r\",COLUMN(D43:AB43))))","v":0},""]
["",{"$f":"IF('INPUT DATA'!B43=\"\",\"\",'INPUT DATA'!B43)","v":""},null,null,null,null,null,null,null,null,null,null,null,null,null,null,null,null,null,null,null,null,null,null,null,null,null,null,"","",null,null,null,null,null,null,null,{"$f":"MAX(FREQUENCY(IF(D44:AB44=\"r\",COLUMN(D44:AB44)),IF(D44:AB44<>\"r\",COLUMN(D44:AB44))))","v":0},""]
["",{"$f":"IF('INPUT DATA'!B44=\"\",\"\",'INPUT DATA'!B44)","v":""},null,null,null,null,null,null,null,null,null,null,null,null,null,null,null,null,null,null,null,null,null,null,null,null,null,null,"","",null,null,null,null,null,null,null,{"$f":"MAX(FREQUENCY(IF(D45:AB45=\"r\",COLUMN(D45:AB45)),IF(D45:AB45<>\"r\",COLUMN(D45:AB45))))","v":0},""]
["",{"$f":"IF('INPUT DATA'!B45=\"\",\"\",'INPUT DATA'!B45)","v":""},null,null,null,null,null,null,null,null,null,null,null,null,null,null,null,null,null,null,null,null,null,null,null,null,null,null,"","",null,null,null,null,null,null,null,{"$f":"MAX(FREQUENCY(IF(D46:AB46=\"r\",COLUMN(D46:AB46)),IF(D46:AB46<>\"r\",COLUMN(D46:AB46))))","v":0},""]
["",{"$f":"IF('INPUT DATA'!B46=\"\",\"\",'INPUT DATA'!B46)","v":""},null,null,null,null,null,null,null,null,null,null,null,null,null,null,null,null,null,null,null,null,null,null,null,null,null,null,"","",null,null,null,null,null,null,null,{"$f":"MAX(FREQUENCY(IF(D47:AB47=\"r\",COLUMN(D47:AB47)),IF(D47:AB47<>\"r\",COLUMN(D47:AB47))))","v":0},""]
["",{"$f":"IF('INPUT DATA'!B47=\"\",\"\",'INPUT DATA'!B47)","v":""},null,null,null,null,null,null,null,null,null,null,null,null,null,null,null,null,null,null,null,null,null,null,null,null,null,null,"","",null,null,null,null,null,null,null,{"$f":"MAX(FREQUENCY(IF(D48:AB48=\"r\",COLUMN(D48:AB48)),IF(D48:AB48<>\"r\",COLUMN(D48:AB48))))","v":0},""]
["",{"$f":"IF('INPUT DATA'!B48=\"\",\"\",'INPUT DATA'!B48)","v":""},null,null,null,null,null,null,null,null,null,null,null,null,null,null,null,null,null,null,null,null,null,null,null,null,null,null,"","",null,null,null,null,null,null,null,{"$f":"MAX(FREQUENCY(IF(D49:AB49=\"r\",COLUMN(D49:AB49)),IF(D49:AB49<>\"r\",COLUMN(D49:AB49))))","v":0},""]
["",{"$f":"IF('INPUT DATA'!B49=\"\",\"\",'INPUT DATA'!B49)","v":""},null,null,null,null,null,null,null,null,null,null,null,null,null,null,null,null,null,null,null,null,null,null,null,null,null,null,"","",null,null,null,null,null,null,null,{"$f":"MAX(FREQUENCY(IF(D50:AB50=\"r\",COLUMN(D50:AB50)),IF(D50:AB50<>\"r\",COLUMN(D50:AB50))))","v":0},""]
["",{"$f":"IF('INPUT DATA'!B50=\"\",\"\",'INPUT DATA'!B50)","v":""},null,null,null,null,null,null,null,null,null,null,null,null,null,null,null,null,null,null,null,null,null,null,null,null,null,null,"","",null,null,null,null,null,null,null,{"$f":"MAX(FREQUENCY(IF(D51:AB51=\"r\",COLUMN(D51:AB51)),IF(D51:AB51<>\"r\",COLUMN(D51:AB51))))","v":0},""]
["",{"$f":"IF('INPUT DATA'!B51=\"\",\"\",'INPUT DATA'!B51)","v":""},null,null,null,null,null,null,null,null,null,null,null,null,null,null,null,null,null,null,null,null,null,null,null,null,null,null,"","",null,null,null,null,null,null,null,{"$f":"MAX(FREQUENCY(IF(D52:AB52=\"r\",COLUMN(D52:AB52)),IF(D52:AB52<>\"r\",COLUMN(D52:AB52))))","v":0},""]
["",{"$f":"IF('INPUT DATA'!B52=\"\",\"\",'INPUT DATA'!B52)","v":""},null,null,null,null,null,null,null,null,null,null,null,null,null,null,null,null,null,null,null,null,null,null,null,null,null,null,"","",null,null,null,null,null,null,null,{"$f":"MAX(FREQUENCY(IF(D53:AB53=\"r\",COLUMN(D53:AB53)),IF(D53:AB53<>\"r\",COLUMN(D53:AB53))))","v":0},""]
["",{"$f":"IF('INPUT DATA'!B53=\"\",\"\",'INPUT DATA'!B53)","v":""},null,null,null,null,null,null,null,null,null,null,null,null,null,null,null,null,null,null,null,null,null,null,null,null,null,null,"","",null,null,null,null,null,null,null,{"$f":"MAX(FREQUENCY(IF(D54:AB54=\"r\",COLUMN(D54:AB54)),IF(D54:AB54<>\"r\",COLUMN(D54:AB54))))","v":0},""]
["",{"$f":"IF('INPUT DATA'!B54=\"\",\"\",'INPUT DATA'!B54)","v":""},null,null,null,null,null,null,null,null,null,null,null,null,null,null,null,null,null,null,null,null,null,null,null,null,null,null,"","",null,null,null,null,null,null,null,{"$f":"MAX(FREQUENCY(IF(D55:AB55=\"r\",COLUMN(D55:AB55)),IF(D55:AB55<>\"r\",COLUMN(D55:AB55))))","v":0},""]
["",{"$f":"IF('INPUT DATA'!B55=\"\",\"\",'INPUT DATA'!B55)","v":""},null,null,null,null,null,null,null,null,null,null,null,null,null,null,null,null,null,null,null,null,null,null,null,null,null,null,"","",null,null,null,null,null,null,null,{"$f":"MAX(FREQUENCY(IF(D56:AB56=\"r\",COLUMN(D56:AB56)),IF(D56:AB56<>\"r\",COLUMN(D56:AB56))))","v":0},""]
["",{"$f":"IF('INPUT DATA'!B56=\"\",\"\",'INPUT DATA'!B56)","v":""},null,null,null,null,null,null,null,null,null,null,null,null,null,null,null,null,null,null,null,null,null,null,null,null,null,null,"","",null,null,null,null,null,null,null,{"$f":"MAX(FREQUENCY(IF(D57:AB57=\"r\",COLUMN(D57:AB57)),IF(D57:AB57<>\"r\",COLUMN(D57:AB57))))","v":0},""]
["",{"$f":"IF('INPUT DATA'!B57=\"\",\"\",'INPUT DATA'!B57)","v":""},null,null,null,null,null,null,null,null,null,null,null,null,null,null,null,null,null,null,null,null,null,null,null,null,null,null,"","",null,null,null,null,null,null,null,{"$f":"MAX(FREQUENCY(IF(D58:AB58=\"r\",COLUMN(D58:AB58)),IF(D58:AB58<>\"r\",COLUMN(D58:AB58))))","v":0},""]
["",{"$f":"IF('INPUT DATA'!B58=\"\",\"\",'INPUT DATA'!B58)","v":""},null,null,null,null,null,null,null,null,null,null,null,null,null,null,null,null,null,null,null,null,null,null,null,null,null,null,"","",null,null,null,null,null,null,null,{"$f":"MAX(FREQUENCY(IF(D59:AB59=\"r\",COLUMN(D59:AB59)),IF(D59:AB59<>\"r\",COLUMN(D59:AB59))))","v":0},""]
["",{"$f":"IF('INPUT DATA'!B59=\"\",\"\",'INPUT DATA'!B59)","v":""},null,null,null,null,null,null,null,null,null,null,null,null,null,null,null,null,null,null,null,null,null,null,null,null,null,null,"","",null,null,null,null,null,null,null,{"$f":"MAX(FREQUENCY(IF(D60:AB60=\"r\",COLUMN(D60:AB60)),IF(D60:AB60<>\"r\",COLUMN(D60:AB60))))","v":0},""]
["",{"$f":"IF('INPUT DATA'!B60=\"\",\"\",'INPUT DATA'!B60)","v":""},null,null,null,null,null,null,null,null,null,null,null,null,null,null,null,null,null,null,null,null,null,null,null,null,null,null,"","",null,null,null,null,null,null,null,{"$f":"MAX(FREQUENCY(IF(D61:AB61=\"r\",COLUMN(D61:AB61)),IF(D61:AB61<>\"r\",COLUMN(D61:AB61))))","v":0},""]
["",{"$f":"IF('INPUT DATA'!B61=\"\",\"\",'INPUT DATA'!B61)","v":""},null,null,null,null,null,null,null,null,null,null,null,null,null,null,null,null,null,null,null,null,null,null,null,null,null,null,"","",null,null,null,null,null,null,null,{"$f":"MAX(FREQUENCY(IF(D62:AB62=\"r\",COLUMN(D62:AB62)),IF(D62:AB62<>\"r\",COLUMN(D62:AB62))))","v":0},""]
["",{"$f":"IF('INPUT DATA'!B62=\"\",\"\",'INPUT DATA'!B62)","v":""},null,null,null,null,null,null,null,null,null,null,null,null,null,null,null,null,null,null,null,null,null,null,null,null,null,null,"","",null,null,null,null,null,null,null,{"$f":"MAX(FREQUENCY(IF(D63:AB63=\"r\",COLUMN(D63:AB63)),IF(D63:AB63<>\"r\",COLUMN(D63:AB63))))","v":0},""]
["MALE  | TOTAL Per Day",null,null,{"$f":"IF(D11=\"\",\"\",SUM(COUNTBLANK(D14:D63)-COUNTBLANK($B$14:$B$63),COUNTIF(D14:D63,\"z\")*0.5,COUNTIF(D14:D63,\"y\")*0.5))","v":19},19,19,19,19,19,19,19,19,19,19,20,20,20,20,20,20,20,20,20,20,20,20,20,20,{"$f":"SUM(AC14:AC63)","v":11},{"$f":"SUM(AD14:AD63)","v":489},null,null,null,null,null,null,null,{"$f":"MAX(FREQUENCY(IF(D64:AB64=\"r\",COLUMN(D64:AB64)),IF(D64:AB64<>\"r\",COLUMN(D64:AB64))))","v":0},""]
[{"$f":"IF(B65=\"\",\"\",\"1\")","v":"1"},{"$f":"IF('INPUT DATA'!B64=\"\",\"\",'INPUT DATA'!B64)","v":"Student 1"},null,null,null,null,null,null,null,null,null,null,null,null,null,null,null,null,null,null,null,null,null,null,null,null,null,null,{"$f":"IF(B65=\"\",\"\",SUM(COUNTIF(D65:AB65,\"z\")*0.5,COUNTIF(D65:AB65,\"y\")*0.5,COUNTIF(D65:AB65,\"r\")))","v":0},{"$f":"IF(B65=\"\",\"\",COUNTA($D$11:$AB$11)-AC65)","v":25},null,null,null,null,null,null,null,{"$f":"MAX(FREQUENCY(IF(D65:AB65=\"r\",COLUMN(D65:AB65)),IF(D65:AB65<>\"r\",COLUMN(D65:AB65))))","v":0},""]
[{"$f":"IF(B66=\"\",\"\",A65+1)","v":2},{"$f":"IF('INPUT DATA'!B65=\"\",\"\",'INPUT DATA'!B65)","v":"Student 2"},null,null,null,null,null,null,null,null,null,null,null,null,null,null,null,null,null,null,null,null,null,null,null,null,null,null,{"$f":"IF(B66=\"\",\"\",SUM(COUNTIF(D66:AB66,\"z\")*0.5,COUNTIF(D66:AB66,\"y\")*0.5,COUNTIF(D66:AB66,\"r\")))","v":0},{"$f":"IF(B66=\"\",\"\",COUNTA($D$11:$AB$11)-AC66)","v":25},null,null,null,null,null,null,null,{"$f":"MAX(FREQUENCY(IF(D66:AB66=\"r\",COLUMN(D66:AB66)),IF(D66:AB66<>\"r\",COLUMN(D66:AB66))))","v":0},""]
[{"$f":"IF(B67=\"\",\"\",A66+1)","v":3},{"$f":"IF('INPUT DATA'!B66=\"\",\"\",'INPUT DATA'!B66)","v":"Student 3"},null,null,null,null,null,null,null,null,null,null,null,null,null,null,null,null,null,null,null,null,null,null,null,null,null,null,0,25,null,null,null,null,null,null,null,{"$f":"MAX(FREQUENCY(IF(D67:AB67=\"r\",COLUMN(D67:AB67)),IF(D67:AB67<>\"r\",COLUMN(D67:AB67))))","v":0},""]
[4,{"$f":"IF('INPUT DATA'!B67=\"\",\"\",'INPUT DATA'!B67)","v":"Student 4"},null,null,null,null,null,null,null,null,null,null,null,null,null,null,null,null,null,null,null,null,null,null,null,null,null,null,0,25,null,null,null,null,null,null,null,{"$f":"MAX(FREQUENCY(IF(D68:AB68=\"r\",COLUMN(D68:AB68)),IF(D68:AB68<>\"r\",COLUMN(D68:AB68))))","v":0},""]
[5,{"$f":"IF('INPUT DATA'!B68=\"\",\"\",'INPUT DATA'!B68)","v":"Student 5"},null,null,null,null,null,null,null,null,null,null,null,null,null,null,null,null,null,null,null,null,null,null,null,null,null,null,0,25,null,null,null,null,null,null,null,{"$f":"MAX(FREQUENCY(IF(D69:AB69=\"r\",COLUMN(D69:AB69)),IF(D69:AB69<>\"r\",COLUMN(D69:AB69))))","v":0},""]
[6,{"$f":"IF('INPUT DATA'!B69=\"\",\"\",'INPUT DATA'!B69)","v":"Student 6"},null,null,null,null,null,null,null,null,null,null,null,null,null,null,null,null,null,null,null,null,null,null,null,null,null,null,0,25,null,null,null,null,null,null,null,{"$f":"MAX(FREQUENCY(IF(D70:AB70=\"r\",COLUMN(D70:AB70)),IF(D70:AB70<>\"r\",COLUMN(D70:AB70))))","v":0},""]
[7,{"$f":"IF('INPUT DATA'!B70=\"\",\"\",'INPUT DATA'!B70)","v":"Student 7"},null,null,null,null,null,null,null,null,null,null,null,null,null,null,null,null,null,null,null,null,null,null,null,null,null,null,0,25,null,null,null,null,null,null,null,{"$f":"MAX(FREQUENCY(IF(D71:AB71=\"r\",COLUMN(D71:AB71)),IF(D71:AB71<>\"r\",COLUMN(D71:AB71))))","v":0},""]
[8,{"$f":"IF('INPUT DATA'!B71=\"\",\"\",'INPUT DATA'!B71)","v":"Student 8"},null,null,null,null,null,null,null,null,null,null,null,null,null,null,null,null,null,null,null,null,null,null,null,null,null,null,0,25,null,null,null,null,null,null,null,{"$f":"MAX(FREQUENCY(IF(D72:AB72=\"r\",COLUMN(D72:AB72)),IF(D72:AB72<>\"r\",COLUMN(D72:AB72))))","v":0},""]
[9,{"$f":"IF('INPUT DATA'!B72=\"\",\"\",'INPUT DATA'!B72)","v":"Student 9"},null,null,null,null,null,null,null,null,null,null,null,null,null,null,null,null,null,null,null,null,null,null,null,null,null,null,0,25,null,null,null,null,null,null,null,{"$f":"MAX(FREQUENCY(IF(D73:AB73=\"r\",COLUMN(D73:AB73)),IF(D73:AB73<>\"r\",COLUMN(D73:AB73))))","v":0},""]
[10,{"$f":"IF('INPUT DATA'!B73=\"\",\"\",'INPUT DATA'!B73)","v":"Student 10"},null,null,null,null,null,null,null,null,null,null,null,null,null,null,null,null,null,null,null,null,null,null,null,null,null,null,0,25,null,null,null,null,null,null,null,{"$f":"MAX(FREQUENCY(IF(D74:AB74=\"r\",COLUMN(D74:AB74)),IF(D74:AB74<>\"r\",COLUMN(D74:AB74))))","v":0},""]
[11,{"$f":"IF('INPUT DATA'!B74=\"\",\"\",'INPUT DATA'!B74)","v":"Student 11"},null,null,null,null,null,null,null,null,null,null,null,null,null,null,null,null,null,null,null,null,null,null,null,null,null,null,0,25,null,null,null,null,null,null,null,{"$f":"MAX(FREQUENCY(IF(D75:AB75=\"r\",COLUMN(D75:AB75)),IF(D75:AB75<>\"r\",COLUMN(D75:AB75))))","v":0},""]
[12,{"$f":"IF('INPUT DATA'!B75=\"\",\"\",'INPUT DATA'!B75)","v":"Student 12"},null,null,null,null,null,null,null,null,null,null,null,null,null,null,null,null,null,null,null,null,null,null,null,null,null,null,0,25,null,null,null,null,null,null,null,{"$f":"MAX(FREQUENCY(IF(D76:AB76=\"r\",COLUMN(D76:AB76)),IF(D76:AB76<>\"r\",COLUMN(D76:AB76))))","v":0},""]
[13,{"$f":"IF('INPUT DATA'!B76=\"\",\"\",'INPUT DATA'!B76)","v":"Student 13"},null,null,null,null,null,null,null,null,null,null,null,null,null,null,null,null,null,null,null,null,null,null,null,null,null,null,0,25,null,null,null,null,null,null,null,{"$f":"MAX(FREQUENCY(IF(D77:AB77=\"r\",COLUMN(D77:AB77)),IF(D77:AB77<>\"r\",COLUMN(D77:AB77))))","v":0},""]
[14,{"$f":"IF('INPUT DATA'!B77=\"\",\"\",'INPUT DATA'!B77)","v":"Student 14"},null,null,null,null,null,null,null,null,null,null,null,null,null,null,null,null,null,null,null,null,null,null,null,null,null,null,0,25,null,null,null,null,null,null,null,{"$f":"MAX(FREQUENCY(IF(D78:AB78=\"r\",COLUMN(D78:AB78)),IF(D78:AB78<>\"r\",COLUMN(D78:AB78))))","v":0},""]
[15,{"$f":"IF('INPUT DATA'!B78=\"\",\"\",'INPUT DATA'!B78)","v":"Student 15"},null,null,null,null,null,null,null,null,null,null,null,null,null,null,null,null,null,null,null,null,null,null,null,null,null,null,0,25,null,null,null,null,null,null,null,{"$f":"MAX(FREQUENCY(IF(D79:AB79=\"r\",COLUMN(D79:AB79)),IF(D79:AB79<>\"r\",COLUMN(D79:AB79))))","v":0},{"$f":"IF(AL79>=5,1,\"\")","v":""}]
[16,{"$f":"IF('INPUT DATA'!B79=\"\",\"\",'INPUT DATA'!B79)","v":"Student 16"},null,null,null,null,null,null,null,null,null,null,null,null,null,null,null,null,null,null,null,null,null,null,null,null,null,null,0,25,null,null,null,null,null,null,null,{"$f":"MAX(FREQUENCY(IF(D80:AB80=\"r\",COLUMN(D80:AB80)),IF(D80:AB80<>\"r\",COLUMN(D80:AB80))))","v":0},""]
[17,{"$f":"IF('INPUT DATA'!B80=\"\",\"\",'INPUT DATA'!B80)","v":"Student 17"},null,null,null,null,null,null,null,null,null,null,null,null,null,null,null,null,null,null,null,null,null,null,null,null,null,null,0,25,null,null,null,null,null,null,null,{"$f":"MAX(FREQUENCY(IF(D81:AB81=\"r\",COLUMN(D81:AB81)),IF(D81:AB81<>\"r\",COLUMN(D81:AB81))))","v":0},""]
[18,{"$f":"IF('INPUT DATA'!B81=\"\",\"\",'INPUT DATA'!B81)","v":"Student 18"},null,null,null,null,null,null,null,null,null,null,null,null,null,null,null,null,null,null,null,null,null,null,null,null,null,null,0,25,null,null,null,null,null,null,null,{"$f":"MAX(FREQUENCY(IF(D82:AB82=\"r\",COLUMN(D82:AB82)),IF(D82:AB82<>\"r\",COLUMN(D82:AB82))))","v":0},""]
[19,{"$f":"IF('INPUT DATA'!B82=\"\",\"\",'INPUT DATA'!B82)","v":"Student 19"},null,null,null,null,null,null,null,null,null,null,null,null,null,null,null,null,null,null,null,null,null,null,null,null,null,null,0,25,null,null,null,null,null,null,null,{"$f":"MAX(FREQUENCY(IF(D83:AB83=\"r\",COLUMN(D83:AB83)),IF(D83:AB83<>\"r\",COLUMN(D83:AB83))))","v":0},""]
[20,{"$f":"IF('INPUT DATA'!B83=\"\",\"\",'INPUT DATA'!B83)","v":"Student 20"},null,null,null,null,null,null,null,null,null,null,null,null,null,null,null,null,null,null,null,null,null,null,null,null,null,null,0,25,null,null,null,null,null,null,null,{"$f":"MAX(FREQUENCY(IF(D84:AB84=\"r\",COLUMN(D84:AB84)),IF(D84:AB84<>\"r\",COLUMN(D84:AB84))))","v":0},""]
["",{"$f":"IF('INPUT DATA'!B84=\"\",\"\",'INPUT DATA'!B84)","v":""},null,null,null,null,null,null,null,null,null,null,null,null,null,null,null,null,null,null,null,null,null,null,null,null,null,null,"","",null,null,null,null,null,null,null,{"$f":"MAX(FREQUENCY(IF(D85:AB85=\"r\",COLUMN(D85:AB85)),IF(D85:AB85<>\"r\",COLUMN(D85:AB85))))","v":0},""]
["",{"$f":"IF('INPUT DATA'!B85=\"\",\"\",'INPUT DATA'!B85)","v":""},null,null,null,null,null,null,null,null,null,null,null,null,null,null,null,null,null,null,null,null,null,null,null,null,null,null,"","",null,null,null,null,null,null,null,{"$f":"MAX(FREQUENCY(IF(D86:AB86=\"r\",COLUMN(D86:AB86)),IF(D86:AB86<>\"r\",COLUMN(D86:AB86))))","v":0},""]
["",{"$f":"IF('INPUT DATA'!B86=\"\",\"\",'INPUT DATA'!B86)","v":""},null,null,null,null,null,null,null,null,null,null,null,null,null,null,null,null,null,null,null,null,null,null,null,null,null,null,"","",null,null,null,null,null,null,null,{"$f":"MAX(FREQUENCY(IF(D87:AB87=\"r\",COLUMN(D87:AB87)),IF(D87:AB87<>\"r\",COLUMN(D87:AB87))))","v":0},""]
["",{"$f":"IF('INPUT DATA'!B87=\"\",\"\",'INPUT DATA'!B87)","v":""},null,null,null,null,null,null,null,null,null,null,null,null,null,null,null,null,null,null,null,null,null,null,null,null,null,null,"","",null,null,null,null,null,null,null,{"$f":"MAX(FREQUENCY(IF(D88:AB88=\"r\",COLUMN(D88:AB88)),IF(D88:AB88<>\"r\",COLUMN(D88:AB88))))","v":0},""]
["",{"$f":"IF('INPUT DATA'!B88=\"\",\"\",'INPUT DATA'!B88)","v":""},null,null,null,null,null,null,null,null,null,null,null,null,null,null,null,null,null,null,null,null,null,null,null,null,null,null,"","",null,null,null,null,null,null,null,{"$f":"MAX(FREQUENCY(IF(D89:AB89=\"r\",COLUMN(D89:AB89)),IF(D89:AB89<>\"r\",COLUMN(D89:AB89))))","v":0},""]
["",{"$f":"IF('INPUT DATA'!B89=\"\",\"\",'INPUT DATA'!B89)","v":""},null,null,null,null,null,null,null,null,null,null,null,null,null,null,null,null,null,null,null,null,null,null,null,null,null,null,"","",null,null,null,null,null,null,null,{"$f":"MAX(FREQUENCY(IF(D90:AB90=\"r\",COLUMN(D90:AB90)),IF(D90:AB90<>\"r\",COLUMN(D90:AB90))))","v":0},""]
["",{"$f":"IF('INPUT DATA'!B90=\"\",\"\",'INPUT DATA'!B90)","v":""},null,null,null,null,null,null,null,null,null,null,null,null,null,null,null,null,null,null,null,null,null,null,null,null,null,null,"","",null,null,null,null,null,null,null,{"$f":"MAX(FREQUENCY(IF(D91:AB91=\"r\",COLUMN(D91:AB91)),IF(D91:AB91<>\"r\",COLUMN(D91:AB91))))","v":0},""]
["",{"$f":"IF('INPUT DATA'!B91=\"\",\"\",'INPUT DATA'!B91)","v":""},null,null,null,null,null,null,null,null,null,null,null,null,null,null,null,null,null,null,null,null,null,null,null,null,null,null,"","",null,null,null,null,null,null,null,{"$f":"MAX(FREQUENCY(IF(D92:AB92=\"r\",COLUMN(D92:AB92)),IF(D92:AB92<>\"r\",COLUMN(D92:AB92))))","v":0},""]
["",{"$f":"IF('INPUT DATA'!B92=\"\",\"\",'INPUT DATA'!B92)","v":""},null,null,null,null,null,null,null,null,null,null,null,null,null,null,null,null,null,null,null,null,null,null,null,null,null,null,"","",null,null,null,null,null,null,null,{"$f":"MAX(FREQUENCY(IF(D93:AB93=\"r\",COLUMN(D93:AB93)),IF(D93:AB93<>\"r\",COLUMN(D93:AB93))))","v":0},""]
["",{"$f":"IF('INPUT DATA'!B93=\"\",\"\",'INPUT DATA'!B93)","v":""},null,null,null,null,null,null,null,null,null,null,null,null,null,null,null,null,null,null,null,null,null,null,null,null,null,null,"","",null,null,null,null,null,null,null,{"$f":"MAX(FREQUENCY(IF(D94:AB94=\"r\",COLUMN(D94:AB94)),IF(D94:AB94<>\"r\",COLUMN(D94:AB94))))","v":0},""]
["",{"$f":"IF('INPUT DATA'!B94=\"\",\"\",'INPUT DATA'!B94)","v":""},null,null,null,null,null,null,null,null,null,null,null,null,null,null,null,null,null,null,null,null,null,null,null,null,null,null,"","",null,null,null,null,null,null,null,{"$f":"MAX(FREQUENCY(IF(D95:AB95=\"r\",COLUMN(D95:AB95)),IF(D95:AB95<>\"r\",COLUMN(D95:AB95))))","v":0},""]
["",{"$f":"IF('INPUT DATA'!B95=\"\",\"\",'INPUT DATA'!B95)","v":""},null,null,null,null,null,null,null,null,null,null,null,null,null,null,null,null,null,null,null,null,null,null,null,null,null,null,"","",null,null,null,null,null,null,null,{"$f":"MAX(FREQUENCY(IF(D96:AB96=\"r\",COLUMN(D96:AB96)),IF(D96:AB96<>\"r\",COLUMN(D96:AB96))))","v":0},""]
["",{"$f":"IF('INPUT DATA'!B96=\"\",\"\",'INPUT DATA'!B96)","v":""},null,null,null,null,null,null,null,null,null,null,null,null,null,null,null,null,null,null,null,null,null,null,null,null,null,null,"","",null,null,null,null,null,null,null,{"$f":"MAX(FREQUENCY(IF(D97:AB97=\"r\",COLUMN(D97:AB97)),IF(D97:AB97<>\"r\",COLUMN(D97:AB97))))","v":0},""]
["",{"$f":"IF('INPUT DATA'!B97=\"\",\"\",'INPUT DATA'!B97)","v":""},null,null,null,null,null,null,null,null,null,null,null,null,null,null,null,null,null,null,null,null,null,null,null,null,null,null,"","",null,null,null,null,null,null,null,{"$f":"MAX(FREQUENCY(IF(D98:AB98=\"r\",COLUMN(D98:AB98)),IF(D98:AB98<>\"r\",COLUMN(D98:AB98))))","v":0},""]
["",{"$f":"IF('INPUT DATA'!B98=\"\",\"\",'INPUT DATA'!B98)","v":""},null,null,null,null,null,null,null,null,null,null,null,null,null,null,null,null,null,null,null,null,null,null,null,null,null,null,"","",null,null,null,null,null,null,null,{"$f":"MAX(FREQUENCY(IF(D99:AB99=\"r\",COLUMN(D99:AB99)),IF(D99:AB99<>\"r\",COLUMN(D99:AB99))))","v":0},""]
["",{"$f":"IF('INPUT DATA'!B99=\"\",\"\",'INPUT DATA'!B99)","v":""},null,null,null,null,null,null,null,null,null,null,null,null,null,null,null,null,null,null,null,null,null,null,null,null,null,null,"","",null,null,null,null,null,null,null,{"$f":"MAX(FREQUENCY(IF(D100:AB100=\"r\",COLUMN(D100:AB100)),IF(D100:AB100<>\"r\",COLUMN(D100:AB100))))","v":0},""]
["",{"$f":"IF('INPUT DATA'!B100=\"\",\"\",'INPUT DATA'!B100)","v":""},null,null,null,null,null,null,null,null,null,null,null,null,null,null,null,null,null,null,null,null,null,null,null,null,null,null,"","",null,null,null,null,null,null,null,{"$f":"MAX(FREQUENCY(IF(D101:AB101=\"r\",COLUMN(D101:AB101)),IF(D101:AB101<>\"r\",COLUMN(D101:AB101))))","v":0},""]
["",{"$f":"IF('INPUT DATA'!B101=\"\",\"\",'INPUT DATA'!B101)","v":""},null,null,null,null,null,null,null,null,null,null,null,null,null,null,null,null,null,null,null,null,null,null,null,null,null,null,"","",null,null,null,null,null,null,null,{"$f":"MAX(FREQUENCY(IF(D102:AB102=\"r\",COLUMN(D102:AB102)),IF(D102:AB102<>\"r\",COLUMN(D102:AB102))))","v":0},""]
["",{"$f":"IF('INPUT DATA'!B102=\"\",\"\",'INPUT DATA'!B102)","v":""},null,null,null,null,null,null,null,null,null,null,null,null,null,null,null,null,null,null,null,null,null,null,null,null,null,null,"","",null,null,null,null,null,null,null,{"$f":"MAX(FREQUENCY(IF(D103:AB103=\"r\",COLUMN(D103:AB103)),IF(D103:AB103<>\"r\",COLUMN(D103:AB103))))","v":0},""]
["",{"$f":"IF('INPUT DATA'!B103=\"\",\"\",'INPUT DATA'!B103)","v":""},null,null,null,null,null,null,null,null,null,null,null,null,null,null,null,null,null,null,null,null,null,null,null,null,null,null,"","",null,null,null,null,null,null,null,{"$f":"MAX(FREQUENCY(IF(D104:AB104=\"r\",COLUMN(D104:AB104)),IF(D104:AB104<>\"r\",COLUMN(D104:AB104))))","v":0},""]
["",{"$f":"IF('INPUT DATA'!B104=\"\",\"\",'INPUT DATA'!B104)","v":""},null,null,null,null,null,null,null,null,null,null,null,null,null,null,null,null,null,null,null,null,null,null,null,null,null,null,"","",null,null,null,null,null,null,null,{"$f":"MAX(FREQUENCY(IF(D105:AB105=\"r\",COLUMN(D105:AB105)),IF(D105:AB105<>\"r\",COLUMN(D105:AB105))))","v":0},""]
["",{"$f":"IF('INPUT DATA'!B105=\"\",\"\",'INPUT DATA'!B105)","v":""},null,null,null,null,null,null,null,null,null,null,null,null,null,null,null,null,null,null,null,null,null,null,null,null,null,null,"","",null,null,null,null,null,null,null,{"$f":"MAX(FREQUENCY(IF(D106:AB106=\"r\",COLUMN(D106:AB106)),IF(D106:AB106<>\"r\",COLUMN(D106:AB106))))","v":0},""]
["",{"$f":"IF('INPUT DATA'!B106=\"\",\"\",'INPUT DATA'!B106)","v":""},null,null,null,null,null,null,null,null,null,null,null,null,null,null,null,null,null,null,null,null,null,null,null,null,null,null,"","",null,null,null,null,null,null,null,{"$f":"MAX(FREQUENCY(IF(D107:AB107=\"r\",COLUMN(D107:AB107)),IF(D107:AB107<>\"r\",COLUMN(D107:AB107))))","v":0},""]
["",{"$f":"IF('INPUT DATA'!B107=\"\",\"\",'INPUT DATA'!B107)","v":""},null,null,null,null,null,null,null,null,null,null,null,null,null,null,null,null,null,null,null,null,null,null,null,null,null,null,"","",null,null,null,null,null,null,null,{"$f":"MAX(FREQUENCY(IF(D108:AB108=\"r\",COLUMN(D108:AB108)),IF(D108:AB108<>\"r\",COLUMN(D108:AB108))))","v":0},""]
["",{"$f":"IF('INPUT DATA'!B108=\"\",\"\",'INPUT DATA'!B108)","v":""},null,null,null,null,null,null,null,null,null,null,null,null,null,null,null,null,null,null,null,null,null,null,null,null,null,null,"","",null,null,null,null,null,null,null,{"$f":"MAX(FREQUENCY(IF(D109:AB109=\"r\",COLUMN(D109:AB109)),IF(D109:AB109<>\"r\",COLUMN(D109:AB109))))","v":0},""]
["",{"$f":"IF('INPUT DATA'!B109=\"\",\"\",'INPUT DATA'!B109)","v":""},null,null,null,null,null,null,null,null,null,null,null,null,null,null,null,null,null,null,null,null,null,null,null,null,null,null,"","",null,null,null,null,null,null,null,{"$f":"MAX(FREQUENCY(IF(D110:AB110=\"r\",COLUMN(D110:AB110)),IF(D110:AB110<>\"r\",COLUMN(D110:AB110))))","v":0},""]
["",{"$f":"IF('INPUT DATA'!B110=\"\",\"\",'INPUT DATA'!B110)","v":""},null,null,null,null,null,null,null,null,null,null,null,null,null,null,null,null,null,null,null,null,null,null,null,null,null,null,"","",null,null,null,null,null,null,null,{"$f":"MAX(FREQUENCY(IF(D111:AB111=\"r\",COLUMN(D111:AB111)),IF(D111:AB111<>\"r\",COLUMN(D111:AB111))))","v":0},""]
["",{"$f":"IF('INPUT DATA'!B111=\"\",\"\",'INPUT DATA'!B111)","v":""},null,null,null,null,null,null,null,null,null,null,null,null,null,null,null,null,null,null,null,null,null,null,null,null,null,null,"","",null,null,null,null,null,null,null,{"$f":"MAX(FREQUENCY(IF(D112:AB112=\"r\",COLUMN(D112:AB112)),IF(D112:AB112<>\"r\",COLUMN(D112:AB112))))","v":0},""]
["",{"$f":"IF('INPUT DATA'!B112=\"\",\"\",'INPUT DATA'!B112)","v":""},null,null,null,null,null,null,null,null,null,null,null,null,null,null,null,null,null,null,null,null,null,null,null,null,null,null,"","",null,null,null,null,null,null,null,{"$f":"MAX(FREQUENCY(IF(D113:AB113=\"r\",COLUMN(D113:AB113)),IF(D113:AB113<>\"r\",COLUMN(D113:AB113))))","v":0},""]
["",{"$f":"IF('INPUT DATA'!B113=\"\",\"\",'INPUT DATA'!B113)","v":""},null,null,null,null,null,null,null,null,null,null,null,null,null,null,null,null,null,null,null,null,null,null,null,null,null,null,"","",null,null,null,null,null,null,null,{"$f":"MAX(FREQUENCY(IF(D114:AB114=\"r\",COLUMN(D114:AB114)),IF(D114:AB114<>\"r\",COLUMN(D114:AB114))))","v":0},""]
["FEMALE  | TOTAL Per Day",null,null,{"$f":"IF(D11=\"\",\"\",SUM(COUNTBLANK(D65:D114)-COUNTBLANK($B$65:$B$114),COUNTIF(D65:D114,\"z\")*0.5,COUNTIF(D65:D114,\"y\")*0.5))","v":20},20,20,20,20,20,20,20,20,20,20,20,20,20,20,20,20,20,20,20,20,20,20,20,20,{"$f":"SUM(AC65:AC114)","v":0},{"$f":"SUM(AD65:AD114)","v":500}]
["    Combined TOTAL PER DAY",null,null,{"$f":"IF(D11=\"\",\"\",SUM(D64,D115))","v":39},39,39,39,39,39,39,39,39,39,39,40,40,40,40,40,40,40,40,40,40,40,40,40,40,{"$f":"SUM(AC64,AC115)","v":11},{"$f":"SUM(AD64,AD115)","v":989}]
[]
["GUIDELINES:",null,null,null,null,null,null,null,null,null,null,null,null,null,null,null,"1. CODES FOR CHECKING ATTENDANCE",null,null,null,null,null,null,null,null,null,null,"Month:",{"$f":"X6","v":"November"},null,"No. of Days of Classes:",null,{"$f":"COUNT(D11:AB11)","v":25},"Summary for the Month"]
["1. The attendance shall be accomplished daily. Refer to the codes for checking learners' attendance.",null,null,null,null,null,null,null,null,null,null,null,null,null,null,null,"blank- Present;   (x)- Absent; Tardy (half shaded= Upper for Late Commer, Lower for Cutting Classes)",null,null,null,null,null,null,null,null,null,null,null,null,null,null,null,null,"M","F","TOTAL"]
["2. Dates shall be written in the preceding columns beside Learner's Name.",null,null,null,null,null,null,null,null,null,null,null,null,null,null,null,null,null,null,null,null,null,null,null,null,null,null,"* Enrolment  as of  (1st Friday of June)",null,null,null,null,null,{"$f":"IF('INPUT DATA'!V88=\"\",\"\",'INPUT DATA'!V88)","v":""},{"$f":"IF('INPUT DATA'!W88=\"\",\"\",'INPUT DATA'!W88)","v":""},{"$f":"SUM(AH120:AI121)","v":0}]
["3. To compute the following:"]
["a.","Percentage of Enrolment =",null,"Registered Learner as of End of the Month",null,null,null,null,null,null,null,null,null,"x 100",null,null,"2. REASONS/CAUSES OF DROP-OUTS",null,null,null,null,null,null,null,null,null,null,"Late Enrollment during the month                                               (beyond cut-off)",null,null,null,null,null,{"$f":"IF('INPUT DATA'!V89=\"\",\"\",'INPUT DATA'!V89)","v":""},{"$f":"IF('INPUT DATA'!W89=\"\",\"\",'INPUT DATA'!W89)","v":""},{"$f":"SUM(AH122:AI123)","v":0}]
[null,null,null,"Enrolment as of 1st Friday of June",null,null,null,null,null,null,null,null,null,null,null,null,"a. Domestic-Related Factors"]
["b.","Average Daily Attendance = ",null,"Total Daily Attendance",null,null,null,null,null,null,null,null,null,null,null,null,"a.1. Had to take care of siblings",null,null,null,null,null,null,null,null,null,null,"Registered Learner as of end of the month",null,null,null,null,null,{"$f":"IF('INPUT DATA'!V90=\"\",\"\",'INPUT DATA'!V90)","v":""},{"$f":"IF('INPUT DATA'!W90=\"\",\"\",'INPUT DATA'!W90)","v":""},{"$f":"SUM(AH124:AI125)","v":0}]
[null,null,null,"Number of School Days in reporting month",null,null,null,null,null,null,null,null,null,null,null,null,"a.2. Early marriage/pregnancy"]
["c.","Percentage of Attendance for the month =",null,"Average daily attendance",null,null,null,null,null,null,null,null,null,"x 100",null,null,"a.3. Parents' attitude toward schooling",null,null,null,null,null,null,null,null,null,null,"Percentage of Enrolment as of end of the month",null,null,null,null,null,{"$f":"CONCATENATE(IFERROR(ROUND((AH124)/(AH120)*100,0),\"\"),\"%\")","v":"%"},{"$f":"CONCATENATE(IFERROR(ROUND((AI124)/(AI120)*100,0),\"\"),\"%\")","v":"%"},{"$f":"CONCATENATE(IFERROR(ROUND((AJ124)/(AJ120)*100,0),\"\"),\"%\")","v":"%"}]
[null,null,null,"Registered Learner as of End of the month",null,null,null,null,null,null,null,null,null,null,null,null,"a.4. Family problems"]
[null,null,null,null,null,null,null,null,null,null,null,null,null,null,null,null,"b. Individual-Related Factors",null,null,null,null,null,null,null,null,null,null,"Average Daily Attendance",null,null,null,null,null,{"$f":"IFERROR(ROUND((AD64)/COUNTA(D11:AB11),2),\"\")","v":19.559999999999999},{"$f":"IFERROR(ROUND((AD115/COUNTA(D11:AB11)),2),\"\")","v":20},{"$f":"IFERROR(ROUND((AD116)/COUNTA(D11:AB11),2),\"\")","v":39.56}]
["4. Every End of the month, the class adviser will submit this form to the office of the principal for recording of \n     summary table into the School Form 4. Once signed by the principal, this form should be returned to the adviser.",null,null,null,null,null,null,null,null,null,null,null,null,null,null,null,"b.1. Illness",null,null,null,null,null,null,null,null,null,null,"Percentage of Attendance for the month ",null,null,null,null,null,{"$f":"CONCATENATE(IFERROR(ROUND((AH128/AH124)*100,0),\"\"),\"%\")","v":"%"},{"$f":"CONCATENATE(IFERROR(ROUND((AI128/AI124)*100,0),\"\"),\"%\")","v":"%"},{"$f":"CONCATENATE(IFERROR(ROUND((AJ128/AJ124)*100,0),\"\"),\"%\")","v":"%"}]
[null,null,null,null,null,null,null,null,null,null,null,null,null,null,null,null,"b.2. Overage"]
["5. The adviser will extend neccessary intervention including but not limited to home visitation  to learner/s that committed 5 consecutive days of absences or those with potentials of dropping out",null,null,null,null,null,null,null,null,null,null,null,null,null,null,null,"b.3. Death",null,null,null,null,null,null,null,null,null,null,"Number of students with 5 consecutive days of absences:",null,null,null,null,null,{"$f":"SUM(AM14:AM63)","v":1},{"$f":"SUM(AM65:AM114)","v":0},{"$f":"SUM(AH131:AI132)","v":1}]
[null,null,null,null,null,null,null,null,null,null,null,null,null,null,null,null,"b.4. Drug Abuse"]
["6.  Attendance performance of learner is expected to reflect in Form 137 and Form 138 every grading period",null,null,null,null,null,null,null,null,null,null,null,null,null,null,null,"b.5. Poor academic performance",null,null,null,null,null,null,null,null,null,null,"Drop out",null,null,null,null,null,{"$f":"IF('INPUT DATA'!V91=\"\",\"\",'INPUT DATA'!V91)","v":""},{"$f":"IF('INPUT DATA'!W91=\"\",\"\",'INPUT DATA'!W91)","v":""},{"$f":"SUM(AH133:AI134)","v":0}]
["*","Beginning of School Year cut-off report is every 1st Friday of School Calendar Days",null,null,null,null,null,null,null,null,null,null,null,null,null,null,"b.6. Lack of interest/Distractions"]
[null,null,null,null,null,null,null,null,null,null,null,null,null,null,null,null,"b.7. Hunger/Malnutrition",null,null,null,null,null,null,null,null,null,null,"Transferred out",null,null,null,null,null,{"$f":"IF('INPUT DATA'!V92=\"\",\"\",'INPUT DATA'!V92)","v":""},{"$f":"IF('INPUT DATA'!W92=\"\",\"\",'INPUT DATA'!W92)","v":""},{"$f":"SUM(AH135:AI136)","v":0}]
[null,null,null,null,null,null,null,null,null,null,null,null,null,null,null,null,"c. School-Related Factors"]
[null,null,null,null,null,null,null,null,null,null,null,null,null,null,null,null,"c.1. Teacher Factor",null,null,null,null,null,null,null,null,null,null,"Transferred in",null,null,null,null,null,{"$f":"IF('INPUT DATA'!V93=\"\",\"\",'INPUT DATA'!V93)","v":""},{"$f":"IF('INPUT DATA'!W93=\"\",\"\",'INPUT DATA'!W93)","v":""},{"$f":"SUM(AH137:AI138)","v":0}]
[null,null,null,null,null,null,null,null,null,null,null,null,null,null,null,null,"c.2. Physical condition of classroom"]
[null,null,null,null,null,null,null,null,null,null,null,null,null,null,null,null,"c.3. Peer influence"]
[null,null,null,null,null,null,null,null,null,null,null,null,null,null,null,null,"d. Geographic/Environmental",null,null,null,null,null,null,null,null,null,null,"I certify that this is a true and correct report."]
[null,null,null,null,null,null,null,null,null,null,null,null,null,null,null,null,"d.1. Distance between home and school"]
[null,null,null,null,null,null,null,null,null,null,null,null,null,null,null,null,"d.2. Armed conflict (incl. Tribal wars & clanfeuds)",null,null,null,null,null,null,null,null,null,null,null,null,{"$f":"UPPER(IF('INPUT DATA'!R7=\"\",\"\",'INPUT DATA'!R7))","v":""}]
[null,null,null,null,null,null,null,null,null,null,null,null,null,null,null,null,null,null,null,null,null,null,null,null,null,null,null,null,"                          (Signature of Teacher over Printed Name)"]
[null,null,null,null,null,null,null,null,null,null,null,null,null,null,null,null,"d.3. Calamities/Disasters"]
[null,null,null,null,null,null,null,null,null,null,null,null,null,null,null,null,"e. Financial-Related",null,null,null,null,null,null,null,null,null,null,"Attested by:"]
[null,null,null,null,null,null,null,null,null,null,null,null,null,null,null,null,"e.1. Child labor, work",null,null,null,null,null,null,null,null,null,null,null,null,{"$f":"UPPER(IF('INPUT DATA'!R6=\"\",\"\",'INPUT DATA'!R6))","v":""}]
[null,null,null,null,null,null,null,null,null,null,null,null,null,null,null,null,"f. Others",null,null,null,null,null,null,null,null,null,null,null,null,null,null," (Signature of School Head over Printed Name)"]

{"sheet":"OCT","index":4,"n_rows":147,"n_cols":39,"rows_kept":147,"cut":false,"hidden":true,"merged":[[145,29,145,34],[136,1,137,6],[136,27,137,32],[136,33,137,33],[136,34,137,34],[136,35,137,35],[141,16,142,25],[141,29,141,34],[132,27,133,32],[132,33,133,33],[132,34,133,34],[132,35,133,35],[133,1,133,13],[134,27,135,32],[134,33,135,33],[134,34,135,34],[134,35,135,35],[128,34,129,34],[128,35,129,35],[130,0,131,14],[130,27,131,32],[130,33,131,33],[130,34,131,34],[130,35,131,35],[126,3,126,12],[127,0,127,11],[127,27,127,32],[128,0,129,13],[128,27,129,32],[128,33,129,33],[123,0,124,0],[123,1,124,1],[123,3,123,12],[123,27,124,32],[123,33,124,33],[123,34,124,34],[123,35,124,35],[124,3,124,12],[125,0,126,0],[125,1,126,2],[125,3,125,12],[125,13,126,14],[125,27,126,32],[125,33,126,33],[125,34,126,34],[125,35,126,35],[120,0,120,13],[121,0,122,0],[121,1,122,1],[121,3,121,12],[121,13,122,14],[121,27,122,32],[117,28,117,29],[117,30,118,31],[117,33,117,35],[118,0,118,13],[118,16,120,24],[119,0,119,13],[119,27,120,32],[119,33,120,33],[119,34,120,34],[119,35,120,35],[121,33,122,33],[121,34,122,34],[121,35,122,35],[122,3,122,12],[113,30,113,35],[114,0,114,2],[114,30,114,35],[115,0,115,2],[115,30,115,35],[116,0,116,1],[116,3,116,7],[108,1,108,2],[109,1,109,2],[110,1,110,2],[111,1,111,2],[112,1,112,2],[113,1,113,2],[102,1,102,2],[103,1,103,2],[104,1,104,2],[105,1,105,2],[106,1,106,2],[107,1,107,2],[96,1,96,2],[97,1,97,2],[98,1,98,2],[99,1,99,2],[100,1,100,2],[101,1,101,2],[90,1,90,2],[91,1,91,2],[92,1,92,2],[93,1,93,2],[94,1,94,2],[95,1,95,2],[86,1,86,2],[86,30,86,35],[87,1,87,2],[87,30,87,35],[88,1,88,2],[89,1,89,2],[83,1,83,2],[83,30,83,35],[84,1,84,2],[84,30,84,35],[85,1,85,2],[85,30,85,35],[80,1,80,2],[80,30,80,35],[81,1,81,2],[81,30,81,35],[82,1,82,2],[82,30,82,35],[77,1,77,2],[77,30,77,35],[78,1,78,2],[78,30,78,35],[79,1,79,2],[79,30,79,35],[74,1,74,2],[74,30,74,35],[75,1,75,2],[75,30,75,35],[76,1,76,2],[76,30,76,35],[71,1,71,2],[71,30,71,35],[72,1,72,2],[72,30,72,35],[73,1,73,2],[73,30,73,35],[68,1,68,2],[68,30,68,35],[69,1,69,2],[69,30,69,35],[70,1,70,2],[70,30,70,35],[65,1,65,2],[65,30,65,35],[66,1,66,2],[66,30,66,35],[67,1,67,2],[67,30,67,35],[61,1,61,2],[62,1,62,2],[62,30,62,35],[63,0,63,2],[64,1,64,2],[64,30,64,35],[55,1,55,2],[56,1,56,2],[57,1,57,2],[58,1,58,2],[59,1,59,2],[60,1,60,2],[49,1,49,2],[50,1,50,2],[51,1,51,2],[52,1,52,2],[53,1,53,2],[54,1,54,2],[43,1,43,2],[44,1,44,2],[45,1,45,2],[46,1,46,2],[47,1,47,2],[48,1,48,2],[37,1,37,2],[38,1,38,2],[39,1,39,2],[40,1,40,2],[41,1,41,2],[42,1,42,2],[34,1,34,2],[34,30,34,35],[35,1,35,2],[35,30,35,35],[36,1,36,2],[36,30,36,35],[31,1,31,2],[31,30,31,35],[32,1,32,2],[32,30,32,35],[33,1,33,2],[33,30,33,35],[28,1,28,2],[28,30,28,35],[29,1,29,2],[29,30,29,35],[30,1,30,2],[30,30,30,35],[25,1,25,2],[25,30,25,35],[26,1,26,2],[26,30,26,35],[27,1,27,2],[27,30,27,35],[22,1,22,2],[22,30,22,35],[23,1,23,2],[23,30,23,35],[24,1,24,2],[24,30,24,35],[19,1,19,2],[19,30,19,35],[20,1,20,2],[20,30,20,35],[21,1,21,2],[21,30,21,35],[18,1,18,2],[18,30,18,35],[11,29,12,29],[13,1,13,2],[13,30,13,35],[14,1,14,2],[14,30,14,35],[15,1,15,2],[15,30,15,35],[9,0,12,2],[9,3,9,27],[9,28,10,29],[9,30,12,35],[11,28,12,28],[16,1,16,2],[16,30,16,35],[17,1,17,2],[17,30,17,35],[1,0,1,35],[2,0,2,35],[5,2,5,4],[5,10,5,14],[5,16,5,22],[5,23,5,28],[7,2,7,14],[7,19,7,22],[7,23,7,24],[7,25,7,27],[7,28,7,33]]}
[]
["School Form 2 (SF2) Daily Attendance Report of Learners"]
["(This replaced Form 1, Form 2 & STS Form 4 - Absenteeism and Dropout Profile)"]
[]
[]
[null,"School ID",{"$f":"IF('INPUT DATA'!R5=\"\",\"\",'INPUT DATA'!R5)","v":""},null,null,null,null,"School Year",null,null,{"$f":"IF('INPUT DATA'!R4=\"\",\"\",'INPUT DATA'!R4)","v":""},null,null,null,null,null,"Report for the  Month of",null,null,null,null,null,null,"October"]
[]
[null,"Name of School",{"$f":"IF('INPUT DATA'!F5=\"\",\"\",'INPUT DATA'!F5)","v":""},null,null,null,null,null,null,null,null,null,null,null,null,null,null,null,null,"Grade Level",null,null,null,{"$f":"IF('INPUT DATA'!R8=\"\",\"\",'INPUT DATA'!R8)","v":""},null,"Section",null,null,{"$f":"IF('INPUT DATA'!R9=\"\",\"\",'INPUT DATA'!R9)","v":""}]
[]
["LEARNER'S NAME                                                                                         (Last Name, First Name, Middle Name)                                  ",null,null,"(1st row for date, 2nd row for Day: M,T,W,TH,F)",null,null,null,null,null,null,null,null,null,null,null,null,null,null,null,null,null,null,null,null,null,null,null,null,"Total for the Month             ",null,"REMARK/S (If DROPPED OUT, state reason, please refer to legend number 2.\nIf TRANSFERRED IN/OUT, write the name of School.)"]
[null,null,null,1,2,3,4,5,6,7,8,9,10,11,12,13,14,15,16,17,18,19,20,21,22,23,24,25]
[null,null,null,"Mon","Tue","Wed","Thu","Fri","Mon","Tue","Wed","Thu","Fri","Mon","Tue","Wed","Thu","Fri","Mon","Tue","Wed","Thu","Fri","Mon","Tue","Wed","Thu","Fri","ABSENT","PRESENT"]
[null,null,null,false,false,false,false,false,false,false,false,false,false,false,false,false,false,false,false,false,false,false,false,false,false,false,false,false]
[{"$f":"IF(B14=\"\",\"\",\"1\")","v":"1"},{"$f":"IF('INPUT DATA'!B13=\"\",\"\",'INPUT DATA'!B13)","v":"Student 1"},null,"r","r","r","r","r","r","r","r","r","r",null,null,null,null,null,null,null,null,null,null,null,null,null,null,null,{"$f":"IF(B14=\"\",\"\",SUM(COUNTIF(D14:AB14,\"z\")*0.5,COUNTIF(D14:AB14,\"y\")*0.5,COUNTIF(D14:AB14,\"r\")))","v":10},{"$f":"IF(B14=\"\",\"\",COUNTA($D$11:$AB$11)-AC14)","v":15},null,null,null,null,null,null,null,{"$f":"MAX(FREQUENCY(IF(D14:AB14=\"r\",COLUMN(D14:AB14)),IF(D14:AB14<>\"r\",COLUMN(D14:AB14))))","v":10},{"$f":"IF(AL14>=5,1,\"\")","v":1}]
[{"$f":"IF(B15=\"\",\"\",A14+1)","v":2},{"$f":"IF('INPUT DATA'!B14=\"\",\"\",'INPUT DATA'!B14)","v":"Student 2"},null,null,null,null,null,null,null,null,null,null,null,null,null,null,null,null,null,null,null,null,null,null,null,null,null,null,{"$f":"IF(B15=\"\",\"\",SUM(COUNTIF(D15:AB15,\"z\")*0.5,COUNTIF(D15:AB15,\"y\")*0.5,COUNTIF(D15:AB15,\"r\")))","v":0},{"$f":"IF(B15=\"\",\"\",COUNTA($D$11:$AB$11)-AC15)","v":25},null,null,null,null,null,null,null,{"$f":"MAX(FREQUENCY(IF(D15:AB15=\"r\",COLUMN(D15:AB15)),IF(D15:AB15<>\"r\",COLUMN(D15:AB15))))","v":0},{"$f":"IF(AL15>=5,1,\"\")","v":""}]
[{"$f":"IF(B16=\"\",\"\",A15+1)","v":3},{"$f":"IF('INPUT DATA'!B15=\"\",\"\",'INPUT DATA'!B15)","v":"Student 3"},null,null,null,null,null,null,null,null,null,null,null,null,null,null,null,null,null,null,null,null,null,null,null,null,null,null,0,25,null,null,null,null,null,null,null,{"$f":"MAX(FREQUENCY(IF(D16:AB16=\"r\",COLUMN(D16:AB16)),IF(D16:AB16<>\"r\",COLUMN(D16:AB16))))","v":0},""]
[4,{"$f":"IF('INPUT DATA'!B16=\"\",\"\",'INPUT DATA'!B16)","v":"Student 4"},null,null,null,null,null,null,null,null,null,null,null,null,null,null,null,null,null,null,null,null,null,null,null,null,null,null,0,25,null,null,null,null,null,null,null,{"$f":"MAX(FREQUENCY(IF(D17:AB17=\"r\",COLUMN(D17:AB17)),IF(D17:AB17<>\"r\",COLUMN(D17:AB17))))","v":0},""]
[5,{"$f":"IF('INPUT DATA'!B17=\"\",\"\",'INPUT DATA'!B17)","v":"Student 5"},null,null,null,null,null,null,null,null,null,null,null,null,null,null,null,null,null,null,null,null,null,null,null,null,null,null,0,25,null,null,null,null,null,null,null,{"$f":"MAX(FREQUENCY(IF(D18:AB18=\"r\",COLUMN(D18:AB18)),IF(D18:AB18<>\"r\",COLUMN(D18:AB18))))","v":0},""]
[6,{"$f":"IF('INPUT DATA'!B18=\"\",\"\",'INPUT DATA'!B18)","v":"Student 6"},null,null,null,null,null,null,null,null,null,null,null,null,null,null,null,null,null,null,null,null,null,null,null,null,null,null,0,25,null,null,null,null,null,null,null,{"$f":"MAX(FREQUENCY(IF(D19:AB19=\"r\",COLUMN(D19:AB19)),IF(D19:AB19<>\"r\",COLUMN(D19:AB19))))","v":0},""]
[7,{"$f":"IF('INPUT DATA'!B19=\"\",\"\",'INPUT DATA'!B19)","v":"Student 7"},null,null,null,null,null,null,null,null,null,null,null,null,null,null,null,null,null,null,null,null,null,null,null,null,null,null,0,25,null,null,null,null,null,null,null,{"$f":"MAX(FREQUENCY(IF(D20:AB20=\"r\",COLUMN(D20:AB20)),IF(D20:AB20<>\"r\",COLUMN(D20:AB20))))","v":0},""]
[8,{"$f":"IF('INPUT DATA'!B20=\"\",\"\",'INPUT DATA'!B20)","v":"Student 8"},null,null,null,null,null,null,null,null,null,null,null,null,null,null,null,null,null,null,null,null,null,null,null,null,null,null,0,25,null,null,null,null,null,null,null,{"$f":"MAX(FREQUENCY(IF(D21:AB21=\"r\",COLUMN(D21:AB21)),IF(D21:AB21<>\"r\",COLUMN(D21:AB21))))","v":0},""]
[9,{"$f":"IF('INPUT DATA'!B21=\"\",\"\",'INPUT DATA'!B21)","v":"Student 9"},null,null,null,null,null,null,null,null,null,null,null,null,null,null,null,null,null,null,null,null,null,null,null,null,null,null,0,25,null,null,null,null,null,null,null,{"$f":"MAX(FREQUENCY(IF(D22:AB22=\"r\",COLUMN(D22:AB22)),IF(D22:AB22<>\"r\",COLUMN(D22:AB22))))","v":0},""]
[10,{"$f":"IF('INPUT DATA'!B22=\"\",\"\",'INPUT DATA'!B22)","v":"Student 10"},null,null,null,null,null,null,null,null,null,null,null,null,null,null,null,null,null,null,null,null,null,null,null,null,null,null,0,25,null,null,null,null,null,null,null,{"$f":"MAX(FREQUENCY(IF(D23:AB23=\"r\",COLUMN(D23:AB23)),IF(D23:AB23<>\"r\",COLUMN(D23:AB23))))","v":0},""]
[11,{"$f":"IF('INPUT DATA'!B23=\"\",\"\",'INPUT DATA'!B23)","v":"Student 11"},null,null,null,null,null,null,null,null,null,null,null,null,null,null,null,null,null,null,null,null,null,null,null,null,null,null,0,25,null,null,null,null,null,null,null,{"$f":"MAX(FREQUENCY(IF(D24:AB24=\"r\",COLUMN(D24:AB24)),IF(D24:AB24<>\"r\",COLUMN(D24:AB24))))","v":0},""]
[12,{"$f":"IF('INPUT DATA'!B24=\"\",\"\",'INPUT DATA'!B24)","v":"Student 12"},null,null,null,null,null,null,null,null,null,null,null,null,null,null,null,null,null,null,null,null,null,null,null,null,null,null,0,25,null,null,null,null,null,null,null,{"$f":"MAX(FREQUENCY(IF(D25:AB25=\"r\",COLUMN(D25:AB25)),IF(D25:AB25<>\"r\",COLUMN(D25:AB25))))","v":0},""]
[13,{"$f":"IF('INPUT DATA'!B25=\"\",\"\",'INPUT DATA'!B25)","v":"Student 13"},null,null,null,null,null,null,null,null,null,null,null,null,null,null,null,null,null,null,null,null,null,null,null,null,null,null,0,25,null,null,null,null,null,null,null,{"$f":"MAX(FREQUENCY(IF(D26:AB26=\"r\",COLUMN(D26:AB26)),IF(D26:AB26<>\"r\",COLUMN(D26:AB26))))","v":0},""]
[14,{"$f":"IF('INPUT DATA'!B26=\"\",\"\",'INPUT DATA'!B26)","v":"Student 14"},null,null,null,null,null,null,null,null,null,null,null,null,null,null,null,null,null,null,null,null,null,null,null,null,null,null,0,25,null,null,null,null,null,null,null,{"$f":"MAX(FREQUENCY(IF(D27:AB27=\"r\",COLUMN(D27:AB27)),IF(D27:AB27<>\"r\",COLUMN(D27:AB27))))","v":0},""]
[15,{"$f":"IF('INPUT DATA'!B27=\"\",\"\",'INPUT DATA'!B27)","v":"Student 15"},null,null,null,null,null,null,null,null,null,null,null,null,null,null,null,null,null,null,null,null,null,null,null,null,null,null,0,25,null,null,null,null,null,null,null,{"$f":"MAX(FREQUENCY(IF(D28:AB28=\"r\",COLUMN(D28:AB28)),IF(D28:AB28<>\"r\",COLUMN(D28:AB28))))","v":0},""]
[16,{"$f":"IF('INPUT DATA'!B28=\"\",\"\",'INPUT DATA'!B28)","v":"Student 16"},null,null,null,null,null,null,null,null,null,null,null,null,null,null,null,null,null,null,null,null,null,null,null,null,null,null,0,25,null,null,null,null,null,null,null,{"$f":"MAX(FREQUENCY(IF(D29:AB29=\"r\",COLUMN(D29:AB29)),IF(D29:AB29<>\"r\",COLUMN(D29:AB29))))","v":0},""]
[17,{"$f":"IF('INPUT DATA'!B29=\"\",\"\",'INPUT DATA'!B29)","v":"Student 17"},null,null,null,null,null,null,null,null,null,null,null,null,null,null,null,null,null,null,null,null,null,null,null,null,null,null,0,25,null,null,null,null,null,null,null,{"$f":"MAX(FREQUENCY(IF(D30:AB30=\"r\",COLUMN(D30:AB30)),IF(D30:AB30<>\"r\",COLUMN(D30:AB30))))","v":0},""]
[18,{"$f":"IF('INPUT DATA'!B30=\"\",\"\",'INPUT DATA'!B30)","v":"Student 18"},null,null,null,null,null,null,null,null,null,null,null,null,null,null,null,null,null,null,null,null,null,null,null,null,null,null,0,25,null,null,null,null,null,null,null,{"$f":"MAX(FREQUENCY(IF(D31:AB31=\"r\",COLUMN(D31:AB31)),IF(D31:AB31<>\"r\",COLUMN(D31:AB31))))","v":0},""]
[19,{"$f":"IF('INPUT DATA'!B31=\"\",\"\",'INPUT DATA'!B31)","v":"Student 19"},null,null,null,null,null,null,null,null,null,null,null,null,null,null,null,null,null,null,null,null,null,null,null,null,null,null,0,25,null,null,null,null,null,null,null,{"$f":"MAX(FREQUENCY(IF(D32:AB32=\"r\",COLUMN(D32:AB32)),IF(D32:AB32<>\"r\",COLUMN(D32:AB32))))","v":0},""]
[20,{"$f":"IF('INPUT DATA'!B32=\"\",\"\",'INPUT DATA'!B32)","v":"Student 20"},null,null,null,null,null,null,null,null,null,null,null,null,null,null,null,null,null,null,null,null,null,null,null,null,null,null,0,25,null,null,null,null,null,null,null,{"$f":"MAX(FREQUENCY(IF(D33:AB33=\"r\",COLUMN(D33:AB33)),IF(D33:AB33<>\"r\",COLUMN(D33:AB33))))","v":0},""]
["",{"$f":"IF('INPUT DATA'!B33=\"\",\"\",'INPUT DATA'!B33)","v":""},null,null,null,null,null,null,null,null,null,null,null,null,null,null,null,null,null,null,null,null,null,null,null,null,null,null,"","",null,null,null,null,null,null,null,{"$f":"MAX(FREQUENCY(IF(D34:AB34=\"r\",COLUMN(D34:AB34)),IF(D34:AB34<>\"r\",COLUMN(D34:AB34))))","v":0},""]
["",{"$f":"IF('INPUT DATA'!B34=\"\",\"\",'INPUT DATA'!B34)","v":""},null,null,null,null,null,null,null,null,null,null,null,null,null,null,null,null,null,null,null,null,null,null,null,null,null,null,"","",null,null,null,null,null,null,null,{"$f":"MAX(FREQUENCY(IF(D35:AB35=\"r\",COLUMN(D35:AB35)),IF(D35:AB35<>\"r\",COLUMN(D35:AB35))))","v":0},""]
["",{"$f":"IF('INPUT DATA'!B35=\"\",\"\",'INPUT DATA'!B35)","v":""},null,null,null,null,null,null,null,null,null,null,null,null,null,null,null,null,null,null,null,null,null,null,null,null,null,null,"","",null,null,null,null,null,null,null,{"$f":"MAX(FREQUENCY(IF(D36:AB36=\"r\",COLUMN(D36:AB36)),IF(D36:AB36<>\"r\",COLUMN(D36:AB36))))","v":0},""]
["",{"$f":"IF('INPUT DATA'!B36=\"\",\"\",'INPUT DATA'!B36)","v":""},null,null,null,null,null,null,null,null,null,null,null,null,null,null,null,null,null,null,null,null,null,null,null,null,null,null,"","",null,null,null,null,null,null,null,{"$f":"MAX(FREQUENCY(IF(D37:AB37=\"r\",COLUMN(D37:AB37)),IF(D37:AB37<>\"r\",COLUMN(D37:AB37))))","v":0},""]
["",{"$f":"IF('INPUT DATA'!B37=\"\",\"\",'INPUT DATA'!B37)","v":""},null,null,null,null,null,null,null,null,null,null,null,null,null,null,null,null,null,null,null,null,null,null,null,null,null,null,"","",null,null,null,null,null,null,null,{"$f":"MAX(FREQUENCY(IF(D38:AB38=\"r\",COLUMN(D38:AB38)),IF(D38:AB38<>\"r\",COLUMN(D38:AB38))))","v":0},""]
["",{"$f":"IF('INPUT DATA'!B38=\"\",\"\",'INPUT DATA'!B38)","v":""},null,null,null,null,null,null,null,null,null,null,null,null,null,null,null,null,null,null,null,null,null,null,null,null,null,null,"","",null,null,null,null,null,null,null,{"$f":"MAX(FREQUENCY(IF(D39:AB39=\"r\",COLUMN(D39:AB39)),IF(D39:AB39<>\"r\",COLUMN(D39:AB39))))","v":0},""]
["",{"$f":"IF('INPUT DATA'!B39=\"\",\"\",'INPUT DATA'!B39)","v":""},null,null,null,null,null,null,null,null,null,null,null,null,null,null,null,null,null,null,null,null,null,null,null,null,null,null,"","",null,null,null,null,null,null,null,{"$f":"MAX(FREQUENCY(IF(D40:AB40=\"r\",COLUMN(D40:AB40)),IF(D40:AB40<>\"r\",COLUMN(D40:AB40))))","v":0},""]
["",{"$f":"IF('INPUT DATA'!B40=\"\",\"\",'INPUT DATA'!B40)","v":""},null,null,null,null,null,null,null,null,null,null,null,null,null,null,null,null,null,null,null,null,null,null,null,null,null,null,"","",null,null,null,null,null,null,null,{"$f":"MAX(FREQUENCY(IF(D41:AB41=\"r\",COLUMN(D41:AB41)),IF(D41:AB41<>\"r\",COLUMN(D41:AB41))))","v":0},""]
["",{"$f":"IF('INPUT DATA'!B41=\"\",\"\",'INPUT DATA'!B41)","v":""},null,null,null,null,null,null,null,null,null,null,null,null,null,null,null,null,null,null,null,null,null,null,null,null,null,null,"","",null,null,null,null,null,null,null,{"$f":"MAX(FREQUENCY(IF(D42:AB42=\"r\",COLUMN(D42:AB42)),IF(D42:AB42<>\"r\",COLUMN(D42:AB42))))","v":0},""]
["",{"$f":"IF('INPUT DATA'!B42=\"\",\"\",'INPUT DATA'!B42)","v":""},null,null,null,null,null,null,null,null,null,null,null,null,null,null,null,null,null,null,null,null,null,null,null,null,null,null,"","",null,null,null,null,null,null,null,{"$f":"MAX(FREQUENCY(IF(D43:AB43=\"r\",COLUMN(D43:AB43)),IF(D43:AB43<>\"r\",COLUMN(D43:AB43))))","v":0},""]
["",{"$f":"IF('INPUT DATA'!B43=\"\",\"\",'INPUT DATA'!B43)","v":""},null,null,null,null,null,null,null,null,null,null,null,null,null,null,null,null,null,null,null,null,null,null,null,null,null,null,"","",null,null,null,null,null,null,null,{"$f":"MAX(FREQUENCY(IF(D44:AB44=\"r\",COLUMN(D44:AB44)),IF(D44:AB44<>\"r\",COLUMN(D44:AB44))))","v":0},""]
["",{"$f":"IF('INPUT DATA'!B44=\"\",\"\",'INPUT DATA'!B44)","v":""},null,null,null,null,null,null,null,null,null,null,null,null,null,null,null,null,null,null,null,null,null,null,null,null,null,null,"","",null,null,null,null,null,null,null,{"$f":"MAX(FREQUENCY(IF(D45:AB45=\"r\",COLUMN(D45:AB45)),IF(D45:AB45<>\"r\",COLUMN(D45:AB45))))","v":0},""]
["",{"$f":"IF('INPUT DATA'!B45=\"\",\"\",'INPUT DATA'!B45)","v":""},null,null,null,null,null,null,null,null,null,null,null,null,null,null,null,null,null,null,null,null,null,null,null,null,null,null,"","",null,null,null,null,null,null,null,{"$f":"MAX(FREQUENCY(IF(D46:AB46=\"r\",COLUMN(D46:AB46)),IF(D46:AB46<>\"r\",COLUMN(D46:AB46))))","v":0},""]
["",{"$f":"IF('INPUT DATA'!B46=\"\",\"\",'INPUT DATA'!B46)","v":""},null,null,null,null,null,null,null,null,null,null,null,null,null,null,null,null,null,null,null,null,null,null,null,null,null,null,"","",null,null,null,null,null,null,null,{"$f":"MAX(FREQUENCY(IF(D47:AB47=\"r\",COLUMN(D47:AB47)),IF(D47:AB47<>\"r\",COLUMN(D47:AB47))))","v":0},""]
["",{"$f":"IF('INPUT DATA'!B47=\"\",\"\",'INPUT DATA'!B47)","v":""},null,null,null,null,null,null,null,null,null,null,null,null,null,null,null,null,null,null,null,null,null,null,null,null,null,null,"","",null,null,null,null,null,null,null,{"$f":"MAX(FREQUENCY(IF(D48:AB48=\"r\",COLUMN(D48:AB48)),IF(D48:AB48<>\"r\",COLUMN(D48:AB48))))","v":0},""]
["",{"$f":"IF('INPUT DATA'!B48=\"\",\"\",'INPUT DATA'!B48)","v":""},null,null,null,null,null,null,null,null,null,null,null,null,null,null,null,null,null,null,null,null,null,null,null,null,null,null,"","",null,null,null,null,null,null,null,{"$f":"MAX(FREQUENCY(IF(D49:AB49=\"r\",COLUMN(D49:AB49)),IF(D49:AB49<>\"r\",COLUMN(D49:AB49))))","v":0},""]
["",{"$f":"IF('INPUT DATA'!B49=\"\",\"\",'INPUT DATA'!B49)","v":""},null,null,null,null,null,null,null,null,null,null,null,null,null,null,null,null,null,null,null,null,null,null,null,null,null,null,"","",null,null,null,null,null,null,null,{"$f":"MAX(FREQUENCY(IF(D50:AB50=\"r\",COLUMN(D50:AB50)),IF(D50:AB50<>\"r\",COLUMN(D50:AB50))))","v":0},""]
["",{"$f":"IF('INPUT DATA'!B50=\"\",\"\",'INPUT DATA'!B50)","v":""},null,null,null,null,null,null,null,null,null,null,null,null,null,null,null,null,null,null,null,null,null,null,null,null,null,null,"","",null,null,null,null,null,null,null,{"$f":"MAX(FREQUENCY(IF(D51:AB51=\"r\",COLUMN(D51:AB51)),IF(D51:AB51<>\"r\",COLUMN(D51:AB51))))","v":0},""]
["",{"$f":"IF('INPUT DATA'!B51=\"\",\"\",'INPUT DATA'!B51)","v":""},null,null,null,null,null,null,null,null,null,null,null,null,null,null,null,null,null,null,null,null,null,null,null,null,null,null,"","",null,null,null,null,null,null,null,{"$f":"MAX(FREQUENCY(IF(D52:AB52=\"r\",COLUMN(D52:AB52)),IF(D52:AB52<>\"r\",COLUMN(D52:AB52))))","v":0},""]
["",{"$f":"IF('INPUT DATA'!B52=\"\",\"\",'INPUT DATA'!B52)","v":""},null,null,null,null,null,null,null,null,null,null,null,null,null,null,null,null,null,null,null,null,null,null,null,null,null,null,"","",null,null,null,null,null,null,null,{"$f":"MAX(FREQUENCY(IF(D53:AB53=\"r\",COLUMN(D53:AB53)),IF(D53:AB53<>\"r\",COLUMN(D53:AB53))))","v":0},""]
["",{"$f":"IF('INPUT DATA'!B53=\"\",\"\",'INPUT DATA'!B53)","v":""},null,null,null,null,null,null,null,null,null,null,null,null,null,null,null,null,null,null,null,null,null,null,null,null,null,null,"","",null,null,null,null,null,null,null,{"$f":"MAX(FREQUENCY(IF(D54:AB54=\"r\",COLUMN(D54:AB54)),IF(D54:AB54<>\"r\",COLUMN(D54:AB54))))","v":0},""]
["",{"$f":"IF('INPUT DATA'!B54=\"\",\"\",'INPUT DATA'!B54)","v":""},null,null,null,null,null,null,null,null,null,null,null,null,null,null,null,null,null,null,null,null,null,null,null,null,null,null,"","",null,null,null,null,null,null,null,{"$f":"MAX(FREQUENCY(IF(D55:AB55=\"r\",COLUMN(D55:AB55)),IF(D55:AB55<>\"r\",COLUMN(D55:AB55))))","v":0},""]
["",{"$f":"IF('INPUT DATA'!B55=\"\",\"\",'INPUT DATA'!B55)","v":""},null,null,null,null,null,null,null,null,null,null,null,null,null,null,null,null,null,null,null,null,null,null,null,null,null,null,"","",null,null,null,null,null,null,null,{"$f":"MAX(FREQUENCY(IF(D56:AB56=\"r\",COLUMN(D56:AB56)),IF(D56:AB56<>\"r\",COLUMN(D56:AB56))))","v":0},""]
["",{"$f":"IF('INPUT DATA'!B56=\"\",\"\",'INPUT DATA'!B56)","v":""},null,null,null,null,null,null,null,null,null,null,null,null,null,null,null,null,null,null,null,null,null,null,null,null,null,null,"","",null,null,null,null,null,null,null,{"$f":"MAX(FREQUENCY(IF(D57:AB57=\"r\",COLUMN(D57:AB57)),IF(D57:AB57<>\"r\",COLUMN(D57:AB57))))","v":0},""]
["",{"$f":"IF('INPUT DATA'!B57=\"\",\"\",'INPUT DATA'!B57)","v":""},null,null,null,null,null,null,null,null,null,null,null,null,null,null,null,null,null,null,null,null,null,null,null,null,null,null,"","",null,null,null,null,null,null,null,{"$f":"MAX(FREQUENCY(IF(D58:AB58=\"r\",COLUMN(D58:AB58)),IF(D58:AB58<>\"r\",COLUMN(D58:AB58))))","v":0},""]
["",{"$f":"IF('INPUT DATA'!B58=\"\",\"\",'INPUT DATA'!B58)","v":""},null,null,null,null,null,null,null,null,null,null,null,null,null,null,null,null,null,null,null,null,null,null,null,null,null,null,"","",null,null,null,null,null,null,null,{"$f":"MAX(FREQUENCY(IF(D59:AB59=\"r\",COLUMN(D59:AB59)),IF(D59:AB59<>\"r\",COLUMN(D59:AB59))))","v":0},""]
["",{"$f":"IF('INPUT DATA'!B59=\"\",\"\",'INPUT DATA'!B59)","v":""},null,null,null,null,null,null,null,null,null,null,null,null,null,null,null,null,null,null,null,null,null,null,null,null,null,null,"","",null,null,null,null,null,null,null,{"$f":"MAX(FREQUENCY(IF(D60:AB60=\"r\",COLUMN(D60:AB60)),IF(D60:AB60<>\"r\",COLUMN(D60:AB60))))","v":0},""]
["",{"$f":"IF('INPUT DATA'!B60=\"\",\"\",'INPUT DATA'!B60)","v":""},null,null,null,null,null,null,null,null,null,null,null,null,null,null,null,null,null,null,null,null,null,null,null,null,null,null,"","",null,null,null,null,null,null,null,{"$f":"MAX(FREQUENCY(IF(D61:AB61=\"r\",COLUMN(D61:AB61)),IF(D61:AB61<>\"r\",COLUMN(D61:AB61))))","v":0},""]
["",{"$f":"IF('INPUT DATA'!B61=\"\",\"\",'INPUT DATA'!B61)","v":""},null,null,null,null,null,null,null,null,null,null,null,null,null,null,null,null,null,null,null,null,null,null,null,null,null,null,"","",null,null,null,null,null,null,null,{"$f":"MAX(FREQUENCY(IF(D62:AB62=\"r\",COLUMN(D62:AB62)),IF(D62:AB62<>\"r\",COLUMN(D62:AB62))))","v":0},""]
["",{"$f":"IF('INPUT DATA'!B62=\"\",\"\",'INPUT DATA'!B62)","v":""},null,null,null,null,null,null,null,null,null,null,null,null,null,null,null,null,null,null,null,null,null,null,null,null,null,null,"","",null,null,null,null,null,null,null,{"$f":"MAX(FREQUENCY(IF(D63:AB63=\"r\",COLUMN(D63:AB63)),IF(D63:AB63<>\"r\",COLUMN(D63:AB63))))","v":0},""]
["MALE  | TOTAL Per Day",null,null,{"$f":"IF(D11=\"\",\"\",SUM(COUNTBLANK(D14:D63)-COUNTBLANK($B$14:$B$63),COUNTIF(D14:D63,\"z\")*0.5,COUNTIF(D14:D63,\"y\")*0.5))","v":19},19,19,19,19,19,19,19,19,19,20,20,20,20,20,20,20,20,20,20,20,20,20,20,20,{"$f":"SUM(AC14:AC63)","v":10},{"$f":"SUM(AD14:AD63)","v":490},null,null,null,null,null,null,null,{"$f":"MAX(FREQUENCY(IF(D64:AB64=\"r\",COLUMN(D64:AB64)),IF(D64:AB64<>\"r\",COLUMN(D64:AB64))))","v":0},""]
[{"$f":"IF(B65=\"\",\"\",\"1\")","v":"1"},{"$f":"IF('INPUT DATA'!B64=\"\",\"\",'INPUT DATA'!B64)","v":"Student 1"},null,null,null,null,null,null,null,null,null,null,null,null,null,null,null,null,null,null,null,null,null,null,null,null,null,null,{"$f":"IF(B65=\"\",\"\",SUM(COUNTIF(D65:AB65,\"z\")*0.5,COUNTIF(D65:AB65,\"y\")*0.5,COUNTIF(D65:AB65,\"r\")))","v":0},{"$f":"IF(B65=\"\",\"\",COUNTA($D$11:$AB$11)-AC65)","v":25},null,null,null,null,null,null,null,{"$f":"MAX(FREQUENCY(IF(D65:AB65=\"r\",COLUMN(D65:AB65)),IF(D65:AB65<>\"r\",COLUMN(D65:AB65))))","v":0},""]
[{"$f":"IF(B66=\"\",\"\",A65+1)","v":2},{"$f":"IF('INPUT DATA'!B65=\"\",\"\",'INPUT DATA'!B65)","v":"Student 2"},null,null,null,null,null,null,null,null,null,null,null,null,null,null,null,null,null,null,null,null,null,null,null,null,null,null,{"$f":"IF(B66=\"\",\"\",SUM(COUNTIF(D66:AB66,\"z\")*0.5,COUNTIF(D66:AB66,\"y\")*0.5,COUNTIF(D66:AB66,\"r\")))","v":0},{"$f":"IF(B66=\"\",\"\",COUNTA($D$11:$AB$11)-AC66)","v":25},null,null,null,null,null,null,null,{"$f":"MAX(FREQUENCY(IF(D66:AB66=\"r\",COLUMN(D66:AB66)),IF(D66:AB66<>\"r\",COLUMN(D66:AB66))))","v":0},""]
[{"$f":"IF(B67=\"\",\"\",A66+1)","v":3},{"$f":"IF('INPUT DATA'!B66=\"\",\"\",'INPUT DATA'!B66)","v":"Student 3"},null,null,null,null,null,null,null,null,null,null,null,null,null,null,null,null,null,null,null,null,null,null,null,null,null,null,0,25,null,null,null,null,null,null,null,{"$f":"MAX(FREQUENCY(IF(D67:AB67=\"r\",COLUMN(D67:AB67)),IF(D67:AB67<>\"r\",COLUMN(D67:AB67))))","v":0},""]
[4,{"$f":"IF('INPUT DATA'!B67=\"\",\"\",'INPUT DATA'!B67)","v":"Student 4"},null,null,null,null,null,null,null,null,null,null,null,null,null,null,null,null,null,null,null,null,null,null,null,null,null,null,0,25,null,null,null,null,null,null,null,{"$f":"MAX(FREQUENCY(IF(D68:AB68=\"r\",COLUMN(D68:AB68)),IF(D68:AB68<>\"r\",COLUMN(D68:AB68))))","v":0},""]
[5,{"$f":"IF('INPUT DATA'!B68=\"\",\"\",'INPUT DATA'!B68)","v":"Student 5"},null,null,null,null,null,null,null,null,null,null,null,null,null,null,null,null,null,null,null,null,null,null,null,null,null,null,0,25,null,null,null,null,null,null,null,{"$f":"MAX(FREQUENCY(IF(D69:AB69=\"r\",COLUMN(D69:AB69)),IF(D69:AB69<>\"r\",COLUMN(D69:AB69))))","v":0},""]
[6,{"$f":"IF('INPUT DATA'!B69=\"\",\"\",'INPUT DATA'!B69)","v":"Student 6"},null,null,null,null,null,null,null,null,null,null,null,null,null,null,null,null,null,null,null,null,null,null,null,null,null,null,0,25,null,null,null,null,null,null,null,{"$f":"MAX(FREQUENCY(IF(D70:AB70=\"r\",COLUMN(D70:AB70)),IF(D70:AB70<>\"r\",COLUMN(D70:AB70))))","v":0},""]
[7,{"$f":"IF('INPUT DATA'!B70=\"\",\"\",'INPUT DATA'!B70)","v":"Student 7"},null,null,null,null,null,null,null,null,null,null,null,null,null,null,null,null,null,null,null,null,null,null,null,null,null,null,0,25,null,null,null,null,null,null,null,{"$f":"MAX(FREQUENCY(IF(D71:AB71=\"r\",COLUMN(D71:AB71)),IF(D71:AB71<>\"r\",COLUMN(D71:AB71))))","v":0},""]
[8,{"$f":"IF('INPUT DATA'!B71=\"\",\"\",'INPUT DATA'!B71)","v":"Student 8"},null,null,null,null,null,null,null,null,null,null,null,null,null,null,null,null,null,null,null,null,null,null,null,null,null,null,0,25,null,null,null,null,null,null,null,{"$f":"MAX(FREQUENCY(IF(D72:AB72=\"r\",COLUMN(D72:AB72)),IF(D72:AB72<>\"r\",COLUMN(D72:AB72))))","v":0},""]
[9,{"$f":"IF('INPUT DATA'!B72=\"\",\"\",'INPUT DATA'!B72)","v":"Student 9"},null,null,null,null,null,null,null,null,null,null,null,null,null,null,null,null,null,null,null,null,null,null,null,null,null,null,0,25,null,null,null,null,null,null,null,{"$f":"MAX(FREQUENCY(IF(D73:AB73=\"r\",COLUMN(D73:AB73)),IF(D73:AB73<>\"r\",COLUMN(D73:AB73))))","v":0},""]
[10,{"$f":"IF('INPUT DATA'!B73=\"\",\"\",'INPUT DATA'!B73)","v":"Student 10"},null,null,null,null,null,null,null,null,null,null,null,null,null,null,null,null,null,null,null,null,null,null,null,null,null,null,0,25,null,null,null,null,null,null,null,{"$f":"MAX(FREQUENCY(IF(D74:AB74=\"r\",COLUMN(D74:AB74)),IF(D74:AB74<>\"r\",COLUMN(D74:AB74))))","v":0},""]
[11,{"$f":"IF('INPUT DATA'!B74=\"\",\"\",'INPUT DATA'!B74)","v":"Student 11"},null,null,null,null,null,null,null,null,null,null,null,null,null,null,null,null,null,null,null,null,null,null,null,null,null,null,0,25,null,null,null,null,null,null,null,{"$f":"MAX(FREQUENCY(IF(D75:AB75=\"r\",COLUMN(D75:AB75)),IF(D75:AB75<>\"r\",COLUMN(D75:AB75))))","v":0},""]
[12,{"$f":"IF('INPUT DATA'!B75=\"\",\"\",'INPUT DATA'!B75)","v":"Student 12"},null,null,null,null,null,null,null,null,null,null,null,null,null,null,null,null,null,null,null,null,null,null,null,null,null,null,0,25,null,null,null,null,null,null,null,{"$f":"MAX(FREQUENCY(IF(D76:AB76=\"r\",COLUMN(D76:AB76)),IF(D76:AB76<>\"r\",COLUMN(D76:AB76))))","v":0},""]
[13,{"$f":"IF('INPUT DATA'!B76=\"\",\"\",'INPUT DATA'!B76)","v":"Student 13"},null,null,null,null,null,null,null,null,null,null,null,null,null,null,null,null,null,null,null,null,null,null,null,null,null,null,0,25,null,null,null,null,null,null,null,{"$f":"MAX(FREQUENCY(IF(D77:AB77=\"r\",COLUMN(D77:AB77)),IF(D77:AB77<>\"r\",COLUMN(D77:AB77))))","v":0},""]
[14,{"$f":"IF('INPUT DATA'!B77=\"\",\"\",'INPUT DATA'!B77)","v":"Student 14"},null,null,null,null,null,null,null,null,null,null,null,null,null,null,null,null,null,null,null,null,null,null,null,null,null,null,0,25,null,null,null,null,null,null,null,{"$f":"MAX(FREQUENCY(IF(D78:AB78=\"r\",COLUMN(D78:AB78)),IF(D78:AB78<>\"r\",COLUMN(D78:AB78))))","v":0},""]
[15,{"$f":"IF('INPUT DATA'!B78=\"\",\"\",'INPUT DATA'!B78)","v":"Student 15"},null,null,null,null,null,null,null,null,null,null,null,null,null,null,null,null,null,null,null,null,null,null,null,null,null,null,0,25,null,null,null,null,null,null,null,{"$f":"MAX(FREQUENCY(IF(D79:AB79=\"r\",COLUMN(D79:AB79)),IF(D79:AB79<>\"r\",COLUMN(D79:AB79))))","v":0},{"$f":"IF(AL79>=5,1,\"\")","v":""}]
[16,{"$f":"IF('INPUT DATA'!B79=\"\",\"\",'INPUT DATA'!B79)","v":"Student 16"},null,null,null,null,null,null,null,null,null,null,null,null,null,null,null,null,null,null,null,null,null,null,null,null,null,null,0,25,null,null,null,null,null,null,null,{"$f":"MAX(FREQUENCY(IF(D80:AB80=\"r\",COLUMN(D80:AB80)),IF(D80:AB80<>\"r\",COLUMN(D80:AB80))))","v":0},""]
[17,{"$f":"IF('INPUT DATA'!B80=\"\",\"\",'INPUT DATA'!B80)","v":"Student 17"},null,null,null,null,null,null,null,null,null,null,null,null,null,null,null,null,null,null,null,null,null,null,null,null,null,null,0,25,null,null,null,null,null,null,null,{"$f":"MAX(FREQUENCY(IF(D81:AB81=\"r\",COLUMN(D81:AB81)),IF(D81:AB81<>\"r\",COLUMN(D81:AB81))))","v":0},""]
[18,{"$f":"IF('INPUT DATA'!B81=\"\",\"\",'INPUT DATA'!B81)","v":"Student 18"},null,null,null,null,null,null,null,null,null,null,null,null,null,null,null,null,null,null,null,null,null,null,null,null,null,null,0,25,null,null,null,null,null,null,null,{"$f":"MAX(FREQUENCY(IF(D82:AB82=\"r\",COLUMN(D82:AB82)),IF(D82:AB82<>\"r\",COLUMN(D82:AB82))))","v":0},""]
[19,{"$f":"IF('INPUT DATA'!B82=\"\",\"\",'INPUT DATA'!B82)","v":"Student 19"},null,null,null,null,null,null,null,null,null,null,null,null,null,null,null,null,null,null,null,null,null,null,null,null,null,null,0,25,null,null,null,null,null,null,null,{"$f":"MAX(FREQUENCY(IF(D83:AB83=\"r\",COLUMN(D83:AB83)),IF(D83:AB83<>\"r\",COLUMN(D83:AB83))))","v":0},""]
[20,{"$f":"IF('INPUT DATA'!B83=\"\",\"\",'INPUT DATA'!B83)","v":"Student 20"},null,null,null,null,null,null,null,null,null,null,null,null,null,null,null,null,null,null,null,null,null,null,null,null,null,null,0,25,null,null,null,null,null,null,null,{"$f":"MAX(FREQUENCY(IF(D84:AB84=\"r\",COLUMN(D84:AB84)),IF(D84:AB84<>\"r\",COLUMN(D84:AB84))))","v":0},""]
["",{"$f":"IF('INPUT DATA'!B84=\"\",\"\",'INPUT DATA'!B84)","v":""},null,null,null,null,null,null,null,null,null,null,null,null,null,null,null,null,null,null,null,null,null,null,null,null,null,null,"","",null,null,null,null,null,null,null,{"$f":"MAX(FREQUENCY(IF(D85:AB85=\"r\",COLUMN(D85:AB85)),IF(D85:AB85<>\"r\",COLUMN(D85:AB85))))","v":0},""]
["",{"$f":"IF('INPUT DATA'!B85=\"\",\"\",'INPUT DATA'!B85)","v":""},null,null,null,null,null,null,null,null,null,null,null,null,null,null,null,null,null,null,null,null,null,null,null,null,null,null,"","",null,null,null,null,null,null,null,{"$f":"MAX(FREQUENCY(IF(D86:AB86=\"r\",COLUMN(D86:AB86)),IF(D86:AB86<>\"r\",COLUMN(D86:AB86))))","v":0},""]
["",{"$f":"IF('INPUT DATA'!B86=\"\",\"\",'INPUT DATA'!B86)","v":""},null,null,null,null,null,null,null,null,null,null,null,null,null,null,null,null,null,null,null,null,null,null,null,null,null,null,"","",null,null,null,null,null,null,null,{"$f":"MAX(FREQUENCY(IF(D87:AB87=\"r\",COLUMN(D87:AB87)),IF(D87:AB87<>\"r\",COLUMN(D87:AB87))))","v":0},""]
["",{"$f":"IF('INPUT DATA'!B87=\"\",\"\",'INPUT DATA'!B87)","v":""},null,null,null,null,null,null,null,null,null,null,null,null,null,null,null,null,null,null,null,null,null,null,null,null,null,null,"","",null,null,null,null,null,null,null,{"$f":"MAX(FREQUENCY(IF(D88:AB88=\"r\",COLUMN(D88:AB88)),IF(D88:AB88<>\"r\",COLUMN(D88:AB88))))","v":0},""]
["",{"$f":"IF('INPUT DATA'!B88=\"\",\"\",'INPUT DATA'!B88)","v":""},null,null,null,null,null,null,null,null,null,null,null,null,null,null,null,null,null,null,null,null,null,null,null,null,null,null,"","",null,null,null,null,null,null,null,{"$f":"MAX(FREQUENCY(IF(D89:AB89=\"r\",COLUMN(D89:AB89)),IF(D89:AB89<>\"r\",COLUMN(D89:AB89))))","v":0},""]
["",{"$f":"IF('INPUT DATA'!B89=\"\",\"\",'INPUT DATA'!B89)","v":""},null,null,null,null,null,null,null,null,null,null,null,null,null,null,null,null,null,null,null,null,null,null,null,null,null,null,"","",null,null,null,null,null,null,null,{"$f":"MAX(FREQUENCY(IF(D90:AB90=\"r\",COLUMN(D90:AB90)),IF(D90:AB90<>\"r\",COLUMN(D90:AB90))))","v":0},""]
["",{"$f":"IF('INPUT DATA'!B90=\"\",\"\",'INPUT DATA'!B90)","v":""},null,null,null,null,null,null,null,null,null,null,null,null,null,null,null,null,null,null,null,null,null,null,null,null,null,null,"","",null,null,null,null,null,null,null,{"$f":"MAX(FREQUENCY(IF(D91:AB91=\"r\",COLUMN(D91:AB91)),IF(D91:AB91<>\"r\",COLUMN(D91:AB91))))","v":0},""]
["",{"$f":"IF('INPUT DATA'!B91=\"\",\"\",'INPUT DATA'!B91)","v":""},null,null,null,null,null,null,null,null,null,null,null,null,null,null,null,null,null,null,null,null,null,null,null,null,null,null,"","",null,null,null,null,null,null,null,{"$f":"MAX(FREQUENCY(IF(D92:AB92=\"r\",COLUMN(D92:AB92)),IF(D92:AB92<>\"r\",COLUMN(D92:AB92))))","v":0},""]
["",{"$f":"IF('INPUT DATA'!B92=\"\",\"\",'INPUT DATA'!B92)","v":""},null,null,null,null,null,null,null,null,null,null,null,null,null,null,null,null,null,null,null,null,null,null,null,null,null,null,"","",null,null,null,null,null,null,null,{"$f":"MAX(FREQUENCY(IF(D93:AB93=\"r\",COLUMN(D93:AB93)),IF(D93:AB93<>\"r\",COLUMN(D93:AB93))))","v":0},""]
["",{"$f":"IF('INPUT DATA'!B93=\"\",\"\",'INPUT DATA'!B93)","v":""},null,null,null,null,null,null,null,null,null,null,null,null,null,null,null,null,null,null,null,null,null,null,null,null,null,null,"","",null,null,null,null,null,null,null,{"$f":"MAX(FREQUENCY(IF(D94:AB94=\"r\",COLUMN(D94:AB94)),IF(D94:AB94<>\"r\",COLUMN(D94:AB94))))","v":0},""]
["",{"$f":"IF('INPUT DATA'!B94=\"\",\"\",'INPUT DATA'!B94)","v":""},null,null,null,null,null,null,null,null,null,null,null,null,null,null,null,null,null,null,null,null,null,null,null,null,null,null,"","",null,null,null,null,null,null,null,{"$f":"MAX(FREQUENCY(IF(D95:AB95=\"r\",COLUMN(D95:AB95)),IF(D95:AB95<>\"r\",COLUMN(D95:AB95))))","v":0},""]
["",{"$f":"IF('INPUT DATA'!B95=\"\",\"\",'INPUT DATA'!B95)","v":""},null,null,null,null,null,null,null,null,null,null,null,null,null,null,null,null,null,null,null,null,null,null,null,null,null,null,"","",null,null,null,null,null,null,null,{"$f":"MAX(FREQUENCY(IF(D96:AB96=\"r\",COLUMN(D96:AB96)),IF(D96:AB96<>\"r\",COLUMN(D96:AB96))))","v":0},""]
["",{"$f":"IF('INPUT DATA'!B96=\"\",\"\",'INPUT DATA'!B96)","v":""},null,null,null,null,null,null,null,null,null,null,null,null,null,null,null,null,null,null,null,null,null,null,null,null,null,null,"","",null,null,null,null,null,null,null,{"$f":"MAX(FREQUENCY(IF(D97:AB97=\"r\",COLUMN(D97:AB97)),IF(D97:AB97<>\"r\",COLUMN(D97:AB97))))","v":0},""]
["",{"$f":"IF('INPUT DATA'!B97=\"\",\"\",'INPUT DATA'!B97)","v":""},null,null,null,null,null,null,null,null,null,null,null,null,null,null,null,null,null,null,null,null,null,null,null,null,null,null,"","",null,null,null,null,null,null,null,{"$f":"MAX(FREQUENCY(IF(D98:AB98=\"r\",COLUMN(D98:AB98)),IF(D98:AB98<>\"r\",COLUMN(D98:AB98))))","v":0},""]
["",{"$f":"IF('INPUT DATA'!B98=\"\",\"\",'INPUT DATA'!B98)","v":""},null,null,null,null,null,null,null,null,null,null,null,null,null,null,null,null,null,null,null,null,null,null,null,null,null,null,"","",null,null,null,null,null,null,null,{"$f":"MAX(FREQUENCY(IF(D99:AB99=\"r\",COLUMN(D99:AB99)),IF(D99:AB99<>\"r\",COLUMN(D99:AB99))))","v":0},""]
["",{"$f":"IF('INPUT DATA'!B99=\"\",\"\",'INPUT DATA'!B99)","v":""},null,null,null,null,null,null,null,null,null,null,null,null,null,null,null,null,null,null,null,null,null,null,null,null,null,null,"","",null,null,null,null,null,null,null,{"$f":"MAX(FREQUENCY(IF(D100:AB100=\"r\",COLUMN(D100:AB100)),IF(D100:AB100<>\"r\",COLUMN(D100:AB100))))","v":0},""]
["",{"$f":"IF('INPUT DATA'!B100=\"\",\"\",'INPUT DATA'!B100)","v":""},null,null,null,null,null,null,null,null,null,null,null,null,null,null,null,null,null,null,null,null,null,null,null,null,null,null,"","",null,null,null,null,null,null,null,{"$f":"MAX(FREQUENCY(IF(D101:AB101=\"r\",COLUMN(D101:AB101)),IF(D101:AB101<>\"r\",COLUMN(D101:AB101))))","v":0},""]
["",{"$f":"IF('INPUT DATA'!B101=\"\",\"\",'INPUT DATA'!B101)","v":""},null,null,null,null,null,null,null,null,null,null,null,null,null,null,null,null,null,null,null,null,null,null,null,null,null,null,"","",null,null,null,null,null,null,null,{"$f":"MAX(FREQUENCY(IF(D102:AB102=\"r\",COLUMN(D102:AB102)),IF(D102:AB102<>\"r\",COLUMN(D102:AB102))))","v":0},""]
["",{"$f":"IF('INPUT DATA'!B102=\"\",\"\",'INPUT DATA'!B102)","v":""},null,null,null,null,null,null,null,null,null,null,null,null,null,null,null,null,null,null,null,null,null,null,null,null,null,null,"","",null,null,null,null,null,null,null,{"$f":"MAX(FREQUENCY(IF(D103:AB103=\"r\",COLUMN(D103:AB103)),IF(D103:AB103<>\"r\",COLUMN(D103:AB103))))","v":0},""]
["",{"$f":"IF('INPUT DATA'!B103=\"\",\"\",'INPUT DATA'!B103)","v":""},null,null,null,null,null,null,null,null,null,null,null,null,null,null,null,null,null,null,null,null,null,null,null,null,null,null,"","",null,null,null,null,null,null,null,{"$f":"MAX(FREQUENCY(IF(D104:AB104=\"r\",COLUMN(D104:AB104)),IF(D104:AB104<>\"r\",COLUMN(D104:AB104))))","v":0},""]
["",{"$f":"IF('INPUT DATA'!B104=\"\",\"\",'INPUT DATA'!B104)","v":""},null,null,null,null,null,null,null,null,null,null,null,null,null,null,null,null,null,null,null,null,null,null,null,null,null,null,"","",null,null,null,null,null,null,null,{"$f":"MAX(FREQUENCY(IF(D105:AB105=\"r\",COLUMN(D105:AB105)),IF(D105:AB105<>\"r\",COLUMN(D105:AB105))))","v":0},""]
["",{"$f":"IF('INPUT DATA'!B105=\"\",\"\",'INPUT DATA'!B105)","v":""},null,null,null,null,null,null,null,null,null,null,null,null,null,null,null,null,null,null,null,null,null,null,null,null,null,null,"","",null,null,null,null,null,null,null,{"$f":"MAX(FREQUENCY(IF(D106:AB106=\"r\",COLUMN(D106:AB106)),IF(D106:AB106<>\"r\",COLUMN(D106:AB106))))","v":0},""]
["",{"$f":"IF('INPUT DATA'!B106=\"\",\"\",'INPUT DATA'!B106)","v":""},null,null,null,null,null,null,null,null,null,null,null,null,null,null,null,null,null,null,null,null,null,null,null,null,null,null,"","",null,null,null,null,null,null,null,{"$f":"MAX(FREQUENCY(IF(D107:AB107=\"r\",COLUMN(D107:AB107)),IF(D107:AB107<>\"r\",COLUMN(D107:AB107))))","v":0},""]
["",{"$f":"IF('INPUT DATA'!B107=\"\",\"\",'INPUT DATA'!B107)","v":""},null,null,null,null,null,null,null,null,null,null,null,null,null,null,null,null,null,null,null,null,null,null,null,null,null,null,"","",null,null,null,null,null,null,null,{"$f":"MAX(FREQUENCY(IF(D108:AB108=\"r\",COLUMN(D108:AB108)),IF(D108:AB108<>\"r\",COLUMN(D108:AB108))))","v":0},""]
["",{"$f":"IF('INPUT DATA'!B108=\"\",\"\",'INPUT DATA'!B108)","v":""},null,null,null,null,null,null,null,null,null,null,null,null,null,null,null,null,null,null,null,null,null,null,null,null,null,null,"","",null,null,null,null,null,null,null,{"$f":"MAX(FREQUENCY(IF(D109:AB109=\"r\",COLUMN(D109:AB109)),IF(D109:AB109<>\"r\",COLUMN(D109:AB109))))","v":0},""]
["",{"$f":"IF('INPUT DATA'!B109=\"\",\"\",'INPUT DATA'!B109)","v":""},null,null,null,null,null,null,null,null,null,null,null,null,null,null,null,null,null,null,null,null,null,null,null,null,null,null,"","",null,null,null,null,null,null,null,{"$f":"MAX(FREQUENCY(IF(D110:AB110=\"r\",COLUMN(D110:AB110)),IF(D110:AB110<>\"r\",COLUMN(D110:AB110))))","v":0},""]
["",{"$f":"IF('INPUT DATA'!B110=\"\",\"\",'INPUT DATA'!B110)","v":""},null,null,null,null,null,null,null,null,null,null,null,null,null,null,null,null,null,null,null,null,null,null,null,null,null,null,"","",null,null,null,null,null,null,null,{"$f":"MAX(FREQUENCY(IF(D111:AB111=\"r\",COLUMN(D111:AB111)),IF(D111:AB111<>\"r\",COLUMN(D111:AB111))))","v":0},""]
["",{"$f":"IF('INPUT DATA'!B111=\"\",\"\",'INPUT DATA'!B111)","v":""},null,null,null,null,null,null,null,null,null,null,null,null,null,null,null,null,null,null,null,null,null,null,null,null,null,null,"","",null,null,null,null,null,null,null,{"$f":"MAX(FREQUENCY(IF(D112:AB112=\"r\",COLUMN(D112:AB112)),IF(D112:AB112<>\"r\",COLUMN(D112:AB112))))","v":0},""]
["",{"$f":"IF('INPUT DATA'!B112=\"\",\"\",'INPUT DATA'!B112)","v":""},null,null,null,null,null,null,null,null,null,null,null,null,null,null,null,null,null,null,null,null,null,null,null,null,null,null,"","",null,null,null,null,null,null,null,{"$f":"MAX(FREQUENCY(IF(D113:AB113=\"r\",COLUMN(D113:AB113)),IF(D113:AB113<>\"r\",COLUMN(D113:AB113))))","v":0},""]
["",{"$f":"IF('INPUT DATA'!B113=\"\",\"\",'INPUT DATA'!B113)","v":""},null,null,null,null,null,null,null,null,null,null,null,null,null,null,null,null,null,null,null,null,null,null,null,null,null,null,"","",null,null,null,null,null,null,null,{"$f":"MAX(FREQUENCY(IF(D114:AB114=\"r\",COLUMN(D114:AB114)),IF(D114:AB114<>\"r\",COLUMN(D114:AB114))))","v":0},""]
["FEMALE  | TOTAL Per Day",null,null,{"$f":"IF(D11=\"\",\"\",SUM(COUNTBLANK(D65:D114)-COUNTBLANK($B$65:$B$114),COUNTIF(D65:D114,\"z\")*0.5,COUNTIF(D65:D114,\"y\")*0.5))","v":20},20,20,20,20,20,20,20,20,20,20,20,20,20,20,20,20,20,20,20,20,20,20,20,20,{"$f":"SUM(AC65:AC114)","v":0},{"$f":"SUM(AD65:AD114)","v":500}]
["    Combined TOTAL PER DAY",null,null,{"$f":"IF(D11=\"\",\"\",SUM(D64,D115))","v":39},39,39,39,39,39,39,39,39,39,40,40,40,40,40,40,40,40,40,40,40,40,40,40,40,{"$f":"SUM(AC64,AC115)","v":10},{"$f":"SUM(AD64,AD115)","v":990}]
[]
["GUIDELINES:",null,null,null,null,null,null,null,null,null,null,null,null,null,null,null,"1. CODES FOR CHECKING ATTENDANCE",null,null,null,null,null,null,null,null,null,null,"Month:",{"$f":"X6","v":"October"},null,"No. of Days of Classes:",null,{"$f":"COUNT(D11:AB11)","v":25},"Summary for the Month"]
["1. The attendance shall be accomplished daily. Refer to the codes for checking learners' attendance.",null,null,null,null,null,null,null,null,null,null,null,null,null,null,null,"blank- Present;   (x)- Absent; Tardy (half shaded= Upper for Late Commer, Lower for Cutting Classes)",null,null,null,null,null,null,null,null,null,null,null,null,null,null,null,null,"M","F","TOTAL"]
["2. Dates shall be written in the preceding columns beside Learner's Name.",null,null,null,null,null,null,null,null,null,null,null,null,null,null,null,null,null,null,null,null,null,null,null,null,null,null,"* Enrolment  as of  (1st Friday of June)",null,null,null,null,null,{"$f":"IF('INPUT DATA'!V79=\"\",\"\",'INPUT DATA'!V79)","v":""},{"$f":"IF('INPUT DATA'!W79=\"\",\"\",'INPUT DATA'!W79)","v":""},{"$f":"SUM(AH120:AI121)","v":0}]
["3. To compute the following:"]
["a.","Percentage of Enrolment =",null,"Registered Learner as of End of the Month",null,null,null,null,null,null,null,null,null,"x 100",null,null,"2. REASONS/CAUSES OF DROP-OUTS",null,null,null,null,null,null,null,null,null,null,"Late Enrollment during the month                                               (beyond cut-off)",null,null,null,null,null,{"$f":"IF('INPUT DATA'!V80=\"\",\"\",'INPUT DATA'!V80)","v":""},{"$f":"IF('INPUT DATA'!W80=\"\",\"\",'INPUT DATA'!W80)","v":""},{"$f":"SUM(AH122:AI123)","v":0}]
[null,null,null,"Enrolment as of 1st Friday of June",null,null,null,null,null,null,null,null,null,null,null,null,"a. Domestic-Related Factors"]
["b.","Average Daily Attendance = ",null,"Total Daily Attendance",null,null,null,null,null,null,null,null,null,null,null,null,"a.1. Had to take care of siblings",null,null,null,null,null,null,null,null,null,null,"Registered Learner as of end of the month",null,null,null,null,null,{"$f":"IF('INPUT DATA'!V81=\"\",\"\",'INPUT DATA'!V81)","v":""},{"$f":"IF('INPUT DATA'!W81=\"\",\"\",'INPUT DATA'!W81)","v":""},{"$f":"SUM(AH124:AI125)","v":0}]
[null,null,null,"Number of School Days in reporting month",null,null,null,null,null,null,null,null,null,null,null,null,"a.2. Early marriage/pregnancy"]
["c.","Percentage of Attendance for the month =",null,"Average daily attendance",null,null,null,null,null,null,null,null,null,"x 100",null,null,"a.3. Parents' attitude toward schooling",null,null,null,null,null,null,null,null,null,null,"Percentage of Enrolment as of end of the month",null,null,null,null,null,{"$f":"CONCATENATE(IFERROR(ROUND((AH124)/(AH120)*100,0),\"\"),\"%\")","v":"%"},{"$f":"CONCATENATE(IFERROR(ROUND((AI124)/(AI120)*100,0),\"\"),\"%\")","v":"%"},{"$f":"CONCATENATE(IFERROR(ROUND((AJ124)/(AJ120)*100,0),\"\"),\"%\")","v":"%"}]
[null,null,null,"Registered Learner as of End of the month",null,null,null,null,null,null,null,null,null,null,null,null,"a.4. Family problems"]
[null,null,null,null,null,null,null,null,null,null,null,null,null,null,null,null,"b. Individual-Related Factors",null,null,null,null,null,null,null,null,null,null,"Average Daily Attendance",null,null,null,null,null,{"$f":"IFERROR(ROUND((AD64)/COUNTA(D11:AB11),2),\"\")","v":19.600000000000001},{"$f":"IFERROR(ROUND((AD115/COUNTA(D11:AB11)),2),\"\")","v":20},{"$f":"IFERROR(ROUND((AD116)/COUNTA(D11:AB11),2),\"\")","v":39.6}]
["4. Every End of the month, the class adviser will submit this form to the office of the principal for recording of \n     summary table into the School Form 4. Once signed by the principal, this form should be returned to the adviser.",null,null,null,null,null,null,null,null,null,null,null,null,null,null,null,"b.1. Illness",null,null,null,null,null,null,null,null,null,null,"Percentage of Attendance for the month ",null,null,null,null,null,{"$f":"CONCATENATE(IFERROR(ROUND((AH128/AH124)*100,0),\"\"),\"%\")","v":"%"},{"$f":"CONCATENATE(IFERROR(ROUND((AI128/AI124)*100,0),\"\"),\"%\")","v":"%"},{"$f":"CONCATENATE(IFERROR(ROUND((AJ128/AJ124)*100,0),\"\"),\"%\")","v":"%"}]
[null,null,null,null,null,null,null,null,null,null,null,null,null,null,null,null,"b.2. Overage"]
["5. The adviser will extend neccessary intervention including but not limited to home visitation  to learner/s that committed 5 consecutive days of absences or those with potentials of dropping out",null,null,null,null,null,null,null,null,null,null,null,null,null,null,null,"b.3. Death",null,null,null,null,null,null,null,null,null,null,"Number of students with 5 consecutive days of absences:",null,null,null,null,null,{"$f":"SUM(AM14:AM63)","v":1},{"$f":"SUM(AM65:AM114)","v":0},{"$f":"SUM(AH131:AI132)","v":1}]
[null,null,null,null,null,null,null,null,null,null,null,null,null,null,null,null,"b.4. Drug Abuse"]
["6.  Attendance performance of learner is expected to reflect in Form 137 and Form 138 every grading period",null,null,null,null,null,null,null,null,null,null,null,null,null,null,null,"b.5. Poor academic performance",null,null,null,null,null,null,null,null,null,null,"Drop out",null,null,null,null,null,{"$f":"IF('INPUT DATA'!V82=\"\",\"\",'INPUT DATA'!V82)","v":""},{"$f":"IF('INPUT DATA'!W82=\"\",\"\",'INPUT DATA'!W82)","v":""},{"$f":"SUM(AH133:AI134)","v":0}]
["*","Beginning of School Year cut-off report is every 1st Friday of School Calendar Days",null,null,null,null,null,null,null,null,null,null,null,null,null,null,"b.6. Lack of interest/Distractions"]
[null,null,null,null,null,null,null,null,null,null,null,null,null,null,null,null,"b.7. Hunger/Malnutrition",null,null,null,null,null,null,null,null,null,null,"Transferred out",null,null,null,null,null,{"$f":"IF('INPUT DATA'!V83=\"\",\"\",'INPUT DATA'!V83)","v":""},{"$f":"IF('INPUT DATA'!W83=\"\",\"\",'INPUT DATA'!W83)","v":""},{"$f":"SUM(AH135:AI136)","v":0}]
[null,null,null,null,null,null,null,null,null,null,null,null,null,null,null,null,"c. School-Related Factors"]
[null,null,null,null,null,null,null,null,null,null,null,null,null,null,null,null,"c.1. Teacher Factor",null,null,null,null,null,null,null,null,null,null,"Transferred in",null,null,null,null,null,{"$f":"IF('INPUT DATA'!V84=\"\",\"\",'INPUT DATA'!V84)","v":""},{"$f":"IF('INPUT DATA'!W84=\"\",\"\",'INPUT DATA'!W84)","v":""},{"$f":"SUM(AH137:AI138)","v":0}]
[null,null,null,null,null,null,null,null,null,null,null,null,null,null,null,null,"c.2. Physical condition of classroom"]
[null,null,null,null,null,null,null,null,null,null,null,null,null,null,null,null,"c.3. Peer influence"]
[null,null,null,null,null,null,null,null,null,null,null,null,null,null,null,null,"d. Geographic/Environmental",null,null,null,null,null,null,null,null,null,null,"I certify that this is a true and correct report."]
[null,null,null,null,null,null,null,null,null,null,null,null,null,null,null,null,"d.1. Distance between home and school"]
[null,null,null,null,null,null,null,null,null,null,null,null,null,null,null,null,"d.2. Armed conflict (incl. Tribal wars & clanfeuds)",null,null,null,null,null,null,null,null,null,null,null,null,{"$f":"UPPER(IF('INPUT DATA'!R7=\"\",\"\",'INPUT DATA'!R7))","v":""}]
[null,null,null,null,null,null,null,null,null,null,null,null,null,null,null,null,null,null,null,null,null,null,null,null,null,null,null,null,"                          (Signature of Teacher over Printed Name)"]
[null,null,null,null,null,null,null,null,null,null,null,null,null,null,null,null,"d.3. Calamities/Disasters"]
[null,null,null,null,null,null,null,null,null,null,null,null,null,null,null,null,"e. Financial-Related",null,null,null,null,null,null,null,null,null,null,"Attested by:"]
[null,null,null,null,null,null,null,null,null,null,null,null,null,null,null,null,"e.1. Child labor, work",null,null,null,null,null,null,null,null,null,null,null,null,{"$f":"UPPER(IF('INPUT DATA'!R6=\"\",\"\",'INPUT DATA'!R6))","v":""}]
[null,null,null,null,null,null,null,null,null,null,null,null,null,null,null,null,"f. Others",null,null,null,null,null,null,null,null,null,null,null,null,null,null," (Signature of School Head over Printed Name)"]

{"sheet":"SEP","index":5,"n_rows":147,"n_cols":39,"rows_kept":147,"cut":false,"hidden":true,"merged":[[145,29,145,34],[136,1,137,6],[136,27,137,32],[136,33,137,33],[136,34,137,34],[136,35,137,35],[141,16,142,25],[141,29,141,34],[132,27,133,32],[132,33,133,33],[132,34,133,34],[132,35,133,35],[133,1,133,13],[134,27,135,32],[134,33,135,33],[134,34,135,34],[134,35,135,35],[128,34,129,34],[128,35,129,35],[130,0,131,14],[130,27,131,32],[130,33,131,33],[130,34,131,34],[130,35,131,35],[126,3,126,12],[127,0,127,11],[127,27,127,32],[128,0,129,13],[128,27,129,32],[128,33,129,33],[123,0,124,0],[123,1,124,1],[123,3,123,12],[123,27,124,32],[123,33,124,33],[123,34,124,34],[123,35,124,35],[124,3,124,12],[125,0,126,0],[125,1,126,2],[125,3,125,12],[125,13,126,14],[125,27,126,32],[125,33,126,33],[125,34,126,34],[125,35,126,35],[120,0,120,13],[121,0,122,0],[121,1,122,1],[121,3,121,12],[121,13,122,14],[121,27,122,32],[117,28,117,29],[117,30,118,31],[117,33,117,35],[118,0,118,13],[118,16,120,24],[119,0,119,13],[119,27,120,32],[119,33,120,33],[119,34,120,34],[119,35,120,35],[121,33,122,33],[121,34,122,34],[121,35,122,35],[122,3,122,12],[113,30,113,35],[114,0,114,2],[114,30,114,35],[115,0,115,2],[115,30,115,35],[116,0,116,1],[116,3,116,7],[108,1,108,2],[109,1,109,2],[110,1,110,2],[111,1,111,2],[112,1,112,2],[113,1,113,2],[102,1,102,2],[103,1,103,2],[104,1,104,2],[105,1,105,2],[106,1,106,2],[107,1,107,2],[96,1,96,2],[97,1,97,2],[98,1,98,2],[99,1,99,2],[100,1,100,2],[101,1,101,2],[90,1,90,2],[91,1,91,2],[92,1,92,2],[93,1,93,2],[94,1,94,2],[95,1,95,2],[86,1,86,2],[86,30,86,35],[87,1,87,2],[87,30,87,35],[88,1,88,2],[89,1,89,2],[83,1,83,2],[83,30,83,35],[84,1,84,2],[84,30,84,35],[85,1,85,2],[85,30,85,35],[80,1,80,2],[80,30,80,35],[81,1,81,2],[81,30,81,35],[82,1,82,2],[82,30,82,35],[77,1,77,2],[77,30,77,35],[78,1,78,2],[78,30,78,35],[79,1,79,2],[79,30,79,35],[74,1,74,2],[74,30,74,35],[75,1,75,2],[75,30,75,35],[76,1,76,2],[76,30,76,35],[71,1,71,2],[71,30,71,35],[72,1,72,2],[72,30,72,35],[73,1,73,2],[73,30,73,35],[68,1,68,2],[68,30,68,35],[69,1,69,2],[69,30,69,35],[70,1,70,2],[70,30,70,35],[65,1,65,2],[65,30,65,35],[66,1,66,2],[66,30,66,35],[67,1,67,2],[67,30,67,35],[61,1,61,2],[62,1,62,2],[62,30,62,35],[63,0,63,2],[64,1,64,2],[64,30,64,35],[55,1,55,2],[56,1,56,2],[57,1,57,2],[58,1,58,2],[59,1,59,2],[60,1,60,2],[49,1,49,2],[50,1,50,2],[51,1,51,2],[52,1,52,2],[53,1,53,2],[54,1,54,2],[43,1,43,2],[44,1,44,2],[45,1,45,2],[46,1,46,2],[47,1,47,2],[48,1,48,2],[37,1,37,2],[38,1,38,2],[39,1,39,2],[40,1,40,2],[41,1,41,2],[42,1,42,2],[34,1,34,2],[34,30,34,35],[35,1,35,2],[35,30,35,35],[36,1,36,2],[36,30,36,35],[31,1,31,2],[31,30,31,35],[32,1,32,2],[32,30,32,35],[33,1,33,2],[33,30,33,35],[28,1,28,2],[28,30,28,35],[29,1,29,2],[29,30,29,35],[30,1,30,2],[30,30,30,35],[25,1,25,2],[25,30,25,35],[26,1,26,2],[26,30,26,35],[27,1,27,2],[27,30,27,35],[22,1,22,2],[22,30,22,35],[23,1,23,2],[23,30,23,35],[24,1,24,2],[24,30,24,35],[19,1,19,2],[19,30,19,35],[20,1,20,2],[20,30,20,35],[21,1,21,2],[21,30,21,35],[18,1,18,2],[18,30,18,35],[11,29,12,29],[13,1,13,2],[13,30,13,35],[14,1,14,2],[14,30,14,35],[15,1,15,2],[15,30,15,35],[9,0,12,2],[9,3,9,27],[9,28,10,29],[9,30,12,35],[11,28,12,28],[16,1,16,2],[16,30,16,35],[17,1,17,2],[17,30,17,35],[1,0,1,35],[2,0,2,35],[5,2,5,4],[5,10,5,14],[5,16,5,22],[5,23,5,28],[7,2,7,14],[7,19,7,22],[7,23,7,24],[7,25,7,27],[7,28,7,33]]}
[]
["School Form 2 (SF2) Daily Attendance Report of Learners"]
["(This replaced Form 1, Form 2 & STS Form 4 - Absenteeism and Dropout Profile)"]
[]
[]
[null,"School ID",{"$f":"IF('INPUT DATA'!R5=\"\",\"\",'INPUT DATA'!R5)","v":""},null,null,null,null,"School Year",null,null,{"$f":"IF('INPUT DATA'!R4=\"\",\"\",'INPUT DATA'!R4)","v":""},null,null,null,null,null,"Report for the  Month of",null,null,null,null,null,null,"September"]
[]
[null,"Name of School",{"$f":"IF('INPUT DATA'!F5=\"\",\"\",'INPUT DATA'!F5)","v":""},null,null,null,null,null,null,null,null,null,null,null,null,null,null,null,null,"Grade Level",null,null,null,{"$f":"IF('INPUT DATA'!R8=\"\",\"\",'INPUT DATA'!R8)","v":""},null,"Section",null,null,{"$f":"IF('INPUT DATA'!R9=\"\",\"\",'INPUT DATA'!R9)","v":""}]
[]
["LEARNER'S NAME                                                                                         (Last Name, First Name, Middle Name)                                  ",null,null,"(1st row for date, 2nd row for Day: M,T,W,TH,F)",null,null,null,null,null,null,null,null,null,null,null,null,null,null,null,null,null,null,null,null,null,null,null,null,"Total for the Month             ",null,"REMARK/S (If DROPPED OUT, state reason, please refer to legend number 2.\nIf TRANSFERRED IN/OUT, write the name of School.)"]
[null,null,null,1,2,3,4,5,6,7,8,9,10,11,12,13,14,15,16,17,18,19,20,21,22,23,24,25]
[null,null,null,"Mon","Tue","Wed","Thu","Fri","Mon","Tue","Wed","Thu","Fri","Mon","Tue","Wed","Thu","Fri","Mon","Tue","Wed","Thu","Fri","Mon","Tue","Wed","Thu","Fri","ABSENT","PRESENT"]
[null,null,null,false,false,false,false,false,false,false,false,false,false,false,false,false,false,false,false,false,false,false,false,false,false,false,false,false]
[{"$f":"IF(B14=\"\",\"\",\"1\")","v":"1"},{"$f":"IF('INPUT DATA'!B13=\"\",\"\",'INPUT DATA'!B13)","v":"Student 1"},null,"r","r","r","r","r","r","r","r","r",null,null,null,null,null,null,null,null,null,null,null,null,null,null,null,null,{"$f":"IF(B14=\"\",\"\",SUM(COUNTIF(D14:AB14,\"z\")*0.5,COUNTIF(D14:AB14,\"y\")*0.5,COUNTIF(D14:AB14,\"r\")))","v":9},{"$f":"IF(B14=\"\",\"\",COUNTA($D$11:$AB$11)-AC14)","v":16},null,null,null,null,null,null,null,{"$f":"MAX(FREQUENCY(IF(D14:AB14=\"r\",COLUMN(D14:AB14)),IF(D14:AB14<>\"r\",COLUMN(D14:AB14))))","v":9},{"$f":"IF(AL14>=5,1,\"\")","v":1}]
[{"$f":"IF(B15=\"\",\"\",A14+1)","v":2},{"$f":"IF('INPUT DATA'!B14=\"\",\"\",'INPUT DATA'!B14)","v":"Student 2"},null,null,null,null,null,null,null,null,null,null,null,null,null,null,null,null,null,null,null,null,null,null,null,null,null,null,{"$f":"IF(B15=\"\",\"\",SUM(COUNTIF(D15:AB15,\"z\")*0.5,COUNTIF(D15:AB15,\"y\")*0.5,COUNTIF(D15:AB15,\"r\")))","v":0},{"$f":"IF(B15=\"\",\"\",COUNTA($D$11:$AB$11)-AC15)","v":25},null,null,null,null,null,null,null,{"$f":"MAX(FREQUENCY(IF(D15:AB15=\"r\",COLUMN(D15:AB15)),IF(D15:AB15<>\"r\",COLUMN(D15:AB15))))","v":0},{"$f":"IF(AL15>=5,1,\"\")","v":""}]
[{"$f":"IF(B16=\"\",\"\",A15+1)","v":3},{"$f":"IF('INPUT DATA'!B15=\"\",\"\",'INPUT DATA'!B15)","v":"Student 3"},null,null,null,null,null,null,null,null,null,null,null,null,null,null,null,null,null,null,null,null,null,null,null,null,null,null,0,25,null,null,null,null,null,null,null,{"$f":"MAX(FREQUENCY(IF(D16:AB16=\"r\",COLUMN(D16:AB16)),IF(D16:AB16<>\"r\",COLUMN(D16:AB16))))","v":0},""]
[4,{"$f":"IF('INPUT DATA'!B16=\"\",\"\",'INPUT DATA'!B16)","v":"Student 4"},null,null,null,null,null,null,null,null,null,null,null,null,null,null,null,null,null,null,null,null,null,null,null,null,null,null,0,25,null,null,null,null,null,null,null,{"$f":"MAX(FREQUENCY(IF(D17:AB17=\"r\",COLUMN(D17:AB17)),IF(D17:AB17<>\"r\",COLUMN(D17:AB17))))","v":0},""]
[5,{"$f":"IF('INPUT DATA'!B17=\"\",\"\",'INPUT DATA'!B17)","v":"Student 5"},null,null,null,null,null,null,null,null,null,null,null,null,null,null,null,null,null,null,null,null,null,null,null,null,null,null,0,25,null,null,null,null,null,null,null,{"$f":"MAX(FREQUENCY(IF(D18:AB18=\"r\",COLUMN(D18:AB18)),IF(D18:AB18<>\"r\",COLUMN(D18:AB18))))","v":0},""]
[6,{"$f":"IF('INPUT DATA'!B18=\"\",\"\",'INPUT DATA'!B18)","v":"Student 6"},null,null,null,null,null,null,null,null,null,null,null,null,null,null,null,null,null,null,null,null,null,null,null,null,null,null,0,25,null,null,null,null,null,null,null,{"$f":"MAX(FREQUENCY(IF(D19:AB19=\"r\",COLUMN(D19:AB19)),IF(D19:AB19<>\"r\",COLUMN(D19:AB19))))","v":0},""]
[7,{"$f":"IF('INPUT DATA'!B19=\"\",\"\",'INPUT DATA'!B19)","v":"Student 7"},null,null,null,null,null,null,null,null,null,null,null,null,null,null,null,null,null,null,null,null,null,null,null,null,null,null,0,25,null,null,null,null,null,null,null,{"$f":"MAX(FREQUENCY(IF(D20:AB20=\"r\",COLUMN(D20:AB20)),IF(D20:AB20<>\"r\",COLUMN(D20:AB20))))","v":0},""]
[8,{"$f":"IF('INPUT DATA'!B20=\"\",\"\",'INPUT DATA'!B20)","v":"Student 8"},null,null,null,null,null,null,null,null,null,null,null,null,null,null,null,null,null,null,null,null,null,null,null,null,null,null,0,25,null,null,null,null,null,null,null,{"$f":"MAX(FREQUENCY(IF(D21:AB21=\"r\",COLUMN(D21:AB21)),IF(D21:AB21<>\"r\",COLUMN(D21:AB21))))","v":0},""]
[9,{"$f":"IF('INPUT DATA'!B21=\"\",\"\",'INPUT DATA'!B21)","v":"Student 9"},null,null,null,null,null,null,null,null,null,null,null,null,null,null,null,null,null,null,null,null,null,null,null,null,null,null,0,25,null,null,null,null,null,null,null,{"$f":"MAX(FREQUENCY(IF(D22:AB22=\"r\",COLUMN(D22:AB22)),IF(D22:AB22<>\"r\",COLUMN(D22:AB22))))","v":0},""]
[10,{"$f":"IF('INPUT DATA'!B22=\"\",\"\",'INPUT DATA'!B22)","v":"Student 10"},null,null,null,null,null,null,null,null,null,null,null,null,null,null,null,null,null,null,null,null,null,null,null,null,null,null,0,25,null,null,null,null,null,null,null,{"$f":"MAX(FREQUENCY(IF(D23:AB23=\"r\",COLUMN(D23:AB23)),IF(D23:AB23<>\"r\",COLUMN(D23:AB23))))","v":0},""]
[11,{"$f":"IF('INPUT DATA'!B23=\"\",\"\",'INPUT DATA'!B23)","v":"Student 11"},null,null,null,null,null,null,null,null,null,null,null,null,null,null,null,null,null,null,null,null,null,null,null,null,null,null,0,25,null,null,null,null,null,null,null,{"$f":"MAX(FREQUENCY(IF(D24:AB24=\"r\",COLUMN(D24:AB24)),IF(D24:AB24<>\"r\",COLUMN(D24:AB24))))","v":0},""]
[12,{"$f":"IF('INPUT DATA'!B24=\"\",\"\",'INPUT DATA'!B24)","v":"Student 12"},null,null,null,null,null,null,null,null,null,null,null,null,null,null,null,null,null,null,null,null,null,null,null,null,null,null,0,25,null,null,null,null,null,null,null,{"$f":"MAX(FREQUENCY(IF(D25:AB25=\"r\",COLUMN(D25:AB25)),IF(D25:AB25<>\"r\",COLUMN(D25:AB25))))","v":0},""]
[13,{"$f":"IF('INPUT DATA'!B25=\"\",\"\",'INPUT DATA'!B25)","v":"Student 13"},null,null,null,null,null,null,null,null,null,null,null,null,null,null,null,null,null,null,null,null,null,null,null,null,null,null,0,25,null,null,null,null,null,null,null,{"$f":"MAX(FREQUENCY(IF(D26:AB26=\"r\",COLUMN(D26:AB26)),IF(D26:AB26<>\"r\",COLUMN(D26:AB26))))","v":0},""]
[14,{"$f":"IF('INPUT DATA'!B26=\"\",\"\",'INPUT DATA'!B26)","v":"Student 14"},null,null,null,null,null,null,null,null,null,null,null,null,null,null,null,null,null,null,null,null,null,null,null,null,null,null,0,25,null,null,null,null,null,null,null,{"$f":"MAX(FREQUENCY(IF(D27:AB27=\"r\",COLUMN(D27:AB27)),IF(D27:AB27<>\"r\",COLUMN(D27:AB27))))","v":0},""]
[15,{"$f":"IF('INPUT DATA'!B27=\"\",\"\",'INPUT DATA'!B27)","v":"Student 15"},null,null,null,null,null,null,null,null,null,null,null,null,null,null,null,null,null,null,null,null,null,null,null,null,null,null,0,25,null,null,null,null,null,null,null,{"$f":"MAX(FREQUENCY(IF(D28:AB28=\"r\",COLUMN(D28:AB28)),IF(D28:AB28<>\"r\",COLUMN(D28:AB28))))","v":0},""]
[16,{"$f":"IF('INPUT DATA'!B28=\"\",\"\",'INPUT DATA'!B28)","v":"Student 16"},null,null,null,null,null,null,null,null,null,null,null,null,null,null,null,null,null,null,null,null,null,null,null,null,null,null,0,25,null,null,null,null,null,null,null,{"$f":"MAX(FREQUENCY(IF(D29:AB29=\"r\",COLUMN(D29:AB29)),IF(D29:AB29<>\"r\",COLUMN(D29:AB29))))","v":0},""]
[17,{"$f":"IF('INPUT DATA'!B29=\"\",\"\",'INPUT DATA'!B29)","v":"Student 17"},null,null,null,null,null,null,null,null,null,null,null,null,null,null,null,null,null,null,null,null,null,null,null,null,null,null,0,25,null,null,null,null,null,null,null,{"$f":"MAX(FREQUENCY(IF(D30:AB30=\"r\",COLUMN(D30:AB30)),IF(D30:AB30<>\"r\",COLUMN(D30:AB30))))","v":0},""]
[18,{"$f":"IF('INPUT DATA'!B30=\"\",\"\",'INPUT DATA'!B30)","v":"Student 18"},null,null,null,null,null,null,null,null,null,null,null,null,null,null,null,null,null,null,null,null,null,null,null,null,null,null,0,25,null,null,null,null,null,null,null,{"$f":"MAX(FREQUENCY(IF(D31:AB31=\"r\",COLUMN(D31:AB31)),IF(D31:AB31<>\"r\",COLUMN(D31:AB31))))","v":0},""]
[19,{"$f":"IF('INPUT DATA'!B31=\"\",\"\",'INPUT DATA'!B31)","v":"Student 19"},null,null,null,null,null,null,null,null,null,null,null,null,null,null,null,null,null,null,null,null,null,null,null,null,null,null,0,25,null,null,null,null,null,null,null,{"$f":"MAX(FREQUENCY(IF(D32:AB32=\"r\",COLUMN(D32:AB32)),IF(D32:AB32<>\"r\",COLUMN(D32:AB32))))","v":0},""]
[20,{"$f":"IF('INPUT DATA'!B32=\"\",\"\",'INPUT DATA'!B32)","v":"Student 20"},null,null,null,null,null,null,null,null,null,null,null,null,null,null,null,null,null,null,null,null,null,null,null,null,null,null,0,25,null,null,null,null,null,null,null,{"$f":"MAX(FREQUENCY(IF(D33:AB33=\"r\",COLUMN(D33:AB33)),IF(D33:AB33<>\"r\",COLUMN(D33:AB33))))","v":0},""]
["",{"$f":"IF('INPUT DATA'!B33=\"\",\"\",'INPUT DATA'!B33)","v":""},null,null,null,null,null,null,null,null,null,null,null,null,null,null,null,null,null,null,null,null,null,null,null,null,null,null,"","",null,null,null,null,null,null,null,{"$f":"MAX(FREQUENCY(IF(D34:AB34=\"r\",COLUMN(D34:AB34)),IF(D34:AB34<>\"r\",COLUMN(D34:AB34))))","v":0},""]
["",{"$f":"IF('INPUT DATA'!B34=\"\",\"\",'INPUT DATA'!B34)","v":""},null,null,null,null,null,null,null,null,null,null,null,null,null,null,null,null,null,null,null,null,null,null,null,null,null,null,"","",null,null,null,null,null,null,null,{"$f":"MAX(FREQUENCY(IF(D35:AB35=\"r\",COLUMN(D35:AB35)),IF(D35:AB35<>\"r\",COLUMN(D35:AB35))))","v":0},""]
["",{"$f":"IF('INPUT DATA'!B35=\"\",\"\",'INPUT DATA'!B35)","v":""},null,null,null,null,null,null,null,null,null,null,null,null,null,null,null,null,null,null,null,null,null,null,null,null,null,null,"","",null,null,null,null,null,null,null,{"$f":"MAX(FREQUENCY(IF(D36:AB36=\"r\",COLUMN(D36:AB36)),IF(D36:AB36<>\"r\",COLUMN(D36:AB36))))","v":0},""]
["",{"$f":"IF('INPUT DATA'!B36=\"\",\"\",'INPUT DATA'!B36)","v":""},null,null,null,null,null,null,null,null,null,null,null,null,null,null,null,null,null,null,null,null,null,null,null,null,null,null,"","",null,null,null,null,null,null,null,{"$f":"MAX(FREQUENCY(IF(D37:AB37=\"r\",COLUMN(D37:AB37)),IF(D37:AB37<>\"r\",COLUMN(D37:AB37))))","v":0},""]
["",{"$f":"IF('INPUT DATA'!B37=\"\",\"\",'INPUT DATA'!B37)","v":""},null,null,null,null,null,null,null,null,null,null,null,null,null,null,null,null,null,null,null,null,null,null,null,null,null,null,"","",null,null,null,null,null,null,null,{"$f":"MAX(FREQUENCY(IF(D38:AB38=\"r\",COLUMN(D38:AB38)),IF(D38:AB38<>\"r\",COLUMN(D38:AB38))))","v":0},""]
["",{"$f":"IF('INPUT DATA'!B38=\"\",\"\",'INPUT DATA'!B38)","v":""},null,null,null,null,null,null,null,null,null,null,null,null,null,null,null,null,null,null,null,null,null,null,null,null,null,null,"","",null,null,null,null,null,null,null,{"$f":"MAX(FREQUENCY(IF(D39:AB39=\"r\",COLUMN(D39:AB39)),IF(D39:AB39<>\"r\",COLUMN(D39:AB39))))","v":0},""]
["",{"$f":"IF('INPUT DATA'!B39=\"\",\"\",'INPUT DATA'!B39)","v":""},null,null,null,null,null,null,null,null,null,null,null,null,null,null,null,null,null,null,null,null,null,null,null,null,null,null,"","",null,null,null,null,null,null,null,{"$f":"MAX(FREQUENCY(IF(D40:AB40=\"r\",COLUMN(D40:AB40)),IF(D40:AB40<>\"r\",COLUMN(D40:AB40))))","v":0},""]
["",{"$f":"IF('INPUT DATA'!B40=\"\",\"\",'INPUT DATA'!B40)","v":""},null,null,null,null,null,null,null,null,null,null,null,null,null,null,null,null,null,null,null,null,null,null,null,null,null,null,"","",null,null,null,null,null,null,null,{"$f":"MAX(FREQUENCY(IF(D41:AB41=\"r\",COLUMN(D41:AB41)),IF(D41:AB41<>\"r\",COLUMN(D41:AB41))))","v":0},""]
["",{"$f":"IF('INPUT DATA'!B41=\"\",\"\",'INPUT DATA'!B41)","v":""},null,null,null,null,null,null,null,null,null,null,null,null,null,null,null,null,null,null,null,null,null,null,null,null,null,null,"","",null,null,null,null,null,null,null,{"$f":"MAX(FREQUENCY(IF(D42:AB42=\"r\",COLUMN(D42:AB42)),IF(D42:AB42<>\"r\",COLUMN(D42:AB42))))","v":0},""]
["",{"$f":"IF('INPUT DATA'!B42=\"\",\"\",'INPUT DATA'!B42)","v":""},null,null,null,null,null,null,null,null,null,null,null,null,null,null,null,null,null,null,null,null,null,null,null,null,null,null,"","",null,null,null,null,null,null,null,{"$f":"MAX(FREQUENCY(IF(D43:AB43=\"r\",COLUMN(D43:AB43)),IF(D43:AB43<>\"r\",COLUMN(D43:AB43))))","v":0},""]
["",{"$f":"IF('INPUT DATA'!B43=\"\",\"\",'INPUT DATA'!B43)","v":""},null,null,null,null,null,null,null,null,null,null,null,null,null,null,null,null,null,null,null,null,null,null,null,null,null,null,"","",null,null,null,null,null,null,null,{"$f":"MAX(FREQUENCY(IF(D44:AB44=\"r\",COLUMN(D44:AB44)),IF(D44:AB44<>\"r\",COLUMN(D44:AB44))))","v":0},""]
["",{"$f":"IF('INPUT DATA'!B44=\"\",\"\",'INPUT DATA'!B44)","v":""},null,null,null,null,null,null,null,null,null,null,null,null,null,null,null,null,null,null,null,null,null,null,null,null,null,null,"","",null,null,null,null,null,null,null,{"$f":"MAX(FREQUENCY(IF(D45:AB45=\"r\",COLUMN(D45:AB45)),IF(D45:AB45<>\"r\",COLUMN(D45:AB45))))","v":0},""]
["",{"$f":"IF('INPUT DATA'!B45=\"\",\"\",'INPUT DATA'!B45)","v":""},null,null,null,null,null,null,null,null,null,null,null,null,null,null,null,null,null,null,null,null,null,null,null,null,null,null,"","",null,null,null,null,null,null,null,{"$f":"MAX(FREQUENCY(IF(D46:AB46=\"r\",COLUMN(D46:AB46)),IF(D46:AB46<>\"r\",COLUMN(D46:AB46))))","v":0},""]
["",{"$f":"IF('INPUT DATA'!B46=\"\",\"\",'INPUT DATA'!B46)","v":""},null,null,null,null,null,null,null,null,null,null,null,null,null,null,null,null,null,null,null,null,null,null,null,null,null,null,"","",null,null,null,null,null,null,null,{"$f":"MAX(FREQUENCY(IF(D47:AB47=\"r\",COLUMN(D47:AB47)),IF(D47:AB47<>\"r\",COLUMN(D47:AB47))))","v":0},""]
["",{"$f":"IF('INPUT DATA'!B47=\"\",\"\",'INPUT DATA'!B47)","v":""},null,null,null,null,null,null,null,null,null,null,null,null,null,null,null,null,null,null,null,null,null,null,null,null,null,null,"","",null,null,null,null,null,null,null,{"$f":"MAX(FREQUENCY(IF(D48:AB48=\"r\",COLUMN(D48:AB48)),IF(D48:AB48<>\"r\",COLUMN(D48:AB48))))","v":0},""]
["",{"$f":"IF('INPUT DATA'!B48=\"\",\"\",'INPUT DATA'!B48)","v":""},null,null,null,null,null,null,null,null,null,null,null,null,null,null,null,null,null,null,null,null,null,null,null,null,null,null,"","",null,null,null,null,null,null,null,{"$f":"MAX(FREQUENCY(IF(D49:AB49=\"r\",COLUMN(D49:AB49)),IF(D49:AB49<>\"r\",COLUMN(D49:AB49))))","v":0},""]
["",{"$f":"IF('INPUT DATA'!B49=\"\",\"\",'INPUT DATA'!B49)","v":""},null,null,null,null,null,null,null,null,null,null,null,null,null,null,null,null,null,null,null,null,null,null,null,null,null,null,"","",null,null,null,null,null,null,null,{"$f":"MAX(FREQUENCY(IF(D50:AB50=\"r\",COLUMN(D50:AB50)),IF(D50:AB50<>\"r\",COLUMN(D50:AB50))))","v":0},""]
["",{"$f":"IF('INPUT DATA'!B50=\"\",\"\",'INPUT DATA'!B50)","v":""},null,null,null,null,null,null,null,null,null,null,null,null,null,null,null,null,null,null,null,null,null,null,null,null,null,null,"","",null,null,null,null,null,null,null,{"$f":"MAX(FREQUENCY(IF(D51:AB51=\"r\",COLUMN(D51:AB51)),IF(D51:AB51<>\"r\",COLUMN(D51:AB51))))","v":0},""]
["",{"$f":"IF('INPUT DATA'!B51=\"\",\"\",'INPUT DATA'!B51)","v":""},null,null,null,null,null,null,null,null,null,null,null,null,null,null,null,null,null,null,null,null,null,null,null,null,null,null,"","",null,null,null,null,null,null,null,{"$f":"MAX(FREQUENCY(IF(D52:AB52=\"r\",COLUMN(D52:AB52)),IF(D52:AB52<>\"r\",COLUMN(D52:AB52))))","v":0},""]
["",{"$f":"IF('INPUT DATA'!B52=\"\",\"\",'INPUT DATA'!B52)","v":""},null,null,null,null,null,null,null,null,null,null,null,null,null,null,null,null,null,null,null,null,null,null,null,null,null,null,"","",null,null,null,null,null,null,null,{"$f":"MAX(FREQUENCY(IF(D53:AB53=\"r\",COLUMN(D53:AB53)),IF(D53:AB53<>\"r\",COLUMN(D53:AB53))))","v":0},""]
["",{"$f":"IF('INPUT DATA'!B53=\"\",\"\",'INPUT DATA'!B53)","v":""},null,null,null,null,null,null,null,null,null,null,null,null,null,null,null,null,null,null,null,null,null,null,null,null,null,null,"","",null,null,null,null,null,null,null,{"$f":"MAX(FREQUENCY(IF(D54:AB54=\"r\",COLUMN(D54:AB54)),IF(D54:AB54<>\"r\",COLUMN(D54:AB54))))","v":0},""]
["",{"$f":"IF('INPUT DATA'!B54=\"\",\"\",'INPUT DATA'!B54)","v":""},null,null,null,null,null,null,null,null,null,null,null,null,null,null,null,null,null,null,null,null,null,null,null,null,null,null,"","",null,null,null,null,null,null,null,{"$f":"MAX(FREQUENCY(IF(D55:AB55=\"r\",COLUMN(D55:AB55)),IF(D55:AB55<>\"r\",COLUMN(D55:AB55))))","v":0},""]
["",{"$f":"IF('INPUT DATA'!B55=\"\",\"\",'INPUT DATA'!B55)","v":""},null,null,null,null,null,null,null,null,null,null,null,null,null,null,null,null,null,null,null,null,null,null,null,null,null,null,"","",null,null,null,null,null,null,null,{"$f":"MAX(FREQUENCY(IF(D56:AB56=\"r\",COLUMN(D56:AB56)),IF(D56:AB56<>\"r\",COLUMN(D56:AB56))))","v":0},""]
["",{"$f":"IF('INPUT DATA'!B56=\"\",\"\",'INPUT DATA'!B56)","v":""},null,null,null,null,null,null,null,null,null,null,null,null,null,null,null,null,null,null,null,null,null,null,null,null,null,null,"","",null,null,null,null,null,null,null,{"$f":"MAX(FREQUENCY(IF(D57:AB57=\"r\",COLUMN(D57:AB57)),IF(D57:AB57<>\"r\",COLUMN(D57:AB57))))","v":0},""]
["",{"$f":"IF('INPUT DATA'!B57=\"\",\"\",'INPUT DATA'!B57)","v":""},null,null,null,null,null,null,null,null,null,null,null,null,null,null,null,null,null,null,null,null,null,null,null,null,null,null,"","",null,null,null,null,null,null,null,{"$f":"MAX(FREQUENCY(IF(D58:AB58=\"r\",COLUMN(D58:AB58)),IF(D58:AB58<>\"r\",COLUMN(D58:AB58))))","v":0},""]
["",{"$f":"IF('INPUT DATA'!B58=\"\",\"\",'INPUT DATA'!B58)","v":""},null,null,null,null,null,null,null,null,null,null,null,null,null,null,null,null,null,null,null,null,null,null,null,null,null,null,"","",null,null,null,null,null,null,null,{"$f":"MAX(FREQUENCY(IF(D59:AB59=\"r\",COLUMN(D59:AB59)),IF(D59:AB59<>\"r\",COLUMN(D59:AB59))))","v":0},""]
["",{"$f":"IF('INPUT DATA'!B59=\"\",\"\",'INPUT DATA'!B59)","v":""},null,null,null,null,null,null,null,null,null,null,null,null,null,null,null,null,null,null,null,null,null,null,null,null,null,null,"","",null,null,null,null,null,null,null,{"$f":"MAX(FREQUENCY(IF(D60:AB60=\"r\",COLUMN(D60:AB60)),IF(D60:AB60<>\"r\",COLUMN(D60:AB60))))","v":0},""]
["",{"$f":"IF('INPUT DATA'!B60=\"\",\"\",'INPUT DATA'!B60)","v":""},null,null,null,null,null,null,null,null,null,null,null,null,null,null,null,null,null,null,null,null,null,null,null,null,null,null,"","",null,null,null,null,null,null,null,{"$f":"MAX(FREQUENCY(IF(D61:AB61=\"r\",COLUMN(D61:AB61)),IF(D61:AB61<>\"r\",COLUMN(D61:AB61))))","v":0},""]
["",{"$f":"IF('INPUT DATA'!B61=\"\",\"\",'INPUT DATA'!B61)","v":""},null,null,null,null,null,null,null,null,null,null,null,null,null,null,null,null,null,null,null,null,null,null,null,null,null,null,"","",null,null,null,null,null,null,null,{"$f":"MAX(FREQUENCY(IF(D62:AB62=\"r\",COLUMN(D62:AB62)),IF(D62:AB62<>\"r\",COLUMN(D62:AB62))))","v":0},""]
["",{"$f":"IF('INPUT DATA'!B62=\"\",\"\",'INPUT DATA'!B62)","v":""},null,null,null,null,null,null,null,null,null,null,null,null,null,null,null,null,null,null,null,null,null,null,null,null,null,null,"","",null,null,null,null,null,null,null,{"$f":"MAX(FREQUENCY(IF(D63:AB63=\"r\",COLUMN(D63:AB63)),IF(D63:AB63<>\"r\",COLUMN(D63:AB63))))","v":0},""]
["MALE  | TOTAL Per Day",null,null,{"$f":"IF(D11=\"\",\"\",SUM(COUNTBLANK(D14:D63)-COUNTBLANK($B$14:$B$63),COUNTIF(D14:D63,\"z\")*0.5,COUNTIF(D14:D63,\"y\")*0.5))","v":19},19,19,19,19,19,19,19,19,20,20,20,20,20,20,20,20,20,20,20,20,20,20,20,20,{"$f":"SUM(AC14:AC63)","v":9},{"$f":"SUM(AD14:AD63)","v":491},null,null,null,null,null,null,null,{"$f":"MAX(FREQUENCY(IF(D64:AB64=\"r\",COLUMN(D64:AB64)),IF(D64:AB64<>\"r\",COLUMN(D64:AB64))))","v":0},""]
[{"$f":"IF(B65=\"\",\"\",\"1\")","v":"1"},{"$f":"IF('INPUT DATA'!B64=\"\",\"\",'INPUT DATA'!B64)","v":"Student 1"},null,null,null,null,null,null,null,null,null,null,null,null,null,null,null,null,null,null,null,null,null,null,null,null,null,null,{"$f":"IF(B65=\"\",\"\",SUM(COUNTIF(D65:AB65,\"z\")*0.5,COUNTIF(D65:AB65,\"y\")*0.5,COUNTIF(D65:AB65,\"r\")))","v":0},{"$f":"IF(B65=\"\",\"\",COUNTA($D$11:$AB$11)-AC65)","v":25},null,null,null,null,null,null,null,{"$f":"MAX(FREQUENCY(IF(D65:AB65=\"r\",COLUMN(D65:AB65)),IF(D65:AB65<>\"r\",COLUMN(D65:AB65))))","v":0},""]
[{"$f":"IF(B66=\"\",\"\",A65+1)","v":2},{"$f":"IF('INPUT DATA'!B65=\"\",\"\",'INPUT DATA'!B65)","v":"Student 2"},null,null,null,null,null,null,null,null,null,null,null,null,null,null,null,null,null,null,null,null,null,null,null,null,null,null,{"$f":"IF(B66=\"\",\"\",SUM(COUNTIF(D66:AB66,\"z\")*0.5,COUNTIF(D66:AB66,\"y\")*0.5,COUNTIF(D66:AB66,\"r\")))","v":0},{"$f":"IF(B66=\"\",\"\",COUNTA($D$11:$AB$11)-AC66)","v":25},null,null,null,null,null,null,null,{"$f":"MAX(FREQUENCY(IF(D66:AB66=\"r\",COLUMN(D66:AB66)),IF(D66:AB66<>\"r\",COLUMN(D66:AB66))))","v":0},""]
[{"$f":"IF(B67=\"\",\"\",A66+1)","v":3},{"$f":"IF('INPUT DATA'!B66=\"\",\"\",'INPUT DATA'!B66)","v":"Student 3"},null,null,null,null,null,null,null,null,null,null,null,null,null,null,null,null,null,null,null,null,null,null,null,null,null,null,0,25,null,null,null,null,null,null,null,{"$f":"MAX(FREQUENCY(IF(D67:AB67=\"r\",COLUMN(D67:AB67)),IF(D67:AB67<>\"r\",COLUMN(D67:AB67))))","v":0},""]
[4,{"$f":"IF('INPUT DATA'!B67=\"\",\"\",'INPUT DATA'!B67)","v":"Student 4"},null,null,null,null,null,null,null,null,null,null,null,null,null,null,null,null,null,null,null,null,null,null,null,null,null,null,0,25,null,null,null,null,null,null,null,{"$f":"MAX(FREQUENCY(IF(D68:AB68=\"r\",COLUMN(D68:AB68)),IF(D68:AB68<>\"r\",COLUMN(D68:AB68))))","v":0},""]
[5,{"$f":"IF('INPUT DATA'!B68=\"\",\"\",'INPUT DATA'!B68)","v":"Student 5"},null,null,null,null,null,null,null,null,null,null,null,null,null,null,null,null,null,null,null,null,null,null,null,null,null,null,0,25,null,null,null,null,null,null,null,{"$f":"MAX(FREQUENCY(IF(D69:AB69=\"r\",COLUMN(D69:AB69)),IF(D69:AB69<>\"r\",COLUMN(D69:AB69))))","v":0},""]
[6,{"$f":"IF('INPUT DATA'!B69=\"\",\"\",'INPUT DATA'!B69)","v":"Student 6"},null,null,null,null,null,null,null,null,null,null,null,null,null,null,null,null,null,null,null,null,null,null,null,null,null,null,0,25,null,null,null,null,null,null,null,{"$f":"MAX(FREQUENCY(IF(D70:AB70=\"r\",COLUMN(D70:AB70)),IF(D70:AB70<>\"r\",COLUMN(D70:AB70))))","v":0},""]
[7,{"$f":"IF('INPUT DATA'!B70=\"\",\"\",'INPUT DATA'!B70)","v":"Student 7"},null,null,null,null,null,null,null,null,null,null,null,null,null,null,null,null,null,null,null,null,null,null,null,null,null,null,0,25,null,null,null,null,null,null,null,{"$f":"MAX(FREQUENCY(IF(D71:AB71=\"r\",COLUMN(D71:AB71)),IF(D71:AB71<>\"r\",COLUMN(D71:AB71))))","v":0},""]
[8,{"$f":"IF('INPUT DATA'!B71=\"\",\"\",'INPUT DATA'!B71)","v":"Student 8"},null,null,null,null,null,null,null,null,null,null,null,null,null,null,null,null,null,null,null,null,null,null,null,null,null,null,0,25,null,null,null,null,null,null,null,{"$f":"MAX(FREQUENCY(IF(D72:AB72=\"r\",COLUMN(D72:AB72)),IF(D72:AB72<>\"r\",COLUMN(D72:AB72))))","v":0},""]
[9,{"$f":"IF('INPUT DATA'!B72=\"\",\"\",'INPUT DATA'!B72)","v":"Student 9"},null,null,null,null,null,null,null,null,null,null,null,null,null,null,null,null,null,null,null,null,null,null,null,null,null,null,0,25,null,null,null,null,null,null,null,{"$f":"MAX(FREQUENCY(IF(D73:AB73=\"r\",COLUMN(D73:AB73)),IF(D73:AB73<>\"r\",COLUMN(D73:AB73))))","v":0},""]
[10,{"$f":"IF('INPUT DATA'!B73=\"\",\"\",'INPUT DATA'!B73)","v":"Student 10"},null,null,null,null,null,null,null,null,null,null,null,null,null,null,null,null,null,null,null,null,null,null,null,null,null,null,0,25,null,null,null,null,null,null,null,{"$f":"MAX(FREQUENCY(IF(D74:AB74=\"r\",COLUMN(D74:AB74)),IF(D74:AB74<>\"r\",COLUMN(D74:AB74))))","v":0},""]
[11,{"$f":"IF('INPUT DATA'!B74=\"\",\"\",'INPUT DATA'!B74)","v":"Student 11"},null,null,null,null,null,null,null,null,null,null,null,null,null,null,null,null,null,null,null,null,null,null,null,null,null,null,0,25,null,null,null,null,null,null,null,{"$f":"MAX(FREQUENCY(IF(D75:AB75=\"r\",COLUMN(D75:AB75)),IF(D75:AB75<>\"r\",COLUMN(D75:AB75))))","v":0},""]
[12,{"$f":"IF('INPUT DATA'!B75=\"\",\"\",'INPUT DATA'!B75)","v":"Student 12"},null,null,null,null,null,null,null,null,null,null,null,null,null,null,null,null,null,null,null,null,null,null,null,null,null,null,0,25,null,null,null,null,null,null,null,{"$f":"MAX(FREQUENCY(IF(D76:AB76=\"r\",COLUMN(D76:AB76)),IF(D76:AB76<>\"r\",COLUMN(D76:AB76))))","v":0},""]
[13,{"$f":"IF('INPUT DATA'!B76=\"\",\"\",'INPUT DATA'!B76)","v":"Student 13"},null,null,null,null,null,null,null,null,null,null,null,null,null,null,null,null,null,null,null,null,null,null,null,null,null,null,0,25,null,null,null,null,null,null,null,{"$f":"MAX(FREQUENCY(IF(D77:AB77=\"r\",COLUMN(D77:AB77)),IF(D77:AB77<>\"r\",COLUMN(D77:AB77))))","v":0},""]
[14,{"$f":"IF('INPUT DATA'!B77=\"\",\"\",'INPUT DATA'!B77)","v":"Student 14"},null,null,null,null,null,null,null,null,null,null,null,null,null,null,null,null,null,null,null,null,null,null,null,null,null,null,0,25,null,null,null,null,null,null,null,{"$f":"MAX(FREQUENCY(IF(D78:AB78=\"r\",COLUMN(D78:AB78)),IF(D78:AB78<>\"r\",COLUMN(D78:AB78))))","v":0},""]
[15,{"$f":"IF('INPUT DATA'!B78=\"\",\"\",'INPUT DATA'!B78)","v":"Student 15"},null,null,null,null,null,null,null,null,null,null,null,null,null,null,null,null,null,null,null,null,null,null,null,null,null,null,0,25,null,null,null,null,null,null,null,{"$f":"MAX(FREQUENCY(IF(D79:AB79=\"r\",COLUMN(D79:AB79)),IF(D79:AB79<>\"r\",COLUMN(D79:AB79))))","v":0},{"$f":"IF(AL79>=5,1,\"\")","v":""}]
[16,{"$f":"IF('INPUT DATA'!B79=\"\",\"\",'INPUT DATA'!B79)","v":"Student 16"},null,null,null,null,null,null,null,null,null,null,null,null,null,null,null,null,null,null,null,null,null,null,null,null,null,null,0,25,null,null,null,null,null,null,null,{"$f":"MAX(FREQUENCY(IF(D80:AB80=\"r\",COLUMN(D80:AB80)),IF(D80:AB80<>\"r\",COLUMN(D80:AB80))))","v":0},""]
[17,{"$f":"IF('INPUT DATA'!B80=\"\",\"\",'INPUT DATA'!B80)","v":"Student 17"},null,null,null,null,null,null,null,null,null,null,null,null,null,null,null,null,null,null,null,null,null,null,null,null,null,null,0,25,null,null,null,null,null,null,null,{"$f":"MAX(FREQUENCY(IF(D81:AB81=\"r\",COLUMN(D81:AB81)),IF(D81:AB81<>\"r\",COLUMN(D81:AB81))))","v":0},""]
[18,{"$f":"IF('INPUT DATA'!B81=\"\",\"\",'INPUT DATA'!B81)","v":"Student 18"},null,null,null,null,null,null,null,null,null,null,null,null,null,null,null,null,null,null,null,null,null,null,null,null,null,null,0,25,null,null,null,null,null,null,null,{"$f":"MAX(FREQUENCY(IF(D82:AB82=\"r\",COLUMN(D82:AB82)),IF(D82:AB82<>\"r\",COLUMN(D82:AB82))))","v":0},""]
[19,{"$f":"IF('INPUT DATA'!B82=\"\",\"\",'INPUT DATA'!B82)","v":"Student 19"},null,null,null,null,null,null,null,null,null,null,null,null,null,null,null,null,null,null,null,null,null,null,null,null,null,null,0,25,null,null,null,null,null,null,null,{"$f":"MAX(FREQUENCY(IF(D83:AB83=\"r\",COLUMN(D83:AB83)),IF(D83:AB83<>\"r\",COLUMN(D83:AB83))))","v":0},""]
[20,{"$f":"IF('INPUT DATA'!B83=\"\",\"\",'INPUT DATA'!B83)","v":"Student 20"},null,null,null,null,null,null,null,null,null,null,null,null,null,null,null,null,null,null,null,null,null,null,null,null,null,null,0,25,null,null,null,null,null,null,null,{"$f":"MAX(FREQUENCY(IF(D84:AB84=\"r\",COLUMN(D84:AB84)),IF(D84:AB84<>\"r\",COLUMN(D84:AB84))))","v":0},""]
["",{"$f":"IF('INPUT DATA'!B84=\"\",\"\",'INPUT DATA'!B84)","v":""},null,null,null,null,null,null,null,null,null,null,null,null,null,null,null,null,null,null,null,null,null,null,null,null,null,null,"","",null,null,null,null,null,null,null,{"$f":"MAX(FREQUENCY(IF(D85:AB85=\"r\",COLUMN(D85:AB85)),IF(D85:AB85<>\"r\",COLUMN(D85:AB85))))","v":0},""]
["",{"$f":"IF('INPUT DATA'!B85=\"\",\"\",'INPUT DATA'!B85)","v":""},null,null,null,null,null,null,null,null,null,null,null,null,null,null,null,null,null,null,null,null,null,null,null,null,null,null,"","",null,null,null,null,null,null,null,{"$f":"MAX(FREQUENCY(IF(D86:AB86=\"r\",COLUMN(D86:AB86)),IF(D86:AB86<>\"r\",COLUMN(D86:AB86))))","v":0},""]
["",{"$f":"IF('INPUT DATA'!B86=\"\",\"\",'INPUT DATA'!B86)","v":""},null,null,null,null,null,null,null,null,null,null,null,null,null,null,null,null,null,null,null,null,null,null,null,null,null,null,"","",null,null,null,null,null,null,null,{"$f":"MAX(FREQUENCY(IF(D87:AB87=\"r\",COLUMN(D87:AB87)),IF(D87:AB87<>\"r\",COLUMN(D87:AB87))))","v":0},""]
["",{"$f":"IF('INPUT DATA'!B87=\"\",\"\",'INPUT DATA'!B87)","v":""},null,null,null,null,null,null,null,null,null,null,null,null,null,null,null,null,null,null,null,null,null,null,null,null,null,null,"","",null,null,null,null,null,null,null,{"$f":"MAX(FREQUENCY(IF(D88:AB88=\"r\",COLUMN(D88:AB88)),IF(D88:AB88<>\"r\",COLUMN(D88:AB88))))","v":0},""]
["",{"$f":"IF('INPUT DATA'!B88=\"\",\"\",'INPUT DATA'!B88)","v":""},null,null,null,null,null,null,null,null,null,null,null,null,null,null,null,null,null,null,null,null,null,null,null,null,null,null,"","",null,null,null,null,null,null,null,{"$f":"MAX(FREQUENCY(IF(D89:AB89=\"r\",COLUMN(D89:AB89)),IF(D89:AB89<>\"r\",COLUMN(D89:AB89))))","v":0},""]
["",{"$f":"IF('INPUT DATA'!B89=\"\",\"\",'INPUT DATA'!B89)","v":""},null,null,null,null,null,null,null,null,null,null,null,null,null,null,null,null,null,null,null,null,null,null,null,null,null,null,"","",null,null,null,null,null,null,null,{"$f":"MAX(FREQUENCY(IF(D90:AB90=\"r\",COLUMN(D90:AB90)),IF(D90:AB90<>\"r\",COLUMN(D90:AB90))))","v":0},""]
["",{"$f":"IF('INPUT DATA'!B90=\"\",\"\",'INPUT DATA'!B90)","v":""},null,null,null,null,null,null,null,null,null,null,null,null,null,null,null,null,null,null,null,null,null,null,null,null,null,null,"","",null,null,null,null,null,null,null,{"$f":"MAX(FREQUENCY(IF(D91:AB91=\"r\",COLUMN(D91:AB91)),IF(D91:AB91<>\"r\",COLUMN(D91:AB91))))","v":0},""]
["",{"$f":"IF('INPUT DATA'!B91=\"\",\"\",'INPUT DATA'!B91)","v":""},null,null,null,null,null,null,null,null,null,null,null,null,null,null,null,null,null,null,null,null,null,null,null,null,null,null,"","",null,null,null,null,null,null,null,{"$f":"MAX(FREQUENCY(IF(D92:AB92=\"r\",COLUMN(D92:AB92)),IF(D92:AB92<>\"r\",COLUMN(D92:AB92))))","v":0},""]
["",{"$f":"IF('INPUT DATA'!B92=\"\",\"\",'INPUT DATA'!B92)","v":""},null,null,null,null,null,null,null,null,null,null,null,null,null,null,null,null,null,null,null,null,null,null,null,null,null,null,"","",null,null,null,null,null,null,null,{"$f":"MAX(FREQUENCY(IF(D93:AB93=\"r\",COLUMN(D93:AB93)),IF(D93:AB93<>\"r\",COLUMN(D93:AB93))))","v":0},""]
["",{"$f":"IF('INPUT DATA'!B93=\"\",\"\",'INPUT DATA'!B93)","v":""},null,null,null,null,null,null,null,null,null,null,null,null,null,null,null,null,null,null,null,null,null,null,null,null,null,null,"","",null,null,null,null,null,null,null,{"$f":"MAX(FREQUENCY(IF(D94:AB94=\"r\",COLUMN(D94:AB94)),IF(D94:AB94<>\"r\",COLUMN(D94:AB94))))","v":0},""]
["",{"$f":"IF('INPUT DATA'!B94=\"\",\"\",'INPUT DATA'!B94)","v":""},null,null,null,null,null,null,null,null,null,null,null,null,null,null,null,null,null,null,null,null,null,null,null,null,null,null,"","",null,null,null,null,null,null,null,{"$f":"MAX(FREQUENCY(IF(D95:AB95=\"r\",COLUMN(D95:AB95)),IF(D95:AB95<>\"r\",COLUMN(D95:AB95))))","v":0},""]
["",{"$f":"IF('INPUT DATA'!B95=\"\",\"\",'INPUT DATA'!B95)","v":""},null,null,null,null,null,null,null,null,null,null,null,null,null,null,null,null,null,null,null,null,null,null,null,null,null,null,"","",null,null,null,null,null,null,null,{"$f":"MAX(FREQUENCY(IF(D96:AB96=\"r\",COLUMN(D96:AB96)),IF(D96:AB96<>\"r\",COLUMN(D96:AB96))))","v":0},""]
["",{"$f":"IF('INPUT DATA'!B96=\"\",\"\",'INPUT DATA'!B96)","v":""},null,null,null,null,null,null,null,null,null,null,null,null,null,null,null,null,null,null,null,null,null,null,null,null,null,null,"","",null,null,null,null,null,null,null,{"$f":"MAX(FREQUENCY(IF(D97:AB97=\"r\",COLUMN(D97:AB97)),IF(D97:AB97<>\"r\",COLUMN(D97:AB97))))","v":0},""]
["",{"$f":"IF('INPUT DATA'!B97=\"\",\"\",'INPUT DATA'!B97)","v":""},null,null,null,null,null,null,null,null,null,null,null,null,null,null,null,null,null,null,null,null,null,null,null,null,null,null,"","",null,null,null,null,null,null,null,{"$f":"MAX(FREQUENCY(IF(D98:AB98=\"r\",COLUMN(D98:AB98)),IF(D98:AB98<>\"r\",COLUMN(D98:AB98))))","v":0},""]
["",{"$f":"IF('INPUT DATA'!B98=\"\",\"\",'INPUT DATA'!B98)","v":""},null,null,null,null,null,null,null,null,null,null,null,null,null,null,null,null,null,null,null,null,null,null,null,null,null,null,"","",null,null,null,null,null,null,null,{"$f":"MAX(FREQUENCY(IF(D99:AB99=\"r\",COLUMN(D99:AB99)),IF(D99:AB99<>\"r\",COLUMN(D99:AB99))))","v":0},""]
["",{"$f":"IF('INPUT DATA'!B99=\"\",\"\",'INPUT DATA'!B99)","v":""},null,null,null,null,null,null,null,null,null,null,null,null,null,null,null,null,null,null,null,null,null,null,null,null,null,null,"","",null,null,null,null,null,null,null,{"$f":"MAX(FREQUENCY(IF(D100:AB100=\"r\",COLUMN(D100:AB100)),IF(D100:AB100<>\"r\",COLUMN(D100:AB100))))","v":0},""]
["",{"$f":"IF('INPUT DATA'!B100=\"\",\"\",'INPUT DATA'!B100)","v":""},null,null,null,null,null,null,null,null,null,null,null,null,null,null,null,null,null,null,null,null,null,null,null,null,null,null,"","",null,null,null,null,null,null,null,{"$f":"MAX(FREQUENCY(IF(D101:AB101=\"r\",COLUMN(D101:AB101)),IF(D101:AB101<>\"r\",COLUMN(D101:AB101))))","v":0},""]
["",{"$f":"IF('INPUT DATA'!B101=\"\",\"\",'INPUT DATA'!B101)","v":""},null,null,null,null,null,null,null,null,null,null,null,null,null,null,null,null,null,null,null,null,null,null,null,null,null,null,"","",null,null,null,null,null,null,null,{"$f":"MAX(FREQUENCY(IF(D102:AB102=\"r\",COLUMN(D102:AB102)),IF(D102:AB102<>\"r\",COLUMN(D102:AB102))))","v":0},""]
["",{"$f":"IF('INPUT DATA'!B102=\"\",\"\",'INPUT DATA'!B102)","v":""},null,null,null,null,null,null,null,null,null,null,null,null,null,null,null,null,null,null,null,null,null,null,null,null,null,null,"","",null,null,null,null,null,null,null,{"$f":"MAX(FREQUENCY(IF(D103:AB103=\"r\",COLUMN(D103:AB103)),IF(D103:AB103<>\"r\",COLUMN(D103:AB103))))","v":0},""]
["",{"$f":"IF('INPUT DATA'!B103=\"\",\"\",'INPUT DATA'!B103)","v":""},null,null,null,null,null,null,null,null,null,null,null,null,null,null,null,null,null,null,null,null,null,null,null,null,null,null,"","",null,null,null,null,null,null,null,{"$f":"MAX(FREQUENCY(IF(D104:AB104=\"r\",COLUMN(D104:AB104)),IF(D104:AB104<>\"r\",COLUMN(D104:AB104))))","v":0},""]
["",{"$f":"IF('INPUT DATA'!B104=\"\",\"\",'INPUT DATA'!B104)","v":""},null,null,null,null,null,null,null,null,null,null,null,null,null,null,null,null,null,null,null,null,null,null,null,null,null,null,"","",null,null,null,null,null,null,null,{"$f":"MAX(FREQUENCY(IF(D105:AB105=\"r\",COLUMN(D105:AB105)),IF(D105:AB105<>\"r\",COLUMN(D105:AB105))))","v":0},""]
["",{"$f":"IF('INPUT DATA'!B105=\"\",\"\",'INPUT DATA'!B105)","v":""},null,null,null,null,null,null,null,null,null,null,null,null,null,null,null,null,null,null,null,null,null,null,null,null,null,null,"","",null,null,null,null,null,null,null,{"$f":"MAX(FREQUENCY(IF(D106:AB106=\"r\",COLUMN(D106:AB106)),IF(D106:AB106<>\"r\",COLUMN(D106:AB106))))","v":0},""]
["",{"$f":"IF('INPUT DATA'!B106=\"\",\"\",'INPUT DATA'!B106)","v":""},null,null,null,null,null,null,null,null,null,null,null,null,null,null,null,null,null,null,null,null,null,null,null,null,null,null,"","",null,null,null,null,null,null,null,{"$f":"MAX(FREQUENCY(IF(D107:AB107=\"r\",COLUMN(D107:AB107)),IF(D107:AB107<>\"r\",COLUMN(D107:AB107))))","v":0},""]
["",{"$f":"IF('INPUT DATA'!B107=\"\",\"\",'INPUT DATA'!B107)","v":""},null,null,null,null,null,null,null,null,null,null,null,null,null,null,null,null,null,null,null,null,null,null,null,null,null,null,"","",null,null,null,null,null,null,null,{"$f":"MAX(FREQUENCY(IF(D108:AB108=\"r\",COLUMN(D108:AB108)),IF(D108:AB108<>\"r\",COLUMN(D108:AB108))))","v":0},""]
["",{"$f":"IF('INPUT DATA'!B108=\"\",\"\",'INPUT DATA'!B108)","v":""},null,null,null,null,null,null,null,null,null,null,null,null,null,null,null,null,null,null,null,null,null,null,null,null,null,null,"","",null,null,null,null,null,null,null,{"$f":"MAX(FREQUENCY(IF(D109:AB109=\"r\",COLUMN(D109:AB109)),IF(D109:AB109<>\"r\",COLUMN(D109:AB109))))","v":0},""]
["",{"$f":"IF('INPUT DATA'!B109=\"\",\"\",'INPUT DATA'!B109)","v":""},null,null,null,null,null,null,null,null,null,null,null,null,null,null,null,null,null,null,null,null,null,null,null,null,null,null,"","",null,null,null,null,null,null,null,{"$f":"MAX(FREQUENCY(IF(D110:AB110=\"r\",COLUMN(D110:AB110)),IF(D110:AB110<>\"r\",COLUMN(D110:AB110))))","v":0},""]
["",{"$f":"IF('INPUT DATA'!B110=\"\",\"\",'INPUT DATA'!B110)","v":""},null,null,null,null,null,null,null,null,null,null,null,null,null,null,null,null,null,null,null,null,null,null,null,null,null,null,"","",null,null,null,null,null,null,null,{"$f":"MAX(FREQUENCY(IF(D111:AB111=\"r\",COLUMN(D111:AB111)),IF(D111:AB111<>\"r\",COLUMN(D111:AB111))))","v":0},""]
["",{"$f":"IF('INPUT DATA'!B111=\"\",\"\",'INPUT DATA'!B111)","v":""},null,null,null,null,null,null,null,null,null,null,null,null,null,null,null,null,null,null,null,null,null,null,null,null,null,null,"","",null,null,null,null,null,null,null,{"$f":"MAX(FREQUENCY(IF(D112:AB112=\"r\",COLUMN(D112:AB112)),IF(D112:AB112<>\"r\",COLUMN(D112:AB112))))","v":0},""]
["",{"$f":"IF('INPUT DATA'!B112=\"\",\"\",'INPUT DATA'!B112)","v":""},null,null,null,null,null,null,null,null,null,null,null,null,null,null,null,null,null,null,null,null,null,null,null,null,null,null,"","",null,null,null,null,null,null,null,{"$f":"MAX(FREQUENCY(IF(D113:AB113=\"r\",COLUMN(D113:AB113)),IF(D113:AB113<>\"r\",COLUMN(D113:AB113))))","v":0},""]
["",{"$f":"IF('INPUT DATA'!B113=\"\",\"\",'INPUT DATA'!B113)","v":""},null,null,null,null,null,null,null,null,null,null,null,null,null,null,null,null,null,null,null,null,null,null,null,null,null,null,"","",null,null,null,null,null,null,null,{"$f":"MAX(FREQUENCY(IF(D114:AB114=\"r\",COLUMN(D114:AB114)),IF(D114:AB114<>\"r\",COLUMN(D114:AB114))))","v":0},""]
["FEMALE  | TOTAL Per Day",null,null,{"$f":"IF(D11=\"\",\"\",SUM(COUNTBLANK(D65:D114)-COUNTBLANK($B$65:$B$114),COUNTIF(D65:D114,\"z\")*0.5,COUNTIF(D65:D114,\"y\")*0.5))","v":20},20,20,20,20,20,20,20,20,20,20,20,20,20,20,20,20,20,20,20,20,20,20,20,20,{"$f":"SUM(AC65:AC114)","v":0},{"$f":"SUM(AD65:AD114)","v":500}]
["    Combined TOTAL PER DAY",null,null,{"$f":"IF(D11=\"\",\"\",SUM(D64,D115))","v":39},39,39,39,39,39,39,39,39,40,40,40,40,40,40,40,40,40,40,40,40,40,40,40,40,{"$f":"SUM(AC64,AC115)","v":9},{"$f":"SUM(AD64,AD115)","v":991}]
[]
["GUIDELINES:",null,null,null,null,null,null,null,null,null,null,null,null,null,null,null,"1. CODES FOR CHECKING ATTENDANCE",null,null,null,null,null,null,null,null,null,null,"Month:",{"$f":"X6","v":"September"},null,"No. of Days of Classes:",null,{"$f":"COUNT(D11:AB11)","v":25},"Summary for the Month"]
["1. The attendance shall be accomplished daily. Refer to the codes for checking learners' attendance.",null,null,null,null,null,null,null,null,null,null,null,null,null,null,null,"blank- Present;   (x)- Absent; Tardy (half shaded= Upper for Late Commer, Lower for Cutting Classes)",null,null,null,null,null,null,null,null,null,null,null,null,null,null,null,null,"M","F","TOTAL"]
["2. Dates shall be written in the preceding columns beside Learner's Name.",null,null,null,null,null,null,null,null,null,null,null,null,null,null,null,null,null,null,null,null,null,null,null,null,null,null,"* Enrolment  as of  (1st Friday of June)",null,null,null,null,null,{"$f":"IF('INPUT DATA'!V70=\"\",\"\",'INPUT DATA'!V70)","v":""},{"$f":"IF('INPUT DATA'!W70=\"\",\"\",'INPUT DATA'!W70)","v":""},{"$f":"SUM(AH120:AI121)","v":0}]
["3. To compute the following:"]
["a.","Percentage of Enrolment =",null,"Registered Learner as of End of the Month",null,null,null,null,null,null,null,null,null,"x 100",null,null,"2. REASONS/CAUSES OF DROP-OUTS",null,null,null,null,null,null,null,null,null,null,"Late Enrollment during the month                                               (beyond cut-off)",null,null,null,null,null,{"$f":"IF('INPUT DATA'!V71=\"\",\"\",'INPUT DATA'!V71)","v":""},{"$f":"IF('INPUT DATA'!W71=\"\",\"\",'INPUT DATA'!W71)","v":""},{"$f":"SUM(AH122:AI123)","v":0}]
[null,null,null,"Enrolment as of 1st Friday of June",null,null,null,null,null,null,null,null,null,null,null,null,"a. Domestic-Related Factors"]
["b.","Average Daily Attendance = ",null,"Total Daily Attendance",null,null,null,null,null,null,null,null,null,null,null,null,"a.1. Had to take care of siblings",null,null,null,null,null,null,null,null,null,null,"Registered Learner as of end of the month",null,null,null,null,null,{"$f":"IF('INPUT DATA'!V72=\"\",\"\",'INPUT DATA'!V72)","v":""},{"$f":"IF('INPUT DATA'!W72=\"\",\"\",'INPUT DATA'!W72)","v":""},{"$f":"SUM(AH124:AI125)","v":0}]
[null,null,null,"Number of School Days in reporting month",null,null,null,null,null,null,null,null,null,null,null,null,"a.2. Early marriage/pregnancy"]
["c.","Percentage of Attendance for the month =",null,"Average daily attendance",null,null,null,null,null,null,null,null,null,"x 100",null,null,"a.3. Parents' attitude toward schooling",null,null,null,null,null,null,null,null,null,null,"Percentage of Enrolment as of end of the month",null,null,null,null,null,{"$f":"CONCATENATE(IFERROR(ROUND((AH124)/(AH120)*100,0),\"\"),\"%\")","v":"%"},{"$f":"CONCATENATE(IFERROR(ROUND((AI124)/(AI120)*100,0),\"\"),\"%\")","v":"%"},{"$f":"CONCATENATE(IFERROR(ROUND((AJ124)/(AJ120)*100,0),\"\"),\"%\")","v":"%"}]
[null,null,null,"Registered Learner as of End of the month",null,null,null,null,null,null,null,null,null,null,null,null,"a.4. Family problems"]
[null,null,null,null,null,null,null,null,null,null,null,null,null,null,null,null,"b. Individual-Related Factors",null,null,null,null,null,null,null,null,null,null,"Average Daily Attendance",null,null,null,null,null,{"$f":"IFERROR(ROUND((AD64)/COUNTA(D11:AB11),2),\"\")","v":19.64},{"$f":"IFERROR(ROUND((AD115/COUNTA(D11:AB11)),2),\"\")","v":20},{"$f":"IFERROR(ROUND((AD116)/COUNTA(D11:AB11),2),\"\")","v":39.64}]
["4. Every End of the month, the class adviser will submit this form to the office of the principal for recording of \n     summary table into the School Form 4. Once signed by the principal, this form should be returned to the adviser.",null,null,null,null,null,null,null,null,null,null,null,null,null,null,null,"b.1. Illness",null,null,null,null,null,null,null,null,null,null,"Percentage of Attendance for the month ",null,null,null,null,null,{"$f":"CONCATENATE(IFERROR(ROUND((AH128/AH124)*100,0),\"\"),\"%\")","v":"%"},{"$f":"CONCATENATE(IFERROR(ROUND((AI128/AI124)*100,0),\"\"),\"%\")","v":"%"},{"$f":"CONCATENATE(IFERROR(ROUND((AJ128/AJ124)*100,0),\"\"),\"%\")","v":"%"}]
[null,null,null,null,null,null,null,null,null,null,null,null,null,null,null,null,"b.2. Overage"]
["5. The adviser will extend neccessary intervention including but not limited to home visitation  to learner/s that committed 5 consecutive days of absences or those with potentials of dropping out",null,null,null,null,null,null,null,null,null,null,null,null,null,null,null,"b.3. Death",null,null,null,null,null,null,null,null,null,null,"Number of students with 5 consecutive days of absences:",null,null,null,null,null,{"$f":"SUM(AM14:AM63)","v":1},{"$f":"SUM(AM65:AM114)","v":0},{"$f":"SUM(AH131:AI132)","v":1}]
[null,null,null,null,null,null,null,null,null,null,null,null,null,null,null,null,"b.4. Drug Abuse"]
["6.  Attendance performance of learner is expected to reflect in Form 137 and Form 138 every grading period",null,null,null,null,null,null,null,null,null,null,null,null,null,null,null,"b.5. Poor academic performance",null,null,null,null,null,null,null,null,null,null,"Drop out",null,null,null,null,null,{"$f":"IF('INPUT DATA'!V73=\"\",\"\",'INPUT DATA'!V73)","v":""},{"$f":"IF('INPUT DATA'!W73=\"\",\"\",'INPUT DATA'!W73)","v":""},{"$f":"SUM(AH133:AI134)","v":0}]
["*","Beginning of School Year cut-off report is every 1st Friday of School Calendar Days",null,null,null,null,null,null,null,null,null,null,null,null,null,null,"b.6. Lack of interest/Distractions"]
[null,null,null,null,null,null,null,null,null,null,null,null,null,null,null,null,"b.7. Hunger/Malnutrition",null,null,null,null,null,null,null,null,null,null,"Transferred out",null,null,null,null,null,{"$f":"IF('INPUT DATA'!V74=\"\",\"\",'INPUT DATA'!V74)","v":""},{"$f":"IF('INPUT DATA'!W74=\"\",\"\",'INPUT DATA'!W74)","v":""},{"$f":"SUM(AH135:AI136)","v":0}]
[null,null,null,null,null,null,null,null,null,null,null,null,null,null,null,null,"c. School-Related Factors"]
[null,null,null,null,null,null,null,null,null,null,null,null,null,null,null,null,"c.1. Teacher Factor",null,null,null,null,null,null,null,null,null,null,"Transferred in",null,null,null,null,null,{"$f":"IF('INPUT DATA'!V75=\"\",\"\",'INPUT DATA'!V75)","v":""},{"$f":"IF('INPUT DATA'!W75=\"\",\"\",'INPUT DATA'!W75)","v":""},{"$f":"SUM(AH137:AI138)","v":0}]
[null,null,null,null,null,null,null,null,null,null,null,null,null,null,null,null,"c.2. Physical condition of classroom"]
[null,null,null,null,null,null,null,null,null,null,null,null,null,null,null,null,"c.3. Peer influence"]
[null,null,null,null,null,null,null,null,null,null,null,null,null,null,null,null,"d. Geographic/Environmental",null,null,null,null,null,null,null,null,null,null,"I certify that this is a true and correct report."]
[null,null,null,null,null,null,null,null,null,null,null,null,null,null,null,null,"d.1. Distance between home and school"]
[null,null,null,null,null,null,null,null,null,null,null,null,null,null,null,null,"d.2. Armed conflict (incl. Tribal wars & clanfeuds)",null,null,null,null,null,null,null,null,null,null,null,null,{"$f":"UPPER(IF('INPUT DATA'!R7=\"\",\"\",'INPUT DATA'!R7))","v":""}]
[null,null,null,null,null,null,null,null,null,null,null,null,null,null,null,null,null,null,null,null,null,null,null,null,null,null,null,null,"                          (Signature of Teacher over Printed Name)"]
[null,null,null,null,null,null,null,null,null,null,null,null,null,null,null,null,"d.3. Calamities/Disasters"]
[null,null,null,null,null,null,null,null,null,null,null,null,null,null,null,null,"e. Financial-Related",null,null,null,null,null,null,null,null,null,null,"Attested by:"]
[null,null,null,null,null,null,null,null,null,null,null,null,null,null,null,null,"e.1. Child labor, work",null,null,null,null,null,null,null,null,null,null,null,null,{"$f":"UPPER(IF('INPUT DATA'!R6=\"\",\"\",'INPUT DATA'!R6))","v":""}]
[null,null,null,null,null,null,null,null,null,null,null,null,null,null,null,null,"f. Others",null,null,null,null,null,null,null,null,null,null,null,null,null,null," (Signature of School Head over Printed Name)"]

{"sheet":"AUG","index":6,"n_rows":147,"n_cols":39,"rows_kept":147,"cut":false,"hidden":true,"merged":[[145,29,145,34],[136,1,137,6],[136,27,137,32],[136,33,137,33],[136,34,137,34],[136,35,137,35],[141,16,142,25],[141,29,141,34],[132,27,133,32],[132,33,133,33],[132,34,133,34],[132,35,133,35],[133,1,133,13],[134,27,135,32],[134,33,135,33],[134,34,135,34],[134,35,135,35],[128,34,129,34],[128,35,129,35],[130,0,131,14],[130,27,131,32],[130,33,131,33],[130,34,131,34],[130,35,131,35],[126,3,126,12],[127,0,127,11],[127,27,127,32],[128,0,129,13],[128,27,129,32],[128,33,129,33],[123,0,124,0],[123,1,124,1],[123,3,123,12],[123,27,124,32],[123,33,124,33],[123,34,124,34],[123,35,124,35],[124,3,124,12],[125,0,126,0],[125,1,126,2],[125,3,125,12],[125,13,126,14],[125,27,126,32],[125,33,126,33],[125,34,126,34],[125,35,126,35],[120,0,120,13],[121,0,122,0],[121,1,122,1],[121,3,121,12],[121,13,122,14],[121,27,122,32],[117,28,117,29],[117,30,118,31],[117,33,117,35],[118,0,118,13],[118,16,120,24],[119,0,119,13],[119,27,120,32],[119,33,120,33],[119,34,120,34],[119,35,120,35],[121,33,122,33],[121,34,122,34],[121,35,122,35],[122,3,122,12],[113,30,113,35],[114,0,114,2],[114,30,114,35],[115,0,115,2],[115,30,115,35],[116,0,116,1],[116,3,116,7],[108,1,108,2],[109,1,109,2],[110,1,110,2],[111,1,111,2],[112,1,112,2],[113,1,113,2],[102,1,102,2],[103,1,103,2],[104,1,104,2],[105,1,105,2],[106,1,106,2],[107,1,107,2],[96,1,96,2],[97,1,97,2],[98,1,98,2],[99,1,99,2],[100,1,100,2],[101,1,101,2],[90,1,90,2],[91,1,91,2],[92,1,92,2],[93,1,93,2],[94,1,94,2],[95,1,95,2],[86,1,86,2],[86,30,86,35],[87,1,87,2],[87,30,87,35],[88,1,88,2],[89,1,89,2],[83,1,83,2],[83,30,83,35],[84,1,84,2],[84,30,84,35],[85,1,85,2],[85,30,85,35],[80,1,80,2],[80,30,80,35],[81,1,81,2],[81,30,81,35],[82,1,82,2],[82,30,82,35],[77,1,77,2],[77,30,77,35],[78,1,78,2],[78,30,78,35],[79,1,79,2],[79,30,79,35],[74,1,74,2],[74,30,74,35],[75,1,75,2],[75,30,75,35],[76,1,76,2],[76,30,76,35],[71,1,71,2],[71,30,71,35],[72,1,72,2],[72,30,72,35],[73,1,73,2],[73,30,73,35],[68,1,68,2],[68,30,68,35],[69,1,69,2],[69,30,69,35],[70,1,70,2],[70,30,70,35],[65,1,65,2],[65,30,65,35],[66,1,66,2],[66,30,66,35],[67,1,67,2],[67,30,67,35],[61,1,61,2],[62,1,62,2],[62,30,62,35],[63,0,63,2],[64,1,64,2],[64,30,64,35],[55,1,55,2],[56,1,56,2],[57,1,57,2],[58,1,58,2],[59,1,59,2],[60,1,60,2],[49,1,49,2],[50,1,50,2],[51,1,51,2],[52,1,52,2],[53,1,53,2],[54,1,54,2],[43,1,43,2],[44,1,44,2],[45,1,45,2],[46,1,46,2],[47,1,47,2],[48,1,48,2],[37,1,37,2],[38,1,38,2],[39,1,39,2],[40,1,40,2],[41,1,41,2],[42,1,42,2],[34,1,34,2],[34,30,34,35],[35,1,35,2],[35,30,35,35],[36,1,36,2],[36,30,36,35],[31,1,31,2],[31,30,31,35],[32,1,32,2],[32,30,32,35],[33,1,33,2],[33,30,33,35],[28,1,28,2],[28,30,28,35],[29,1,29,2],[29,30,29,35],[30,1,30,2],[30,30,30,35],[25,1,25,2],[25,30,25,35],[26,1,26,2],[26,30,26,35],[27,1,27,2],[27,30,27,35],[22,1,22,2],[22,30,22,35],[23,1,23,2],[23,30,23,35],[24,1,24,2],[24,30,24,35],[19,1,19,2],[19,30,19,35],[20,1,20,2],[20,30,20,35],[21,1,21,2],[21,30,21,35],[18,1,18,2],[18,30,18,35],[11,29,12,29],[13,1,13,2],[13,30,13,35],[14,1,14,2],[14,30,14,35],[15,1,15,2],[15,30,15,35],[9,0,12,2],[9,3,9,27],[9,28,10,29],[9,30,12,35],[11,28,12,28],[16,1,16,2],[16,30,16,35],[17,1,17,2],[17,30,17,35],[1,0,1,35],[2,0,2,35],[5,2,5,4],[5,10,5,14],[5,16,5,22],[5,23,5,28],[7,2,7,14],[7,19,7,22],[7,23,7,24],[7,25,7,27],[7,28,7,33]]}
[]
["School Form 2 (SF2) Daily Attendance Report of Learners"]
["(This replaced Form 1, Form 2 & STS Form 4 - Absenteeism and Dropout Profile)"]
[]
[]
[null,"School ID",{"$f":"IF('INPUT DATA'!R5=\"\",\"\",'INPUT DATA'!R5)","v":""},null,null,null,null,"School Year",null,null,{"$f":"IF('INPUT DATA'!R4=\"\",\"\",'INPUT DATA'!R4)","v":""},null,null,null,null,null,"Report for the  Month of",null,null,null,null,null,null,"August"]
[]
[null,"Name of School",{"$f":"IF('INPUT DATA'!F5=\"\",\"\",'INPUT DATA'!F5)","v":""},null,null,null,null,null,null,null,null,null,null,null,null,null,null,null,null,"Grade Level",null,null,null,{"$f":"IF('INPUT DATA'!R8=\"\",\"\",'INPUT DATA'!R8)","v":""},null,"Section",null,null,{"$f":"IF('INPUT DATA'!R9=\"\",\"\",'INPUT DATA'!R9)","v":""}]
[]
["LEARNER'S NAME                                                                                         (Last Name, First Name, Middle Name)                                  ",null,null,"(1st row for date, 2nd row for Day: M,T,W,TH,F)",null,null,null,null,null,null,null,null,null,null,null,null,null,null,null,null,null,null,null,null,null,null,null,null,"Total for the Month             ",null,"REMARK/S (If DROPPED OUT, state reason, please refer to legend number 2.\nIf TRANSFERRED IN/OUT, write the name of School.)"]
[null,null,null,1,2,3,4,5,6,7,8,9,10,11,12,13,14,15,16,17,18,19,20,21,22,23,24,25]
[null,null,null,"Mon","Tue","Wed","Thu","Fri","Mon","Tue","Wed","Thu","Fri","Mon","Tue","Wed","Thu","Fri","Mon","Tue","Wed","Thu","Fri","Mon","Tue","Wed","Thu","Fri","ABSENT","PRESENT"]
[null,null,null,false,false,false,false,false,false,false,false,false,false,false,false,false,false,false,false,false,false,false,false,false,false,false,false,false]
[{"$f":"IF(B14=\"\",\"\",\"1\")","v":"1"},{"$f":"IF('INPUT DATA'!B13=\"\",\"\",'INPUT DATA'!B13)","v":"Student 1"},null,"r","r","r","r","r","r","r","r",null,null,null,null,null,null,null,null,null,null,null,null,null,null,null,null,null,{"$f":"IF(B14=\"\",\"\",SUM(COUNTIF(D14:AB14,\"z\")*0.5,COUNTIF(D14:AB14,\"y\")*0.5,COUNTIF(D14:AB14,\"r\")))","v":8},{"$f":"IF(B14=\"\",\"\",COUNTA($D$11:$AB$11)-AC14)","v":17},null,null,null,null,null,null,null,{"$f":"MAX(FREQUENCY(IF(D14:AB14=\"r\",COLUMN(D14:AB14)),IF(D14:AB14<>\"r\",COLUMN(D14:AB14))))","v":8},{"$f":"IF(AL14>=5,1,\"\")","v":1}]
[{"$f":"IF(B15=\"\",\"\",A14+1)","v":2},{"$f":"IF('INPUT DATA'!B14=\"\",\"\",'INPUT DATA'!B14)","v":"Student 2"},null,null,null,null,null,null,null,null,null,null,null,null,null,null,null,null,null,null,null,null,null,null,null,null,null,null,{"$f":"IF(B15=\"\",\"\",SUM(COUNTIF(D15:AB15,\"z\")*0.5,COUNTIF(D15:AB15,\"y\")*0.5,COUNTIF(D15:AB15,\"r\")))","v":0},{"$f":"IF(B15=\"\",\"\",COUNTA($D$11:$AB$11)-AC15)","v":25},null,null,null,null,null,null,null,{"$f":"MAX(FREQUENCY(IF(D15:AB15=\"r\",COLUMN(D15:AB15)),IF(D15:AB15<>\"r\",COLUMN(D15:AB15))))","v":0},{"$f":"IF(AL15>=5,1,\"\")","v":""}]
[{"$f":"IF(B16=\"\",\"\",A15+1)","v":3},{"$f":"IF('INPUT DATA'!B15=\"\",\"\",'INPUT DATA'!B15)","v":"Student 3"},null,null,null,null,null,null,null,null,null,null,null,null,null,null,null,null,null,null,null,null,null,null,null,null,null,null,0,25,null,null,null,null,null,null,null,{"$f":"MAX(FREQUENCY(IF(D16:AB16=\"r\",COLUMN(D16:AB16)),IF(D16:AB16<>\"r\",COLUMN(D16:AB16))))","v":0},""]
[4,{"$f":"IF('INPUT DATA'!B16=\"\",\"\",'INPUT DATA'!B16)","v":"Student 4"},null,null,null,null,null,null,null,null,null,null,null,null,null,null,null,null,null,null,null,null,null,null,null,null,null,null,0,25,null,null,null,null,null,null,null,{"$f":"MAX(FREQUENCY(IF(D17:AB17=\"r\",COLUMN(D17:AB17)),IF(D17:AB17<>\"r\",COLUMN(D17:AB17))))","v":0},""]
[5,{"$f":"IF('INPUT DATA'!B17=\"\",\"\",'INPUT DATA'!B17)","v":"Student 5"},null,null,null,null,null,null,null,null,null,null,null,null,null,null,null,null,null,null,null,null,null,null,null,null,null,null,0,25,null,null,null,null,null,null,null,{"$f":"MAX(FREQUENCY(IF(D18:AB18=\"r\",COLUMN(D18:AB18)),IF(D18:AB18<>\"r\",COLUMN(D18:AB18))))","v":0},""]
[6,{"$f":"IF('INPUT DATA'!B18=\"\",\"\",'INPUT DATA'!B18)","v":"Student 6"},null,null,null,null,null,null,null,null,null,null,null,null,null,null,null,null,null,null,null,null,null,null,null,null,null,null,0,25,null,null,null,null,null,null,null,{"$f":"MAX(FREQUENCY(IF(D19:AB19=\"r\",COLUMN(D19:AB19)),IF(D19:AB19<>\"r\",COLUMN(D19:AB19))))","v":0},""]
[7,{"$f":"IF('INPUT DATA'!B19=\"\",\"\",'INPUT DATA'!B19)","v":"Student 7"},null,null,null,null,null,null,null,null,null,null,null,null,null,null,null,null,null,null,null,null,null,null,null,null,null,null,0,25,null,null,null,null,null,null,null,{"$f":"MAX(FREQUENCY(IF(D20:AB20=\"r\",COLUMN(D20:AB20)),IF(D20:AB20<>\"r\",COLUMN(D20:AB20))))","v":0},""]
[8,{"$f":"IF('INPUT DATA'!B20=\"\",\"\",'INPUT DATA'!B20)","v":"Student 8"},null,null,null,null,null,null,null,null,null,null,null,null,null,null,null,null,null,null,null,null,null,null,null,null,null,null,0,25,null,null,null,null,null,null,null,{"$f":"MAX(FREQUENCY(IF(D21:AB21=\"r\",COLUMN(D21:AB21)),IF(D21:AB21<>\"r\",COLUMN(D21:AB21))))","v":0},""]
[9,{"$f":"IF('INPUT DATA'!B21=\"\",\"\",'INPUT DATA'!B21)","v":"Student 9"},null,null,null,null,null,null,null,null,null,null,null,null,null,null,null,null,null,null,null,null,null,null,null,null,null,null,0,25,null,null,null,null,null,null,null,{"$f":"MAX(FREQUENCY(IF(D22:AB22=\"r\",COLUMN(D22:AB22)),IF(D22:AB22<>\"r\",COLUMN(D22:AB22))))","v":0},""]
[10,{"$f":"IF('INPUT DATA'!B22=\"\",\"\",'INPUT DATA'!B22)","v":"Student 10"},null,null,null,null,null,null,null,null,null,null,null,null,null,null,null,null,null,null,null,null,null,null,null,null,null,null,0,25,null,null,null,null,null,null,null,{"$f":"MAX(FREQUENCY(IF(D23:AB23=\"r\",COLUMN(D23:AB23)),IF(D23:AB23<>\"r\",COLUMN(D23:AB23))))","v":0},""]
[11,{"$f":"IF('INPUT DATA'!B23=\"\",\"\",'INPUT DATA'!B23)","v":"Student 11"},null,null,null,null,null,null,null,null,null,null,null,null,null,null,null,null,null,null,null,null,null,null,null,null,null,null,0,25,null,null,null,null,null,null,null,{"$f":"MAX(FREQUENCY(IF(D24:AB24=\"r\",COLUMN(D24:AB24)),IF(D24:AB24<>\"r\",COLUMN(D24:AB24))))","v":0},""]
[12,{"$f":"IF('INPUT DATA'!B24=\"\",\"\",'INPUT DATA'!B24)","v":"Student 12"},null,null,null,null,null,null,null,null,null,null,null,null,null,null,null,null,null,null,null,null,null,null,null,null,null,null,0,25,null,null,null,null,null,null,null,{"$f":"MAX(FREQUENCY(IF(D25:AB25=\"r\",COLUMN(D25:AB25)),IF(D25:AB25<>\"r\",COLUMN(D25:AB25))))","v":0},""]
[13,{"$f":"IF('INPUT DATA'!B25=\"\",\"\",'INPUT DATA'!B25)","v":"Student 13"},null,null,null,null,null,null,null,null,null,null,null,null,null,null,null,null,null,null,null,null,null,null,null,null,null,null,0,25,null,null,null,null,null,null,null,{"$f":"MAX(FREQUENCY(IF(D26:AB26=\"r\",COLUMN(D26:AB26)),IF(D26:AB26<>\"r\",COLUMN(D26:AB26))))","v":0},""]
[14,{"$f":"IF('INPUT DATA'!B26=\"\",\"\",'INPUT DATA'!B26)","v":"Student 14"},null,null,null,null,null,null,null,null,null,null,null,null,null,null,null,null,null,null,null,null,null,null,null,null,null,null,0,25,null,null,null,null,null,null,null,{"$f":"MAX(FREQUENCY(IF(D27:AB27=\"r\",COLUMN(D27:AB27)),IF(D27:AB27<>\"r\",COLUMN(D27:AB27))))","v":0},""]
[15,{"$f":"IF('INPUT DATA'!B27=\"\",\"\",'INPUT DATA'!B27)","v":"Student 15"},null,null,null,null,null,null,null,null,null,null,null,null,null,null,null,null,null,null,null,null,null,null,null,null,null,null,0,25,null,null,null,null,null,null,null,{"$f":"MAX(FREQUENCY(IF(D28:AB28=\"r\",COLUMN(D28:AB28)),IF(D28:AB28<>\"r\",COLUMN(D28:AB28))))","v":0},""]
[16,{"$f":"IF('INPUT DATA'!B28=\"\",\"\",'INPUT DATA'!B28)","v":"Student 16"},null,null,null,null,null,null,null,null,null,null,null,null,null,null,null,null,null,null,null,null,null,null,null,null,null,null,0,25,null,null,null,null,null,null,null,{"$f":"MAX(FREQUENCY(IF(D29:AB29=\"r\",COLUMN(D29:AB29)),IF(D29:AB29<>\"r\",COLUMN(D29:AB29))))","v":0},""]
[17,{"$f":"IF('INPUT DATA'!B29=\"\",\"\",'INPUT DATA'!B29)","v":"Student 17"},null,null,null,null,null,null,null,null,null,null,null,null,null,null,null,null,null,null,null,null,null,null,null,null,null,null,0,25,null,null,null,null,null,null,null,{"$f":"MAX(FREQUENCY(IF(D30:AB30=\"r\",COLUMN(D30:AB30)),IF(D30:AB30<>\"r\",COLUMN(D30:AB30))))","v":0},""]
[18,{"$f":"IF('INPUT DATA'!B30=\"\",\"\",'INPUT DATA'!B30)","v":"Student 18"},null,null,null,null,null,null,null,null,null,null,null,null,null,null,null,null,null,null,null,null,null,null,null,null,null,null,0,25,null,null,null,null,null,null,null,{"$f":"MAX(FREQUENCY(IF(D31:AB31=\"r\",COLUMN(D31:AB31)),IF(D31:AB31<>\"r\",COLUMN(D31:AB31))))","v":0},""]
[19,{"$f":"IF('INPUT DATA'!B31=\"\",\"\",'INPUT DATA'!B31)","v":"Student 19"},null,null,null,null,null,null,null,null,null,null,null,null,null,null,null,null,null,null,null,null,null,null,null,null,null,null,0,25,null,null,null,null,null,null,null,{"$f":"MAX(FREQUENCY(IF(D32:AB32=\"r\",COLUMN(D32:AB32)),IF(D32:AB32<>\"r\",COLUMN(D32:AB32))))","v":0},""]
[20,{"$f":"IF('INPUT DATA'!B32=\"\",\"\",'INPUT DATA'!B32)","v":"Student 20"},null,null,null,null,null,null,null,null,null,null,null,null,null,null,null,null,null,null,null,null,null,null,null,null,null,null,0,25,null,null,null,null,null,null,null,{"$f":"MAX(FREQUENCY(IF(D33:AB33=\"r\",COLUMN(D33:AB33)),IF(D33:AB33<>\"r\",COLUMN(D33:AB33))))","v":0},""]
["",{"$f":"IF('INPUT DATA'!B33=\"\",\"\",'INPUT DATA'!B33)","v":""},null,null,null,null,null,null,null,null,null,null,null,null,null,null,null,null,null,null,null,null,null,null,null,null,null,null,"","",null,null,null,null,null,null,null,{"$f":"MAX(FREQUENCY(IF(D34:AB34=\"r\",COLUMN(D34:AB34)),IF(D34:AB34<>\"r\",COLUMN(D34:AB34))))","v":0},""]
["",{"$f":"IF('INPUT DATA'!B34=\"\",\"\",'INPUT DATA'!B34)","v":""},null,null,null,null,null,null,null,null,null,null,null,null,null,null,null,null,null,null,null,null,null,null,null,null,null,null,"","",null,null,null,null,null,null,null,{"$f":"MAX(FREQUENCY(IF(D35:AB35=\"r\",COLUMN(D35:AB35)),IF(D35:AB35<>\"r\",COLUMN(D35:AB35))))","v":0},""]
["",{"$f":"IF('INPUT DATA'!B35=\"\",\"\",'INPUT DATA'!B35)","v":""},null,null,null,null,null,null,null,null,null,null,null,null,null,null,null,null,null,null,null,null,null,null,null,null,null,null,"","",null,null,null,null,null,null,null,{"$f":"MAX(FREQUENCY(IF(D36:AB36=\"r\",COLUMN(D36:AB36)),IF(D36:AB36<>\"r\",COLUMN(D36:AB36))))","v":0},""]
["",{"$f":"IF('INPUT DATA'!B36=\"\",\"\",'INPUT DATA'!B36)","v":""},null,null,null,null,null,null,null,null,null,null,null,null,null,null,null,null,null,null,null,null,null,null,null,null,null,null,"","",null,null,null,null,null,null,null,{"$f":"MAX(FREQUENCY(IF(D37:AB37=\"r\",COLUMN(D37:AB37)),IF(D37:AB37<>\"r\",COLUMN(D37:AB37))))","v":0},""]
["",{"$f":"IF('INPUT DATA'!B37=\"\",\"\",'INPUT DATA'!B37)","v":""},null,null,null,null,null,null,null,null,null,null,null,null,null,null,null,null,null,null,null,null,null,null,null,null,null,null,"","",null,null,null,null,null,null,null,{"$f":"MAX(FREQUENCY(IF(D38:AB38=\"r\",COLUMN(D38:AB38)),IF(D38:AB38<>\"r\",COLUMN(D38:AB38))))","v":0},""]
["",{"$f":"IF('INPUT DATA'!B38=\"\",\"\",'INPUT DATA'!B38)","v":""},null,null,null,null,null,null,null,null,null,null,null,null,null,null,null,null,null,null,null,null,null,null,null,null,null,null,"","",null,null,null,null,null,null,null,{"$f":"MAX(FREQUENCY(IF(D39:AB39=\"r\",COLUMN(D39:AB39)),IF(D39:AB39<>\"r\",COLUMN(D39:AB39))))","v":0},""]
["",{"$f":"IF('INPUT DATA'!B39=\"\",\"\",'INPUT DATA'!B39)","v":""},null,null,null,null,null,null,null,null,null,null,null,null,null,null,null,null,null,null,null,null,null,null,null,null,null,null,"","",null,null,null,null,null,null,null,{"$f":"MAX(FREQUENCY(IF(D40:AB40=\"r\",COLUMN(D40:AB40)),IF(D40:AB40<>\"r\",COLUMN(D40:AB40))))","v":0},""]
["",{"$f":"IF('INPUT DATA'!B40=\"\",\"\",'INPUT DATA'!B40)","v":""},null,null,null,null,null,null,null,null,null,null,null,null,null,null,null,null,null,null,null,null,null,null,null,null,null,null,"","",null,null,null,null,null,null,null,{"$f":"MAX(FREQUENCY(IF(D41:AB41=\"r\",COLUMN(D41:AB41)),IF(D41:AB41<>\"r\",COLUMN(D41:AB41))))","v":0},""]
["",{"$f":"IF('INPUT DATA'!B41=\"\",\"\",'INPUT DATA'!B41)","v":""},null,null,null,null,null,null,null,null,null,null,null,null,null,null,null,null,null,null,null,null,null,null,null,null,null,null,"","",null,null,null,null,null,null,null,{"$f":"MAX(FREQUENCY(IF(D42:AB42=\"r\",COLUMN(D42:AB42)),IF(D42:AB42<>\"r\",COLUMN(D42:AB42))))","v":0},""]
["",{"$f":"IF('INPUT DATA'!B42=\"\",\"\",'INPUT DATA'!B42)","v":""},null,null,null,null,null,null,null,null,null,null,null,null,null,null,null,null,null,null,null,null,null,null,null,null,null,null,"","",null,null,null,null,null,null,null,{"$f":"MAX(FREQUENCY(IF(D43:AB43=\"r\",COLUMN(D43:AB43)),IF(D43:AB43<>\"r\",COLUMN(D43:AB43))))","v":0},""]
["",{"$f":"IF('INPUT DATA'!B43=\"\",\"\",'INPUT DATA'!B43)","v":""},null,null,null,null,null,null,null,null,null,null,null,null,null,null,null,null,null,null,null,null,null,null,null,null,null,null,"","",null,null,null,null,null,null,null,{"$f":"MAX(FREQUENCY(IF(D44:AB44=\"r\",COLUMN(D44:AB44)),IF(D44:AB44<>\"r\",COLUMN(D44:AB44))))","v":0},""]
["",{"$f":"IF('INPUT DATA'!B44=\"\",\"\",'INPUT DATA'!B44)","v":""},null,null,null,null,null,null,null,null,null,null,null,null,null,null,null,null,null,null,null,null,null,null,null,null,null,null,"","",null,null,null,null,null,null,null,{"$f":"MAX(FREQUENCY(IF(D45:AB45=\"r\",COLUMN(D45:AB45)),IF(D45:AB45<>\"r\",COLUMN(D45:AB45))))","v":0},""]
["",{"$f":"IF('INPUT DATA'!B45=\"\",\"\",'INPUT DATA'!B45)","v":""},null,null,null,null,null,null,null,null,null,null,null,null,null,null,null,null,null,null,null,null,null,null,null,null,null,null,"","",null,null,null,null,null,null,null,{"$f":"MAX(FREQUENCY(IF(D46:AB46=\"r\",COLUMN(D46:AB46)),IF(D46:AB46<>\"r\",COLUMN(D46:AB46))))","v":0},""]
["",{"$f":"IF('INPUT DATA'!B46=\"\",\"\",'INPUT DATA'!B46)","v":""},null,null,null,null,null,null,null,null,null,null,null,null,null,null,null,null,null,null,null,null,null,null,null,null,null,null,"","",null,null,null,null,null,null,null,{"$f":"MAX(FREQUENCY(IF(D47:AB47=\"r\",COLUMN(D47:AB47)),IF(D47:AB47<>\"r\",COLUMN(D47:AB47))))","v":0},""]
["",{"$f":"IF('INPUT DATA'!B47=\"\",\"\",'INPUT DATA'!B47)","v":""},null,null,null,null,null,null,null,null,null,null,null,null,null,null,null,null,null,null,null,null,null,null,null,null,null,null,"","",null,null,null,null,null,null,null,{"$f":"MAX(FREQUENCY(IF(D48:AB48=\"r\",COLUMN(D48:AB48)),IF(D48:AB48<>\"r\",COLUMN(D48:AB48))))","v":0},""]
["",{"$f":"IF('INPUT DATA'!B48=\"\",\"\",'INPUT DATA'!B48)","v":""},null,null,null,null,null,null,null,null,null,null,null,null,null,null,null,null,null,null,null,null,null,null,null,null,null,null,"","",null,null,null,null,null,null,null,{"$f":"MAX(FREQUENCY(IF(D49:AB49=\"r\",COLUMN(D49:AB49)),IF(D49:AB49<>\"r\",COLUMN(D49:AB49))))","v":0},""]
["",{"$f":"IF('INPUT DATA'!B49=\"\",\"\",'INPUT DATA'!B49)","v":""},null,null,null,null,null,null,null,null,null,null,null,null,null,null,null,null,null,null,null,null,null,null,null,null,null,null,"","",null,null,null,null,null,null,null,{"$f":"MAX(FREQUENCY(IF(D50:AB50=\"r\",COLUMN(D50:AB50)),IF(D50:AB50<>\"r\",COLUMN(D50:AB50))))","v":0},""]
["",{"$f":"IF('INPUT DATA'!B50=\"\",\"\",'INPUT DATA'!B50)","v":""},null,null,null,null,null,null,null,null,null,null,null,null,null,null,null,null,null,null,null,null,null,null,null,null,null,null,"","",null,null,null,null,null,null,null,{"$f":"MAX(FREQUENCY(IF(D51:AB51=\"r\",COLUMN(D51:AB51)),IF(D51:AB51<>\"r\",COLUMN(D51:AB51))))","v":0},""]
["",{"$f":"IF('INPUT DATA'!B51=\"\",\"\",'INPUT DATA'!B51)","v":""},null,null,null,null,null,null,null,null,null,null,null,null,null,null,null,null,null,null,null,null,null,null,null,null,null,null,"","",null,null,null,null,null,null,null,{"$f":"MAX(FREQUENCY(IF(D52:AB52=\"r\",COLUMN(D52:AB52)),IF(D52:AB52<>\"r\",COLUMN(D52:AB52))))","v":0},""]
["",{"$f":"IF('INPUT DATA'!B52=\"\",\"\",'INPUT DATA'!B52)","v":""},null,null,null,null,null,null,null,null,null,null,null,null,null,null,null,null,null,null,null,null,null,null,null,null,null,null,"","",null,null,null,null,null,null,null,{"$f":"MAX(FREQUENCY(IF(D53:AB53=\"r\",COLUMN(D53:AB53)),IF(D53:AB53<>\"r\",COLUMN(D53:AB53))))","v":0},""]
["",{"$f":"IF('INPUT DATA'!B53=\"\",\"\",'INPUT DATA'!B53)","v":""},null,null,null,null,null,null,null,null,null,null,null,null,null,null,null,null,null,null,null,null,null,null,null,null,null,null,"","",null,null,null,null,null,null,null,{"$f":"MAX(FREQUENCY(IF(D54:AB54=\"r\",COLUMN(D54:AB54)),IF(D54:AB54<>\"r\",COLUMN(D54:AB54))))","v":0},""]
["",{"$f":"IF('INPUT DATA'!B54=\"\",\"\",'INPUT DATA'!B54)","v":""},null,null,null,null,null,null,null,null,null,null,null,null,null,null,null,null,null,null,null,null,null,null,null,null,null,null,"","",null,null,null,null,null,null,null,{"$f":"MAX(FREQUENCY(IF(D55:AB55=\"r\",COLUMN(D55:AB55)),IF(D55:AB55<>\"r\",COLUMN(D55:AB55))))","v":0},""]
["",{"$f":"IF('INPUT DATA'!B55=\"\",\"\",'INPUT DATA'!B55)","v":""},null,null,null,null,null,null,null,null,null,null,null,null,null,null,null,null,null,null,null,null,null,null,null,null,null,null,"","",null,null,null,null,null,null,null,{"$f":"MAX(FREQUENCY(IF(D56:AB56=\"r\",COLUMN(D56:AB56)),IF(D56:AB56<>\"r\",COLUMN(D56:AB56))))","v":0},""]
["",{"$f":"IF('INPUT DATA'!B56=\"\",\"\",'INPUT DATA'!B56)","v":""},null,null,null,null,null,null,null,null,null,null,null,null,null,null,null,null,null,null,null,null,null,null,null,null,null,null,"","",null,null,null,null,null,null,null,{"$f":"MAX(FREQUENCY(IF(D57:AB57=\"r\",COLUMN(D57:AB57)),IF(D57:AB57<>\"r\",COLUMN(D57:AB57))))","v":0},""]
["",{"$f":"IF('INPUT DATA'!B57=\"\",\"\",'INPUT DATA'!B57)","v":""},null,null,null,null,null,null,null,null,null,null,null,null,null,null,null,null,null,null,null,null,null,null,null,null,null,null,"","",null,null,null,null,null,null,null,{"$f":"MAX(FREQUENCY(IF(D58:AB58=\"r\",COLUMN(D58:AB58)),IF(D58:AB58<>\"r\",COLUMN(D58:AB58))))","v":0},""]
["",{"$f":"IF('INPUT DATA'!B58=\"\",\"\",'INPUT DATA'!B58)","v":""},null,null,null,null,null,null,null,null,null,null,null,null,null,null,null,null,null,null,null,null,null,null,null,null,null,null,"","",null,null,null,null,null,null,null,{"$f":"MAX(FREQUENCY(IF(D59:AB59=\"r\",COLUMN(D59:AB59)),IF(D59:AB59<>\"r\",COLUMN(D59:AB59))))","v":0},""]
["",{"$f":"IF('INPUT DATA'!B59=\"\",\"\",'INPUT DATA'!B59)","v":""},null,null,null,null,null,null,null,null,null,null,null,null,null,null,null,null,null,null,null,null,null,null,null,null,null,null,"","",null,null,null,null,null,null,null,{"$f":"MAX(FREQUENCY(IF(D60:AB60=\"r\",COLUMN(D60:AB60)),IF(D60:AB60<>\"r\",COLUMN(D60:AB60))))","v":0},""]
["",{"$f":"IF('INPUT DATA'!B60=\"\",\"\",'INPUT DATA'!B60)","v":""},null,null,null,null,null,null,null,null,null,null,null,null,null,null,null,null,null,null,null,null,null,null,null,null,null,null,"","",null,null,null,null,null,null,null,{"$f":"MAX(FREQUENCY(IF(D61:AB61=\"r\",COLUMN(D61:AB61)),IF(D61:AB61<>\"r\",COLUMN(D61:AB61))))","v":0},""]
["",{"$f":"IF('INPUT DATA'!B61=\"\",\"\",'INPUT DATA'!B61)","v":""},null,null,null,null,null,null,null,null,null,null,null,null,null,null,null,null,null,null,null,null,null,null,null,null,null,null,"","",null,null,null,null,null,null,null,{"$f":"MAX(FREQUENCY(IF(D62:AB62=\"r\",COLUMN(D62:AB62)),IF(D62:AB62<>\"r\",COLUMN(D62:AB62))))","v":0},""]
["",{"$f":"IF('INPUT DATA'!B62=\"\",\"\",'INPUT DATA'!B62)","v":""},null,null,null,null,null,null,null,null,null,null,null,null,null,null,null,null,null,null,null,null,null,null,null,null,null,null,"","",null,null,null,null,null,null,null,{"$f":"MAX(FREQUENCY(IF(D63:AB63=\"r\",COLUMN(D63:AB63)),IF(D63:AB63<>\"r\",COLUMN(D63:AB63))))","v":0},""]
["MALE  | TOTAL Per Day",null,null,{"$f":"IF(D11=\"\",\"\",SUM(COUNTBLANK(D14:D63)-COUNTBLANK($B$14:$B$63),COUNTIF(D14:D63,\"z\")*0.5,COUNTIF(D14:D63,\"y\")*0.5))","v":19},19,19,19,19,19,19,19,20,20,20,20,20,20,20,20,20,20,20,20,20,20,20,20,20,{"$f":"SUM(AC14:AC63)","v":8},{"$f":"SUM(AD14:AD63)","v":492},null,null,null,null,null,null,null,{"$f":"MAX(FREQUENCY(IF(D64:AB64=\"r\",COLUMN(D64:AB64)),IF(D64:AB64<>\"r\",COLUMN(D64:AB64))))","v":0},""]
[{"$f":"IF(B65=\"\",\"\",\"1\")","v":"1"},{"$f":"IF('INPUT DATA'!B64=\"\",\"\",'INPUT DATA'!B64)","v":"Student 1"},null,null,null,null,null,null,null,null,null,null,null,null,null,null,null,null,null,null,null,null,null,null,null,null,null,null,{"$f":"IF(B65=\"\",\"\",SUM(COUNTIF(D65:AB65,\"z\")*0.5,COUNTIF(D65:AB65,\"y\")*0.5,COUNTIF(D65:AB65,\"r\")))","v":0},{"$f":"IF(B65=\"\",\"\",COUNTA($D$11:$AB$11)-AC65)","v":25},null,null,null,null,null,null,null,{"$f":"MAX(FREQUENCY(IF(D65:AB65=\"r\",COLUMN(D65:AB65)),IF(D65:AB65<>\"r\",COLUMN(D65:AB65))))","v":0},""]
[{"$f":"IF(B66=\"\",\"\",A65+1)","v":2},{"$f":"IF('INPUT DATA'!B65=\"\",\"\",'INPUT DATA'!B65)","v":"Student 2"},null,null,null,null,null,null,null,null,null,null,null,null,null,null,null,null,null,null,null,null,null,null,null,null,null,null,{"$f":"IF(B66=\"\",\"\",SUM(COUNTIF(D66:AB66,\"z\")*0.5,COUNTIF(D66:AB66,\"y\")*0.5,COUNTIF(D66:AB66,\"r\")))","v":0},{"$f":"IF(B66=\"\",\"\",COUNTA($D$11:$AB$11)-AC66)","v":25},null,null,null,null,null,null,null,{"$f":"MAX(FREQUENCY(IF(D66:AB66=\"r\",COLUMN(D66:AB66)),IF(D66:AB66<>\"r\",COLUMN(D66:AB66))))","v":0},""]
[{"$f":"IF(B67=\"\",\"\",A66+1)","v":3},{"$f":"IF('INPUT DATA'!B66=\"\",\"\",'INPUT DATA'!B66)","v":"Student 3"},null,null,null,null,null,null,null,null,null,null,null,null,null,null,null,null,null,null,null,null,null,null,null,null,null,null,0,25,null,null,null,null,null,null,null,{"$f":"MAX(FREQUENCY(IF(D67:AB67=\"r\",COLUMN(D67:AB67)),IF(D67:AB67<>\"r\",COLUMN(D67:AB67))))","v":0},""]
[4,{"$f":"IF('INPUT DATA'!B67=\"\",\"\",'INPUT DATA'!B67)","v":"Student 4"},null,null,null,null,null,null,null,null,null,null,null,null,null,null,null,null,null,null,null,null,null,null,null,null,null,null,0,25,null,null,null,null,null,null,null,{"$f":"MAX(FREQUENCY(IF(D68:AB68=\"r\",COLUMN(D68:AB68)),IF(D68:AB68<>\"r\",COLUMN(D68:AB68))))","v":0},""]
[5,{"$f":"IF('INPUT DATA'!B68=\"\",\"\",'INPUT DATA'!B68)","v":"Student 5"},null,null,null,null,null,null,null,null,null,null,null,null,null,null,null,null,null,null,null,null,null,null,null,null,null,null,0,25,null,null,null,null,null,null,null,{"$f":"MAX(FREQUENCY(IF(D69:AB69=\"r\",COLUMN(D69:AB69)),IF(D69:AB69<>\"r\",COLUMN(D69:AB69))))","v":0},""]
[6,{"$f":"IF('INPUT DATA'!B69=\"\",\"\",'INPUT DATA'!B69)","v":"Student 6"},null,null,null,null,null,null,null,null,null,null,null,null,null,null,null,null,null,null,null,null,null,null,null,null,null,null,0,25,null,null,null,null,null,null,null,{"$f":"MAX(FREQUENCY(IF(D70:AB70=\"r\",COLUMN(D70:AB70)),IF(D70:AB70<>\"r\",COLUMN(D70:AB70))))","v":0},""]
[7,{"$f":"IF('INPUT DATA'!B70=\"\",\"\",'INPUT DATA'!B70)","v":"Student 7"},null,null,null,null,null,null,null,null,null,null,null,null,null,null,null,null,null,null,null,null,null,null,null,null,null,null,0,25,null,null,null,null,null,null,null,{"$f":"MAX(FREQUENCY(IF(D71:AB71=\"r\",COLUMN(D71:AB71)),IF(D71:AB71<>\"r\",COLUMN(D71:AB71))))","v":0},""]
[8,{"$f":"IF('INPUT DATA'!B71=\"\",\"\",'INPUT DATA'!B71)","v":"Student 8"},null,null,null,null,null,null,null,null,null,null,null,null,null,null,null,null,null,null,null,null,null,null,null,null,null,null,0,25,null,null,null,null,null,null,null,{"$f":"MAX(FREQUENCY(IF(D72:AB72=\"r\",COLUMN(D72:AB72)),IF(D72:AB72<>\"r\",COLUMN(D72:AB72))))","v":0},""]
[9,{"$f":"IF('INPUT DATA'!B72=\"\",\"\",'INPUT DATA'!B72)","v":"Student 9"},null,null,null,null,null,null,null,null,null,null,null,null,null,null,null,null,null,null,null,null,null,null,null,null,null,null,0,25,null,null,null,null,null,null,null,{"$f":"MAX(FREQUENCY(IF(D73:AB73=\"r\",COLUMN(D73:AB73)),IF(D73:AB73<>\"r\",COLUMN(D73:AB73))))","v":0},""]
[10,{"$f":"IF('INPUT DATA'!B73=\"\",\"\",'INPUT DATA'!B73)","v":"Student 10"},null,null,null,null,null,null,null,null,null,null,null,null,null,null,null,null,null,null,null,null,null,null,null,null,null,null,0,25,null,null,null,null,null,null,null,{"$f":"MAX(FREQUENCY(IF(D74:AB74=\"r\",COLUMN(D74:AB74)),IF(D74:AB74<>\"r\",COLUMN(D74:AB74))))","v":0},""]
[11,{"$f":"IF('INPUT DATA'!B74=\"\",\"\",'INPUT DATA'!B74)","v":"Student 11"},null,null,null,null,null,null,null,null,null,null,null,null,null,null,null,null,null,null,null,null,null,null,null,null,null,null,0,25,null,null,null,null,null,null,null,{"$f":"MAX(FREQUENCY(IF(D75:AB75=\"r\",COLUMN(D75:AB75)),IF(D75:AB75<>\"r\",COLUMN(D75:AB75))))","v":0},""]
[12,{"$f":"IF('INPUT DATA'!B75=\"\",\"\",'INPUT DATA'!B75)","v":"Student 12"},null,null,null,null,null,null,null,null,null,null,null,null,null,null,null,null,null,null,null,null,null,null,null,null,null,null,0,25,null,null,null,null,null,null,null,{"$f":"MAX(FREQUENCY(IF(D76:AB76=\"r\",COLUMN(D76:AB76)),IF(D76:AB76<>\"r\",COLUMN(D76:AB76))))","v":0},""]
[13,{"$f":"IF('INPUT DATA'!B76=\"\",\"\",'INPUT DATA'!B76)","v":"Student 13"},null,null,null,null,null,null,null,null,null,null,null,null,null,null,null,null,null,null,null,null,null,null,null,null,null,null,0,25,null,null,null,null,null,null,null,{"$f":"MAX(FREQUENCY(IF(D77:AB77=\"r\",COLUMN(D77:AB77)),IF(D77:AB77<>\"r\",COLUMN(D77:AB77))))","v":0},""]
[14,{"$f":"IF('INPUT DATA'!B77=\"\",\"\",'INPUT DATA'!B77)","v":"Student 14"},null,null,null,null,null,null,null,null,null,null,null,null,null,null,null,null,null,null,null,null,null,null,null,null,null,null,0,25,null,null,null,null,null,null,null,{"$f":"MAX(FREQUENCY(IF(D78:AB78=\"r\",COLUMN(D78:AB78)),IF(D78:AB78<>\"r\",COLUMN(D78:AB78))))","v":0},""]
[15,{"$f":"IF('INPUT DATA'!B78=\"\",\"\",'INPUT DATA'!B78)","v":"Student 15"},null,null,null,null,null,null,null,null,null,null,null,null,null,null,null,null,null,null,null,null,null,null,null,null,null,null,0,25,null,null,null,null,null,null,null,{"$f":"MAX(FREQUENCY(IF(D79:AB79=\"r\",COLUMN(D79:AB79)),IF(D79:AB79<>\"r\",COLUMN(D79:AB79))))","v":0},{"$f":"IF(AL79>=5,1,\"\")","v":""}]
[16,{"$f":"IF('INPUT DATA'!B79=\"\",\"\",'INPUT DATA'!B79)","v":"Student 16"},null,null,null,null,null,null,null,null,null,null,null,null,null,null,null,null,null,null,null,null,null,null,null,null,null,null,0,25,null,null,null,null,null,null,null,{"$f":"MAX(FREQUENCY(IF(D80:AB80=\"r\",COLUMN(D80:AB80)),IF(D80:AB80<>\"r\",COLUMN(D80:AB80))))","v":0},""]
[17,{"$f":"IF('INPUT DATA'!B80=\"\",\"\",'INPUT DATA'!B80)","v":"Student 17"},null,null,null,null,null,null,null,null,null,null,null,null,null,null,null,null,null,null,null,null,null,null,null,null,null,null,0,25,null,null,null,null,null,null,null,{"$f":"MAX(FREQUENCY(IF(D81:AB81=\"r\",COLUMN(D81:AB81)),IF(D81:AB81<>\"r\",COLUMN(D81:AB81))))","v":0},""]
[18,{"$f":"IF('INPUT DATA'!B81=\"\",\"\",'INPUT DATA'!B81)","v":"Student 18"},null,null,null,null,null,null,null,null,null,null,null,null,null,null,null,null,null,null,null,null,null,null,null,null,null,null,0,25,null,null,null,null,null,null,null,{"$f":"MAX(FREQUENCY(IF(D82:AB82=\"r\",COLUMN(D82:AB82)),IF(D82:AB82<>\"r\",COLUMN(D82:AB82))))","v":0},""]
[19,{"$f":"IF('INPUT DATA'!B82=\"\",\"\",'INPUT DATA'!B82)","v":"Student 19"},null,null,null,null,null,null,null,null,null,null,null,null,null,null,null,null,null,null,null,null,null,null,null,null,null,null,0,25,null,null,null,null,null,null,null,{"$f":"MAX(FREQUENCY(IF(D83:AB83=\"r\",COLUMN(D83:AB83)),IF(D83:AB83<>\"r\",COLUMN(D83:AB83))))","v":0},""]
[20,{"$f":"IF('INPUT DATA'!B83=\"\",\"\",'INPUT DATA'!B83)","v":"Student 20"},null,null,null,null,null,null,null,null,null,null,null,null,null,null,null,null,null,null,null,null,null,null,null,null,null,null,0,25,null,null,null,null,null,null,null,{"$f":"MAX(FREQUENCY(IF(D84:AB84=\"r\",COLUMN(D84:AB84)),IF(D84:AB84<>\"r\",COLUMN(D84:AB84))))","v":0},""]
["",{"$f":"IF('INPUT DATA'!B84=\"\",\"\",'INPUT DATA'!B84)","v":""},null,null,null,null,null,null,null,null,null,null,null,null,null,null,null,null,null,null,null,null,null,null,null,null,null,null,"","",null,null,null,null,null,null,null,{"$f":"MAX(FREQUENCY(IF(D85:AB85=\"r\",COLUMN(D85:AB85)),IF(D85:AB85<>\"r\",COLUMN(D85:AB85))))","v":0},""]
["",{"$f":"IF('INPUT DATA'!B85=\"\",\"\",'INPUT DATA'!B85)","v":""},null,null,null,null,null,null,null,null,null,null,null,null,null,null,null,null,null,null,null,null,null,null,null,null,null,null,"","",null,null,null,null,null,null,null,{"$f":"MAX(FREQUENCY(IF(D86:AB86=\"r\",COLUMN(D86:AB86)),IF(D86:AB86<>\"r\",COLUMN(D86:AB86))))","v":0},""]
["",{"$f":"IF('INPUT DATA'!B86=\"\",\"\",'INPUT DATA'!B86)","v":""},null,null,null,null,null,null,null,null,null,null,null,null,null,null,null,null,null,null,null,null,null,null,null,null,null,null,"","",null,null,null,null,null,null,null,{"$f":"MAX(FREQUENCY(IF(D87:AB87=\"r\",COLUMN(D87:AB87)),IF(D87:AB87<>\"r\",COLUMN(D87:AB87))))","v":0},""]
["",{"$f":"IF('INPUT DATA'!B87=\"\",\"\",'INPUT DATA'!B87)","v":""},null,null,null,null,null,null,null,null,null,null,null,null,null,null,null,null,null,null,null,null,null,null,null,null,null,null,"","",null,null,null,null,null,null,null,{"$f":"MAX(FREQUENCY(IF(D88:AB88=\"r\",COLUMN(D88:AB88)),IF(D88:AB88<>\"r\",COLUMN(D88:AB88))))","v":0},""]
["",{"$f":"IF('INPUT DATA'!B88=\"\",\"\",'INPUT DATA'!B88)","v":""},null,null,null,null,null,null,null,null,null,null,null,null,null,null,null,null,null,null,null,null,null,null,null,null,null,null,"","",null,null,null,null,null,null,null,{"$f":"MAX(FREQUENCY(IF(D89:AB89=\"r\",COLUMN(D89:AB89)),IF(D89:AB89<>\"r\",COLUMN(D89:AB89))))","v":0},""]
["",{"$f":"IF('INPUT DATA'!B89=\"\",\"\",'INPUT DATA'!B89)","v":""},null,null,null,null,null,null,null,null,null,null,null,null,null,null,null,null,null,null,null,null,null,null,null,null,null,null,"","",null,null,null,null,null,null,null,{"$f":"MAX(FREQUENCY(IF(D90:AB90=\"r\",COLUMN(D90:AB90)),IF(D90:AB90<>\"r\",COLUMN(D90:AB90))))","v":0},""]
["",{"$f":"IF('INPUT DATA'!B90=\"\",\"\",'INPUT DATA'!B90)","v":""},null,null,null,null,null,null,null,null,null,null,null,null,null,null,null,null,null,null,null,null,null,null,null,null,null,null,"","",null,null,null,null,null,null,null,{"$f":"MAX(FREQUENCY(IF(D91:AB91=\"r\",COLUMN(D91:AB91)),IF(D91:AB91<>\"r\",COLUMN(D91:AB91))))","v":0},""]
["",{"$f":"IF('INPUT DATA'!B91=\"\",\"\",'INPUT DATA'!B91)","v":""},null,null,null,null,null,null,null,null,null,null,null,null,null,null,null,null,null,null,null,null,null,null,null,null,null,null,"","",null,null,null,null,null,null,null,{"$f":"MAX(FREQUENCY(IF(D92:AB92=\"r\",COLUMN(D92:AB92)),IF(D92:AB92<>\"r\",COLUMN(D92:AB92))))","v":0},""]
["",{"$f":"IF('INPUT DATA'!B92=\"\",\"\",'INPUT DATA'!B92)","v":""},null,null,null,null,null,null,null,null,null,null,null,null,null,null,null,null,null,null,null,null,null,null,null,null,null,null,"","",null,null,null,null,null,null,null,{"$f":"MAX(FREQUENCY(IF(D93:AB93=\"r\",COLUMN(D93:AB93)),IF(D93:AB93<>\"r\",COLUMN(D93:AB93))))","v":0},""]
["",{"$f":"IF('INPUT DATA'!B93=\"\",\"\",'INPUT DATA'!B93)","v":""},null,null,null,null,null,null,null,null,null,null,null,null,null,null,null,null,null,null,null,null,null,null,null,null,null,null,"","",null,null,null,null,null,null,null,{"$f":"MAX(FREQUENCY(IF(D94:AB94=\"r\",COLUMN(D94:AB94)),IF(D94:AB94<>\"r\",COLUMN(D94:AB94))))","v":0},""]
["",{"$f":"IF('INPUT DATA'!B94=\"\",\"\",'INPUT DATA'!B94)","v":""},null,null,null,null,null,null,null,null,null,null,null,null,null,null,null,null,null,null,null,null,null,null,null,null,null,null,"","",null,null,null,null,null,null,null,{"$f":"MAX(FREQUENCY(IF(D95:AB95=\"r\",COLUMN(D95:AB95)),IF(D95:AB95<>\"r\",COLUMN(D95:AB95))))","v":0},""]
["",{"$f":"IF('INPUT DATA'!B95=\"\",\"\",'INPUT DATA'!B95)","v":""},null,null,null,null,null,null,null,null,null,null,null,null,null,null,null,null,null,null,null,null,null,null,null,null,null,null,"","",null,null,null,null,null,null,null,{"$f":"MAX(FREQUENCY(IF(D96:AB96=\"r\",COLUMN(D96:AB96)),IF(D96:AB96<>\"r\",COLUMN(D96:AB96))))","v":0},""]
["",{"$f":"IF('INPUT DATA'!B96=\"\",\"\",'INPUT DATA'!B96)","v":""},null,null,null,null,null,null,null,null,null,null,null,null,null,null,null,null,null,null,null,null,null,null,null,null,null,null,"","",null,null,null,null,null,null,null,{"$f":"MAX(FREQUENCY(IF(D97:AB97=\"r\",COLUMN(D97:AB97)),IF(D97:AB97<>\"r\",COLUMN(D97:AB97))))","v":0},""]
["",{"$f":"IF('INPUT DATA'!B97=\"\",\"\",'INPUT DATA'!B97)","v":""},null,null,null,null,null,null,null,null,null,null,null,null,null,null,null,null,null,null,null,null,null,null,null,null,null,null,"","",null,null,null,null,null,null,null,{"$f":"MAX(FREQUENCY(IF(D98:AB98=\"r\",COLUMN(D98:AB98)),IF(D98:AB98<>\"r\",COLUMN(D98:AB98))))","v":0},""]
["",{"$f":"IF('INPUT DATA'!B98=\"\",\"\",'INPUT DATA'!B98)","v":""},null,null,null,null,null,null,null,null,null,null,null,null,null,null,null,null,null,null,null,null,null,null,null,null,null,null,"","",null,null,null,null,null,null,null,{"$f":"MAX(FREQUENCY(IF(D99:AB99=\"r\",COLUMN(D99:AB99)),IF(D99:AB99<>\"r\",COLUMN(D99:AB99))))","v":0},""]
["",{"$f":"IF('INPUT DATA'!B99=\"\",\"\",'INPUT DATA'!B99)","v":""},null,null,null,null,null,null,null,null,null,null,null,null,null,null,null,null,null,null,null,null,null,null,null,null,null,null,"","",null,null,null,null,null,null,null,{"$f":"MAX(FREQUENCY(IF(D100:AB100=\"r\",COLUMN(D100:AB100)),IF(D100:AB100<>\"r\",COLUMN(D100:AB100))))","v":0},""]
["",{"$f":"IF('INPUT DATA'!B100=\"\",\"\",'INPUT DATA'!B100)","v":""},null,null,null,null,null,null,null,null,null,null,null,null,null,null,null,null,null,null,null,null,null,null,null,null,null,null,"","",null,null,null,null,null,null,null,{"$f":"MAX(FREQUENCY(IF(D101:AB101=\"r\",COLUMN(D101:AB101)),IF(D101:AB101<>\"r\",COLUMN(D101:AB101))))","v":0},""]
["",{"$f":"IF('INPUT DATA'!B101=\"\",\"\",'INPUT DATA'!B101)","v":""},null,null,null,null,null,null,null,null,null,null,null,null,null,null,null,null,null,null,null,null,null,null,null,null,null,null,"","",null,null,null,null,null,null,null,{"$f":"MAX(FREQUENCY(IF(D102:AB102=\"r\",COLUMN(D102:AB102)),IF(D102:AB102<>\"r\",COLUMN(D102:AB102))))","v":0},""]
["",{"$f":"IF('INPUT DATA'!B102=\"\",\"\",'INPUT DATA'!B102)","v":""},null,null,null,null,null,null,null,null,null,null,null,null,null,null,null,null,null,null,null,null,null,null,null,null,null,null,"","",null,null,null,null,null,null,null,{"$f":"MAX(FREQUENCY(IF(D103:AB103=\"r\",COLUMN(D103:AB103)),IF(D103:AB103<>\"r\",COLUMN(D103:AB103))))","v":0},""]
["",{"$f":"IF('INPUT DATA'!B103=\"\",\"\",'INPUT DATA'!B103)","v":""},null,null,null,null,null,null,null,null,null,null,null,null,null,null,null,null,null,null,null,null,null,null,null,null,null,null,"","",null,null,null,null,null,null,null,{"$f":"MAX(FREQUENCY(IF(D104:AB104=\"r\",COLUMN(D104:AB104)),IF(D104:AB104<>\"r\",COLUMN(D104:AB104))))","v":0},""]
["",{"$f":"IF('INPUT DATA'!B104=\"\",\"\",'INPUT DATA'!B104)","v":""},null,null,null,null,null,null,null,null,null,null,null,null,null,null,null,null,null,null,null,null,null,null,null,null,null,null,"","",null,null,null,null,null,null,null,{"$f":"MAX(FREQUENCY(IF(D105:AB105=\"r\",COLUMN(D105:AB105)),IF(D105:AB105<>\"r\",COLUMN(D105:AB105))))","v":0},""]
["",{"$f":"IF('INPUT DATA'!B105=\"\",\"\",'INPUT DATA'!B105)","v":""},null,null,null,null,null,null,null,null,null,null,null,null,null,null,null,null,null,null,null,null,null,null,null,null,null,null,"","",null,null,null,null,null,null,null,{"$f":"MAX(FREQUENCY(IF(D106:AB106=\"r\",COLUMN(D106:AB106)),IF(D106:AB106<>\"r\",COLUMN(D106:AB106))))","v":0},""]
["",{"$f":"IF('INPUT DATA'!B106=\"\",\"\",'INPUT DATA'!B106)","v":""},null,null,null,null,null,null,null,null,null,null,null,null,null,null,null,null,null,null,null,null,null,null,null,null,null,null,"","",null,null,null,null,null,null,null,{"$f":"MAX(FREQUENCY(IF(D107:AB107=\"r\",COLUMN(D107:AB107)),IF(D107:AB107<>\"r\",COLUMN(D107:AB107))))","v":0},""]
["",{"$f":"IF('INPUT DATA'!B107=\"\",\"\",'INPUT DATA'!B107)","v":""},null,null,null,null,null,null,null,null,null,null,null,null,null,null,null,null,null,null,null,null,null,null,null,null,null,null,"","",null,null,null,null,null,null,null,{"$f":"MAX(FREQUENCY(IF(D108:AB108=\"r\",COLUMN(D108:AB108)),IF(D108:AB108<>\"r\",COLUMN(D108:AB108))))","v":0},""]
["",{"$f":"IF('INPUT DATA'!B108=\"\",\"\",'INPUT DATA'!B108)","v":""},null,null,null,null,null,null,null,null,null,null,null,null,null,null,null,null,null,null,null,null,null,null,null,null,null,null,"","",null,null,null,null,null,null,null,{"$f":"MAX(FREQUENCY(IF(D109:AB109=\"r\",COLUMN(D109:AB109)),IF(D109:AB109<>\"r\",COLUMN(D109:AB109))))","v":0},""]
["",{"$f":"IF('INPUT DATA'!B109=\"\",\"\",'INPUT DATA'!B109)","v":""},null,null,null,null,null,null,null,null,null,null,null,null,null,null,null,null,null,null,null,null,null,null,null,null,null,null,"","",null,null,null,null,null,null,null,{"$f":"MAX(FREQUENCY(IF(D110:AB110=\"r\",COLUMN(D110:AB110)),IF(D110:AB110<>\"r\",COLUMN(D110:AB110))))","v":0},""]
["",{"$f":"IF('INPUT DATA'!B110=\"\",\"\",'INPUT DATA'!B110)","v":""},null,null,null,null,null,null,null,null,null,null,null,null,null,null,null,null,null,null,null,null,null,null,null,null,null,null,"","",null,null,null,null,null,null,null,{"$f":"MAX(FREQUENCY(IF(D111:AB111=\"r\",COLUMN(D111:AB111)),IF(D111:AB111<>\"r\",COLUMN(D111:AB111))))","v":0},""]
["",{"$f":"IF('INPUT DATA'!B111=\"\",\"\",'INPUT DATA'!B111)","v":""},null,null,null,null,null,null,null,null,null,null,null,null,null,null,null,null,null,null,null,null,null,null,null,null,null,null,"","",null,null,null,null,null,null,null,{"$f":"MAX(FREQUENCY(IF(D112:AB112=\"r\",COLUMN(D112:AB112)),IF(D112:AB112<>\"r\",COLUMN(D112:AB112))))","v":0},""]
["",{"$f":"IF('INPUT DATA'!B112=\"\",\"\",'INPUT DATA'!B112)","v":""},null,null,null,null,null,null,null,null,null,null,null,null,null,null,null,null,null,null,null,null,null,null,null,null,null,null,"","",null,null,null,null,null,null,null,{"$f":"MAX(FREQUENCY(IF(D113:AB113=\"r\",COLUMN(D113:AB113)),IF(D113:AB113<>\"r\",COLUMN(D113:AB113))))","v":0},""]
["",{"$f":"IF('INPUT DATA'!B113=\"\",\"\",'INPUT DATA'!B113)","v":""},null,null,null,null,null,null,null,null,null,null,null,null,null,null,null,null,null,null,null,null,null,null,null,null,null,null,"","",null,null,null,null,null,null,null,{"$f":"MAX(FREQUENCY(IF(D114:AB114=\"r\",COLUMN(D114:AB114)),IF(D114:AB114<>\"r\",COLUMN(D114:AB114))))","v":0},""]
["FEMALE  | TOTAL Per Day",null,null,{"$f":"IF(D11=\"\",\"\",SUM(COUNTBLANK(D65:D114)-COUNTBLANK($B$65:$B$114),COUNTIF(D65:D114,\"z\")*0.5,COUNTIF(D65:D114,\"y\")*0.5))","v":20},20,20,20,20,20,20,20,20,20,20,20,20,20,20,20,20,20,20,20,20,20,20,20,20,{"$f":"SUM(AC65:AC114)","v":0},{"$f":"SUM(AD65:AD114)","v":500}]
["    Combined TOTAL PER DAY",null,null,{"$f":"IF(D11=\"\",\"\",SUM(D64,D115))","v":39},39,39,39,39,39,39,39,40,40,40,40,40,40,40,40,40,40,40,40,40,40,40,40,40,{"$f":"SUM(AC64,AC115)","v":8},{"$f":"SUM(AD64,AD115)","v":992}]
[]
["GUIDELINES:",null,null,null,null,null,null,null,null,null,null,null,null,null,null,null,"1. CODES FOR CHECKING ATTENDANCE",null,null,null,null,null,null,null,null,null,null,"Month:",{"$f":"X6","v":"August"},null,"No. of Days of Classes:",null,{"$f":"COUNT(D11:AB11)","v":25},"Summary for the Month"]
["1. The attendance shall be accomplished daily. Refer to the codes for checking learners' attendance.",null,null,null,null,null,null,null,null,null,null,null,null,null,null,null,"blank- Present;   (x)- Absent; Tardy (half shaded= Upper for Late Commer, Lower for Cutting Classes)",null,null,null,null,null,null,null,null,null,null,null,null,null,null,null,null,"M","F","TOTAL"]
["2. Dates shall be written in the preceding columns beside Learner's Name.",null,null,null,null,null,null,null,null,null,null,null,null,null,null,null,null,null,null,null,null,null,null,null,null,null,null,"* Enrolment  as of  (1st Friday of June)",null,null,null,null,null,{"$f":"IF('INPUT DATA'!V61=\"\",\"\",'INPUT DATA'!V61)","v":""},{"$f":"IF('INPUT DATA'!W61=\"\",\"\",'INPUT DATA'!W61)","v":""},{"$f":"SUM(AH120:AI121)","v":0}]
["3. To compute the following:"]
["a.","Percentage of Enrolment =",null,"Registered Learner as of End of the Month",null,null,null,null,null,null,null,null,null,"x 100",null,null,"2. REASONS/CAUSES OF DROP-OUTS",null,null,null,null,null,null,null,null,null,null,"Late Enrollment during the month                                               (beyond cut-off)",null,null,null,null,null,{"$f":"IF('INPUT DATA'!V62=\"\",\"\",'INPUT DATA'!V62)","v":""},{"$f":"IF('INPUT DATA'!W62=\"\",\"\",'INPUT DATA'!W62)","v":""},{"$f":"SUM(AH122:AI123)","v":0}]
[null,null,null,"Enrolment as of 1st Friday of June",null,null,null,null,null,null,null,null,null,null,null,null,"a. Domestic-Related Factors"]
["b.","Average Daily Attendance = ",null,"Total Daily Attendance",null,null,null,null,null,null,null,null,null,null,null,null,"a.1. Had to take care of siblings",null,null,null,null,null,null,null,null,null,null,"Registered Learner as of end of the month",null,null,null,null,null,{"$f":"IF('INPUT DATA'!V63=\"\",\"\",'INPUT DATA'!V63)","v":""},{"$f":"IF('INPUT DATA'!W63=\"\",\"\",'INPUT DATA'!W63)","v":""},{"$f":"SUM(AH124:AI125)","v":0}]
[null,null,null,"Number of School Days in reporting month",null,null,null,null,null,null,null,null,null,null,null,null,"a.2. Early marriage/pregnancy"]
["c.","Percentage of Attendance for the month =",null,"Average daily attendance",null,null,null,null,null,null,null,null,null,"x 100",null,null,"a.3. Parents' attitude toward schooling",null,null,null,null,null,null,null,null,null,null,"Percentage of Enrolment as of end of the month",null,null,null,null,null,{"$f":"CONCATENATE(IFERROR(ROUND((AH124)/(AH120)*100,0),\"\"),\"%\")","v":"%"},{"$f":"CONCATENATE(IFERROR(ROUND((AI124)/(AI120)*100,0),\"\"),\"%\")","v":"%"},{"$f":"CONCATENATE(IFERROR(ROUND((AJ124)/(AJ120)*100,0),\"\"),\"%\")","v":"%"}]
[null,null,null,"Registered Learner as of End of the month",null,null,null,null,null,null,null,null,null,null,null,null,"a.4. Family problems"]
[null,null,null,null,null,null,null,null,null,null,null,null,null,null,null,null,"b. Individual-Related Factors",null,null,null,null,null,null,null,null,null,null,"Average Daily Attendance",null,null,null,null,null,{"$f":"IFERROR(ROUND((AD64)/COUNTA(D11:AB11),2),\"\")","v":19.68},{"$f":"IFERROR(ROUND((AD115/COUNTA(D11:AB11)),2),\"\")","v":20},{"$f":"IFERROR(ROUND((AD116)/COUNTA(D11:AB11),2),\"\")","v":39.68}]
["4. Every End of the month, the class adviser will submit this form to the office of the principal for recording of \n     summary table into the School Form 4. Once signed by the principal, this form should be returned to the adviser.",null,null,null,null,null,null,null,null,null,null,null,null,null,null,null,"b.1. Illness",null,null,null,null,null,null,null,null,null,null,"Percentage of Attendance for the month ",null,null,null,null,null,{"$f":"CONCATENATE(IFERROR(ROUND((AH128/AH124)*100,0),\"\"),\"%\")","v":"%"},{"$f":"CONCATENATE(IFERROR(ROUND((AI128/AI124)*100,0),\"\"),\"%\")","v":"%"},{"$f":"CONCATENATE(IFERROR(ROUND((AJ128/AJ124)*100,0),\"\"),\"%\")","v":"%"}]
[null,null,null,null,null,null,null,null,null,null,null,null,null,null,null,null,"b.2. Overage"]
["5. The adviser will extend neccessary intervention including but not limited to home visitation  to learner/s that committed 5 consecutive days of absences or those with potentials of dropping out",null,null,null,null,null,null,null,null,null,null,null,null,null,null,null,"b.3. Death",null,null,null,null,null,null,null,null,null,null,"Number of students with 5 consecutive days of absences:",null,null,null,null,null,{"$f":"SUM(AM14:AM63)","v":1},{"$f":"SUM(AM65:AM114)","v":0},{"$f":"SUM(AH131:AI132)","v":1}]
[null,null,null,null,null,null,null,null,null,null,null,null,null,null,null,null,"b.4. Drug Abuse"]
["6.  Attendance performance of learner is expected to reflect in Form 137 and Form 138 every grading period",null,null,null,null,null,null,null,null,null,null,null,null,null,null,null,"b.5. Poor academic performance",null,null,null,null,null,null,null,null,null,null,"Drop out",null,null,null,null,null,{"$f":"IF('INPUT DATA'!V64=\"\",\"\",'INPUT DATA'!V64)","v":""},{"$f":"IF('INPUT DATA'!W64=\"\",\"\",'INPUT DATA'!W64)","v":""},{"$f":"SUM(AH133:AI134)","v":0}]
["*","Beginning of School Year cut-off report is every 1st Friday of School Calendar Days",null,null,null,null,null,null,null,null,null,null,null,null,null,null,"b.6. Lack of interest/Distractions"]
[null,null,null,null,null,null,null,null,null,null,null,null,null,null,null,null,"b.7. Hunger/Malnutrition",null,null,null,null,null,null,null,null,null,null,"Transferred out",null,null,null,null,null,{"$f":"IF('INPUT DATA'!V65=\"\",\"\",'INPUT DATA'!V65)","v":""},{"$f":"IF('INPUT DATA'!W65=\"\",\"\",'INPUT DATA'!W65)","v":""},{"$f":"SUM(AH135:AI136)","v":0}]
[null,null,null,null,null,null,null,null,null,null,null,null,null,null,null,null,"c. School-Related Factors"]
[null,null,null,null,null,null,null,null,null,null,null,null,null,null,null,null,"c.1. Teacher Factor",null,null,null,null,null,null,null,null,null,null,"Transferred in",null,null,null,null,null,{"$f":"IF('INPUT DATA'!V66=\"\",\"\",'INPUT DATA'!V66)","v":""},{"$f":"IF('INPUT DATA'!W66=\"\",\"\",'INPUT DATA'!W66)","v":""},{"$f":"SUM(AH137:AI138)","v":0}]
[null,null,null,null,null,null,null,null,null,null,null,null,null,null,null,null,"c.2. Physical condition of classroom"]
[null,null,null,null,null,null,null,null,null,null,null,null,null,null,null,null,"c.3. Peer influence"]
[null,null,null,null,null,null,null,null,null,null,null,null,null,null,null,null,"d. Geographic/Environmental",null,null,null,null,null,null,null,null,null,null,"I certify that this is a true and correct report."]
[null,null,null,null,null,null,null,null,null,null,null,null,null,null,null,null,"d.1. Distance between home and school"]
[null,null,null,null,null,null,null,null,null,null,null,null,null,null,null,null,"d.2. Armed conflict (incl. Tribal wars & clanfeuds)",null,null,null,null,null,null,null,null,null,null,null,null,{"$f":"UPPER(IF('INPUT DATA'!R7=\"\",\"\",'INPUT DATA'!R7))","v":""}]
[null,null,null,null,null,null,null,null,null,null,null,null,null,null,null,null,null,null,null,null,null,null,null,null,null,null,null,null,"                          (Signature of Teacher over Printed Name)"]
[null,null,null,null,null,null,null,null,null,null,null,null,null,null,null,null,"d.3. Calamities/Disasters"]
[null,null,null,null,null,null,null,null,null,null,null,null,null,null,null,null,"e. Financial-Related",null,null,null,null,null,null,null,null,null,null,"Attested by:"]
[null,null,null,null,null,null,null,null,null,null,null,null,null,null,null,null,"e.1. Child labor, work",null,null,null,null,null,null,null,null,null,null,null,null,{"$f":"UPPER(IF('INPUT DATA'!R6=\"\",\"\",'INPUT DATA'!R6))","v":""}]
[null,null,null,null,null,null,null,null,null,null,null,null,null,null,null,null,"f. Others",null,null,null,null,null,null,null,null,null,null,null,null,null,null," (Signature of School Head over Printed Name)"]

{"sheet":"JUL","index":7,"n_rows":147,"n_cols":39,"rows_kept":147,"cut":false,"hidden":true,"merged":[[145,29,145,34],[136,1,137,6],[136,27,137,32],[136,33,137,33],[136,34,137,34],[136,35,137,35],[141,16,142,25],[141,29,141,34],[132,27,133,32],[132,33,133,33],[132,34,133,34],[132,35,133,35],[133,1,133,13],[134,27,135,32],[134,33,135,33],[134,34,135,34],[134,35,135,35],[128,34,129,34],[128,35,129,35],[130,0,131,14],[130,27,131,32],[130,33,131,33],[130,34,131,34],[130,35,131,35],[126,3,126,12],[127,0,127,11],[127,27,127,32],[128,0,129,13],[128,27,129,32],[128,33,129,33],[123,0,124,0],[123,1,124,1],[123,3,123,12],[123,27,124,32],[123,33,124,33],[123,34,124,34],[123,35,124,35],[124,3,124,12],[125,0,126,0],[125,1,126,2],[125,3,125,12],[125,13,126,14],[125,27,126,32],[125,33,126,33],[125,34,126,34],[125,35,126,35],[120,0,120,13],[121,0,122,0],[121,1,122,1],[121,3,121,12],[121,13,122,14],[121,27,122,32],[117,28,117,29],[117,30,118,31],[117,33,117,35],[118,0,118,13],[118,16,120,24],[119,0,119,13],[119,27,120,32],[119,33,120,33],[119,34,120,34],[119,35,120,35],[121,33,122,33],[121,34,122,34],[121,35,122,35],[122,3,122,12],[113,30,113,35],[114,0,114,2],[114,30,114,35],[115,0,115,2],[115,30,115,35],[116,0,116,1],[116,3,116,7],[108,1,108,2],[109,1,109,2],[110,1,110,2],[111,1,111,2],[112,1,112,2],[113,1,113,2],[102,1,102,2],[103,1,103,2],[104,1,104,2],[105,1,105,2],[106,1,106,2],[107,1,107,2],[96,1,96,2],[97,1,97,2],[98,1,98,2],[99,1,99,2],[100,1,100,2],[101,1,101,2],[90,1,90,2],[91,1,91,2],[92,1,92,2],[93,1,93,2],[94,1,94,2],[95,1,95,2],[86,1,86,2],[86,30,86,35],[87,1,87,2],[87,30,87,35],[88,1,88,2],[89,1,89,2],[83,1,83,2],[83,30,83,35],[84,1,84,2],[84,30,84,35],[85,1,85,2],[85,30,85,35],[80,1,80,2],[80,30,80,35],[81,1,81,2],[81,30,81,35],[82,1,82,2],[82,30,82,35],[77,1,77,2],[77,30,77,35],[78,1,78,2],[78,30,78,35],[79,1,79,2],[79,30,79,35],[74,1,74,2],[74,30,74,35],[75,1,75,2],[75,30,75,35],[76,1,76,2],[76,30,76,35],[71,1,71,2],[71,30,71,35],[72,1,72,2],[72,30,72,35],[73,1,73,2],[73,30,73,35],[68,1,68,2],[68,30,68,35],[69,1,69,2],[69,30,69,35],[70,1,70,2],[70,30,70,35],[65,1,65,2],[65,30,65,35],[66,1,66,2],[66,30,66,35],[67,1,67,2],[67,30,67,35],[61,1,61,2],[62,1,62,2],[62,30,62,35],[63,0,63,2],[64,1,64,2],[64,30,64,35],[55,1,55,2],[56,1,56,2],[57,1,57,2],[58,1,58,2],[59,1,59,2],[60,1,60,2],[49,1,49,2],[50,1,50,2],[51,1,51,2],[52,1,52,2],[53,1,53,2],[54,1,54,2],[43,1,43,2],[44,1,44,2],[45,1,45,2],[46,1,46,2],[47,1,47,2],[48,1,48,2],[37,1,37,2],[38,1,38,2],[39,1,39,2],[40,1,40,2],[41,1,41,2],[42,1,42,2],[34,1,34,2],[34,30,34,35],[35,1,35,2],[35,30,35,35],[36,1,36,2],[36,30,36,35],[31,1,31,2],[31,30,31,35],[32,1,32,2],[32,30,32,35],[33,1,33,2],[33,30,33,35],[28,1,28,2],[28,30,28,35],[29,1,29,2],[29,30,29,35],[30,1,30,2],[30,30,30,35],[25,1,25,2],[25,30,25,35],[26,1,26,2],[26,30,26,35],[27,1,27,2],[27,30,27,35],[22,1,22,2],[22,30,22,35],[23,1,23,2],[23,30,23,35],[24,1,24,2],[24,30,24,35],[19,1,19,2],[19,30,19,35],[20,1,20,2],[20,30,20,35],[21,1,21,2],[21,30,21,35],[18,1,18,2],[18,30,18,35],[11,29,12,29],[13,1,13,2],[13,30,13,35],[14,1,14,2],[14,30,14,35],[15,1,15,2],[15,30,15,35],[9,0,12,2],[9,3,9,27],[9,28,10,29],[9,30,12,35],[11,28,12,28],[16,1,16,2],[16,30,16,35],[17,1,17,2],[17,30,17,35],[1,0,1,35],[2,0,2,35],[5,2,5,4],[5,10,5,14],[5,16,5,22],[5,23,5,28],[7,2,7,14],[7,19,7,22],[7,23,7,24],[7,25,7,27],[7,28,7,33]]}
[]
["School Form 2 (SF2) Daily Attendance Report of Learners"]
["(This replaced Form 1, Form 2 & STS Form 4 - Absenteeism and Dropout Profile)"]
[]
[]
[null,"School ID",{"$f":"IF('INPUT DATA'!R5=\"\",\"\",'INPUT DATA'!R5)","v":""},null,null,null,null,"School Year",null,null,{"$f":"IF('INPUT DATA'!R4=\"\",\"\",'INPUT DATA'!R4)","v":""},null,null,null,null,null,"Report for the  Month of",null,null,null,null,null,null,"July"]
[]
[null,"Name of School",{"$f":"IF('INPUT DATA'!F5=\"\",\"\",'INPUT DATA'!F5)","v":""},null,null,null,null,null,null,null,null,null,null,null,null,null,null,null,null,"Grade Level",null,null,null,{"$f":"IF('INPUT DATA'!R8=\"\",\"\",'INPUT DATA'!R8)","v":""},null,"Section",null,null,{"$f":"IF('INPUT DATA'!R9=\"\",\"\",'INPUT DATA'!R9)","v":""}]
[]
["LEARNER'S NAME                                                                                         (Last Name, First Name, Middle Name)                                  ",null,null,"(1st row for date, 2nd row for Day: M,T,W,TH,F)",null,null,null,null,null,null,null,null,null,null,null,null,null,null,null,null,null,null,null,null,null,null,null,null,"Total for the Month             ",null,"REMARK/S (If DROPPED OUT, state reason, please refer to legend number 2.\nIf TRANSFERRED IN/OUT, write the name of School.)"]
[null,null,null,1,2,3,4,5,6,7,8,9,10,11,12,13,14,15,16,17,18,19,20,21,22,23,24,25]
[null,null,null,"Mon","Tue","Wed","Thu","Fri","Mon","Tue","Wed","Thu","Fri","Mon","Tue","Wed","Thu","Fri","Mon","Tue","Wed","Thu","Fri","Mon","Tue","Wed","Thu","Fri","ABSENT","PRESENT"]
[null,null,null,false,false,false,false,false,false,false,false,false,false,false,false,false,false,false,false,false,false,false,false,false,false,false,false,false]
[{"$f":"IF(B14=\"\",\"\",\"1\")","v":"1"},{"$f":"IF('INPUT DATA'!B13=\"\",\"\",'INPUT DATA'!B13)","v":"Student 1"},null,"r","r","r","r","r","r","r",null,null,null,null,null,null,null,null,null,null,null,null,null,null,null,null,null,null,{"$f":"IF(B14=\"\",\"\",SUM(COUNTIF(D14:AB14,\"z\")*0.5,COUNTIF(D14:AB14,\"y\")*0.5,COUNTIF(D14:AB14,\"r\")))","v":7},{"$f":"IF(B14=\"\",\"\",COUNTA($D$11:$AB$11)-AC14)","v":18},null,null,null,null,null,null,null,{"$f":"MAX(FREQUENCY(IF(D14:AB14=\"r\",COLUMN(D14:AB14)),IF(D14:AB14<>\"r\",COLUMN(D14:AB14))))","v":7},{"$f":"IF(AL14>=5,1,\"\")","v":1}]
[{"$f":"IF(B15=\"\",\"\",A14+1)","v":2},{"$f":"IF('INPUT DATA'!B14=\"\",\"\",'INPUT DATA'!B14)","v":"Student 2"},null,null,null,null,null,null,null,null,null,null,null,null,null,null,null,null,null,null,null,null,null,null,null,null,null,null,{"$f":"IF(B15=\"\",\"\",SUM(COUNTIF(D15:AB15,\"z\")*0.5,COUNTIF(D15:AB15,\"y\")*0.5,COUNTIF(D15:AB15,\"r\")))","v":0},{"$f":"IF(B15=\"\",\"\",COUNTA($D$11:$AB$11)-AC15)","v":25},null,null,null,null,null,null,null,{"$f":"MAX(FREQUENCY(IF(D15:AB15=\"r\",COLUMN(D15:AB15)),IF(D15:AB15<>\"r\",COLUMN(D15:AB15))))","v":0},{"$f":"IF(AL15>=5,1,\"\")","v":""}]
[{"$f":"IF(B16=\"\",\"\",A15+1)","v":3},{"$f":"IF('INPUT DATA'!B15=\"\",\"\",'INPUT DATA'!B15)","v":"Student 3"},null,null,null,null,null,null,null,null,null,null,null,null,null,null,null,null,null,null,null,null,null,null,null,null,null,null,0,25,null,null,null,null,null,null,null,{"$f":"MAX(FREQUENCY(IF(D16:AB16=\"r\",COLUMN(D16:AB16)),IF(D16:AB16<>\"r\",COLUMN(D16:AB16))))","v":0},""]
[4,{"$f":"IF('INPUT DATA'!B16=\"\",\"\",'INPUT DATA'!B16)","v":"Student 4"},null,null,null,null,null,null,null,null,null,null,null,null,null,null,null,null,null,null,null,null,null,null,null,null,null,null,0,25,null,null,null,null,null,null,null,{"$f":"MAX(FREQUENCY(IF(D17:AB17=\"r\",COLUMN(D17:AB17)),IF(D17:AB17<>\"r\",COLUMN(D17:AB17))))","v":0},""]
[5,{"$f":"IF('INPUT DATA'!B17=\"\",\"\",'INPUT DATA'!B17)","v":"Student 5"},null,null,null,null,null,null,null,null,null,null,null,null,null,null,null,null,null,null,null,null,null,null,null,null,null,null,0,25,null,null,null,null,null,null,null,{"$f":"MAX(FREQUENCY(IF(D18:AB18=\"r\",COLUMN(D18:AB18)),IF(D18:AB18<>\"r\",COLUMN(D18:AB18))))","v":0},""]
[6,{"$f":"IF('INPUT DATA'!B18=\"\",\"\",'INPUT DATA'!B18)","v":"Student 6"},null,null,null,null,null,null,null,null,null,null,null,null,null,null,null,null,null,null,null,null,null,null,null,null,null,null,0,25,null,null,null,null,null,null,null,{"$f":"MAX(FREQUENCY(IF(D19:AB19=\"r\",COLUMN(D19:AB19)),IF(D19:AB19<>\"r\",COLUMN(D19:AB19))))","v":0},""]
[7,{"$f":"IF('INPUT DATA'!B19=\"\",\"\",'INPUT DATA'!B19)","v":"Student 7"},null,null,null,null,null,null,null,null,null,null,null,null,null,null,null,null,null,null,null,null,null,null,null,null,null,null,0,25,null,null,null,null,null,null,null,{"$f":"MAX(FREQUENCY(IF(D20:AB20=\"r\",COLUMN(D20:AB20)),IF(D20:AB20<>\"r\",COLUMN(D20:AB20))))","v":0},""]
[8,{"$f":"IF('INPUT DATA'!B20=\"\",\"\",'INPUT DATA'!B20)","v":"Student 8"},null,null,null,null,null,null,null,null,null,null,null,null,null,null,null,null,null,null,null,null,null,null,null,null,null,null,0,25,null,null,null,null,null,null,null,{"$f":"MAX(FREQUENCY(IF(D21:AB21=\"r\",COLUMN(D21:AB21)),IF(D21:AB21<>\"r\",COLUMN(D21:AB21))))","v":0},""]
[9,{"$f":"IF('INPUT DATA'!B21=\"\",\"\",'INPUT DATA'!B21)","v":"Student 9"},null,null,null,null,null,null,null,null,null,null,null,null,null,null,null,null,null,null,null,null,null,null,null,null,null,null,0,25,null,null,null,null,null,null,null,{"$f":"MAX(FREQUENCY(IF(D22:AB22=\"r\",COLUMN(D22:AB22)),IF(D22:AB22<>\"r\",COLUMN(D22:AB22))))","v":0},""]
[10,{"$f":"IF('INPUT DATA'!B22=\"\",\"\",'INPUT DATA'!B22)","v":"Student 10"},null,null,null,null,null,null,null,null,null,null,null,null,null,null,null,null,null,null,null,null,null,null,null,null,null,null,0,25,null,null,null,null,null,null,null,{"$f":"MAX(FREQUENCY(IF(D23:AB23=\"r\",COLUMN(D23:AB23)),IF(D23:AB23<>\"r\",COLUMN(D23:AB23))))","v":0},""]
[11,{"$f":"IF('INPUT DATA'!B23=\"\",\"\",'INPUT DATA'!B23)","v":"Student 11"},null,null,null,null,null,null,null,null,null,null,null,null,null,null,null,null,null,null,null,null,null,null,null,null,null,null,0,25,null,null,null,null,null,null,null,{"$f":"MAX(FREQUENCY(IF(D24:AB24=\"r\",COLUMN(D24:AB24)),IF(D24:AB24<>\"r\",COLUMN(D24:AB24))))","v":0},""]
[12,{"$f":"IF('INPUT DATA'!B24=\"\",\"\",'INPUT DATA'!B24)","v":"Student 12"},null,null,null,null,null,null,null,null,null,null,null,null,null,null,null,null,null,null,null,null,null,null,null,null,null,null,0,25,null,null,null,null,null,null,null,{"$f":"MAX(FREQUENCY(IF(D25:AB25=\"r\",COLUMN(D25:AB25)),IF(D25:AB25<>\"r\",COLUMN(D25:AB25))))","v":0},""]
[13,{"$f":"IF('INPUT DATA'!B25=\"\",\"\",'INPUT DATA'!B25)","v":"Student 13"},null,null,null,null,null,null,null,null,null,null,null,null,null,null,null,null,null,null,null,null,null,null,null,null,null,null,0,25,null,null,null,null,null,null,null,{"$f":"MAX(FREQUENCY(IF(D26:AB26=\"r\",COLUMN(D26:AB26)),IF(D26:AB26<>\"r\",COLUMN(D26:AB26))))","v":0},""]
[14,{"$f":"IF('INPUT DATA'!B26=\"\",\"\",'INPUT DATA'!B26)","v":"Student 14"},null,null,null,null,null,null,null,null,null,null,null,null,null,null,null,null,null,null,null,null,null,null,null,null,null,null,0,25,null,null,null,null,null,null,null,{"$f":"MAX(FREQUENCY(IF(D27:AB27=\"r\",COLUMN(D27:AB27)),IF(D27:AB27<>\"r\",COLUMN(D27:AB27))))","v":0},""]
[15,{"$f":"IF('INPUT DATA'!B27=\"\",\"\",'INPUT DATA'!B27)","v":"Student 15"},null,null,null,null,null,null,null,null,null,null,null,null,null,null,null,null,null,null,null,null,null,null,null,null,null,null,0,25,null,null,null,null,null,null,null,{"$f":"MAX(FREQUENCY(IF(D28:AB28=\"r\",COLUMN(D28:AB28)),IF(D28:AB28<>\"r\",COLUMN(D28:AB28))))","v":0},""]
[16,{"$f":"IF('INPUT DATA'!B28=\"\",\"\",'INPUT DATA'!B28)","v":"Student 16"},null,null,null,null,null,null,null,null,null,null,null,null,null,null,null,null,null,null,null,null,null,null,null,null,null,null,0,25,null,null,null,null,null,null,null,{"$f":"MAX(FREQUENCY(IF(D29:AB29=\"r\",COLUMN(D29:AB29)),IF(D29:AB29<>\"r\",COLUMN(D29:AB29))))","v":0},""]
[17,{"$f":"IF('INPUT DATA'!B29=\"\",\"\",'INPUT DATA'!B29)","v":"Student 17"},null,null,null,null,null,null,null,null,null,null,null,null,null,null,null,null,null,null,null,null,null,null,null,null,null,null,0,25,null,null,null,null,null,null,null,{"$f":"MAX(FREQUENCY(IF(D30:AB30=\"r\",COLUMN(D30:AB30)),IF(D30:AB30<>\"r\",COLUMN(D30:AB30))))","v":0},""]
[18,{"$f":"IF('INPUT DATA'!B30=\"\",\"\",'INPUT DATA'!B30)","v":"Student 18"},null,null,null,null,null,null,null,null,null,null,null,null,null,null,null,null,null,null,null,null,null,null,null,null,null,null,0,25,null,null,null,null,null,null,null,{"$f":"MAX(FREQUENCY(IF(D31:AB31=\"r\",COLUMN(D31:AB31)),IF(D31:AB31<>\"r\",COLUMN(D31:AB31))))","v":0},""]
[19,{"$f":"IF('INPUT DATA'!B31=\"\",\"\",'INPUT DATA'!B31)","v":"Student 19"},null,null,null,null,null,null,null,null,null,null,null,null,null,null,null,null,null,null,null,null,null,null,null,null,null,null,0,25,null,null,null,null,null,null,null,{"$f":"MAX(FREQUENCY(IF(D32:AB32=\"r\",COLUMN(D32:AB32)),IF(D32:AB32<>\"r\",COLUMN(D32:AB32))))","v":0},""]
[20,{"$f":"IF('INPUT DATA'!B32=\"\",\"\",'INPUT DATA'!B32)","v":"Student 20"},null,null,null,null,null,null,null,null,null,null,null,null,null,null,null,null,null,null,null,null,null,null,null,null,null,null,0,25,null,null,null,null,null,null,null,{"$f":"MAX(FREQUENCY(IF(D33:AB33=\"r\",COLUMN(D33:AB33)),IF(D33:AB33<>\"r\",COLUMN(D33:AB33))))","v":0},""]
["",{"$f":"IF('INPUT DATA'!B33=\"\",\"\",'INPUT DATA'!B33)","v":""},null,null,null,null,null,null,null,null,null,null,null,null,null,null,null,null,null,null,null,null,null,null,null,null,null,null,"","",null,null,null,null,null,null,null,{"$f":"MAX(FREQUENCY(IF(D34:AB34=\"r\",COLUMN(D34:AB34)),IF(D34:AB34<>\"r\",COLUMN(D34:AB34))))","v":0},""]
["",{"$f":"IF('INPUT DATA'!B34=\"\",\"\",'INPUT DATA'!B34)","v":""},null,null,null,null,null,null,null,null,null,null,null,null,null,null,null,null,null,null,null,null,null,null,null,null,null,null,"","",null,null,null,null,null,null,null,{"$f":"MAX(FREQUENCY(IF(D35:AB35=\"r\",COLUMN(D35:AB35)),IF(D35:AB35<>\"r\",COLUMN(D35:AB35))))","v":0},""]
["",{"$f":"IF('INPUT DATA'!B35=\"\",\"\",'INPUT DATA'!B35)","v":""},null,null,null,null,null,null,null,null,null,null,null,null,null,null,null,null,null,null,null,null,null,null,null,null,null,null,"","",null,null,null,null,null,null,null,{"$f":"MAX(FREQUENCY(IF(D36:AB36=\"r\",COLUMN(D36:AB36)),IF(D36:AB36<>\"r\",COLUMN(D36:AB36))))","v":0},""]
["",{"$f":"IF('INPUT DATA'!B36=\"\",\"\",'INPUT DATA'!B36)","v":""},null,null,null,null,null,null,null,null,null,null,null,null,null,null,null,null,null,null,null,null,null,null,null,null,null,null,"","",null,null,null,null,null,null,null,{"$f":"MAX(FREQUENCY(IF(D37:AB37=\"r\",COLUMN(D37:AB37)),IF(D37:AB37<>\"r\",COLUMN(D37:AB37))))","v":0},""]
["",{"$f":"IF('INPUT DATA'!B37=\"\",\"\",'INPUT DATA'!B37)","v":""},null,null,null,null,null,null,null,null,null,null,null,null,null,null,null,null,null,null,null,null,null,null,null,null,null,null,"","",null,null,null,null,null,null,null,{"$f":"MAX(FREQUENCY(IF(D38:AB38=\"r\",COLUMN(D38:AB38)),IF(D38:AB38<>\"r\",COLUMN(D38:AB38))))","v":0},""]
["",{"$f":"IF('INPUT DATA'!B38=\"\",\"\",'INPUT DATA'!B38)","v":""},null,null,null,null,null,null,null,null,null,null,null,null,null,null,null,null,null,null,null,null,null,null,null,null,null,null,"","",null,null,null,null,null,null,null,{"$f":"MAX(FREQUENCY(IF(D39:AB39=\"r\",COLUMN(D39:AB39)),IF(D39:AB39<>\"r\",COLUMN(D39:AB39))))","v":0},""]
["",{"$f":"IF('INPUT DATA'!B39=\"\",\"\",'INPUT DATA'!B39)","v":""},null,null,null,null,null,null,null,null,null,null,null,null,null,null,null,null,null,null,null,null,null,null,null,null,null,null,"","",null,null,null,null,null,null,null,{"$f":"MAX(FREQUENCY(IF(D40:AB40=\"r\",COLUMN(D40:AB40)),IF(D40:AB40<>\"r\",COLUMN(D40:AB40))))","v":0},""]
["",{"$f":"IF('INPUT DATA'!B40=\"\",\"\",'INPUT DATA'!B40)","v":""},null,null,null,null,null,null,null,null,null,null,null,null,null,null,null,null,null,null,null,null,null,null,null,null,null,null,"","",null,null,null,null,null,null,null,{"$f":"MAX(FREQUENCY(IF(D41:AB41=\"r\",COLUMN(D41:AB41)),IF(D41:AB41<>\"r\",COLUMN(D41:AB41))))","v":0},""]
["",{"$f":"IF('INPUT DATA'!B41=\"\",\"\",'INPUT DATA'!B41)","v":""},null,null,null,null,null,null,null,null,null,null,null,null,null,null,null,null,null,null,null,null,null,null,null,null,null,null,"","",null,null,null,null,null,null,null,{"$f":"MAX(FREQUENCY(IF(D42:AB42=\"r\",COLUMN(D42:AB42)),IF(D42:AB42<>\"r\",COLUMN(D42:AB42))))","v":0},""]
["",{"$f":"IF('INPUT DATA'!B42=\"\",\"\",'INPUT DATA'!B42)","v":""},null,null,null,null,null,null,null,null,null,null,null,null,null,null,null,null,null,null,null,null,null,null,null,null,null,null,"","",null,null,null,null,null,null,null,{"$f":"MAX(FREQUENCY(IF(D43:AB43=\"r\",COLUMN(D43:AB43)),IF(D43:AB43<>\"r\",COLUMN(D43:AB43))))","v":0},""]
["",{"$f":"IF('INPUT DATA'!B43=\"\",\"\",'INPUT DATA'!B43)","v":""},null,null,null,null,null,null,null,null,null,null,null,null,null,null,null,null,null,null,null,null,null,null,null,null,null,null,"","",null,null,null,null,null,null,null,{"$f":"MAX(FREQUENCY(IF(D44:AB44=\"r\",COLUMN(D44:AB44)),IF(D44:AB44<>\"r\",COLUMN(D44:AB44))))","v":0},""]
["",{"$f":"IF('INPUT DATA'!B44=\"\",\"\",'INPUT DATA'!B44)","v":""},null,null,null,null,null,null,null,null,null,null,null,null,null,null,null,null,null,null,null,null,null,null,null,null,null,null,"","",null,null,null,null,null,null,null,{"$f":"MAX(FREQUENCY(IF(D45:AB45=\"r\",COLUMN(D45:AB45)),IF(D45:AB45<>\"r\",COLUMN(D45:AB45))))","v":0},""]
["",{"$f":"IF('INPUT DATA'!B45=\"\",\"\",'INPUT DATA'!B45)","v":""},null,null,null,null,null,null,null,null,null,null,null,null,null,null,null,null,null,null,null,null,null,null,null,null,null,null,"","",null,null,null,null,null,null,null,{"$f":"MAX(FREQUENCY(IF(D46:AB46=\"r\",COLUMN(D46:AB46)),IF(D46:AB46<>\"r\",COLUMN(D46:AB46))))","v":0},""]
["",{"$f":"IF('INPUT DATA'!B46=\"\",\"\",'INPUT DATA'!B46)","v":""},null,null,null,null,null,null,null,null,null,null,null,null,null,null,null,null,null,null,null,null,null,null,null,null,null,null,"","",null,null,null,null,null,null,null,{"$f":"MAX(FREQUENCY(IF(D47:AB47=\"r\",COLUMN(D47:AB47)),IF(D47:AB47<>\"r\",COLUMN(D47:AB47))))","v":0},""]
["",{"$f":"IF('INPUT DATA'!B47=\"\",\"\",'INPUT DATA'!B47)","v":""},null,null,null,null,null,null,null,null,null,null,null,null,null,null,null,null,null,null,null,null,null,null,null,null,null,null,"","",null,null,null,null,null,null,null,{"$f":"MAX(FREQUENCY(IF(D48:AB48=\"r\",COLUMN(D48:AB48)),IF(D48:AB48<>\"r\",COLUMN(D48:AB48))))","v":0},""]
["",{"$f":"IF('INPUT DATA'!B48=\"\",\"\",'INPUT DATA'!B48)","v":""},null,null,null,null,null,null,null,null,null,null,null,null,null,null,null,null,null,null,null,null,null,null,null,null,null,null,"","",null,null,null,null,null,null,null,{"$f":"MAX(FREQUENCY(IF(D49:AB49=\"r\",COLUMN(D49:AB49)),IF(D49:AB49<>\"r\",COLUMN(D49:AB49))))","v":0},""]
["",{"$f":"IF('INPUT DATA'!B49=\"\",\"\",'INPUT DATA'!B49)","v":""},null,null,null,null,null,null,null,null,null,null,null,null,null,null,null,null,null,null,null,null,null,null,null,null,null,null,"","",null,null,null,null,null,null,null,{"$f":"MAX(FREQUENCY(IF(D50:AB50=\"r\",COLUMN(D50:AB50)),IF(D50:AB50<>\"r\",COLUMN(D50:AB50))))","v":0},""]
["",{"$f":"IF('INPUT DATA'!B50=\"\",\"\",'INPUT DATA'!B50)","v":""},null,null,null,null,null,null,null,null,null,null,null,null,null,null,null,null,null,null,null,null,null,null,null,null,null,null,"","",null,null,null,null,null,null,null,{"$f":"MAX(FREQUENCY(IF(D51:AB51=\"r\",COLUMN(D51:AB51)),IF(D51:AB51<>\"r\",COLUMN(D51:AB51))))","v":0},""]
["",{"$f":"IF('INPUT DATA'!B51=\"\",\"\",'INPUT DATA'!B51)","v":""},null,null,null,null,null,null,null,null,null,null,null,null,null,null,null,null,null,null,null,null,null,null,null,null,null,null,"","",null,null,null,null,null,null,null,{"$f":"MAX(FREQUENCY(IF(D52:AB52=\"r\",COLUMN(D52:AB52)),IF(D52:AB52<>\"r\",COLUMN(D52:AB52))))","v":0},""]
["",{"$f":"IF('INPUT DATA'!B52=\"\",\"\",'INPUT DATA'!B52)","v":""},null,null,null,null,null,null,null,null,null,null,null,null,null,null,null,null,null,null,null,null,null,null,null,null,null,null,"","",null,null,null,null,null,null,null,{"$f":"MAX(FREQUENCY(IF(D53:AB53=\"r\",COLUMN(D53:AB53)),IF(D53:AB53<>\"r\",COLUMN(D53:AB53))))","v":0},""]
["",{"$f":"IF('INPUT DATA'!B53=\"\",\"\",'INPUT DATA'!B53)","v":""},null,null,null,null,null,null,null,null,null,null,null,null,null,null,null,null,null,null,null,null,null,null,null,null,null,null,"","",null,null,null,null,null,null,null,{"$f":"MAX(FREQUENCY(IF(D54:AB54=\"r\",COLUMN(D54:AB54)),IF(D54:AB54<>\"r\",COLUMN(D54:AB54))))","v":0},""]
["",{"$f":"IF('INPUT DATA'!B54=\"\",\"\",'INPUT DATA'!B54)","v":""},null,null,null,null,null,null,null,null,null,null,null,null,null,null,null,null,null,null,null,null,null,null,null,null,null,null,"","",null,null,null,null,null,null,null,{"$f":"MAX(FREQUENCY(IF(D55:AB55=\"r\",COLUMN(D55:AB55)),IF(D55:AB55<>\"r\",COLUMN(D55:AB55))))","v":0},""]
["",{"$f":"IF('INPUT DATA'!B55=\"\",\"\",'INPUT DATA'!B55)","v":""},null,null,null,null,null,null,null,null,null,null,null,null,null,null,null,null,null,null,null,null,null,null,null,null,null,null,"","",null,null,null,null,null,null,null,{"$f":"MAX(FREQUENCY(IF(D56:AB56=\"r\",COLUMN(D56:AB56)),IF(D56:AB56<>\"r\",COLUMN(D56:AB56))))","v":0},""]
["",{"$f":"IF('INPUT DATA'!B56=\"\",\"\",'INPUT DATA'!B56)","v":""},null,null,null,null,null,null,null,null,null,null,null,null,null,null,null,null,null,null,null,null,null,null,null,null,null,null,"","",null,null,null,null,null,null,null,{"$f":"MAX(FREQUENCY(IF(D57:AB57=\"r\",COLUMN(D57:AB57)),IF(D57:AB57<>\"r\",COLUMN(D57:AB57))))","v":0},""]
["",{"$f":"IF('INPUT DATA'!B57=\"\",\"\",'INPUT DATA'!B57)","v":""},null,null,null,null,null,null,null,null,null,null,null,null,null,null,null,null,null,null,null,null,null,null,null,null,null,null,"","",null,null,null,null,null,null,null,{"$f":"MAX(FREQUENCY(IF(D58:AB58=\"r\",COLUMN(D58:AB58)),IF(D58:AB58<>\"r\",COLUMN(D58:AB58))))","v":0},""]
["",{"$f":"IF('INPUT DATA'!B58=\"\",\"\",'INPUT DATA'!B58)","v":""},null,null,null,null,null,null,null,null,null,null,null,null,null,null,null,null,null,null,null,null,null,null,null,null,null,null,"","",null,null,null,null,null,null,null,{"$f":"MAX(FREQUENCY(IF(D59:AB59=\"r\",COLUMN(D59:AB59)),IF(D59:AB59<>\"r\",COLUMN(D59:AB59))))","v":0},""]
["",{"$f":"IF('INPUT DATA'!B59=\"\",\"\",'INPUT DATA'!B59)","v":""},null,null,null,null,null,null,null,null,null,null,null,null,null,null,null,null,null,null,null,null,null,null,null,null,null,null,"","",null,null,null,null,null,null,null,{"$f":"MAX(FREQUENCY(IF(D60:AB60=\"r\",COLUMN(D60:AB60)),IF(D60:AB60<>\"r\",COLUMN(D60:AB60))))","v":0},""]
["",{"$f":"IF('INPUT DATA'!B60=\"\",\"\",'INPUT DATA'!B60)","v":""},null,null,null,null,null,null,null,null,null,null,null,null,null,null,null,null,null,null,null,null,null,null,null,null,null,null,"","",null,null,null,null,null,null,null,{"$f":"MAX(FREQUENCY(IF(D61:AB61=\"r\",COLUMN(D61:AB61)),IF(D61:AB61<>\"r\",COLUMN(D61:AB61))))","v":0},""]
["",{"$f":"IF('INPUT DATA'!B61=\"\",\"\",'INPUT DATA'!B61)","v":""},null,null,null,null,null,null,null,null,null,null,null,null,null,null,null,null,null,null,null,null,null,null,null,null,null,null,"","",null,null,null,null,null,null,null,{"$f":"MAX(FREQUENCY(IF(D62:AB62=\"r\",COLUMN(D62:AB62)),IF(D62:AB62<>\"r\",COLUMN(D62:AB62))))","v":0},""]
["",{"$f":"IF('INPUT DATA'!B62=\"\",\"\",'INPUT DATA'!B62)","v":""},null,null,null,null,null,null,null,null,null,null,null,null,null,null,null,null,null,null,null,null,null,null,null,null,null,null,"","",null,null,null,null,null,null,null,{"$f":"MAX(FREQUENCY(IF(D63:AB63=\"r\",COLUMN(D63:AB63)),IF(D63:AB63<>\"r\",COLUMN(D63:AB63))))","v":0},""]
["MALE  | TOTAL Per Day",null,null,{"$f":"IF(D11=\"\",\"\",SUM(COUNTBLANK(D14:D63)-COUNTBLANK($B$14:$B$63),COUNTIF(D14:D63,\"z\")*0.5,COUNTIF(D14:D63,\"y\")*0.5))","v":19},19,19,19,19,19,19,20,20,20,20,20,20,20,20,20,20,20,20,20,20,20,20,20,20,{"$f":"SUM(AC14:AC63)","v":7},{"$f":"SUM(AD14:AD63)","v":493},null,null,null,null,null,null,null,{"$f":"MAX(FREQUENCY(IF(D64:AB64=\"r\",COLUMN(D64:AB64)),IF(D64:AB64<>\"r\",COLUMN(D64:AB64))))","v":0},""]
[{"$f":"IF(B65=\"\",\"\",\"1\")","v":"1"},{"$f":"IF('INPUT DATA'!B64=\"\",\"\",'INPUT DATA'!B64)","v":"Student 1"},null,null,null,null,null,null,null,null,null,null,null,null,null,null,null,null,null,null,null,null,null,null,null,null,null,null,{"$f":"IF(B65=\"\",\"\",SUM(COUNTIF(D65:AB65,\"z\")*0.5,COUNTIF(D65:AB65,\"y\")*0.5,COUNTIF(D65:AB65,\"r\")))","v":0},{"$f":"IF(B65=\"\",\"\",COUNTA($D$11:$AB$11)-AC65)","v":25},null,null,null,null,null,null,null,{"$f":"MAX(FREQUENCY(IF(D65:AB65=\"r\",COLUMN(D65:AB65)),IF(D65:AB65<>\"r\",COLUMN(D65:AB65))))","v":0},""]
[{"$f":"IF(B66=\"\",\"\",A65+1)","v":2},{"$f":"IF('INPUT DATA'!B65=\"\",\"\",'INPUT DATA'!B65)","v":"Student 2"},null,null,null,null,null,null,null,null,null,null,null,null,null,null,null,null,null,null,null,null,null,null,null,null,null,null,{"$f":"IF(B66=\"\",\"\",SUM(COUNTIF(D66:AB66,\"z\")*0.5,COUNTIF(D66:AB66,\"y\")*0.5,COUNTIF(D66:AB66,\"r\")))","v":0},{"$f":"IF(B66=\"\",\"\",COUNTA($D$11:$AB$11)-AC66)","v":25},null,null,null,null,null,null,null,{"$f":"MAX(FREQUENCY(IF(D66:AB66=\"r\",COLUMN(D66:AB66)),IF(D66:AB66<>\"r\",COLUMN(D66:AB66))))","v":0},""]
[{"$f":"IF(B67=\"\",\"\",A66+1)","v":3},{"$f":"IF('INPUT DATA'!B66=\"\",\"\",'INPUT DATA'!B66)","v":"Student 3"},null,null,null,null,null,null,null,null,null,null,null,null,null,null,null,null,null,null,null,null,null,null,null,null,null,null,0,25,null,null,null,null,null,null,null,{"$f":"MAX(FREQUENCY(IF(D67:AB67=\"r\",COLUMN(D67:AB67)),IF(D67:AB67<>\"r\",COLUMN(D67:AB67))))","v":0},""]
[4,{"$f":"IF('INPUT DATA'!B67=\"\",\"\",'INPUT DATA'!B67)","v":"Student 4"},null,null,null,null,null,null,null,null,null,null,null,null,null,null,null,null,null,null,null,null,null,null,null,null,null,null,0,25,null,null,null,null,null,null,null,{"$f":"MAX(FREQUENCY(IF(D68:AB68=\"r\",COLUMN(D68:AB68)),IF(D68:AB68<>\"r\",COLUMN(D68:AB68))))","v":0},""]
[5,{"$f":"IF('INPUT DATA'!B68=\"\",\"\",'INPUT DATA'!B68)","v":"Student 5"},null,null,null,null,null,null,null,null,null,null,null,null,null,null,null,null,null,null,null,null,null,null,null,null,null,null,0,25,null,null,null,null,null,null,null,{"$f":"MAX(FREQUENCY(IF(D69:AB69=\"r\",COLUMN(D69:AB69)),IF(D69:AB69<>\"r\",COLUMN(D69:AB69))))","v":0},""]
[6,{"$f":"IF('INPUT DATA'!B69=\"\",\"\",'INPUT DATA'!B69)","v":"Student 6"},null,null,null,null,null,null,null,null,null,null,null,null,null,null,null,null,null,null,null,null,null,null,null,null,null,null,0,25,null,null,null,null,null,null,null,{"$f":"MAX(FREQUENCY(IF(D70:AB70=\"r\",COLUMN(D70:AB70)),IF(D70:AB70<>\"r\",COLUMN(D70:AB70))))","v":0},""]
[7,{"$f":"IF('INPUT DATA'!B70=\"\",\"\",'INPUT DATA'!B70)","v":"Student 7"},null,null,null,null,null,null,null,null,null,null,null,null,null,null,null,null,null,null,null,null,null,null,null,null,null,null,0,25,null,null,null,null,null,null,null,{"$f":"MAX(FREQUENCY(IF(D71:AB71=\"r\",COLUMN(D71:AB71)),IF(D71:AB71<>\"r\",COLUMN(D71:AB71))))","v":0},""]
[8,{"$f":"IF('INPUT DATA'!B71=\"\",\"\",'INPUT DATA'!B71)","v":"Student 8"},null,null,null,null,null,null,null,null,null,null,null,null,null,null,null,null,null,null,null,null,null,null,null,null,null,null,0,25,null,null,null,null,null,null,null,{"$f":"MAX(FREQUENCY(IF(D72:AB72=\"r\",COLUMN(D72:AB72)),IF(D72:AB72<>\"r\",COLUMN(D72:AB72))))","v":0},""]
[9,{"$f":"IF('INPUT DATA'!B72=\"\",\"\",'INPUT DATA'!B72)","v":"Student 9"},null,null,null,null,null,null,null,null,null,null,null,null,null,null,null,null,null,null,null,null,null,null,null,null,null,null,0,25,null,null,null,null,null,null,null,{"$f":"MAX(FREQUENCY(IF(D73:AB73=\"r\",COLUMN(D73:AB73)),IF(D73:AB73<>\"r\",COLUMN(D73:AB73))))","v":0},""]
[10,{"$f":"IF('INPUT DATA'!B73=\"\",\"\",'INPUT DATA'!B73)","v":"Student 10"},null,null,null,null,null,null,null,null,null,null,null,null,null,null,null,null,null,null,null,null,null,null,null,null,null,null,0,25,null,null,null,null,null,null,null,{"$f":"MAX(FREQUENCY(IF(D74:AB74=\"r\",COLUMN(D74:AB74)),IF(D74:AB74<>\"r\",COLUMN(D74:AB74))))","v":0},""]
[11,{"$f":"IF('INPUT DATA'!B74=\"\",\"\",'INPUT DATA'!B74)","v":"Student 11"},null,null,null,null,null,null,null,null,null,null,null,null,null,null,null,null,null,null,null,null,null,null,null,null,null,null,0,25,null,null,null,null,null,null,null,{"$f":"MAX(FREQUENCY(IF(D75:AB75=\"r\",COLUMN(D75:AB75)),IF(D75:AB75<>\"r\",COLUMN(D75:AB75))))","v":0},""]
[12,{"$f":"IF('INPUT DATA'!B75=\"\",\"\",'INPUT DATA'!B75)","v":"Student 12"},null,null,null,null,null,null,null,null,null,null,null,null,null,null,null,null,null,null,null,null,null,null,null,null,null,null,0,25,null,null,null,null,null,null,null,{"$f":"MAX(FREQUENCY(IF(D76:AB76=\"r\",COLUMN(D76:AB76)),IF(D76:AB76<>\"r\",COLUMN(D76:AB76))))","v":0},""]
[13,{"$f":"IF('INPUT DATA'!B76=\"\",\"\",'INPUT DATA'!B76)","v":"Student 13"},null,null,null,null,null,null,null,null,null,null,null,null,null,null,null,null,null,null,null,null,null,null,null,null,null,null,0,25,null,null,null,null,null,null,null,{"$f":"MAX(FREQUENCY(IF(D77:AB77=\"r\",COLUMN(D77:AB77)),IF(D77:AB77<>\"r\",COLUMN(D77:AB77))))","v":0},""]
[14,{"$f":"IF('INPUT DATA'!B77=\"\",\"\",'INPUT DATA'!B77)","v":"Student 14"},null,null,null,null,null,null,null,null,null,null,null,null,null,null,null,null,null,null,null,null,null,null,null,null,null,null,0,25,null,null,null,null,null,null,null,{"$f":"MAX(FREQUENCY(IF(D78:AB78=\"r\",COLUMN(D78:AB78)),IF(D78:AB78<>\"r\",COLUMN(D78:AB78))))","v":0},""]
[15,{"$f":"IF('INPUT DATA'!B78=\"\",\"\",'INPUT DATA'!B78)","v":"Student 15"},null,null,null,null,null,null,null,null,null,null,null,null,null,null,null,null,null,null,null,null,null,null,null,null,null,null,0,25,null,null,null,null,null,null,null,{"$f":"MAX(FREQUENCY(IF(D79:AB79=\"r\",COLUMN(D79:AB79)),IF(D79:AB79<>\"r\",COLUMN(D79:AB79))))","v":0},{"$f":"IF(AL79>=5,1,\"\")","v":""}]
[16,{"$f":"IF('INPUT DATA'!B79=\"\",\"\",'INPUT DATA'!B79)","v":"Student 16"},null,null,null,null,null,null,null,null,null,null,null,null,null,null,null,null,null,null,null,null,null,null,null,null,null,null,0,25,null,null,null,null,null,null,null,{"$f":"MAX(FREQUENCY(IF(D80:AB80=\"r\",COLUMN(D80:AB80)),IF(D80:AB80<>\"r\",COLUMN(D80:AB80))))","v":0},""]
[17,{"$f":"IF('INPUT DATA'!B80=\"\",\"\",'INPUT DATA'!B80)","v":"Student 17"},null,null,null,null,null,null,null,null,null,null,null,null,null,null,null,null,null,null,null,null,null,null,null,null,null,null,0,25,null,null,null,null,null,null,null,{"$f":"MAX(FREQUENCY(IF(D81:AB81=\"r\",COLUMN(D81:AB81)),IF(D81:AB81<>\"r\",COLUMN(D81:AB81))))","v":0},""]
[18,{"$f":"IF('INPUT DATA'!B81=\"\",\"\",'INPUT DATA'!B81)","v":"Student 18"},null,null,null,null,null,null,null,null,null,null,null,null,null,null,null,null,null,null,null,null,null,null,null,null,null,null,0,25,null,null,null,null,null,null,null,{"$f":"MAX(FREQUENCY(IF(D82:AB82=\"r\",COLUMN(D82:AB82)),IF(D82:AB82<>\"r\",COLUMN(D82:AB82))))","v":0},""]
[19,{"$f":"IF('INPUT DATA'!B82=\"\",\"\",'INPUT DATA'!B82)","v":"Student 19"},null,null,null,null,null,null,null,null,null,null,null,null,null,null,null,null,null,null,null,null,null,null,null,null,null,null,0,25,null,null,null,null,null,null,null,{"$f":"MAX(FREQUENCY(IF(D83:AB83=\"r\",COLUMN(D83:AB83)),IF(D83:AB83<>\"r\",COLUMN(D83:AB83))))","v":0},""]
[20,{"$f":"IF('INPUT DATA'!B83=\"\",\"\",'INPUT DATA'!B83)","v":"Student 20"},null,null,null,null,null,null,null,null,null,null,null,null,null,null,null,null,null,null,null,null,null,null,null,null,null,null,0,25,null,null,null,null,null,null,null,{"$f":"MAX(FREQUENCY(IF(D84:AB84=\"r\",COLUMN(D84:AB84)),IF(D84:AB84<>\"r\",COLUMN(D84:AB84))))","v":0},""]
["",{"$f":"IF('INPUT DATA'!B84=\"\",\"\",'INPUT DATA'!B84)","v":""},null,null,null,null,null,null,null,null,null,null,null,null,null,null,null,null,null,null,null,null,null,null,null,null,null,null,"","",null,null,null,null,null,null,null,{"$f":"MAX(FREQUENCY(IF(D85:AB85=\"r\",COLUMN(D85:AB85)),IF(D85:AB85<>\"r\",COLUMN(D85:AB85))))","v":0},""]
["",{"$f":"IF('INPUT DATA'!B85=\"\",\"\",'INPUT DATA'!B85)","v":""},null,null,null,null,null,null,null,null,null,null,null,null,null,null,null,null,null,null,null,null,null,null,null,null,null,null,"","",null,null,null,null,null,null,null,{"$f":"MAX(FREQUENCY(IF(D86:AB86=\"r\",COLUMN(D86:AB86)),IF(D86:AB86<>\"r\",COLUMN(D86:AB86))))","v":0},""]
["",{"$f":"IF('INPUT DATA'!B86=\"\",\"\",'INPUT DATA'!B86)","v":""},null,null,null,null,null,null,null,null,null,null,null,null,null,null,null,null,null,null,null,null,null,null,null,null,null,null,"","",null,null,null,null,null,null,null,{"$f":"MAX(FREQUENCY(IF(D87:AB87=\"r\",COLUMN(D87:AB87)),IF(D87:AB87<>\"r\",COLUMN(D87:AB87))))","v":0},""]
["",{"$f":"IF('INPUT DATA'!B87=\"\",\"\",'INPUT DATA'!B87)","v":""},null,null,null,null,null,null,null,null,null,null,null,null,null,null,null,null,null,null,null,null,null,null,null,null,null,null,"","",null,null,null,null,null,null,null,{"$f":"MAX(FREQUENCY(IF(D88:AB88=\"r\",COLUMN(D88:AB88)),IF(D88:AB88<>\"r\",COLUMN(D88:AB88))))","v":0},""]
["",{"$f":"IF('INPUT DATA'!B88=\"\",\"\",'INPUT DATA'!B88)","v":""},null,null,null,null,null,null,null,null,null,null,null,null,null,null,null,null,null,null,null,null,null,null,null,null,null,null,"","",null,null,null,null,null,null,null,{"$f":"MAX(FREQUENCY(IF(D89:AB89=\"r\",COLUMN(D89:AB89)),IF(D89:AB89<>\"r\",COLUMN(D89:AB89))))","v":0},""]
["",{"$f":"IF('INPUT DATA'!B89=\"\",\"\",'INPUT DATA'!B89)","v":""},null,null,null,null,null,null,null,null,null,null,null,null,null,null,null,null,null,null,null,null,null,null,null,null,null,null,"","",null,null,null,null,null,null,null,{"$f":"MAX(FREQUENCY(IF(D90:AB90=\"r\",COLUMN(D90:AB90)),IF(D90:AB90<>\"r\",COLUMN(D90:AB90))))","v":0},""]
["",{"$f":"IF('INPUT DATA'!B90=\"\",\"\",'INPUT DATA'!B90)","v":""},null,null,null,null,null,null,null,null,null,null,null,null,null,null,null,null,null,null,null,null,null,null,null,null,null,null,"","",null,null,null,null,null,null,null,{"$f":"MAX(FREQUENCY(IF(D91:AB91=\"r\",COLUMN(D91:AB91)),IF(D91:AB91<>\"r\",COLUMN(D91:AB91))))","v":0},""]
["",{"$f":"IF('INPUT DATA'!B91=\"\",\"\",'INPUT DATA'!B91)","v":""},null,null,null,null,null,null,null,null,null,null,null,null,null,null,null,null,null,null,null,null,null,null,null,null,null,null,"","",null,null,null,null,null,null,null,{"$f":"MAX(FREQUENCY(IF(D92:AB92=\"r\",COLUMN(D92:AB92)),IF(D92:AB92<>\"r\",COLUMN(D92:AB92))))","v":0},""]
["",{"$f":"IF('INPUT DATA'!B92=\"\",\"\",'INPUT DATA'!B92)","v":""},null,null,null,null,null,null,null,null,null,null,null,null,null,null,null,null,null,null,null,null,null,null,null,null,null,null,"","",null,null,null,null,null,null,null,{"$f":"MAX(FREQUENCY(IF(D93:AB93=\"r\",COLUMN(D93:AB93)),IF(D93:AB93<>\"r\",COLUMN(D93:AB93))))","v":0},""]
["",{"$f":"IF('INPUT DATA'!B93=\"\",\"\",'INPUT DATA'!B93)","v":""},null,null,null,null,null,null,null,null,null,null,null,null,null,null,null,null,null,null,null,null,null,null,null,null,null,null,"","",null,null,null,null,null,null,null,{"$f":"MAX(FREQUENCY(IF(D94:AB94=\"r\",COLUMN(D94:AB94)),IF(D94:AB94<>\"r\",COLUMN(D94:AB94))))","v":0},""]
["",{"$f":"IF('INPUT DATA'!B94=\"\",\"\",'INPUT DATA'!B94)","v":""},null,null,null,null,null,null,null,null,null,null,null,null,null,null,null,null,null,null,null,null,null,null,null,null,null,null,"","",null,null,null,null,null,null,null,{"$f":"MAX(FREQUENCY(IF(D95:AB95=\"r\",COLUMN(D95:AB95)),IF(D95:AB95<>\"r\",COLUMN(D95:AB95))))","v":0},""]
["",{"$f":"IF('INPUT DATA'!B95=\"\",\"\",'INPUT DATA'!B95)","v":""},null,null,null,null,null,null,null,null,null,null,null,null,null,null,null,null,null,null,null,null,null,null,null,null,null,null,"","",null,null,null,null,null,null,null,{"$f":"MAX(FREQUENCY(IF(D96:AB96=\"r\",COLUMN(D96:AB96)),IF(D96:AB96<>\"r\",COLUMN(D96:AB96))))","v":0},""]
["",{"$f":"IF('INPUT DATA'!B96=\"\",\"\",'INPUT DATA'!B96)","v":""},null,null,null,null,null,null,null,null,null,null,null,null,null,null,null,null,null,null,null,null,null,null,null,null,null,null,"","",null,null,null,null,null,null,null,{"$f":"MAX(FREQUENCY(IF(D97:AB97=\"r\",COLUMN(D97:AB97)),IF(D97:AB97<>\"r\",COLUMN(D97:AB97))))","v":0},""]
["",{"$f":"IF('INPUT DATA'!B97=\"\",\"\",'INPUT DATA'!B97)","v":""},null,null,null,null,null,null,null,null,null,null,null,null,null,null,null,null,null,null,null,null,null,null,null,null,null,null,"","",null,null,null,null,null,null,null,{"$f":"MAX(FREQUENCY(IF(D98:AB98=\"r\",COLUMN(D98:AB98)),IF(D98:AB98<>\"r\",COLUMN(D98:AB98))))","v":0},""]
["",{"$f":"IF('INPUT DATA'!B98=\"\",\"\",'INPUT DATA'!B98)","v":""},null,null,null,null,null,null,null,null,null,null,null,null,null,null,null,null,null,null,null,null,null,null,null,null,null,null,"","",null,null,null,null,null,null,null,{"$f":"MAX(FREQUENCY(IF(D99:AB99=\"r\",COLUMN(D99:AB99)),IF(D99:AB99<>\"r\",COLUMN(D99:AB99))))","v":0},""]
["",{"$f":"IF('INPUT DATA'!B99=\"\",\"\",'INPUT DATA'!B99)","v":""},null,null,null,null,null,null,null,null,null,null,null,null,null,null,null,null,null,null,null,null,null,null,null,null,null,null,"","",null,null,null,null,null,null,null,{"$f":"MAX(FREQUENCY(IF(D100:AB100=\"r\",COLUMN(D100:AB100)),IF(D100:AB100<>\"r\",COLUMN(D100:AB100))))","v":0},""]
["",{"$f":"IF('INPUT DATA'!B100=\"\",\"\",'INPUT DATA'!B100)","v":""},null,null,null,null,null,null,null,null,null,null,null,null,null,null,null,null,null,null,null,null,null,null,null,null,null,null,"","",null,null,null,null,null,null,null,{"$f":"MAX(FREQUENCY(IF(D101:AB101=\"r\",COLUMN(D101:AB101)),IF(D101:AB101<>\"r\",COLUMN(D101:AB101))))","v":0},""]
["",{"$f":"IF('INPUT DATA'!B101=\"\",\"\",'INPUT DATA'!B101)","v":""},null,null,null,null,null,null,null,null,null,null,null,null,null,null,null,null,null,null,null,null,null,null,null,null,null,null,"","",null,null,null,null,null,null,null,{"$f":"MAX(FREQUENCY(IF(D102:AB102=\"r\",COLUMN(D102:AB102)),IF(D102:AB102<>\"r\",COLUMN(D102:AB102))))","v":0},""]
["",{"$f":"IF('INPUT DATA'!B102=\"\",\"\",'INPUT DATA'!B102)","v":""},null,null,null,null,null,null,null,null,null,null,null,null,null,null,null,null,null,null,null,null,null,null,null,null,null,null,"","",null,null,null,null,null,null,null,{"$f":"MAX(FREQUENCY(IF(D103:AB103=\"r\",COLUMN(D103:AB103)),IF(D103:AB103<>\"r\",COLUMN(D103:AB103))))","v":0},""]
["",{"$f":"IF('INPUT DATA'!B103=\"\",\"\",'INPUT DATA'!B103)","v":""},null,null,null,null,null,null,null,null,null,null,null,null,null,null,null,null,null,null,null,null,null,null,null,null,null,null,"","",null,null,null,null,null,null,null,{"$f":"MAX(FREQUENCY(IF(D104:AB104=\"r\",COLUMN(D104:AB104)),IF(D104:AB104<>\"r\",COLUMN(D104:AB104))))","v":0},""]
["",{"$f":"IF('INPUT DATA'!B104=\"\",\"\",'INPUT DATA'!B104)","v":""},null,null,null,null,null,null,null,null,null,null,null,null,null,null,null,null,null,null,null,null,null,null,null,null,null,null,"","",null,null,null,null,null,null,null,{"$f":"MAX(FREQUENCY(IF(D105:AB105=\"r\",COLUMN(D105:AB105)),IF(D105:AB105<>\"r\",COLUMN(D105:AB105))))","v":0},""]
["",{"$f":"IF('INPUT DATA'!B105=\"\",\"\",'INPUT DATA'!B105)","v":""},null,null,null,null,null,null,null,null,null,null,null,null,null,null,null,null,null,null,null,null,null,null,null,null,null,null,"","",null,null,null,null,null,null,null,{"$f":"MAX(FREQUENCY(IF(D106:AB106=\"r\",COLUMN(D106:AB106)),IF(D106:AB106<>\"r\",COLUMN(D106:AB106))))","v":0},""]
["",{"$f":"IF('INPUT DATA'!B106=\"\",\"\",'INPUT DATA'!B106)","v":""},null,null,null,null,null,null,null,null,null,null,null,null,null,null,null,null,null,null,null,null,null,null,null,null,null,null,"","",null,null,null,null,null,null,null,{"$f":"MAX(FREQUENCY(IF(D107:AB107=\"r\",COLUMN(D107:AB107)),IF(D107:AB107<>\"r\",COLUMN(D107:AB107))))","v":0},""]
["",{"$f":"IF('INPUT DATA'!B107=\"\",\"\",'INPUT DATA'!B107)","v":""},null,null,null,null,null,null,null,null,null,null,null,null,null,null,null,null,null,null,null,null,null,null,null,null,null,null,"","",null,null,null,null,null,null,null,{"$f":"MAX(FREQUENCY(IF(D108:AB108=\"r\",COLUMN(D108:AB108)),IF(D108:AB108<>\"r\",COLUMN(D108:AB108))))","v":0},""]
["",{"$f":"IF('INPUT DATA'!B108=\"\",\"\",'INPUT DATA'!B108)","v":""},null,null,null,null,null,null,null,null,null,null,null,null,null,null,null,null,null,null,null,null,null,null,null,null,null,null,"","",null,null,null,null,null,null,null,{"$f":"MAX(FREQUENCY(IF(D109:AB109=\"r\",COLUMN(D109:AB109)),IF(D109:AB109<>\"r\",COLUMN(D109:AB109))))","v":0},""]
["",{"$f":"IF('INPUT DATA'!B109=\"\",\"\",'INPUT DATA'!B109)","v":""},null,null,null,null,null,null,null,null,null,null,null,null,null,null,null,null,null,null,null,null,null,null,null,null,null,null,"","",null,null,null,null,null,null,null,{"$f":"MAX(FREQUENCY(IF(D110:AB110=\"r\",COLUMN(D110:AB110)),IF(D110:AB110<>\"r\",COLUMN(D110:AB110))))","v":0},""]
["",{"$f":"IF('INPUT DATA'!B110=\"\",\"\",'INPUT DATA'!B110)","v":""},null,null,null,null,null,null,null,null,null,null,null,null,null,null,null,null,null,null,null,null,null,null,null,null,null,null,"","",null,null,null,null,null,null,null,{"$f":"MAX(FREQUENCY(IF(D111:AB111=\"r\",COLUMN(D111:AB111)),IF(D111:AB111<>\"r\",COLUMN(D111:AB111))))","v":0},""]
["",{"$f":"IF('INPUT DATA'!B111=\"\",\"\",'INPUT DATA'!B111)","v":""},null,null,null,null,null,null,null,null,null,null,null,null,null,null,null,null,null,null,null,null,null,null,null,null,null,null,"","",null,null,null,null,null,null,null,{"$f":"MAX(FREQUENCY(IF(D112:AB112=\"r\",COLUMN(D112:AB112)),IF(D112:AB112<>\"r\",COLUMN(D112:AB112))))","v":0},""]
["",{"$f":"IF('INPUT DATA'!B112=\"\",\"\",'INPUT DATA'!B112)","v":""},null,null,null,null,null,null,null,null,null,null,null,null,null,null,null,null,null,null,null,null,null,null,null,null,null,null,"","",null,null,null,null,null,null,null,{"$f":"MAX(FREQUENCY(IF(D113:AB113=\"r\",COLUMN(D113:AB113)),IF(D113:AB113<>\"r\",COLUMN(D113:AB113))))","v":0},""]
["",{"$f":"IF('INPUT DATA'!B113=\"\",\"\",'INPUT DATA'!B113)","v":""},null,null,null,null,null,null,null,null,null,null,null,null,null,null,null,null,null,null,null,null,null,null,null,null,null,null,"","",null,null,null,null,null,null,null,{"$f":"MAX(FREQUENCY(IF(D114:AB114=\"r\",COLUMN(D114:AB114)),IF(D114:AB114<>\"r\",COLUMN(D114:AB114))))","v":0},""]
["FEMALE  | TOTAL Per Day",null,null,{"$f":"IF(D11=\"\",\"\",SUM(COUNTBLANK(D65:D114)-COUNTBLANK($B$65:$B$114),COUNTIF(D65:D114,\"z\")*0.5,COUNTIF(D65:D114,\"y\")*0.5))","v":20},20,20,20,20,20,20,20,20,20,20,20,20,20,20,20,20,20,20,20,20,20,20,20,20,{"$f":"SUM(AC65:AC114)","v":0},{"$f":"SUM(AD65:AD114)","v":500}]
["    Combined TOTAL PER DAY",null,null,{"$f":"IF(D11=\"\",\"\",SUM(D64,D115))","v":39},39,39,39,39,39,39,40,40,40,40,40,40,40,40,40,40,40,40,40,40,40,40,40,40,{"$f":"SUM(AC64,AC115)","v":7},{"$f":"SUM(AD64,AD115)","v":993}]
[]
["GUIDELINES:",null,null,null,null,null,null,null,null,null,null,null,null,null,null,null,"1. CODES FOR CHECKING ATTENDANCE",null,null,null,null,null,null,null,null,null,null,"Month:",{"$f":"X6","v":"July"},null,"No. of Days of Classes:",null,{"$f":"COUNT(D11:AB11)","v":25},"Summary for the Month"]
["1. The attendance shall be accomplished daily. Refer to the codes for checking learners' attendance.",null,null,null,null,null,null,null,null,null,null,null,null,null,null,null,"blank- Present;   (x)- Absent; Tardy (half shaded= Upper for Late Commer, Lower for Cutting Classes)",null,null,null,null,null,null,null,null,null,null,null,null,null,null,null,null,"M","F","TOTAL"]
["2. Dates shall be written in the preceding columns beside Learner's Name.",null,null,null,null,null,null,null,null,null,null,null,null,null,null,null,null,null,null,null,null,null,null,null,null,null,null,"* Enrolment  as of  (1st Friday of June)",null,null,null,null,null,{"$f":"IF('INPUT DATA'!V52=\"\",\"\",'INPUT DATA'!V52)","v":""},{"$f":"IF('INPUT DATA'!W52=\"\",\"\",'INPUT DATA'!W52)","v":""},{"$f":"SUM(AH120:AI121)","v":0}]
["3. To compute the following:"]
["a.","Percentage of Enrolment =",null,"Registered Learner as of End of the Month",null,null,null,null,null,null,null,null,null,"x 100",null,null,"2. REASONS/CAUSES OF DROP-OUTS",null,null,null,null,null,null,null,null,null,null,"Late Enrollment during the month                                               (beyond cut-off)",null,null,null,null,null,{"$f":"IF('INPUT DATA'!V53=\"\",\"\",'INPUT DATA'!V53)","v":""},{"$f":"IF('INPUT DATA'!W53=\"\",\"\",'INPUT DATA'!W53)","v":""},{"$f":"SUM(AH122:AI123)","v":0}]
[null,null,null,"Enrolment as of 1st Friday of June",null,null,null,null,null,null,null,null,null,null,null,null,"a. Domestic-Related Factors"]
["b.","Average Daily Attendance = ",null,"Total Daily Attendance",null,null,null,null,null,null,null,null,null,null,null,null,"a.1. Had to take care of siblings",null,null,null,null,null,null,null,null,null,null,"Registered Learner as of end of the month",null,null,null,null,null,{"$f":"IF('INPUT DATA'!V54=\"\",\"\",'INPUT DATA'!V54)","v":""},{"$f":"IF('INPUT DATA'!W54=\"\",\"\",'INPUT DATA'!W54)","v":""},{"$f":"SUM(AH124:AI125)","v":0}]
[null,null,null,"Number of School Days in reporting month",null,null,null,null,null,null,null,null,null,null,null,null,"a.2. Early marriage/pregnancy"]
["c.","Percentage of Attendance for the month =",null,"Average daily attendance",null,null,null,null,null,null,null,null,null,"x 100",null,null,"a.3. Parents' attitude toward schooling",null,null,null,null,null,null,null,null,null,null,"Percentage of Enrolment as of end of the month",null,null,null,null,null,{"$f":"CONCATENATE(IFERROR(ROUND((AH124)/(AH120)*100,0),\"\"),\"%\")","v":"%"},{"$f":"CONCATENATE(IFERROR(ROUND((AI124)/(AI120)*100,0),\"\"),\"%\")","v":"%"},{"$f":"CONCATENATE(IFERROR(ROUND((AJ124)/(AJ120)*100,0),\"\"),\"%\")","v":"%"}]
[null,null,null,"Registered Learner as of End of the month",null,null,null,null,null,null,null,null,null,null,null,null,"a.4. Family problems"]
[null,null,null,null,null,null,null,null,null,null,null,null,null,null,null,null,"b. Individual-Related Factors",null,null,null,null,null,null,null,null,null,null,"Average Daily Attendance",null,null,null,null,null,{"$f":"IFERROR(ROUND((AD64)/COUNTA(D11:AB11),2),\"\")","v":19.72},{"$f":"IFERROR(ROUND((AD115/COUNTA(D11:AB11)),2),\"\")","v":20},{"$f":"IFERROR(ROUND((AD116)/COUNTA(D11:AB11),2),\"\")","v":39.72}]
["4. Every End of the month, the class adviser will submit this form to the office of the principal for recording of \n     summary table into the School Form 4. Once signed by the principal, this form should be returned to the adviser.",null,null,null,null,null,null,null,null,null,null,null,null,null,null,null,"b.1. Illness",null,null,null,null,null,null,null,null,null,null,"Percentage of Attendance for the month ",null,null,null,null,null,{"$f":"CONCATENATE(IFERROR(ROUND((AH128/AH124)*100,0),\"\"),\"%\")","v":"%"},{"$f":"CONCATENATE(IFERROR(ROUND((AI128/AI124)*100,0),\"\"),\"%\")","v":"%"},{"$f":"CONCATENATE(IFERROR(ROUND((AJ128/AJ124)*100,0),\"\"),\"%\")","v":"%"}]
[null,null,null,null,null,null,null,null,null,null,null,null,null,null,null,null,"b.2. Overage"]
["5. The adviser will extend neccessary intervention including but not limited to home visitation  to learner/s that committed 5 consecutive days of absences or those with potentials of dropping out",null,null,null,null,null,null,null,null,null,null,null,null,null,null,null,"b.3. Death",null,null,null,null,null,null,null,null,null,null,"Number of students with 5 consecutive days of absences:",null,null,null,null,null,{"$f":"SUM(AM14:AM63)","v":1},{"$f":"SUM(AM65:AM114)","v":0},{"$f":"SUM(AH131:AI132)","v":1}]
[null,null,null,null,null,null,null,null,null,null,null,null,null,null,null,null,"b.4. Drug Abuse"]
["6.  Attendance performance of learner is expected to reflect in Form 137 and Form 138 every grading period",null,null,null,null,null,null,null,null,null,null,null,null,null,null,null,"b.5. Poor academic performance",null,null,null,null,null,null,null,null,null,null,"Drop out",null,null,null,null,null,{"$f":"IF('INPUT DATA'!V55=\"\",\"\",'INPUT DATA'!V55)","v":""},{"$f":"IF('INPUT DATA'!W55=\"\",\"\",'INPUT DATA'!W55)","v":""},{"$f":"SUM(AH133:AI134)","v":0}]
["*","Beginning of School Year cut-off report is every 1st Friday of School Calendar Days",null,null,null,null,null,null,null,null,null,null,null,null,null,null,"b.6. Lack of interest/Distractions"]
[null,null,null,null,null,null,null,null,null,null,null,null,null,null,null,null,"b.7. Hunger/Malnutrition",null,null,null,null,null,null,null,null,null,null,"Transferred out",null,null,null,null,null,{"$f":"IF('INPUT DATA'!V56=\"\",\"\",'INPUT DATA'!V56)","v":""},{"$f":"IF('INPUT DATA'!W56=\"\",\"\",'INPUT DATA'!W56)","v":""},{"$f":"SUM(AH135:AI136)","v":0}]
[null,null,null,null,null,null,null,null,null,null,null,null,null,null,null,null,"c. School-Related Factors"]
[null,null,null,null,null,null,null,null,null,null,null,null,null,null,null,null,"c.1. Teacher Factor",null,null,null,null,null,null,null,null,null,null,"Transferred in",null,null,null,null,null,{"$f":"IF('INPUT DATA'!V57=\"\",\"\",'INPUT DATA'!V57)","v":""},{"$f":"IF('INPUT DATA'!W57=\"\",\"\",'INPUT DATA'!W57)","v":""},{"$f":"SUM(AH137:AI138)","v":0}]
[null,null,null,null,null,null,null,null,null,null,null,null,null,null,null,null,"c.2. Physical condition of classroom"]
[null,null,null,null,null,null,null,null,null,null,null,null,null,null,null,null,"c.3. Peer influence"]
[null,null,null,null,null,null,null,null,null,null,null,null,null,null,null,null,"d. Geographic/Environmental",null,null,null,null,null,null,null,null,null,null,"I certify that this is a true and correct report."]
[null,null,null,null,null,null,null,null,null,null,null,null,null,null,null,null,"d.1. Distance between home and school"]
[null,null,null,null,null,null,null,null,null,null,null,null,null,null,null,null,"d.2. Armed conflict (incl. Tribal wars & clanfeuds)",null,null,null,null,null,null,null,null,null,null,null,null,{"$f":"UPPER(IF('INPUT DATA'!R7=\"\",\"\",'INPUT DATA'!R7))","v":""}]
[null,null,null,null,null,null,null,null,null,null,null,null,null,null,null,null,null,null,null,null,null,null,null,null,null,null,null,null,"                          (Signature of Teacher over Printed Name)"]
[null,null,null,null,null,null,null,null,null,null,null,null,null,null,null,null,"d.3. Calamities/Disasters"]
[null,null,null,null,null,null,null,null,null,null,null,null,null,null,null,null,"e. Financial-Related",null,null,null,null,null,null,null,null,null,null,"Attested by:"]
[null,null,null,null,null,null,null,null,null,null,null,null,null,null,null,null,"e.1. Child labor, work",null,null,null,null,null,null,null,null,null,null,null,null,{"$f":"UPPER(IF('INPUT DATA'!R6=\"\",\"\",'INPUT DATA'!R6))","v":""}]
[null,null,null,null,null,null,null,null,null,null,null,null,null,null,null,null,"f. Others",null,null,null,null,null,null,null,null,null,null,null,null,null,null," (Signature of School Head over Printed Name)"]

{"sheet":"JUN","index":8,"n_rows":147,"n_cols":39,"rows_kept":147,"cut":false,"hidden":true,"merged":[[145,29,145,34],[136,1,137,6],[136,27,137,32],[136,33,137,33],[136,34,137,34],[136,35,137,35],[141,16,142,25],[141,29,141,34],[132,27,133,32],[132,33,133,33],[132,34,133,34],[132,35,133,35],[133,1,133,13],[134,27,135,32],[134,33,135,33],[134,34,135,34],[134,35,135,35],[128,34,129,34],[128,35,129,35],[130,0,131,14],[130,27,131,32],[130,33,131,33],[130,34,131,34],[130,35,131,35],[126,3,126,12],[127,0,127,11],[127,27,127,32],[128,0,129,13],[128,27,129,32],[128,33,129,33],[123,0,124,0],[123,1,124,1],[123,3,123,12],[123,27,124,32],[123,33,124,33],[123,34,124,34],[123,35,124,35],[124,3,124,12],[125,0,126,0],[125,1,126,2],[125,3,125,12],[125,13,126,14],[125,27,126,32],[125,33,126,33],[125,34,126,34],[125,35,126,35],[120,0,120,13],[121,0,122,0],[121,1,122,1],[121,3,121,12],[121,13,122,14],[121,27,122,32],[117,28,117,29],[117,30,118,31],[117,33,117,35],[118,0,118,13],[118,16,120,24],[119,0,119,13],[119,27,120,32],[119,33,120,33],[119,34,120,34],[119,35,120,35],[121,33,122,33],[121,34,122,34],[121,35,122,35],[122,3,122,12],[113,30,113,35],[114,0,114,2],[114,30,114,35],[115,0,115,2],[115,30,115,35],[116,0,116,1],[116,3,116,7],[108,1,108,2],[109,1,109,2],[110,1,110,2],[111,1,111,2],[112,1,112,2],[113,1,113,2],[102,1,102,2],[103,1,103,2],[104,1,104,2],[105,1,105,2],[106,1,106,2],[107,1,107,2],[96,1,96,2],[97,1,97,2],[98,1,98,2],[99,1,99,2],[100,1,100,2],[101,1,101,2],[90,1,90,2],[91,1,91,2],[92,1,92,2],[93,1,93,2],[94,1,94,2],[95,1,95,2],[86,1,86,2],[86,30,86,35],[87,1,87,2],[87,30,87,35],[88,1,88,2],[89,1,89,2],[83,1,83,2],[83,30,83,35],[84,1,84,2],[84,30,84,35],[85,1,85,2],[85,30,85,35],[80,1,80,2],[80,30,80,35],[81,1,81,2],[81,30,81,35],[82,1,82,2],[82,30,82,35],[77,1,77,2],[77,30,77,35],[78,1,78,2],[78,30,78,35],[79,1,79,2],[79,30,79,35],[74,1,74,2],[74,30,74,35],[75,1,75,2],[75,30,75,35],[76,1,76,2],[76,30,76,35],[71,1,71,2],[71,30,71,35],[72,1,72,2],[72,30,72,35],[73,1,73,2],[73,30,73,35],[68,1,68,2],[68,30,68,35],[69,1,69,2],[69,30,69,35],[70,1,70,2],[70,30,70,35],[65,1,65,2],[65,30,65,35],[66,1,66,2],[66,30,66,35],[67,1,67,2],[67,30,67,35],[61,1,61,2],[62,1,62,2],[62,30,62,35],[63,0,63,2],[64,1,64,2],[64,30,64,35],[55,1,55,2],[56,1,56,2],[57,1,57,2],[58,1,58,2],[59,1,59,2],[60,1,60,2],[49,1,49,2],[50,1,50,2],[51,1,51,2],[52,1,52,2],[53,1,53,2],[54,1,54,2],[43,1,43,2],[44,1,44,2],[45,1,45,2],[46,1,46,2],[47,1,47,2],[48,1,48,2],[37,1,37,2],[38,1,38,2],[39,1,39,2],[40,1,40,2],[41,1,41,2],[42,1,42,2],[34,1,34,2],[34,30,34,35],[35,1,35,2],[35,30,35,35],[36,1,36,2],[36,30,36,35],[31,1,31,2],[31,30,31,35],[32,1,32,2],[32,30,32,35],[33,1,33,2],[33,30,33,35],[28,1,28,2],[28,30,28,35],[29,1,29,2],[29,30,29,35],[30,1,30,2],[30,30,30,35],[25,1,25,2],[25,30,25,35],[26,1,26,2],[26,30,26,35],[27,1,27,2],[27,30,27,35],[22,1,22,2],[22,30,22,35],[23,1,23,2],[23,30,23,35],[24,1,24,2],[24,30,24,35],[19,1,19,2],[19,30,19,35],[20,1,20,2],[20,30,20,35],[21,1,21,2],[21,30,21,35],[18,1,18,2],[18,30,18,35],[11,29,12,29],[13,1,13,2],[13,30,13,35],[14,1,14,2],[14,30,14,35],[15,1,15,2],[15,30,15,35],[9,0,12,2],[9,3,9,27],[9,28,10,29],[9,30,12,35],[11,28,12,28],[16,1,16,2],[16,30,16,35],[17,1,17,2],[17,30,17,35],[1,0,1,35],[2,0,2,35],[5,2,5,4],[5,10,5,14],[5,16,5,22],[5,23,5,28],[7,2,7,14],[7,19,7,22],[7,23,7,24],[7,25,7,27],[7,28,7,33]]}
[]
["School Form 2 (SF2) Daily Attendance Report of Learners"]
["(This replaced Form 1, Form 2 & STS Form 4 - Absenteeism and Dropout Profile)"]
[]
[]
[null,"School ID",{"$f":"IF('INPUT DATA'!R5=\"\",\"\",'INPUT DATA'!R5)","v":""},null,null,null,null,"School Year",null,null,{"$f":"IF('INPUT DATA'!R4=\"\",\"\",'INPUT DATA'!R4)","v":""},null,null,null,null,null,"Report for the  Month of",null,null,null,null,null,null,"June"]
[]
[null,"Name of School",{"$f":"IF('INPUT DATA'!F5=\"\",\"\",'INPUT DATA'!F5)","v":""},null,null,null,null,null,null,null,null,null,null,null,null,null,null,null,null,"Grade Level",null,null,null,{"$f":"IF('INPUT DATA'!R8=\"\",\"\",'INPUT DATA'!R8)","v":""},null,"Section",null,null,{"$f":"IF('INPUT DATA'!R9=\"\",\"\",'INPUT DATA'!R9)","v":""}]
[]
["LEARNER'S NAME                                                                                         (Last Name, First Name, Middle Name)                                  ",null,null,"(1st row for date, 2nd row for Day: M,T,W,TH,F)",null,null,null,null,null,null,null,null,null,null,null,null,null,null,null,null,null,null,null,null,null,null,null,null,"Total for the Month             ",null,"REMARK/S (If DROPPED OUT, state reason, please refer to legend number 2.\nIf TRANSFERRED IN/OUT, write the name of School.)"]
[null,null,null,1,2,3,4,5,6,7,8,9,10,11,12,13,14,15,16,17,18,19,20,21,22,23,24,25]
[null,null,null,"Mon","Tue","Wed","Thu","Fri","Mon","Tue","Wed","Thu","Fri","Mon","Tue","Wed","Thu","Fri","Mon","Tue","Wed","Thu","Fri","Mon","Tue","Wed","Thu","Fri","ABSENT","PRESENT"]
[null,null,null,false,false,false,false,false,false,false,false,false,false,false,false,false,false,false,false,false,false,false,false,false,false,false,false,false]
[{"$f":"IF(B14=\"\",\"\",\"1\")","v":"1"},{"$f":"IF('INPUT DATA'!B13=\"\",\"\",'INPUT DATA'!B13)","v":"Student 1"},null,"r","r","r","r","r","r",null,null,null,null,null,null,null,null,null,null,null,null,null,null,null,null,null,null,null,{"$f":"IF(B14=\"\",\"\",SUM(COUNTIF(D14:AB14,\"z\")*0.5,COUNTIF(D14:AB14,\"y\")*0.5,COUNTIF(D14:AB14,\"r\")))","v":6},{"$f":"IF(B14=\"\",\"\",COUNTA($D$11:$AB$11)-AC14)","v":19},null,null,null,null,null,null,null,{"$f":"MAX(FREQUENCY(IF(D14:AB14=\"r\",COLUMN(D14:AB14)),IF(D14:AB14<>\"r\",COLUMN(D14:AB14))))","v":6},{"$f":"IF(AL14>=5,1,\"\")","v":1}]
[{"$f":"IF(B15=\"\",\"\",A14+1)","v":2},{"$f":"IF('INPUT DATA'!B14=\"\",\"\",'INPUT DATA'!B14)","v":"Student 2"},null,null,null,null,null,null,null,null,null,null,null,null,null,null,null,null,null,null,null,null,null,null,null,null,null,null,{"$f":"IF(B15=\"\",\"\",SUM(COUNTIF(D15:AB15,\"z\")*0.5,COUNTIF(D15:AB15,\"y\")*0.5,COUNTIF(D15:AB15,\"r\")))","v":0},{"$f":"IF(B15=\"\",\"\",COUNTA($D$11:$AB$11)-AC15)","v":25},null,null,null,null,null,null,null,{"$f":"MAX(FREQUENCY(IF(D15:AB15=\"r\",COLUMN(D15:AB15)),IF(D15:AB15<>\"r\",COLUMN(D15:AB15))))","v":0},{"$f":"IF(AL15>=5,1,\"\")","v":""}]
[{"$f":"IF(B16=\"\",\"\",A15+1)","v":3},{"$f":"IF('INPUT DATA'!B15=\"\",\"\",'INPUT DATA'!B15)","v":"Student 3"},null,null,null,null,null,null,null,null,null,null,null,null,null,null,null,null,null,null,null,null,null,null,null,null,null,null,0,25,null,null,null,null,null,null,null,{"$f":"MAX(FREQUENCY(IF(D16:AB16=\"r\",COLUMN(D16:AB16)),IF(D16:AB16<>\"r\",COLUMN(D16:AB16))))","v":0},""]
[4,{"$f":"IF('INPUT DATA'!B16=\"\",\"\",'INPUT DATA'!B16)","v":"Student 4"},null,null,null,null,null,null,null,null,null,null,null,null,null,null,null,null,null,null,null,null,null,null,null,null,null,null,0,25,null,null,null,null,null,null,null,{"$f":"MAX(FREQUENCY(IF(D17:AB17=\"r\",COLUMN(D17:AB17)),IF(D17:AB17<>\"r\",COLUMN(D17:AB17))))","v":0},""]
[5,{"$f":"IF('INPUT DATA'!B17=\"\",\"\",'INPUT DATA'!B17)","v":"Student 5"},null,null,null,null,null,null,null,null,null,null,null,null,null,null,null,null,null,null,null,null,null,null,null,null,null,null,0,25,null,null,null,null,null,null,null,{"$f":"MAX(FREQUENCY(IF(D18:AB18=\"r\",COLUMN(D18:AB18)),IF(D18:AB18<>\"r\",COLUMN(D18:AB18))))","v":0},""]
[6,{"$f":"IF('INPUT DATA'!B18=\"\",\"\",'INPUT DATA'!B18)","v":"Student 6"},null,null,null,null,null,null,null,null,null,null,null,null,null,null,null,null,null,null,null,null,null,null,null,null,null,null,0,25,null,null,null,null,null,null,null,{"$f":"MAX(FREQUENCY(IF(D19:AB19=\"r\",COLUMN(D19:AB19)),IF(D19:AB19<>\"r\",COLUMN(D19:AB19))))","v":0},""]
[7,{"$f":"IF('INPUT DATA'!B19=\"\",\"\",'INPUT DATA'!B19)","v":"Student 7"},null,null,null,null,null,null,null,null,null,null,null,null,null,null,null,null,null,null,null,null,null,null,null,null,null,null,0,25,null,null,null,null,null,null,null,{"$f":"MAX(FREQUENCY(IF(D20:AB20=\"r\",COLUMN(D20:AB20)),IF(D20:AB20<>\"r\",COLUMN(D20:AB20))))","v":0},""]
[8,{"$f":"IF('INPUT DATA'!B20=\"\",\"\",'INPUT DATA'!B20)","v":"Student 8"},null,null,null,null,null,null,null,null,null,null,null,null,null,null,null,null,null,null,null,null,null,null,null,null,null,null,0,25,null,null,null,null,null,null,null,{"$f":"MAX(FREQUENCY(IF(D21:AB21=\"r\",COLUMN(D21:AB21)),IF(D21:AB21<>\"r\",COLUMN(D21:AB21))))","v":0},""]
[9,{"$f":"IF('INPUT DATA'!B21=\"\",\"\",'INPUT DATA'!B21)","v":"Student 9"},null,null,null,null,null,null,null,null,null,null,null,null,null,null,null,null,null,null,null,null,null,null,null,null,null,null,0,25,null,null,null,null,null,null,null,{"$f":"MAX(FREQUENCY(IF(D22:AB22=\"r\",COLUMN(D22:AB22)),IF(D22:AB22<>\"r\",COLUMN(D22:AB22))))","v":0},""]
[10,{"$f":"IF('INPUT DATA'!B22=\"\",\"\",'INPUT DATA'!B22)","v":"Student 10"},null,null,null,null,null,null,null,null,null,null,null,null,null,null,null,null,null,null,null,null,null,null,null,null,null,null,0,25,null,null,null,null,null,null,null,{"$f":"MAX(FREQUENCY(IF(D23:AB23=\"r\",COLUMN(D23:AB23)),IF(D23:AB23<>\"r\",COLUMN(D23:AB23))))","v":0},""]
[11,{"$f":"IF('INPUT DATA'!B23=\"\",\"\",'INPUT DATA'!B23)","v":"Student 11"},null,null,null,null,null,null,null,null,null,null,null,null,null,null,null,null,null,null,null,null,null,null,null,null,null,null,0,25,null,null,null,null,null,null,null,{"$f":"MAX(FREQUENCY(IF(D24:AB24=\"r\",COLUMN(D24:AB24)),IF(D24:AB24<>\"r\",COLUMN(D24:AB24))))","v":0},""]
[12,{"$f":"IF('INPUT DATA'!B24=\"\",\"\",'INPUT DATA'!B24)","v":"Student 12"},null,null,null,null,null,null,null,null,null,null,null,null,null,null,null,null,null,null,null,null,null,null,null,null,null,null,0,25,null,null,null,null,null,null,null,{"$f":"MAX(FREQUENCY(IF(D25:AB25=\"r\",COLUMN(D25:AB25)),IF(D25:AB25<>\"r\",COLUMN(D25:AB25))))","v":0},""]
[13,{"$f":"IF('INPUT DATA'!B25=\"\",\"\",'INPUT DATA'!B25)","v":"Student 13"},null,null,null,null,null,null,null,null,null,null,null,null,null,null,null,null,null,null,null,null,null,null,null,null,null,null,0,25,null,null,null,null,null,null,null,{"$f":"MAX(FREQUENCY(IF(D26:AB26=\"r\",COLUMN(D26:AB26)),IF(D26:AB26<>\"r\",COLUMN(D26:AB26))))","v":0},""]
[14,{"$f":"IF('INPUT DATA'!B26=\"\",\"\",'INPUT DATA'!B26)","v":"Student 14"},null,null,null,null,null,null,null,null,null,null,null,null,null,null,null,null,null,null,null,null,null,null,null,null,null,null,0,25,null,null,null,null,null,null,null,{"$f":"MAX(FREQUENCY(IF(D27:AB27=\"r\",COLUMN(D27:AB27)),IF(D27:AB27<>\"r\",COLUMN(D27:AB27))))","v":0},""]
[15,{"$f":"IF('INPUT DATA'!B27=\"\",\"\",'INPUT DATA'!B27)","v":"Student 15"},null,null,null,null,null,null,null,null,null,null,null,null,null,null,null,null,null,null,null,null,null,null,null,null,null,null,0,25,null,null,null,null,null,null,null,{"$f":"MAX(FREQUENCY(IF(D28:AB28=\"r\",COLUMN(D28:AB28)),IF(D28:AB28<>\"r\",COLUMN(D28:AB28))))","v":0},""]
[16,{"$f":"IF('INPUT DATA'!B28=\"\",\"\",'INPUT DATA'!B28)","v":"Student 16"},null,null,null,null,null,null,null,null,null,null,null,null,null,null,null,null,null,null,null,null,null,null,null,null,null,null,0,25,null,null,null,null,null,null,null,{"$f":"MAX(FREQUENCY(IF(D29:AB29=\"r\",COLUMN(D29:AB29)),IF(D29:AB29<>\"r\",COLUMN(D29:AB29))))","v":0},""]
[17,{"$f":"IF('INPUT DATA'!B29=\"\",\"\",'INPUT DATA'!B29)","v":"Student 17"},null,null,null,null,null,null,null,null,null,null,null,null,null,null,null,null,null,null,null,null,null,null,null,null,null,null,0,25,null,null,null,null,null,null,null,{"$f":"MAX(FREQUENCY(IF(D30:AB30=\"r\",COLUMN(D30:AB30)),IF(D30:AB30<>\"r\",COLUMN(D30:AB30))))","v":0},""]
[18,{"$f":"IF('INPUT DATA'!B30=\"\",\"\",'INPUT DATA'!B30)","v":"Student 18"},null,null,null,null,null,null,null,null,null,null,null,null,null,null,null,null,null,null,null,null,null,null,null,null,null,null,0,25,null,null,null,null,null,null,null,{"$f":"MAX(FREQUENCY(IF(D31:AB31=\"r\",COLUMN(D31:AB31)),IF(D31:AB31<>\"r\",COLUMN(D31:AB31))))","v":0},""]
[19,{"$f":"IF('INPUT DATA'!B31=\"\",\"\",'INPUT DATA'!B31)","v":"Student 19"},null,null,null,null,null,null,null,null,null,null,null,null,null,null,null,null,null,null,null,null,null,null,null,null,null,null,0,25,null,null,null,null,null,null,null,{"$f":"MAX(FREQUENCY(IF(D32:AB32=\"r\",COLUMN(D32:AB32)),IF(D32:AB32<>\"r\",COLUMN(D32:AB32))))","v":0},""]
[20,{"$f":"IF('INPUT DATA'!B32=\"\",\"\",'INPUT DATA'!B32)","v":"Student 20"},null,null,null,null,null,null,null,null,null,null,null,null,null,null,null,null,null,null,null,null,null,null,null,null,null,null,0,25,null,null,null,null,null,null,null,{"$f":"MAX(FREQUENCY(IF(D33:AB33=\"r\",COLUMN(D33:AB33)),IF(D33:AB33<>\"r\",COLUMN(D33:AB33))))","v":0},""]
["",{"$f":"IF('INPUT DATA'!B33=\"\",\"\",'INPUT DATA'!B33)","v":""},null,null,null,null,null,null,null,null,null,null,null,null,null,null,null,null,null,null,null,null,null,null,null,null,null,null,"","",null,null,null,null,null,null,null,{"$f":"MAX(FREQUENCY(IF(D34:AB34=\"r\",COLUMN(D34:AB34)),IF(D34:AB34<>\"r\",COLUMN(D34:AB34))))","v":0},""]
["",{"$f":"IF('INPUT DATA'!B34=\"\",\"\",'INPUT DATA'!B34)","v":""},null,null,null,null,null,null,null,null,null,null,null,null,null,null,null,null,null,null,null,null,null,null,null,null,null,null,"","",null,null,null,null,null,null,null,{"$f":"MAX(FREQUENCY(IF(D35:AB35=\"r\",COLUMN(D35:AB35)),IF(D35:AB35<>\"r\",COLUMN(D35:AB35))))","v":0},""]
["",{"$f":"IF('INPUT DATA'!B35=\"\",\"\",'INPUT DATA'!B35)","v":""},null,null,null,null,null,null,null,null,null,null,null,null,null,null,null,null,null,null,null,null,null,null,null,null,null,null,"","",null,null,null,null,null,null,null,{"$f":"MAX(FREQUENCY(IF(D36:AB36=\"r\",COLUMN(D36:AB36)),IF(D36:AB36<>\"r\",COLUMN(D36:AB36))))","v":0},""]
["",{"$f":"IF('INPUT DATA'!B36=\"\",\"\",'INPUT DATA'!B36)","v":""},null,null,null,null,null,null,null,null,null,null,null,null,null,null,null,null,null,null,null,null,null,null,null,null,null,null,"","",null,null,null,null,null,null,null,{"$f":"MAX(FREQUENCY(IF(D37:AB37=\"r\",COLUMN(D37:AB37)),IF(D37:AB37<>\"r\",COLUMN(D37:AB37))))","v":0},""]
["",{"$f":"IF('INPUT DATA'!B37=\"\",\"\",'INPUT DATA'!B37)","v":""},null,null,null,null,null,null,null,null,null,null,null,null,null,null,null,null,null,null,null,null,null,null,null,null,null,null,"","",null,null,null,null,null,null,null,{"$f":"MAX(FREQUENCY(IF(D38:AB38=\"r\",COLUMN(D38:AB38)),IF(D38:AB38<>\"r\",COLUMN(D38:AB38))))","v":0},""]
["",{"$f":"IF('INPUT DATA'!B38=\"\",\"\",'INPUT DATA'!B38)","v":""},null,null,null,null,null,null,null,null,null,null,null,null,null,null,null,null,null,null,null,null,null,null,null,null,null,null,"","",null,null,null,null,null,null,null,{"$f":"MAX(FREQUENCY(IF(D39:AB39=\"r\",COLUMN(D39:AB39)),IF(D39:AB39<>\"r\",COLUMN(D39:AB39))))","v":0},""]
["",{"$f":"IF('INPUT DATA'!B39=\"\",\"\",'INPUT DATA'!B39)","v":""},null,null,null,null,null,null,null,null,null,null,null,null,null,null,null,null,null,null,null,null,null,null,null,null,null,null,"","",null,null,null,null,null,null,null,{"$f":"MAX(FREQUENCY(IF(D40:AB40=\"r\",COLUMN(D40:AB40)),IF(D40:AB40<>\"r\",COLUMN(D40:AB40))))","v":0},""]
["",{"$f":"IF('INPUT DATA'!B40=\"\",\"\",'INPUT DATA'!B40)","v":""},null,null,null,null,null,null,null,null,null,null,null,null,null,null,null,null,null,null,null,null,null,null,null,null,null,null,"","",null,null,null,null,null,null,null,{"$f":"MAX(FREQUENCY(IF(D41:AB41=\"r\",COLUMN(D41:AB41)),IF(D41:AB41<>\"r\",COLUMN(D41:AB41))))","v":0},""]
["",{"$f":"IF('INPUT DATA'!B41=\"\",\"\",'INPUT DATA'!B41)","v":""},null,null,null,null,null,null,null,null,null,null,null,null,null,null,null,null,null,null,null,null,null,null,null,null,null,null,"","",null,null,null,null,null,null,null,{"$f":"MAX(FREQUENCY(IF(D42:AB42=\"r\",COLUMN(D42:AB42)),IF(D42:AB42<>\"r\",COLUMN(D42:AB42))))","v":0},""]
["",{"$f":"IF('INPUT DATA'!B42=\"\",\"\",'INPUT DATA'!B42)","v":""},null,null,null,null,null,null,null,null,null,null,null,null,null,null,null,null,null,null,null,null,null,null,null,null,null,null,"","",null,null,null,null,null,null,null,{"$f":"MAX(FREQUENCY(IF(D43:AB43=\"r\",COLUMN(D43:AB43)),IF(D43:AB43<>\"r\",COLUMN(D43:AB43))))","v":0},""]
["",{"$f":"IF('INPUT DATA'!B43=\"\",\"\",'INPUT DATA'!B43)","v":""},null,null,null,null,null,null,null,null,null,null,null,null,null,null,null,null,null,null,null,null,null,null,null,null,null,null,"","",null,null,null,null,null,null,null,{"$f":"MAX(FREQUENCY(IF(D44:AB44=\"r\",COLUMN(D44:AB44)),IF(D44:AB44<>\"r\",COLUMN(D44:AB44))))","v":0},""]
["",{"$f":"IF('INPUT DATA'!B44=\"\",\"\",'INPUT DATA'!B44)","v":""},null,null,null,null,null,null,null,null,null,null,null,null,null,null,null,null,null,null,null,null,null,null,null,null,null,null,"","",null,null,null,null,null,null,null,{"$f":"MAX(FREQUENCY(IF(D45:AB45=\"r\",COLUMN(D45:AB45)),IF(D45:AB45<>\"r\",COLUMN(D45:AB45))))","v":0},""]
["",{"$f":"IF('INPUT DATA'!B45=\"\",\"\",'INPUT DATA'!B45)","v":""},null,null,null,null,null,null,null,null,null,null,null,null,null,null,null,null,null,null,null,null,null,null,null,null,null,null,"","",null,null,null,null,null,null,null,{"$f":"MAX(FREQUENCY(IF(D46:AB46=\"r\",COLUMN(D46:AB46)),IF(D46:AB46<>\"r\",COLUMN(D46:AB46))))","v":0},""]
["",{"$f":"IF('INPUT DATA'!B46=\"\",\"\",'INPUT DATA'!B46)","v":""},null,null,null,null,null,null,null,null,null,null,null,null,null,null,null,null,null,null,null,null,null,null,null,null,null,null,"","",null,null,null,null,null,null,null,{"$f":"MAX(FREQUENCY(IF(D47:AB47=\"r\",COLUMN(D47:AB47)),IF(D47:AB47<>\"r\",COLUMN(D47:AB47))))","v":0},""]
["",{"$f":"IF('INPUT DATA'!B47=\"\",\"\",'INPUT DATA'!B47)","v":""},null,null,null,null,null,null,null,null,null,null,null,null,null,null,null,null,null,null,null,null,null,null,null,null,null,null,"","",null,null,null,null,null,null,null,{"$f":"MAX(FREQUENCY(IF(D48:AB48=\"r\",COLUMN(D48:AB48)),IF(D48:AB48<>\"r\",COLUMN(D48:AB48))))","v":0},""]
["",{"$f":"IF('INPUT DATA'!B48=\"\",\"\",'INPUT DATA'!B48)","v":""},null,null,null,null,null,null,null,null,null,null,null,null,null,null,null,null,null,null,null,null,null,null,null,null,null,null,"","",null,null,null,null,null,null,null,{"$f":"MAX(FREQUENCY(IF(D49:AB49=\"r\",COLUMN(D49:AB49)),IF(D49:AB49<>\"r\",COLUMN(D49:AB49))))","v":0},""]
["",{"$f":"IF('INPUT DATA'!B49=\"\",\"\",'INPUT DATA'!B49)","v":""},null,null,null,null,null,null,null,null,null,null,null,null,null,null,null,null,null,null,null,null,null,null,null,null,null,null,"","",null,null,null,null,null,null,null,{"$f":"MAX(FREQUENCY(IF(D50:AB50=\"r\",COLUMN(D50:AB50)),IF(D50:AB50<>\"r\",COLUMN(D50:AB50))))","v":0},""]
["",{"$f":"IF('INPUT DATA'!B50=\"\",\"\",'INPUT DATA'!B50)","v":""},null,null,null,null,null,null,null,null,null,null,null,null,null,null,null,null,null,null,null,null,null,null,null,null,null,null,"","",null,null,null,null,null,null,null,{"$f":"MAX(FREQUENCY(IF(D51:AB51=\"r\",COLUMN(D51:AB51)),IF(D51:AB51<>\"r\",COLUMN(D51:AB51))))","v":0},""]
["",{"$f":"IF('INPUT DATA'!B51=\"\",\"\",'INPUT DATA'!B51)","v":""},null,null,null,null,null,null,null,null,null,null,null,null,null,null,null,null,null,null,null,null,null,null,null,null,null,null,"","",null,null,null,null,null,null,null,{"$f":"MAX(FREQUENCY(IF(D52:AB52=\"r\",COLUMN(D52:AB52)),IF(D52:AB52<>\"r\",COLUMN(D52:AB52))))","v":0},""]
["",{"$f":"IF('INPUT DATA'!B52=\"\",\"\",'INPUT DATA'!B52)","v":""},null,null,null,null,null,null,null,null,null,null,null,null,null,null,null,null,null,null,null,null,null,null,null,null,null,null,"","",null,null,null,null,null,null,null,{"$f":"MAX(FREQUENCY(IF(D53:AB53=\"r\",COLUMN(D53:AB53)),IF(D53:AB53<>\"r\",COLUMN(D53:AB53))))","v":0},""]
["",{"$f":"IF('INPUT DATA'!B53=\"\",\"\",'INPUT DATA'!B53)","v":""},null,null,null,null,null,null,null,null,null,null,null,null,null,null,null,null,null,null,null,null,null,null,null,null,null,null,"","",null,null,null,null,null,null,null,{"$f":"MAX(FREQUENCY(IF(D54:AB54=\"r\",COLUMN(D54:AB54)),IF(D54:AB54<>\"r\",COLUMN(D54:AB54))))","v":0},""]
["",{"$f":"IF('INPUT DATA'!B54=\"\",\"\",'INPUT DATA'!B54)","v":""},null,null,null,null,null,null,null,null,null,null,null,null,null,null,null,null,null,null,null,null,null,null,null,null,null,null,"","",null,null,null,null,null,null,null,{"$f":"MAX(FREQUENCY(IF(D55:AB55=\"r\",COLUMN(D55:AB55)),IF(D55:AB55<>\"r\",COLUMN(D55:AB55))))","v":0},""]
["",{"$f":"IF('INPUT DATA'!B55=\"\",\"\",'INPUT DATA'!B55)","v":""},null,null,null,null,null,null,null,null,null,null,null,null,null,null,null,null,null,null,null,null,null,null,null,null,null,null,"","",null,null,null,null,null,null,null,{"$f":"MAX(FREQUENCY(IF(D56:AB56=\"r\",COLUMN(D56:AB56)),IF(D56:AB56<>\"r\",COLUMN(D56:AB56))))","v":0},""]
["",{"$f":"IF('INPUT DATA'!B56=\"\",\"\",'INPUT DATA'!B56)","v":""},null,null,null,null,null,null,null,null,null,null,null,null,null,null,null,null,null,null,null,null,null,null,null,null,null,null,"","",null,null,null,null,null,null,null,{"$f":"MAX(FREQUENCY(IF(D57:AB57=\"r\",COLUMN(D57:AB57)),IF(D57:AB57<>\"r\",COLUMN(D57:AB57))))","v":0},""]
["",{"$f":"IF('INPUT DATA'!B57=\"\",\"\",'INPUT DATA'!B57)","v":""},null,null,null,null,null,null,null,null,null,null,null,null,null,null,null,null,null,null,null,null,null,null,null,null,null,null,"","",null,null,null,null,null,null,null,{"$f":"MAX(FREQUENCY(IF(D58:AB58=\"r\",COLUMN(D58:AB58)),IF(D58:AB58<>\"r\",COLUMN(D58:AB58))))","v":0},""]
["",{"$f":"IF('INPUT DATA'!B58=\"\",\"\",'INPUT DATA'!B58)","v":""},null,null,null,null,null,null,null,null,null,null,null,null,null,null,null,null,null,null,null,null,null,null,null,null,null,null,"","",null,null,null,null,null,null,null,{"$f":"MAX(FREQUENCY(IF(D59:AB59=\"r\",COLUMN(D59:AB59)),IF(D59:AB59<>\"r\",COLUMN(D59:AB59))))","v":0},""]
["",{"$f":"IF('INPUT DATA'!B59=\"\",\"\",'INPUT DATA'!B59)","v":""},null,null,null,null,null,null,null,null,null,null,null,null,null,null,null,null,null,null,null,null,null,null,null,null,null,null,"","",null,null,null,null,null,null,null,{"$f":"MAX(FREQUENCY(IF(D60:AB60=\"r\",COLUMN(D60:AB60)),IF(D60:AB60<>\"r\",COLUMN(D60:AB60))))","v":0},""]
["",{"$f":"IF('INPUT DATA'!B60=\"\",\"\",'INPUT DATA'!B60)","v":""},null,null,null,null,null,null,null,null,null,null,null,null,null,null,null,null,null,null,null,null,null,null,null,null,null,null,"","",null,null,null,null,null,null,null,{"$f":"MAX(FREQUENCY(IF(D61:AB61=\"r\",COLUMN(D61:AB61)),IF(D61:AB61<>\"r\",COLUMN(D61:AB61))))","v":0},""]
["",{"$f":"IF('INPUT DATA'!B61=\"\",\"\",'INPUT DATA'!B61)","v":""},null,null,null,null,null,null,null,null,null,null,null,null,null,null,null,null,null,null,null,null,null,null,null,null,null,null,"","",null,null,null,null,null,null,null,{"$f":"MAX(FREQUENCY(IF(D62:AB62=\"r\",COLUMN(D62:AB62)),IF(D62:AB62<>\"r\",COLUMN(D62:AB62))))","v":0},""]
["",{"$f":"IF('INPUT DATA'!B62=\"\",\"\",'INPUT DATA'!B62)","v":""},null,null,null,null,null,null,null,null,null,null,null,null,null,null,null,null,null,null,null,null,null,null,null,null,null,null,"","",null,null,null,null,null,null,null,{"$f":"MAX(FREQUENCY(IF(D63:AB63=\"r\",COLUMN(D63:AB63)),IF(D63:AB63<>\"r\",COLUMN(D63:AB63))))","v":0},""]
["MALE  | TOTAL Per Day",null,null,{"$f":"IF(D11=\"\",\"\",SUM(COUNTBLANK(D14:D63)-COUNTBLANK($B$14:$B$63),COUNTIF(D14:D63,\"z\")*0.5,COUNTIF(D14:D63,\"y\")*0.5))","v":19},19,19,19,19,19,20,20,20,20,20,20,20,20,20,20,20,20,20,20,20,20,20,20,20,{"$f":"SUM(AC14:AC63)","v":6},{"$f":"SUM(AD14:AD63)","v":494},null,null,null,null,null,null,null,{"$f":"MAX(FREQUENCY(IF(D64:AB64=\"r\",COLUMN(D64:AB64)),IF(D64:AB64<>\"r\",COLUMN(D64:AB64))))","v":0},""]
[{"$f":"IF(B65=\"\",\"\",\"1\")","v":"1"},{"$f":"IF('INPUT DATA'!B64=\"\",\"\",'INPUT DATA'!B64)","v":"Student 1"},null,null,null,null,null,null,null,null,null,null,null,null,null,null,null,null,null,null,null,null,null,null,null,null,null,null,{"$f":"IF(B65=\"\",\"\",SUM(COUNTIF(D65:AB65,\"z\")*0.5,COUNTIF(D65:AB65,\"y\")*0.5,COUNTIF(D65:AB65,\"r\")))","v":0},{"$f":"IF(B65=\"\",\"\",COUNTA($D$11:$AB$11)-AC65)","v":25},null,null,null,null,null,null,null,{"$f":"MAX(FREQUENCY(IF(D65:AB65=\"r\",COLUMN(D65:AB65)),IF(D65:AB65<>\"r\",COLUMN(D65:AB65))))","v":0},""]
[{"$f":"IF(B66=\"\",\"\",A65+1)","v":2},{"$f":"IF('INPUT DATA'!B65=\"\",\"\",'INPUT DATA'!B65)","v":"Student 2"},null,null,null,null,null,null,null,null,null,null,null,null,null,null,null,null,null,null,null,null,null,null,null,null,null,null,{"$f":"IF(B66=\"\",\"\",SUM(COUNTIF(D66:AB66,\"z\")*0.5,COUNTIF(D66:AB66,\"y\")*0.5,COUNTIF(D66:AB66,\"r\")))","v":0},{"$f":"IF(B66=\"\",\"\",COUNTA($D$11:$AB$11)-AC66)","v":25},null,null,null,null,null,null,null,{"$f":"MAX(FREQUENCY(IF(D66:AB66=\"r\",COLUMN(D66:AB66)),IF(D66:AB66<>\"r\",COLUMN(D66:AB66))))","v":0},""]
[{"$f":"IF(B67=\"\",\"\",A66+1)","v":3},{"$f":"IF('INPUT DATA'!B66=\"\",\"\",'INPUT DATA'!B66)","v":"Student 3"},null,null,null,null,null,null,null,null,null,null,null,null,null,null,null,null,null,null,null,null,null,null,null,null,null,null,0,25,null,null,null,null,null,null,null,{"$f":"MAX(FREQUENCY(IF(D67:AB67=\"r\",COLUMN(D67:AB67)),IF(D67:AB67<>\"r\",COLUMN(D67:AB67))))","v":0},""]
[4,{"$f":"IF('INPUT DATA'!B67=\"\",\"\",'INPUT DATA'!B67)","v":"Student 4"},null,null,null,null,null,null,null,null,null,null,null,null,null,null,null,null,null,null,null,null,null,null,null,null,null,null,0,25,null,null,null,null,null,null,null,{"$f":"MAX(FREQUENCY(IF(D68:AB68=\"r\",COLUMN(D68:AB68)),IF(D68:AB68<>\"r\",COLUMN(D68:AB68))))","v":0},""]
[5,{"$f":"IF('INPUT DATA'!B68=\"\",\"\",'INPUT DATA'!B68)","v":"Student 5"},null,null,null,null,null,null,null,null,null,null,null,null,null,null,null,null,null,null,null,null,null,null,null,null,null,null,0,25,null,null,null,null,null,null,null,{"$f":"MAX(FREQUENCY(IF(D69:AB69=\"r\",COLUMN(D69:AB69)),IF(D69:AB69<>\"r\",COLUMN(D69:AB69))))","v":0},""]
[6,{"$f":"IF('INPUT DATA'!B69=\"\",\"\",'INPUT DATA'!B69)","v":"Student 6"},null,null,null,null,null,null,null,null,null,null,null,null,null,null,null,null,null,null,null,null,null,null,null,null,null,null,0,25,null,null,null,null,null,null,null,{"$f":"MAX(FREQUENCY(IF(D70:AB70=\"r\",COLUMN(D70:AB70)),IF(D70:AB70<>\"r\",COLUMN(D70:AB70))))","v":0},""]
[7,{"$f":"IF('INPUT DATA'!B70=\"\",\"\",'INPUT DATA'!B70)","v":"Student 7"},null,null,null,null,null,null,null,null,null,null,null,null,null,null,null,null,null,null,null,null,null,null,null,null,null,null,0,25,null,null,null,null,null,null,null,{"$f":"MAX(FREQUENCY(IF(D71:AB71=\"r\",COLUMN(D71:AB71)),IF(D71:AB71<>\"r\",COLUMN(D71:AB71))))","v":0},""]
[8,{"$f":"IF('INPUT DATA'!B71=\"\",\"\",'INPUT DATA'!B71)","v":"Student 8"},null,null,null,null,null,null,null,null,null,null,null,null,null,null,null,null,null,null,null,null,null,null,null,null,null,null,0,25,null,null,null,null,null,null,null,{"$f":"MAX(FREQUENCY(IF(D72:AB72=\"r\",COLUMN(D72:AB72)),IF(D72:AB72<>\"r\",COLUMN(D72:AB72))))","v":0},""]
[9,{"$f":"IF('INPUT DATA'!B72=\"\",\"\",'INPUT DATA'!B72)","v":"Student 9"},null,null,null,null,null,null,null,null,null,null,null,null,null,null,null,null,null,null,null,null,null,null,null,null,null,null,0,25,null,null,null,null,null,null,null,{"$f":"MAX(FREQUENCY(IF(D73:AB73=\"r\",COLUMN(D73:AB73)),IF(D73:AB73<>\"r\",COLUMN(D73:AB73))))","v":0},""]
[10,{"$f":"IF('INPUT DATA'!B73=\"\",\"\",'INPUT DATA'!B73)","v":"Student 10"},null,null,null,null,null,null,null,null,null,null,null,null,null,null,null,null,null,null,null,null,null,null,null,null,null,null,0,25,null,null,null,null,null,null,null,{"$f":"MAX(FREQUENCY(IF(D74:AB74=\"r\",COLUMN(D74:AB74)),IF(D74:AB74<>\"r\",COLUMN(D74:AB74))))","v":0},""]
[11,{"$f":"IF('INPUT DATA'!B74=\"\",\"\",'INPUT DATA'!B74)","v":"Student 11"},null,null,null,null,null,null,null,null,null,null,null,null,null,null,null,null,null,null,null,null,null,null,null,null,null,null,0,25,null,null,null,null,null,null,null,{"$f":"MAX(FREQUENCY(IF(D75:AB75=\"r\",COLUMN(D75:AB75)),IF(D75:AB75<>\"r\",COLUMN(D75:AB75))))","v":0},""]
[12,{"$f":"IF('INPUT DATA'!B75=\"\",\"\",'INPUT DATA'!B75)","v":"Student 12"},null,null,null,null,null,null,null,null,null,null,null,null,null,null,null,null,null,null,null,null,null,null,null,null,null,null,0,25,null,null,null,null,null,null,null,{"$f":"MAX(FREQUENCY(IF(D76:AB76=\"r\",COLUMN(D76:AB76)),IF(D76:AB76<>\"r\",COLUMN(D76:AB76))))","v":0},""]
[13,{"$f":"IF('INPUT DATA'!B76=\"\",\"\",'INPUT DATA'!B76)","v":"Student 13"},null,null,null,null,null,null,null,null,null,null,null,null,null,null,null,null,null,null,null,null,null,null,null,null,null,null,0,25,null,null,null,null,null,null,null,{"$f":"MAX(FREQUENCY(IF(D77:AB77=\"r\",COLUMN(D77:AB77)),IF(D77:AB77<>\"r\",COLUMN(D77:AB77))))","v":0},""]
[14,{"$f":"IF('INPUT DATA'!B77=\"\",\"\",'INPUT DATA'!B77)","v":"Student 14"},null,null,null,null,null,null,null,null,null,null,null,null,null,null,null,null,null,null,null,null,null,null,null,null,null,null,0,25,null,null,null,null,null,null,null,{"$f":"MAX(FREQUENCY(IF(D78:AB78=\"r\",COLUMN(D78:AB78)),IF(D78:AB78<>\"r\",COLUMN(D78:AB78))))","v":0},""]
[15,{"$f":"IF('INPUT DATA'!B78=\"\",\"\",'INPUT DATA'!B78)","v":"Student 15"},null,null,null,null,null,null,null,null,null,null,null,null,null,null,null,null,null,null,null,null,null,null,null,null,null,null,0,25,null,null,null,null,null,null,null,{"$f":"MAX(FREQUENCY(IF(D79:AB79=\"r\",COLUMN(D79:AB79)),IF(D79:AB79<>\"r\",COLUMN(D79:AB79))))","v":0},{"$f":"IF(AL79>=5,1,\"\")","v":""}]
[16,{"$f":"IF('INPUT DATA'!B79=\"\",\"\",'INPUT DATA'!B79)","v":"Student 16"},null,null,null,null,null,null,null,null,null,null,null,null,null,null,null,null,null,null,null,null,null,null,null,null,null,null,0,25,null,null,null,null,null,null,null,{"$f":"MAX(FREQUENCY(IF(D80:AB80=\"r\",COLUMN(D80:AB80)),IF(D80:AB80<>\"r\",COLUMN(D80:AB80))))","v":0},""]
[17,{"$f":"IF('INPUT DATA'!B80=\"\",\"\",'INPUT DATA'!B80)","v":"Student 17"},null,null,null,null,null,null,null,null,null,null,null,null,null,null,null,null,null,null,null,null,null,null,null,null,null,null,0,25,null,null,null,null,null,null,null,{"$f":"MAX(FREQUENCY(IF(D81:AB81=\"r\",COLUMN(D81:AB81)),IF(D81:AB81<>\"r\",COLUMN(D81:AB81))))","v":0},""]
[18,{"$f":"IF('INPUT DATA'!B81=\"\",\"\",'INPUT DATA'!B81)","v":"Student 18"},null,null,null,null,null,null,null,null,null,null,null,null,null,null,null,null,null,null,null,null,null,null,null,null,null,null,0,25,null,null,null,null,null,null,null,{"$f":"MAX(FREQUENCY(IF(D82:AB82=\"r\",COLUMN(D82:AB82)),IF(D82:AB82<>\"r\",COLUMN(D82:AB82))))","v":0},""]
[19,{"$f":"IF('INPUT DATA'!B82=\"\",\"\",'INPUT DATA'!B82)","v":"Student 19"},null,null,null,null,null,null,null,null,null,null,null,null,null,null,null,null,null,null,null,null,null,null,null,null,null,null,0,25,null,null,null,null,null,null,null,{"$f":"MAX(FREQUENCY(IF(D83:AB83=\"r\",COLUMN(D83:AB83)),IF(D83:AB83<>\"r\",COLUMN(D83:AB83))))","v":0},""]
[20,{"$f":"IF('INPUT DATA'!B83=\"\",\"\",'INPUT DATA'!B83)","v":"Student 20"},null,null,null,null,null,null,null,null,null,null,null,null,null,null,null,null,null,null,null,null,null,null,null,null,null,null,0,25,null,null,null,null,null,null,null,{"$f":"MAX(FREQUENCY(IF(D84:AB84=\"r\",COLUMN(D84:AB84)),IF(D84:AB84<>\"r\",COLUMN(D84:AB84))))","v":0},""]
["",{"$f":"IF('INPUT DATA'!B84=\"\",\"\",'INPUT DATA'!B84)","v":""},null,null,null,null,null,null,null,null,null,null,null,null,null,null,null,null,null,null,null,null,null,null,null,null,null,null,"","",null,null,null,null,null,null,null,{"$f":"MAX(FREQUENCY(IF(D85:AB85=\"r\",COLUMN(D85:AB85)),IF(D85:AB85<>\"r\",COLUMN(D85:AB85))))","v":0},""]
["",{"$f":"IF('INPUT DATA'!B85=\"\",\"\",'INPUT DATA'!B85)","v":""},null,null,null,null,null,null,null,null,null,null,null,null,null,null,null,null,null,null,null,null,null,null,null,null,null,null,"","",null,null,null,null,null,null,null,{"$f":"MAX(FREQUENCY(IF(D86:AB86=\"r\",COLUMN(D86:AB86)),IF(D86:AB86<>\"r\",COLUMN(D86:AB86))))","v":0},""]
["",{"$f":"IF('INPUT DATA'!B86=\"\",\"\",'INPUT DATA'!B86)","v":""},null,null,null,null,null,null,null,null,null,null,null,null,null,null,null,null,null,null,null,null,null,null,null,null,null,null,"","",null,null,null,null,null,null,null,{"$f":"MAX(FREQUENCY(IF(D87:AB87=\"r\",COLUMN(D87:AB87)),IF(D87:AB87<>\"r\",COLUMN(D87:AB87))))","v":0},""]
["",{"$f":"IF('INPUT DATA'!B87=\"\",\"\",'INPUT DATA'!B87)","v":""},null,null,null,null,null,null,null,null,null,null,null,null,null,null,null,null,null,null,null,null,null,null,null,null,null,null,"","",null,null,null,null,null,null,null,{"$f":"MAX(FREQUENCY(IF(D88:AB88=\"r\",COLUMN(D88:AB88)),IF(D88:AB88<>\"r\",COLUMN(D88:AB88))))","v":0},""]
["",{"$f":"IF('INPUT DATA'!B88=\"\",\"\",'INPUT DATA'!B88)","v":""},null,null,null,null,null,null,null,null,null,null,null,null,null,null,null,null,null,null,null,null,null,null,null,null,null,null,"","",null,null,null,null,null,null,null,{"$f":"MAX(FREQUENCY(IF(D89:AB89=\"r\",COLUMN(D89:AB89)),IF(D89:AB89<>\"r\",COLUMN(D89:AB89))))","v":0},""]
["",{"$f":"IF('INPUT DATA'!B89=\"\",\"\",'INPUT DATA'!B89)","v":""},null,null,null,null,null,null,null,null,null,null,null,null,null,null,null,null,null,null,null,null,null,null,null,null,null,null,"","",null,null,null,null,null,null,null,{"$f":"MAX(FREQUENCY(IF(D90:AB90=\"r\",COLUMN(D90:AB90)),IF(D90:AB90<>\"r\",COLUMN(D90:AB90))))","v":0},""]
["",{"$f":"IF('INPUT DATA'!B90=\"\",\"\",'INPUT DATA'!B90)","v":""},null,null,null,null,null,null,null,null,null,null,null,null,null,null,null,null,null,null,null,null,null,null,null,null,null,null,"","",null,null,null,null,null,null,null,{"$f":"MAX(FREQUENCY(IF(D91:AB91=\"r\",COLUMN(D91:AB91)),IF(D91:AB91<>\"r\",COLUMN(D91:AB91))))","v":0},""]
["",{"$f":"IF('INPUT DATA'!B91=\"\",\"\",'INPUT DATA'!B91)","v":""},null,null,null,null,null,null,null,null,null,null,null,null,null,null,null,null,null,null,null,null,null,null,null,null,null,null,"","",null,null,null,null,null,null,null,{"$f":"MAX(FREQUENCY(IF(D92:AB92=\"r\",COLUMN(D92:AB92)),IF(D92:AB92<>\"r\",COLUMN(D92:AB92))))","v":0},""]
["",{"$f":"IF('INPUT DATA'!B92=\"\",\"\",'INPUT DATA'!B92)","v":""},null,null,null,null,null,null,null,null,null,null,null,null,null,null,null,null,null,null,null,null,null,null,null,null,null,null,"","",null,null,null,null,null,null,null,{"$f":"MAX(FREQUENCY(IF(D93:AB93=\"r\",COLUMN(D93:AB93)),IF(D93:AB93<>\"r\",COLUMN(D93:AB93))))","v":0},""]
["",{"$f":"IF('INPUT DATA'!B93=\"\",\"\",'INPUT DATA'!B93)","v":""},null,null,null,null,null,null,null,null,null,null,null,null,null,null,null,null,null,null,null,null,null,null,null,null,null,null,"","",null,null,null,null,null,null,null,{"$f":"MAX(FREQUENCY(IF(D94:AB94=\"r\",COLUMN(D94:AB94)),IF(D94:AB94<>\"r\",COLUMN(D94:AB94))))","v":0},""]
["",{"$f":"IF('INPUT DATA'!B94=\"\",\"\",'INPUT DATA'!B94)","v":""},null,null,null,null,null,null,null,null,null,null,null,null,null,null,null,null,null,null,null,null,null,null,null,null,null,null,"","",null,null,null,null,null,null,null,{"$f":"MAX(FREQUENCY(IF(D95:AB95=\"r\",COLUMN(D95:AB95)),IF(D95:AB95<>\"r\",COLUMN(D95:AB95))))","v":0},""]
["",{"$f":"IF('INPUT DATA'!B95=\"\",\"\",'INPUT DATA'!B95)","v":""},null,null,null,null,null,null,null,null,null,null,null,null,null,null,null,null,null,null,null,null,null,null,null,null,null,null,"","",null,null,null,null,null,null,null,{"$f":"MAX(FREQUENCY(IF(D96:AB96=\"r\",COLUMN(D96:AB96)),IF(D96:AB96<>\"r\",COLUMN(D96:AB96))))","v":0},""]
["",{"$f":"IF('INPUT DATA'!B96=\"\",\"\",'INPUT DATA'!B96)","v":""},null,null,null,null,null,null,null,null,null,null,null,null,null,null,null,null,null,null,null,null,null,null,null,null,null,null,"","",null,null,null,null,null,null,null,{"$f":"MAX(FREQUENCY(IF(D97:AB97=\"r\",COLUMN(D97:AB97)),IF(D97:AB97<>\"r\",COLUMN(D97:AB97))))","v":0},""]
["",{"$f":"IF('INPUT DATA'!B97=\"\",\"\",'INPUT DATA'!B97)","v":""},null,null,null,null,null,null,null,null,null,null,null,null,null,null,null,null,null,null,null,null,null,null,null,null,null,null,"","",null,null,null,null,null,null,null,{"$f":"MAX(FREQUENCY(IF(D98:AB98=\"r\",COLUMN(D98:AB98)),IF(D98:AB98<>\"r\",COLUMN(D98:AB98))))","v":0},""]
["",{"$f":"IF('INPUT DATA'!B98=\"\",\"\",'INPUT DATA'!B98)","v":""},null,null,null,null,null,null,null,null,null,null,null,null,null,null,null,null,null,null,null,null,null,null,null,null,null,null,"","",null,null,null,null,null,null,null,{"$f":"MAX(FREQUENCY(IF(D99:AB99=\"r\",COLUMN(D99:AB99)),IF(D99:AB99<>\"r\",COLUMN(D99:AB99))))","v":0},""]
["",{"$f":"IF('INPUT DATA'!B99=\"\",\"\",'INPUT DATA'!B99)","v":""},null,null,null,null,null,null,null,null,null,null,null,null,null,null,null,null,null,null,null,null,null,null,null,null,null,null,"","",null,null,null,null,null,null,null,{"$f":"MAX(FREQUENCY(IF(D100:AB100=\"r\",COLUMN(D100:AB100)),IF(D100:AB100<>\"r\",COLUMN(D100:AB100))))","v":0},""]
["",{"$f":"IF('INPUT DATA'!B100=\"\",\"\",'INPUT DATA'!B100)","v":""},null,null,null,null,null,null,null,null,null,null,null,null,null,null,null,null,null,null,null,null,null,null,null,null,null,null,"","",null,null,null,null,null,null,null,{"$f":"MAX(FREQUENCY(IF(D101:AB101=\"r\",COLUMN(D101:AB101)),IF(D101:AB101<>\"r\",COLUMN(D101:AB101))))","v":0},""]
["",{"$f":"IF('INPUT DATA'!B101=\"\",\"\",'INPUT DATA'!B101)","v":""},null,null,null,null,null,null,null,null,null,null,null,null,null,null,null,null,null,null,null,null,null,null,null,null,null,null,"","",null,null,null,null,null,null,null,{"$f":"MAX(FREQUENCY(IF(D102:AB102=\"r\",COLUMN(D102:AB102)),IF(D102:AB102<>\"r\",COLUMN(D102:AB102))))","v":0},""]
["",{"$f":"IF('INPUT DATA'!B102=\"\",\"\",'INPUT DATA'!B102)","v":""},null,null,null,null,null,null,null,null,null,null,null,null,null,null,null,null,null,null,null,null,null,null,null,null,null,null,"","",null,null,null,null,null,null,null,{"$f":"MAX(FREQUENCY(IF(D103:AB103=\"r\",COLUMN(D103:AB103)),IF(D103:AB103<>\"r\",COLUMN(D103:AB103))))","v":0},""]
["",{"$f":"IF('INPUT DATA'!B103=\"\",\"\",'INPUT DATA'!B103)","v":""},null,null,null,null,null,null,null,null,null,null,null,null,null,null,null,null,null,null,null,null,null,null,null,null,null,null,"","",null,null,null,null,null,null,null,{"$f":"MAX(FREQUENCY(IF(D104:AB104=\"r\",COLUMN(D104:AB104)),IF(D104:AB104<>\"r\",COLUMN(D104:AB104))))","v":0},""]
["",{"$f":"IF('INPUT DATA'!B104=\"\",\"\",'INPUT DATA'!B104)","v":""},null,null,null,null,null,null,null,null,null,null,null,null,null,null,null,null,null,null,null,null,null,null,null,null,null,null,"","",null,null,null,null,null,null,null,{"$f":"MAX(FREQUENCY(IF(D105:AB105=\"r\",COLUMN(D105:AB105)),IF(D105:AB105<>\"r\",COLUMN(D105:AB105))))","v":0},""]
["",{"$f":"IF('INPUT DATA'!B105=\"\",\"\",'INPUT DATA'!B105)","v":""},null,null,null,null,null,null,null,null,null,null,null,null,null,null,null,null,null,null,null,null,null,null,null,null,null,null,"","",null,null,null,null,null,null,null,{"$f":"MAX(FREQUENCY(IF(D106:AB106=\"r\",COLUMN(D106:AB106)),IF(D106:AB106<>\"r\",COLUMN(D106:AB106))))","v":0},""]
["",{"$f":"IF('INPUT DATA'!B106=\"\",\"\",'INPUT DATA'!B106)","v":""},null,null,null,null,null,null,null,null,null,null,null,null,null,null,null,null,null,null,null,null,null,null,null,null,null,null,"","",null,null,null,null,null,null,null,{"$f":"MAX(FREQUENCY(IF(D107:AB107=\"r\",COLUMN(D107:AB107)),IF(D107:AB107<>\"r\",COLUMN(D107:AB107))))","v":0},""]
["",{"$f":"IF('INPUT DATA'!B107=\"\",\"\",'INPUT DATA'!B107)","v":""},null,null,null,null,null,null,null,null,null,null,null,null,null,null,null,null,null,null,null,null,null,null,null,null,null,null,"","",null,null,null,null,null,null,null,{"$f":"MAX(FREQUENCY(IF(D108:AB108=\"r\",COLUMN(D108:AB108)),IF(D108:AB108<>\"r\",COLUMN(D108:AB108))))","v":0},""]
["",{"$f":"IF('INPUT DATA'!B108=\"\",\"\",'INPUT DATA'!B108)","v":""},null,null,null,null,null,null,null,null,null,null,null,null,null,null,null,null,null,null,null,null,null,null,null,null,null,null,"","",null,null,null,null,null,null,null,{"$f":"MAX(FREQUENCY(IF(D109:AB109=\"r\",COLUMN(D109:AB109)),IF(D109:AB109<>\"r\",COLUMN(D109:AB109))))","v":0},""]
["",{"$f":"IF('INPUT DATA'!B109=\"\",\"\",'INPUT DATA'!B109)","v":""},null,null,null,null,null,null,null,null,null,null,null,null,null,null,null,null,null,null,null,null,null,null,null,null,null,null,"","",null,null,null,null,null,null,null,{"$f":"MAX(FREQUENCY(IF(D110:AB110=\"r\",COLUMN(D110:AB110)),IF(D110:AB110<>\"r\",COLUMN(D110:AB110))))","v":0},""]
["",{"$f":"IF('INPUT DATA'!B110=\"\",\"\",'INPUT DATA'!B110)","v":""},null,null,null,null,null,null,null,null,null,null,null,null,null,null,null,null,null,null,null,null,null,null,null,null,null,null,"","",null,null,null,null,null,null,null,{"$f":"MAX(FREQUENCY(IF(D111:AB111=\"r\",COLUMN(D111:AB111)),IF(D111:AB111<>\"r\",COLUMN(D111:AB111))))","v":0},""]
["",{"$f":"IF('INPUT DATA'!B111=\"\",\"\",'INPUT DATA'!B111)","v":""},null,null,null,null,null,null,null,null,null,null,null,null,null,null,null,null,null,null,null,null,null,null,null,null,null,null,"","",null,null,null,null,null,null,null,{"$f":"MAX(FREQUENCY(IF(D112:AB112=\"r\",COLUMN(D112:AB112)),IF(D112:AB112<>\"r\",COLUMN(D112:AB112))))","v":0},""]
["",{"$f":"IF('INPUT DATA'!B112=\"\",\"\",'INPUT DATA'!B112)","v":""},null,null,null,null,null,null,null,null,null,null,null,null,null,null,null,null,null,null,null,null,null,null,null,null,null,null,"","",null,null,null,null,null,null,null,{"$f":"MAX(FREQUENCY(IF(D113:AB113=\"r\",COLUMN(D113:AB113)),IF(D113:AB113<>\"r\",COLUMN(D113:AB113))))","v":0},""]
["",{"$f":"IF('INPUT DATA'!B113=\"\",\"\",'INPUT DATA'!B113)","v":""},null,null,null,null,null,null,null,null,null,null,null,null,null,null,null,null,null,null,null,null,null,null,null,null,null,null,"","",null,null,null,null,null,null,null,{"$f":"MAX(FREQUENCY(IF(D114:AB114=\"r\",COLUMN(D114:AB114)),IF(D114:AB114<>\"r\",COLUMN(D114:AB114))))","v":0},""]
["FEMALE  | TOTAL Per Day",null,null,{"$f":"IF(D11=\"\",\"\",SUM(COUNTBLANK(D65:D114)-COUNTBLANK($B$65:$B$114),COUNTIF(D65:D114,\"z\")*0.5,COUNTIF(D65:D114,\"y\")*0.5))","v":20},20,20,20,20,20,20,20,20,20,20,20,20,20,20,20,20,20,20,20,20,20,20,20,20,{"$f":"SUM(AC65:AC114)","v":0},{"$f":"SUM(AD65:AD114)","v":500}]
["    Combined TOTAL PER DAY",null,null,{"$f":"IF(D11=\"\",\"\",SUM(D64,D115))","v":39},39,39,39,39,39,40,40,40,40,40,40,40,40,40,40,40,40,40,40,40,40,40,40,40,{"$f":"SUM(AC64,AC115)","v":6},{"$f":"SUM(AD64,AD115)","v":994}]
[]
["GUIDELINES:",null,null,null,null,null,null,null,null,null,null,null,null,null,null,null,"1. CODES FOR CHECKING ATTENDANCE",null,null,null,null,null,null,null,null,null,null,"Month:",{"$f":"X6","v":"June"},null,"No. of Days of Classes:",null,{"$f":"COUNT(D11:AB11)","v":25},"Summary for the Month"]
["1. The attendance shall be accomplished daily. Refer to the codes for checking learners' attendance.",null,null,null,null,null,null,null,null,null,null,null,null,null,null,null,"blank- Present;   (x)- Absent; Tardy (half shaded= Upper for Late Commer, Lower for Cutting Classes)",null,null,null,null,null,null,null,null,null,null,null,null,null,null,null,null,"M","F","TOTAL"]
["2. Dates shall be written in the preceding columns beside Learner's Name.",null,null,null,null,null,null,null,null,null,null,null,null,null,null,null,null,null,null,null,null,null,null,null,null,null,null,"* Enrolment  as of  (1st Friday of June)",null,null,null,null,null,{"$f":"IF('INPUT DATA'!R97=\"\",\"\",'INPUT DATA'!R97)","v":""},{"$f":"IF('INPUT DATA'!S97=\"\",\"\",'INPUT DATA'!S97)","v":""},{"$f":"SUM(AH120:AI121)","v":0}]
["3. To compute the following:"]
["a.","Percentage of Enrolment =",null,"Registered Learner as of End of the Month",null,null,null,null,null,null,null,null,null,"x 100",null,null,"2. REASONS/CAUSES OF DROP-OUTS",null,null,null,null,null,null,null,null,null,null,"Late Enrollment during the month                                               (beyond cut-off)",null,null,null,null,null,{"$f":"IF('INPUT DATA'!R98=\"\",\"\",'INPUT DATA'!R98)","v":""},{"$f":"IF('INPUT DATA'!S98=\"\",\"\",'INPUT DATA'!S98)","v":""},{"$f":"SUM(AH122:AI123)","v":0}]
[null,null,null,"Enrolment as of 1st Friday of June",null,null,null,null,null,null,null,null,null,null,null,null,"a. Domestic-Related Factors"]
["b.","Average Daily Attendance = ",null,"Total Daily Attendance",null,null,null,null,null,null,null,null,null,null,null,null,"a.1. Had to take care of siblings",null,null,null,null,null,null,null,null,null,null,"Registered Learner as of end of the month",null,null,null,null,null,{"$f":"IF('INPUT DATA'!R99=\"\",\"\",'INPUT DATA'!R99)","v":""},{"$f":"IF('INPUT DATA'!S99=\"\",\"\",'INPUT DATA'!S99)","v":""},{"$f":"SUM(AH124:AI125)","v":0}]
[null,null,null,"Number of School Days in reporting month",null,null,null,null,null,null,null,null,null,null,null,null,"a.2. Early marriage/pregnancy"]
["c.","Percentage of Attendance for the month =",null,"Average daily attendance",null,null,null,null,null,null,null,null,null,"x 100",null,null,"a.3. Parents' attitude toward schooling",null,null,null,null,null,null,null,null,null,null,"Percentage of Enrolment as of end of the month",null,null,null,null,null,{"$f":"CONCATENATE(IFERROR(ROUND((AH124)/(AH120)*100,0),\"\"),\"%\")","v":"%"},{"$f":"CONCATENATE(IFERROR(ROUND((AI124)/(AI120)*100,0),\"\"),\"%\")","v":"%"},{"$f":"CONCATENATE(IFERROR(ROUND((AJ124)/(AJ120)*100,0),\"\"),\"%\")","v":"%"}]
[null,null,null,"Registered Learner as of End of the month",null,null,null,null,null,null,null,null,null,null,null,null,"a.4. Family problems"]
[null,null,null,null,null,null,null,null,null,null,null,null,null,null,null,null,"b. Individual-Related Factors",null,null,null,null,null,null,null,null,null,null,"Average Daily Attendance",null,null,null,null,null,{"$f":"IFERROR(ROUND((AD64)/COUNTA(D11:AB11),2),\"\")","v":19.760000000000002},{"$f":"IFERROR(ROUND((AD115/COUNTA(D11:AB11)),2),\"\")","v":20},{"$f":"IFERROR(ROUND((AD116)/COUNTA(D11:AB11),2),\"\")","v":39.76}]
["4. Every End of the month, the class adviser will submit this form to the office of the principal for recording of \n     summary table into the School Form 4. Once signed by the principal, this form should be returned to the adviser.",null,null,null,null,null,null,null,null,null,null,null,null,null,null,null,"b.1. Illness",null,null,null,null,null,null,null,null,null,null,"Percentage of Attendance for the month ",null,null,null,null,null,{"$f":"CONCATENATE(IFERROR(ROUND((AH128/AH124)*100,0),\"\"),\"%\")","v":"%"},{"$f":"CONCATENATE(IFERROR(ROUND((AI128/AI124)*100,0),\"\"),\"%\")","v":"%"},{"$f":"CONCATENATE(IFERROR(ROUND((AJ128/AJ124)*100,0),\"\"),\"%\")","v":"%"}]
[null,null,null,null,null,null,null,null,null,null,null,null,null,null,null,null,"b.2. Overage"]
["5. The adviser will extend neccessary intervention including but not limited to home visitation  to learner/s that committed 5 consecutive days of absences or those with potentials of dropping out",null,null,null,null,null,null,null,null,null,null,null,null,null,null,null,"b.3. Death",null,null,null,null,null,null,null,null,null,null,"Number of students with 5 consecutive days of absences:",null,null,null,null,null,{"$f":"SUM(AM14:AM63)","v":1},{"$f":"SUM(AM65:AM114)","v":0},{"$f":"SUM(AH131:AI132)","v":1}]
[null,null,null,null,null,null,null,null,null,null,null,null,null,null,null,null,"b.4. Drug Abuse"]
["6.  Attendance performance of learner is expected to reflect in Form 137 and Form 138 every grading period",null,null,null,null,null,null,null,null,null,null,null,null,null,null,null,"b.5. Poor academic performance",null,null,null,null,null,null,null,null,null,null,"Drop out",null,null,null,null,null,{"$f":"IF('INPUT DATA'!R100=\"\",\"\",'INPUT DATA'!R100)","v":""},{"$f":"IF('INPUT DATA'!S100=\"\",\"\",'INPUT DATA'!S100)","v":""},{"$f":"SUM(AH133:AI134)","v":0}]
["*","Beginning of School Year cut-off report is every 1st Friday of School Calendar Days",null,null,null,null,null,null,null,null,null,null,null,null,null,null,"b.6. Lack of interest/Distractions"]
[null,null,null,null,null,null,null,null,null,null,null,null,null,null,null,null,"b.7. Hunger/Malnutrition",null,null,null,null,null,null,null,null,null,null,"Transferred out",null,null,null,null,null,{"$f":"IF('INPUT DATA'!R101=\"\",\"\",'INPUT DATA'!R101)","v":""},{"$f":"IF('INPUT DATA'!S101=\"\",\"\",'INPUT DATA'!S101)","v":""},{"$f":"SUM(AH135:AI136)","v":0}]
[null,null,null,null,null,null,null,null,null,null,null,null,null,null,null,null,"c. School-Related Factors"]
[null,null,null,null,null,null,null,null,null,null,null,null,null,null,null,null,"c.1. Teacher Factor",null,null,null,null,null,null,null,null,null,null,"Transferred in",null,null,null,null,null,{"$f":"IF('INPUT DATA'!R102=\"\",\"\",'INPUT DATA'!R102)","v":""},{"$f":"IF('INPUT DATA'!S102=\"\",\"\",'INPUT DATA'!S102)","v":""},{"$f":"SUM(AH137:AI138)","v":0}]
[null,null,null,null,null,null,null,null,null,null,null,null,null,null,null,null,"c.2. Physical condition of classroom"]
[null,null,null,null,null,null,null,null,null,null,null,null,null,null,null,null,"c.3. Peer influence"]
[null,null,null,null,null,null,null,null,null,null,null,null,null,null,null,null,"d. Geographic/Environmental",null,null,null,null,null,null,null,null,null,null,"I certify that this is a true and correct report."]
[null,null,null,null,null,null,null,null,null,null,null,null,null,null,null,null,"d.1. Distance between home and school"]
[null,null,null,null,null,null,null,null,null,null,null,null,null,null,null,null,"d.2. Armed conflict (incl. Tribal wars & clanfeuds)",null,null,null,null,null,null,null,null,null,null,null,null,{"$f":"UPPER(IF('INPUT DATA'!R7=\"\",\"\",'INPUT DATA'!R7))","v":""}]
[null,null,null,null,null,null,null,null,null,null,null,null,null,null,null,null,null,null,null,null,null,null,null,null,null,null,null,null,"                          (Signature of Teacher over Printed Name)"]
[null,null,null,null,null,null,null,null,null,null,null,null,null,null,null,null,"d.3. Calamities/Disasters"]
[null,null,null,null,null,null,null,null,null,null,null,null,null,null,null,null,"e. Financial-Related",null,null,null,null,null,null,null,null,null,null,"Attested by:"]
[null,null,null,null,null,null,null,null,null,null,null,null,null,null,null,null,"e.1. Child labor, work",null,null,null,null,null,null,null,null,null,null,null,null,{"$f":"UPPER(IF('INPUT DATA'!R6=\"\",\"\",'INPUT DATA'!R6))","v":""}]
[null,null,null,null,null,null,null,null,null,null,null,null,null,null,null,null,"f. Others",null,null,null,null,null,null,null,null,null,null,null,null,null,null," (Signature of School Head over Printed Name)"]

{"sheet":"MAY","index":9,"n_rows":147,"n_cols":39,"rows_kept":147,"cut":false,"hidden":true,"merged":[[145,29,145,34],[136,1,137,6],[136,27,137,32],[136,33,137,33],[136,34,137,34],[136,35,137,35],[141,16,142,25],[141,29,141,34],[132,27,133,32],[132,33,133,33],[132,34,133,34],[132,35,133,35],[133,1,133,13],[134,27,135,32],[134,33,135,33],[134,34,135,34],[134,35,135,35],[128,34,129,34],[128,35,129,35],[130,0,131,14],[130,27,131,32],[130,33,131,33],[130,34,131,34],[130,35,131,35],[126,3,126,12],[127,0,127,11],[127,27,127,32],[128,0,129,13],[128,27,129,32],[128,33,129,33],[123,0,124,0],[123,1,124,1],[123,3,123,12],[123,27,124,32],[123,33,124,33],[123,34,124,34],[123,35,124,35],[124,3,124,12],[125,0,126,0],[125,1,126,2],[125,3,125,12],[125,13,126,14],[125,27,126,32],[125,33,126,33],[125,34,126,34],[125,35,126,35],[120,0,120,13],[121,0,122,0],[121,1,122,1],[121,3,121,12],[121,13,122,14],[121,27,122,32],[117,28,117,29],[117,30,118,31],[117,33,117,35],[118,0,118,13],[118,16,120,24],[119,0,119,13],[119,27,120,32],[119,33,120,33],[119,34,120,34],[119,35,120,35],[121,33,122,33],[121,34,122,34],[121,35,122,35],[122,3,122,12],[113,30,113,35],[114,0,114,2],[114,30,114,35],[115,0,115,2],[115,30,115,35],[116,0,116,1],[116,3,116,7],[108,1,108,2],[109,1,109,2],[110,1,110,2],[111,1,111,2],[112,1,112,2],[113,1,113,2],[102,1,102,2],[103,1,103,2],[104,1,104,2],[105,1,105,2],[106,1,106,2],[107,1,107,2],[96,1,96,2],[97,1,97,2],[98,1,98,2],[99,1,99,2],[100,1,100,2],[101,1,101,2],[90,1,90,2],[91,1,91,2],[92,1,92,2],[93,1,93,2],[94,1,94,2],[95,1,95,2],[86,1,86,2],[86,30,86,35],[87,1,87,2],[87,30,87,35],[88,1,88,2],[89,1,89,2],[83,1,83,2],[83,30,83,35],[84,1,84,2],[84,30,84,35],[85,1,85,2],[85,30,85,35],[80,1,80,2],[80,30,80,35],[81,1,81,2],[81,30,81,35],[82,1,82,2],[82,30,82,35],[77,1,77,2],[77,30,77,35],[78,1,78,2],[78,30,78,35],[79,1,79,2],[79,30,79,35],[74,1,74,2],[74,30,74,35],[75,1,75,2],[75,30,75,35],[76,1,76,2],[76,30,76,35],[71,1,71,2],[71,30,71,35],[72,1,72,2],[72,30,72,35],[73,1,73,2],[73,30,73,35],[68,1,68,2],[68,30,68,35],[69,1,69,2],[69,30,69,35],[70,1,70,2],[70,30,70,35],[65,1,65,2],[65,30,65,35],[66,1,66,2],[66,30,66,35],[67,1,67,2],[67,30,67,35],[61,1,61,2],[62,1,62,2],[62,30,62,35],[63,0,63,2],[64,1,64,2],[64,30,64,35],[55,1,55,2],[56,1,56,2],[57,1,57,2],[58,1,58,2],[59,1,59,2],[60,1,60,2],[49,1,49,2],[50,1,50,2],[51,1,51,2],[52,1,52,2],[53,1,53,2],[54,1,54,2],[43,1,43,2],[44,1,44,2],[45,1,45,2],[46,1,46,2],[47,1,47,2],[48,1,48,2],[37,1,37,2],[38,1,38,2],[39,1,39,2],[40,1,40,2],[41,1,41,2],[42,1,42,2],[34,1,34,2],[34,30,34,35],[35,1,35,2],[35,30,35,35],[36,1,36,2],[36,30,36,35],[31,1,31,2],[31,30,31,35],[32,1,32,2],[32,30,32,35],[33,1,33,2],[33,30,33,35],[28,1,28,2],[28,30,28,35],[29,1,29,2],[29,30,29,35],[30,1,30,2],[30,30,30,35],[25,1,25,2],[25,30,25,35],[26,1,26,2],[26,30,26,35],[27,1,27,2],[27,30,27,35],[22,1,22,2],[22,30,22,35],[23,1,23,2],[23,30,23,35],[24,1,24,2],[24,30,24,35],[19,1,19,2],[19,30,19,35],[20,1,20,2],[20,30,20,35],[21,1,21,2],[21,30,21,35],[18,1,18,2],[18,30,18,35],[11,29,12,29],[13,1,13,2],[13,30,13,35],[14,1,14,2],[14,30,14,35],[15,1,15,2],[15,30,15,35],[9,0,12,2],[9,3,9,27],[9,28,10,29],[9,30,12,35],[11,28,12,28],[16,1,16,2],[16,30,16,35],[17,1,17,2],[17,30,17,35],[1,0,1,35],[2,0,2,35],[5,2,5,4],[5,10,5,14],[5,16,5,22],[5,23,5,28],[7,2,7,14],[7,19,7,22],[7,23,7,24],[7,25,7,27],[7,28,7,33]]}
[]
["School Form 2 (SF2) Daily Attendance Report of Learners"]
["(This replaced Form 1, Form 2 & STS Form 4 - Absenteeism and Dropout Profile)"]
[]
[]
[null,"School ID",{"$f":"IF('INPUT DATA'!R5=\"\",\"\",'INPUT DATA'!R5)","v":""},null,null,null,null,"School Year",null,null,{"$f":"IF('INPUT DATA'!R4=\"\",\"\",'INPUT DATA'!R4)","v":""},null,null,null,null,null,"Report for the  Month of",null,null,null,null,null,null,"May"]
[]
[null,"Name of School",{"$f":"IF('INPUT DATA'!F5=\"\",\"\",'INPUT DATA'!F5)","v":""},null,null,null,null,null,null,null,null,null,null,null,null,null,null,null,null,"Grade Level",null,null,null,{"$f":"IF('INPUT DATA'!R8=\"\",\"\",'INPUT DATA'!R8)","v":""},null,"Section",null,null,{"$f":"IF('INPUT DATA'!R9=\"\",\"\",'INPUT DATA'!R9)","v":""}]
[]
["LEARNER'S NAME                                                                                         (Last Name, First Name, Middle Name)                                  ",null,null,"(1st row for date, 2nd row for Day: M,T,W,TH,F)",null,null,null,null,null,null,null,null,null,null,null,null,null,null,null,null,null,null,null,null,null,null,null,null,"Total for the Month             ",null,"REMARK/S (If DROPPED OUT, state reason, please refer to legend number 2.\nIf TRANSFERRED IN/OUT, write the name of School.)"]
[null,null,null,1,2,3,4,5,6,7,8,9,10,11,12,13,14,15,16,17,18,19,20,21,22,23,24,25]
[null,null,null,"Mon","Tue","Wed","Thu","Fri","Mon","Tue","Wed","Thu","Fri","Mon","Tue","Wed","Thu","Fri","Mon","Tue","Wed","Thu","Fri","Mon","Tue","Wed","Thu","Fri","ABSENT","PRESENT"]
[null,null,null,false,false,false,false,false,false,false,false,false,false,false,false,false,false,false,false,false,false,false,false,false,false,false,false,false]
[{"$f":"IF(B14=\"\",\"\",\"1\")","v":"1"},{"$f":"IF('INPUT DATA'!B13=\"\",\"\",'INPUT DATA'!B13)","v":"Student 1"},null,"r","r","r","r","r",null,null,null,null,null,null,null,null,null,null,null,null,null,null,null,null,null,null,null,null,{"$f":"IF(B14=\"\",\"\",SUM(COUNTIF(D14:AB14,\"z\")*0.5,COUNTIF(D14:AB14,\"y\")*0.5,COUNTIF(D14:AB14,\"r\")))","v":5},{"$f":"IF(B14=\"\",\"\",COUNTA($D$11:$AB$11)-AC14)","v":20},null,null,null,null,null,null,null,{"$f":"MAX(FREQUENCY(IF(D14:AB14=\"r\",COLUMN(D14:AB14)),IF(D14:AB14<>\"r\",COLUMN(D14:AB14))))","v":5},{"$f":"IF(AL14>=5,1,\"\")","v":1}]
[{"$f":"IF(B15=\"\",\"\",A14+1)","v":2},{"$f":"IF('INPUT DATA'!B14=\"\",\"\",'INPUT DATA'!B14)","v":"Student 2"},null,null,null,null,null,null,null,null,null,null,null,null,null,null,null,null,null,null,null,null,null,null,null,null,null,null,{"$f":"IF(B15=\"\",\"\",SUM(COUNTIF(D15:AB15,\"z\")*0.5,COUNTIF(D15:AB15,\"y\")*0.5,COUNTIF(D15:AB15,\"r\")))","v":0},{"$f":"IF(B15=\"\",\"\",COUNTA($D$11:$AB$11)-AC15)","v":25},null,null,null,null,null,null,null,{"$f":"MAX(FREQUENCY(IF(D15:AB15=\"r\",COLUMN(D15:AB15)),IF(D15:AB15<>\"r\",COLUMN(D15:AB15))))","v":0},{"$f":"IF(AL15>=5,1,\"\")","v":""}]
[{"$f":"IF(B16=\"\",\"\",A15+1)","v":3},{"$f":"IF('INPUT DATA'!B15=\"\",\"\",'INPUT DATA'!B15)","v":"Student 3"},null,null,null,null,null,null,null,null,null,null,null,null,null,null,null,null,null,null,null,null,null,null,null,null,null,null,0,25,null,null,null,null,null,null,null,{"$f":"MAX(FREQUENCY(IF(D16:AB16=\"r\",COLUMN(D16:AB16)),IF(D16:AB16<>\"r\",COLUMN(D16:AB16))))","v":0},""]
[4,{"$f":"IF('INPUT DATA'!B16=\"\",\"\",'INPUT DATA'!B16)","v":"Student 4"},null,null,null,null,null,null,null,null,null,null,null,null,null,null,null,null,null,null,null,null,null,null,null,null,null,null,0,25,null,null,null,null,null,null,null,{"$f":"MAX(FREQUENCY(IF(D17:AB17=\"r\",COLUMN(D17:AB17)),IF(D17:AB17<>\"r\",COLUMN(D17:AB17))))","v":0},""]
[5,{"$f":"IF('INPUT DATA'!B17=\"\",\"\",'INPUT DATA'!B17)","v":"Student 5"},null,null,null,null,null,null,null,null,null,null,null,null,null,null,null,null,null,null,null,null,null,null,null,null,null,null,0,25,null,null,null,null,null,null,null,{"$f":"MAX(FREQUENCY(IF(D18:AB18=\"r\",COLUMN(D18:AB18)),IF(D18:AB18<>\"r\",COLUMN(D18:AB18))))","v":0},""]
[6,{"$f":"IF('INPUT DATA'!B18=\"\",\"\",'INPUT DATA'!B18)","v":"Student 6"},null,null,null,null,null,null,null,null,null,null,null,null,null,null,null,null,null,null,null,null,null,null,null,null,null,null,0,25,null,null,null,null,null,null,null,{"$f":"MAX(FREQUENCY(IF(D19:AB19=\"r\",COLUMN(D19:AB19)),IF(D19:AB19<>\"r\",COLUMN(D19:AB19))))","v":0},""]
[7,{"$f":"IF('INPUT DATA'!B19=\"\",\"\",'INPUT DATA'!B19)","v":"Student 7"},null,null,null,null,null,null,null,null,null,null,null,null,null,null,null,null,null,null,null,null,null,null,null,null,null,null,0,25,null,null,null,null,null,null,null,{"$f":"MAX(FREQUENCY(IF(D20:AB20=\"r\",COLUMN(D20:AB20)),IF(D20:AB20<>\"r\",COLUMN(D20:AB20))))","v":0},""]
[8,{"$f":"IF('INPUT DATA'!B20=\"\",\"\",'INPUT DATA'!B20)","v":"Student 8"},null,null,null,null,null,null,null,null,null,null,null,null,null,null,null,null,null,null,null,null,null,null,null,null,null,null,0,25,null,null,null,null,null,null,null,{"$f":"MAX(FREQUENCY(IF(D21:AB21=\"r\",COLUMN(D21:AB21)),IF(D21:AB21<>\"r\",COLUMN(D21:AB21))))","v":0},""]
[9,{"$f":"IF('INPUT DATA'!B21=\"\",\"\",'INPUT DATA'!B21)","v":"Student 9"},null,null,null,null,null,null,null,null,null,null,null,null,null,null,null,null,null,null,null,null,null,null,null,null,null,null,0,25,null,null,null,null,null,null,null,{"$f":"MAX(FREQUENCY(IF(D22:AB22=\"r\",COLUMN(D22:AB22)),IF(D22:AB22<>\"r\",COLUMN(D22:AB22))))","v":0},""]
[10,{"$f":"IF('INPUT DATA'!B22=\"\",\"\",'INPUT DATA'!B22)","v":"Student 10"},null,null,null,null,null,null,null,null,null,null,null,null,null,null,null,null,null,null,null,null,null,null,null,null,null,null,0,25,null,null,null,null,null,null,null,{"$f":"MAX(FREQUENCY(IF(D23:AB23=\"r\",COLUMN(D23:AB23)),IF(D23:AB23<>\"r\",COLUMN(D23:AB23))))","v":0},""]
[11,{"$f":"IF('INPUT DATA'!B23=\"\",\"\",'INPUT DATA'!B23)","v":"Student 11"},null,null,null,null,null,null,null,null,null,null,null,null,null,null,null,null,null,null,null,null,null,null,null,null,null,null,0,25,null,null,null,null,null,null,null,{"$f":"MAX(FREQUENCY(IF(D24:AB24=\"r\",COLUMN(D24:AB24)),IF(D24:AB24<>\"r\",COLUMN(D24:AB24))))","v":0},""]
[12,{"$f":"IF('INPUT DATA'!B24=\"\",\"\",'INPUT DATA'!B24)","v":"Student 12"},null,null,null,null,null,null,null,null,null,null,null,null,null,null,null,null,null,null,null,null,null,null,null,null,null,null,0,25,null,null,null,null,null,null,null,{"$f":"MAX(FREQUENCY(IF(D25:AB25=\"r\",COLUMN(D25:AB25)),IF(D25:AB25<>\"r\",COLUMN(D25:AB25))))","v":0},""]
[13,{"$f":"IF('INPUT DATA'!B25=\"\",\"\",'INPUT DATA'!B25)","v":"Student 13"},null,null,null,null,null,null,null,null,null,null,null,null,null,null,null,null,null,null,null,null,null,null,null,null,null,null,0,25,null,null,null,null,null,null,null,{"$f":"MAX(FREQUENCY(IF(D26:AB26=\"r\",COLUMN(D26:AB26)),IF(D26:AB26<>\"r\",COLUMN(D26:AB26))))","v":0},""]
[14,{"$f":"IF('INPUT DATA'!B26=\"\",\"\",'INPUT DATA'!B26)","v":"Student 14"},null,null,null,null,null,null,null,null,null,null,null,null,null,null,null,null,null,null,null,null,null,null,null,null,null,null,0,25,null,null,null,null,null,null,null,{"$f":"MAX(FREQUENCY(IF(D27:AB27=\"r\",COLUMN(D27:AB27)),IF(D27:AB27<>\"r\",COLUMN(D27:AB27))))","v":0},""]
[15,{"$f":"IF('INPUT DATA'!B27=\"\",\"\",'INPUT DATA'!B27)","v":"Student 15"},null,null,null,null,null,null,null,null,null,null,null,null,null,null,null,null,null,null,null,null,null,null,null,null,null,null,0,25,null,null,null,null,null,null,null,{"$f":"MAX(FREQUENCY(IF(D28:AB28=\"r\",COLUMN(D28:AB28)),IF(D28:AB28<>\"r\",COLUMN(D28:AB28))))","v":0},""]
[16,{"$f":"IF('INPUT DATA'!B28=\"\",\"\",'INPUT DATA'!B28)","v":"Student 16"},null,null,null,null,null,null,null,null,null,null,null,null,null,null,null,null,null,null,null,null,null,null,null,null,null,null,0,25,null,null,null,null,null,null,null,{"$f":"MAX(FREQUENCY(IF(D29:AB29=\"r\",COLUMN(D29:AB29)),IF(D29:AB29<>\"r\",COLUMN(D29:AB29))))","v":0},""]
[17,{"$f":"IF('INPUT DATA'!B29=\"\",\"\",'INPUT DATA'!B29)","v":"Student 17"},null,null,null,null,null,null,null,null,null,null,null,null,null,null,null,null,null,null,null,null,null,null,null,null,null,null,0,25,null,null,null,null,null,null,null,{"$f":"MAX(FREQUENCY(IF(D30:AB30=\"r\",COLUMN(D30:AB30)),IF(D30:AB30<>\"r\",COLUMN(D30:AB30))))","v":0},""]
[18,{"$f":"IF('INPUT DATA'!B30=\"\",\"\",'INPUT DATA'!B30)","v":"Student 18"},null,null,null,null,null,null,null,null,null,null,null,null,null,null,null,null,null,null,null,null,null,null,null,null,null,null,0,25,null,null,null,null,null,null,null,{"$f":"MAX(FREQUENCY(IF(D31:AB31=\"r\",COLUMN(D31:AB31)),IF(D31:AB31<>\"r\",COLUMN(D31:AB31))))","v":0},""]
[19,{"$f":"IF('INPUT DATA'!B31=\"\",\"\",'INPUT DATA'!B31)","v":"Student 19"},null,null,null,null,null,null,null,null,null,null,null,null,null,null,null,null,null,null,null,null,null,null,null,null,null,null,0,25,null,null,null,null,null,null,null,{"$f":"MAX(FREQUENCY(IF(D32:AB32=\"r\",COLUMN(D32:AB32)),IF(D32:AB32<>\"r\",COLUMN(D32:AB32))))","v":0},""]
[20,{"$f":"IF('INPUT DATA'!B32=\"\",\"\",'INPUT DATA'!B32)","v":"Student 20"},null,null,null,null,null,null,null,null,null,null,null,null,null,null,null,null,null,null,null,null,null,null,null,null,null,null,0,25,null,null,null,null,null,null,null,{"$f":"MAX(FREQUENCY(IF(D33:AB33=\"r\",COLUMN(D33:AB33)),IF(D33:AB33<>\"r\",COLUMN(D33:AB33))))","v":0},""]
["",{"$f":"IF('INPUT DATA'!B33=\"\",\"\",'INPUT DATA'!B33)","v":""},null,null,null,null,null,null,null,null,null,null,null,null,null,null,null,null,null,null,null,null,null,null,null,null,null,null,"","",null,null,null,null,null,null,null,{"$f":"MAX(FREQUENCY(IF(D34:AB34=\"r\",COLUMN(D34:AB34)),IF(D34:AB34<>\"r\",COLUMN(D34:AB34))))","v":0},""]
["",{"$f":"IF('INPUT DATA'!B34=\"\",\"\",'INPUT DATA'!B34)","v":""},null,null,null,null,null,null,null,null,null,null,null,null,null,null,null,null,null,null,null,null,null,null,null,null,null,null,"","",null,null,null,null,null,null,null,{"$f":"MAX(FREQUENCY(IF(D35:AB35=\"r\",COLUMN(D35:AB35)),IF(D35:AB35<>\"r\",COLUMN(D35:AB35))))","v":0},""]
["",{"$f":"IF('INPUT DATA'!B35=\"\",\"\",'INPUT DATA'!B35)","v":""},null,null,null,null,null,null,null,null,null,null,null,null,null,null,null,null,null,null,null,null,null,null,null,null,null,null,"","",null,null,null,null,null,null,null,{"$f":"MAX(FREQUENCY(IF(D36:AB36=\"r\",COLUMN(D36:AB36)),IF(D36:AB36<>\"r\",COLUMN(D36:AB36))))","v":0},""]
["",{"$f":"IF('INPUT DATA'!B36=\"\",\"\",'INPUT DATA'!B36)","v":""},null,null,null,null,null,null,null,null,null,null,null,null,null,null,null,null,null,null,null,null,null,null,null,null,null,null,"","",null,null,null,null,null,null,null,{"$f":"MAX(FREQUENCY(IF(D37:AB37=\"r\",COLUMN(D37:AB37)),IF(D37:AB37<>\"r\",COLUMN(D37:AB37))))","v":0},""]
["",{"$f":"IF('INPUT DATA'!B37=\"\",\"\",'INPUT DATA'!B37)","v":""},null,null,null,null,null,null,null,null,null,null,null,null,null,null,null,null,null,null,null,null,null,null,null,null,null,null,"","",null,null,null,null,null,null,null,{"$f":"MAX(FREQUENCY(IF(D38:AB38=\"r\",COLUMN(D38:AB38)),IF(D38:AB38<>\"r\",COLUMN(D38:AB38))))","v":0},""]
["",{"$f":"IF('INPUT DATA'!B38=\"\",\"\",'INPUT DATA'!B38)","v":""},null,null,null,null,null,null,null,null,null,null,null,null,null,null,null,null,null,null,null,null,null,null,null,null,null,null,"","",null,null,null,null,null,null,null,{"$f":"MAX(FREQUENCY(IF(D39:AB39=\"r\",COLUMN(D39:AB39)),IF(D39:AB39<>\"r\",COLUMN(D39:AB39))))","v":0},""]
["",{"$f":"IF('INPUT DATA'!B39=\"\",\"\",'INPUT DATA'!B39)","v":""},null,null,null,null,null,null,null,null,null,null,null,null,null,null,null,null,null,null,null,null,null,null,null,null,null,null,"","",null,null,null,null,null,null,null,{"$f":"MAX(FREQUENCY(IF(D40:AB40=\"r\",COLUMN(D40:AB40)),IF(D40:AB40<>\"r\",COLUMN(D40:AB40))))","v":0},""]
["",{"$f":"IF('INPUT DATA'!B40=\"\",\"\",'INPUT DATA'!B40)","v":""},null,null,null,null,null,null,null,null,null,null,null,null,null,null,null,null,null,null,null,null,null,null,null,null,null,null,"","",null,null,null,null,null,null,null,{"$f":"MAX(FREQUENCY(IF(D41:AB41=\"r\",COLUMN(D41:AB41)),IF(D41:AB41<>\"r\",COLUMN(D41:AB41))))","v":0},""]
["",{"$f":"IF('INPUT DATA'!B41=\"\",\"\",'INPUT DATA'!B41)","v":""},null,null,null,null,null,null,null,null,null,null,null,null,null,null,null,null,null,null,null,null,null,null,null,null,null,null,"","",null,null,null,null,null,null,null,{"$f":"MAX(FREQUENCY(IF(D42:AB42=\"r\",COLUMN(D42:AB42)),IF(D42:AB42<>\"r\",COLUMN(D42:AB42))))","v":0},""]
["",{"$f":"IF('INPUT DATA'!B42=\"\",\"\",'INPUT DATA'!B42)","v":""},null,null,null,null,null,null,null,null,null,null,null,null,null,null,null,null,null,null,null,null,null,null,null,null,null,null,"","",null,null,null,null,null,null,null,{"$f":"MAX(FREQUENCY(IF(D43:AB43=\"r\",COLUMN(D43:AB43)),IF(D43:AB43<>\"r\",COLUMN(D43:AB43))))","v":0},""]
["",{"$f":"IF('INPUT DATA'!B43=\"\",\"\",'INPUT DATA'!B43)","v":""},null,null,null,null,null,null,null,null,null,null,null,null,null,null,null,null,null,null,null,null,null,null,null,null,null,null,"","",null,null,null,null,null,null,null,{"$f":"MAX(FREQUENCY(IF(D44:AB44=\"r\",COLUMN(D44:AB44)),IF(D44:AB44<>\"r\",COLUMN(D44:AB44))))","v":0},""]
["",{"$f":"IF('INPUT DATA'!B44=\"\",\"\",'INPUT DATA'!B44)","v":""},null,null,null,null,null,null,null,null,null,null,null,null,null,null,null,null,null,null,null,null,null,null,null,null,null,null,"","",null,null,null,null,null,null,null,{"$f":"MAX(FREQUENCY(IF(D45:AB45=\"r\",COLUMN(D45:AB45)),IF(D45:AB45<>\"r\",COLUMN(D45:AB45))))","v":0},""]
["",{"$f":"IF('INPUT DATA'!B45=\"\",\"\",'INPUT DATA'!B45)","v":""},null,null,null,null,null,null,null,null,null,null,null,null,null,null,null,null,null,null,null,null,null,null,null,null,null,null,"","",null,null,null,null,null,null,null,{"$f":"MAX(FREQUENCY(IF(D46:AB46=\"r\",COLUMN(D46:AB46)),IF(D46:AB46<>\"r\",COLUMN(D46:AB46))))","v":0},""]
["",{"$f":"IF('INPUT DATA'!B46=\"\",\"\",'INPUT DATA'!B46)","v":""},null,null,null,null,null,null,null,null,null,null,null,null,null,null,null,null,null,null,null,null,null,null,null,null,null,null,"","",null,null,null,null,null,null,null,{"$f":"MAX(FREQUENCY(IF(D47:AB47=\"r\",COLUMN(D47:AB47)),IF(D47:AB47<>\"r\",COLUMN(D47:AB47))))","v":0},""]
["",{"$f":"IF('INPUT DATA'!B47=\"\",\"\",'INPUT DATA'!B47)","v":""},null,null,null,null,null,null,null,null,null,null,null,null,null,null,null,null,null,null,null,null,null,null,null,null,null,null,"","",null,null,null,null,null,null,null,{"$f":"MAX(FREQUENCY(IF(D48:AB48=\"r\",COLUMN(D48:AB48)),IF(D48:AB48<>\"r\",COLUMN(D48:AB48))))","v":0},""]
["",{"$f":"IF('INPUT DATA'!B48=\"\",\"\",'INPUT DATA'!B48)","v":""},null,null,null,null,null,null,null,null,null,null,null,null,null,null,null,null,null,null,null,null,null,null,null,null,null,null,"","",null,null,null,null,null,null,null,{"$f":"MAX(FREQUENCY(IF(D49:AB49=\"r\",COLUMN(D49:AB49)),IF(D49:AB49<>\"r\",COLUMN(D49:AB49))))","v":0},""]
["",{"$f":"IF('INPUT DATA'!B49=\"\",\"\",'INPUT DATA'!B49)","v":""},null,null,null,null,null,null,null,null,null,null,null,null,null,null,null,null,null,null,null,null,null,null,null,null,null,null,"","",null,null,null,null,null,null,null,{"$f":"MAX(FREQUENCY(IF(D50:AB50=\"r\",COLUMN(D50:AB50)),IF(D50:AB50<>\"r\",COLUMN(D50:AB50))))","v":0},""]
["",{"$f":"IF('INPUT DATA'!B50=\"\",\"\",'INPUT DATA'!B50)","v":""},null,null,null,null,null,null,null,null,null,null,null,null,null,null,null,null,null,null,null,null,null,null,null,null,null,null,"","",null,null,null,null,null,null,null,{"$f":"MAX(FREQUENCY(IF(D51:AB51=\"r\",COLUMN(D51:AB51)),IF(D51:AB51<>\"r\",COLUMN(D51:AB51))))","v":0},""]
["",{"$f":"IF('INPUT DATA'!B51=\"\",\"\",'INPUT DATA'!B51)","v":""},null,null,null,null,null,null,null,null,null,null,null,null,null,null,null,null,null,null,null,null,null,null,null,null,null,null,"","",null,null,null,null,null,null,null,{"$f":"MAX(FREQUENCY(IF(D52:AB52=\"r\",COLUMN(D52:AB52)),IF(D52:AB52<>\"r\",COLUMN(D52:AB52))))","v":0},""]
["",{"$f":"IF('INPUT DATA'!B52=\"\",\"\",'INPUT DATA'!B52)","v":""},null,null,null,null,null,null,null,null,null,null,null,null,null,null,null,null,null,null,null,null,null,null,null,null,null,null,"","",null,null,null,null,null,null,null,{"$f":"MAX(FREQUENCY(IF(D53:AB53=\"r\",COLUMN(D53:AB53)),IF(D53:AB53<>\"r\",COLUMN(D53:AB53))))","v":0},""]
["",{"$f":"IF('INPUT DATA'!B53=\"\",\"\",'INPUT DATA'!B53)","v":""},null,null,null,null,null,null,null,null,null,null,null,null,null,null,null,null,null,null,null,null,null,null,null,null,null,null,"","",null,null,null,null,null,null,null,{"$f":"MAX(FREQUENCY(IF(D54:AB54=\"r\",COLUMN(D54:AB54)),IF(D54:AB54<>\"r\",COLUMN(D54:AB54))))","v":0},""]
["",{"$f":"IF('INPUT DATA'!B54=\"\",\"\",'INPUT DATA'!B54)","v":""},null,null,null,null,null,null,null,null,null,null,null,null,null,null,null,null,null,null,null,null,null,null,null,null,null,null,"","",null,null,null,null,null,null,null,{"$f":"MAX(FREQUENCY(IF(D55:AB55=\"r\",COLUMN(D55:AB55)),IF(D55:AB55<>\"r\",COLUMN(D55:AB55))))","v":0},""]
["",{"$f":"IF('INPUT DATA'!B55=\"\",\"\",'INPUT DATA'!B55)","v":""},null,null,null,null,null,null,null,null,null,null,null,null,null,null,null,null,null,null,null,null,null,null,null,null,null,null,"","",null,null,null,null,null,null,null,{"$f":"MAX(FREQUENCY(IF(D56:AB56=\"r\",COLUMN(D56:AB56)),IF(D56:AB56<>\"r\",COLUMN(D56:AB56))))","v":0},""]
["",{"$f":"IF('INPUT DATA'!B56=\"\",\"\",'INPUT DATA'!B56)","v":""},null,null,null,null,null,null,null,null,null,null,null,null,null,null,null,null,null,null,null,null,null,null,null,null,null,null,"","",null,null,null,null,null,null,null,{"$f":"MAX(FREQUENCY(IF(D57:AB57=\"r\",COLUMN(D57:AB57)),IF(D57:AB57<>\"r\",COLUMN(D57:AB57))))","v":0},""]
["",{"$f":"IF('INPUT DATA'!B57=\"\",\"\",'INPUT DATA'!B57)","v":""},null,null,null,null,null,null,null,null,null,null,null,null,null,null,null,null,null,null,null,null,null,null,null,null,null,null,"","",null,null,null,null,null,null,null,{"$f":"MAX(FREQUENCY(IF(D58:AB58=\"r\",COLUMN(D58:AB58)),IF(D58:AB58<>\"r\",COLUMN(D58:AB58))))","v":0},""]
["",{"$f":"IF('INPUT DATA'!B58=\"\",\"\",'INPUT DATA'!B58)","v":""},null,null,null,null,null,null,null,null,null,null,null,null,null,null,null,null,null,null,null,null,null,null,null,null,null,null,"","",null,null,null,null,null,null,null,{"$f":"MAX(FREQUENCY(IF(D59:AB59=\"r\",COLUMN(D59:AB59)),IF(D59:AB59<>\"r\",COLUMN(D59:AB59))))","v":0},""]
["",{"$f":"IF('INPUT DATA'!B59=\"\",\"\",'INPUT DATA'!B59)","v":""},null,null,null,null,null,null,null,null,null,null,null,null,null,null,null,null,null,null,null,null,null,null,null,null,null,null,"","",null,null,null,null,null,null,null,{"$f":"MAX(FREQUENCY(IF(D60:AB60=\"r\",COLUMN(D60:AB60)),IF(D60:AB60<>\"r\",COLUMN(D60:AB60))))","v":0},""]
["",{"$f":"IF('INPUT DATA'!B60=\"\",\"\",'INPUT DATA'!B60)","v":""},null,null,null,null,null,null,null,null,null,null,null,null,null,null,null,null,null,null,null,null,null,null,null,null,null,null,"","",null,null,null,null,null,null,null,{"$f":"MAX(FREQUENCY(IF(D61:AB61=\"r\",COLUMN(D61:AB61)),IF(D61:AB61<>\"r\",COLUMN(D61:AB61))))","v":0},""]
["",{"$f":"IF('INPUT DATA'!B61=\"\",\"\",'INPUT DATA'!B61)","v":""},null,null,null,null,null,null,null,null,null,null,null,null,null,null,null,null,null,null,null,null,null,null,null,null,null,null,"","",null,null,null,null,null,null,null,{"$f":"MAX(FREQUENCY(IF(D62:AB62=\"r\",COLUMN(D62:AB62)),IF(D62:AB62<>\"r\",COLUMN(D62:AB62))))","v":0},""]
["",{"$f":"IF('INPUT DATA'!B62=\"\",\"\",'INPUT DATA'!B62)","v":""},null,null,null,null,null,null,null,null,null,null,null,null,null,null,null,null,null,null,null,null,null,null,null,null,null,null,"","",null,null,null,null,null,null,null,{"$f":"MAX(FREQUENCY(IF(D63:AB63=\"r\",COLUMN(D63:AB63)),IF(D63:AB63<>\"r\",COLUMN(D63:AB63))))","v":0},""]
["MALE  | TOTAL Per Day",null,null,{"$f":"IF(D11=\"\",\"\",SUM(COUNTBLANK(D14:D63)-COUNTBLANK($B$14:$B$63),COUNTIF(D14:D63,\"z\")*0.5,COUNTIF(D14:D63,\"y\")*0.5))","v":19},19,19,19,19,20,20,20,20,20,20,20,20,20,20,20,20,20,20,20,20,20,20,20,20,{"$f":"SUM(AC14:AC63)","v":5},{"$f":"SUM(AD14:AD63)","v":495},null,null,null,null,null,null,null,{"$f":"MAX(FREQUENCY(IF(D64:AB64=\"r\",COLUMN(D64:AB64)),IF(D64:AB64<>\"r\",COLUMN(D64:AB64))))","v":0},""]
[{"$f":"IF(B65=\"\",\"\",\"1\")","v":"1"},{"$f":"IF('INPUT DATA'!B64=\"\",\"\",'INPUT DATA'!B64)","v":"Student 1"},null,null,null,null,null,null,null,null,null,null,null,null,null,null,null,null,null,null,null,null,null,null,null,null,null,null,{"$f":"IF(B65=\"\",\"\",SUM(COUNTIF(D65:AB65,\"z\")*0.5,COUNTIF(D65:AB65,\"y\")*0.5,COUNTIF(D65:AB65,\"r\")))","v":0},{"$f":"IF(B65=\"\",\"\",COUNTA($D$11:$AB$11)-AC65)","v":25},null,null,null,null,null,null,null,{"$f":"MAX(FREQUENCY(IF(D65:AB65=\"r\",COLUMN(D65:AB65)),IF(D65:AB65<>\"r\",COLUMN(D65:AB65))))","v":0},""]
[{"$f":"IF(B66=\"\",\"\",A65+1)","v":2},{"$f":"IF('INPUT DATA'!B65=\"\",\"\",'INPUT DATA'!B65)","v":"Student 2"},null,null,null,null,null,null,null,null,null,null,null,null,null,null,null,null,null,null,null,null,null,null,null,null,null,null,{"$f":"IF(B66=\"\",\"\",SUM(COUNTIF(D66:AB66,\"z\")*0.5,COUNTIF(D66:AB66,\"y\")*0.5,COUNTIF(D66:AB66,\"r\")))","v":0},{"$f":"IF(B66=\"\",\"\",COUNTA($D$11:$AB$11)-AC66)","v":25},null,null,null,null,null,null,null,{"$f":"MAX(FREQUENCY(IF(D66:AB66=\"r\",COLUMN(D66:AB66)),IF(D66:AB66<>\"r\",COLUMN(D66:AB66))))","v":0},""]
[{"$f":"IF(B67=\"\",\"\",A66+1)","v":3},{"$f":"IF('INPUT DATA'!B66=\"\",\"\",'INPUT DATA'!B66)","v":"Student 3"},null,null,null,null,null,null,null,null,null,null,null,null,null,null,null,null,null,null,null,null,null,null,null,null,null,null,0,25,null,null,null,null,null,null,null,{"$f":"MAX(FREQUENCY(IF(D67:AB67=\"r\",COLUMN(D67:AB67)),IF(D67:AB67<>\"r\",COLUMN(D67:AB67))))","v":0},""]
[4,{"$f":"IF('INPUT DATA'!B67=\"\",\"\",'INPUT DATA'!B67)","v":"Student 4"},null,null,null,null,null,null,null,null,null,null,null,null,null,null,null,null,null,null,null,null,null,null,null,null,null,null,0,25,null,null,null,null,null,null,null,{"$f":"MAX(FREQUENCY(IF(D68:AB68=\"r\",COLUMN(D68:AB68)),IF(D68:AB68<>\"r\",COLUMN(D68:AB68))))","v":0},""]
[5,{"$f":"IF('INPUT DATA'!B68=\"\",\"\",'INPUT DATA'!B68)","v":"Student 5"},null,null,null,null,null,null,null,null,null,null,null,null,null,null,null,null,null,null,null,null,null,null,null,null,null,null,0,25,null,null,null,null,null,null,null,{"$f":"MAX(FREQUENCY(IF(D69:AB69=\"r\",COLUMN(D69:AB69)),IF(D69:AB69<>\"r\",COLUMN(D69:AB69))))","v":0},""]
[6,{"$f":"IF('INPUT DATA'!B69=\"\",\"\",'INPUT DATA'!B69)","v":"Student 6"},null,null,null,null,null,null,null,null,null,null,null,null,null,null,null,null,null,null,null,null,null,null,null,null,null,null,0,25,null,null,null,null,null,null,null,{"$f":"MAX(FREQUENCY(IF(D70:AB70=\"r\",COLUMN(D70:AB70)),IF(D70:AB70<>\"r\",COLUMN(D70:AB70))))","v":0},""]
[7,{"$f":"IF('INPUT DATA'!B70=\"\",\"\",'INPUT DATA'!B70)","v":"Student 7"},null,null,null,null,null,null,null,null,null,null,null,null,null,null,null,null,null,null,null,null,null,null,null,null,null,null,0,25,null,null,null,null,null,null,null,{"$f":"MAX(FREQUENCY(IF(D71:AB71=\"r\",COLUMN(D71:AB71)),IF(D71:AB71<>\"r\",COLUMN(D71:AB71))))","v":0},""]
[8,{"$f":"IF('INPUT DATA'!B71=\"\",\"\",'INPUT DATA'!B71)","v":"Student 8"},null,null,null,null,null,null,null,null,null,null,null,null,null,null,null,null,null,null,null,null,null,null,null,null,null,null,0,25,null,null,null,null,null,null,null,{"$f":"MAX(FREQUENCY(IF(D72:AB72=\"r\",COLUMN(D72:AB72)),IF(D72:AB72<>\"r\",COLUMN(D72:AB72))))","v":0},""]
[9,{"$f":"IF('INPUT DATA'!B72=\"\",\"\",'INPUT DATA'!B72)","v":"Student 9"},null,null,null,null,null,null,null,null,null,null,null,null,null,null,null,null,null,null,null,null,null,null,null,null,null,null,0,25,null,null,null,null,null,null,null,{"$f":"MAX(FREQUENCY(IF(D73:AB73=\"r\",COLUMN(D73:AB73)),IF(D73:AB73<>\"r\",COLUMN(D73:AB73))))","v":0},""]
[10,{"$f":"IF('INPUT DATA'!B73=\"\",\"\",'INPUT DATA'!B73)","v":"Student 10"},null,null,null,null,null,null,null,null,null,null,null,null,null,null,null,null,null,null,null,null,null,null,null,null,null,null,0,25,null,null,null,null,null,null,null,{"$f":"MAX(FREQUENCY(IF(D74:AB74=\"r\",COLUMN(D74:AB74)),IF(D74:AB74<>\"r\",COLUMN(D74:AB74))))","v":0},""]
[11,{"$f":"IF('INPUT DATA'!B74=\"\",\"\",'INPUT DATA'!B74)","v":"Student 11"},null,null,null,null,null,null,null,null,null,null,null,null,null,null,null,null,null,null,null,null,null,null,null,null,null,null,0,25,null,null,null,null,null,null,null,{"$f":"MAX(FREQUENCY(IF(D75:AB75=\"r\",COLUMN(D75:AB75)),IF(D75:AB75<>\"r\",COLUMN(D75:AB75))))","v":0},""]
[12,{"$f":"IF('INPUT DATA'!B75=\"\",\"\",'INPUT DATA'!B75)","v":"Student 12"},null,null,null,null,null,null,null,null,null,null,null,null,null,null,null,null,null,null,null,null,null,null,null,null,null,null,0,25,null,null,null,null,null,null,null,{"$f":"MAX(FREQUENCY(IF(D76:AB76=\"r\",COLUMN(D76:AB76)),IF(D76:AB76<>\"r\",COLUMN(D76:AB76))))","v":0},""]
[13,{"$f":"IF('INPUT DATA'!B76=\"\",\"\",'INPUT DATA'!B76)","v":"Student 13"},null,null,null,null,null,null,null,null,null,null,null,null,null,null,null,null,null,null,null,null,null,null,null,null,null,null,0,25,null,null,null,null,null,null,null,{"$f":"MAX(FREQUENCY(IF(D77:AB77=\"r\",COLUMN(D77:AB77)),IF(D77:AB77<>\"r\",COLUMN(D77:AB77))))","v":0},""]
[14,{"$f":"IF('INPUT DATA'!B77=\"\",\"\",'INPUT DATA'!B77)","v":"Student 14"},null,null,null,null,null,null,null,null,null,null,null,null,null,null,null,null,null,null,null,null,null,null,null,null,null,null,0,25,null,null,null,null,null,null,null,{"$f":"MAX(FREQUENCY(IF(D78:AB78=\"r\",COLUMN(D78:AB78)),IF(D78:AB78<>\"r\",COLUMN(D78:AB78))))","v":0},""]
[15,{"$f":"IF('INPUT DATA'!B78=\"\",\"\",'INPUT DATA'!B78)","v":"Student 15"},null,null,null,null,null,null,null,null,null,null,null,null,null,null,null,null,null,null,null,null,null,null,null,null,null,null,0,25,null,null,null,null,null,null,null,{"$f":"MAX(FREQUENCY(IF(D79:AB79=\"r\",COLUMN(D79:AB79)),IF(D79:AB79<>\"r\",COLUMN(D79:AB79))))","v":0},{"$f":"IF(AL79>=5,1,\"\")","v":""}]
[16,{"$f":"IF('INPUT DATA'!B79=\"\",\"\",'INPUT DATA'!B79)","v":"Student 16"},null,null,null,null,null,null,null,null,null,null,null,null,null,null,null,null,null,null,null,null,null,null,null,null,null,null,0,25,null,null,null,null,null,null,null,{"$f":"MAX(FREQUENCY(IF(D80:AB80=\"r\",COLUMN(D80:AB80)),IF(D80:AB80<>\"r\",COLUMN(D80:AB80))))","v":0},""]
[17,{"$f":"IF('INPUT DATA'!B80=\"\",\"\",'INPUT DATA'!B80)","v":"Student 17"},null,null,null,null,null,null,null,null,null,null,null,null,null,null,null,null,null,null,null,null,null,null,null,null,null,null,0,25,null,null,null,null,null,null,null,{"$f":"MAX(FREQUENCY(IF(D81:AB81=\"r\",COLUMN(D81:AB81)),IF(D81:AB81<>\"r\",COLUMN(D81:AB81))))","v":0},""]
[18,{"$f":"IF('INPUT DATA'!B81=\"\",\"\",'INPUT DATA'!B81)","v":"Student 18"},null,null,null,null,null,null,null,null,null,null,null,null,null,null,null,null,null,null,null,null,null,null,null,null,null,null,0,25,null,null,null,null,null,null,null,{"$f":"MAX(FREQUENCY(IF(D82:AB82=\"r\",COLUMN(D82:AB82)),IF(D82:AB82<>\"r\",COLUMN(D82:AB82))))","v":0},""]
[19,{"$f":"IF('INPUT DATA'!B82=\"\",\"\",'INPUT DATA'!B82)","v":"Student 19"},null,null,null,null,null,null,null,null,null,null,null,null,null,null,null,null,null,null,null,null,null,null,null,null,null,null,0,25,null,null,null,null,null,null,null,{"$f":"MAX(FREQUENCY(IF(D83:AB83=\"r\",COLUMN(D83:AB83)),IF(D83:AB83<>\"r\",COLUMN(D83:AB83))))","v":0},""]
[20,{"$f":"IF('INPUT DATA'!B83=\"\",\"\",'INPUT DATA'!B83)","v":"Student 20"},null,null,null,null,null,null,null,null,null,null,null,null,null,null,null,null,null,null,null,null,null,null,null,null,null,null,0,25,null,null,null,null,null,null,null,{"$f":"MAX(FREQUENCY(IF(D84:AB84=\"r\",COLUMN(D84:AB84)),IF(D84:AB84<>\"r\",COLUMN(D84:AB84))))","v":0},""]
["",{"$f":"IF('INPUT DATA'!B84=\"\",\"\",'INPUT DATA'!B84)","v":""},null,null,null,null,null,null,null,null,null,null,null,null,null,null,null,null,null,null,null,null,null,null,null,null,null,null,"","",null,null,null,null,null,null,null,{"$f":"MAX(FREQUENCY(IF(D85:AB85=\"r\",COLUMN(D85:AB85)),IF(D85:AB85<>\"r\",COLUMN(D85:AB85))))","v":0},""]
["",{"$f":"IF('INPUT DATA'!B85=\"\",\"\",'INPUT DATA'!B85)","v":""},null,null,null,null,null,null,null,null,null,null,null,null,null,null,null,null,null,null,null,null,null,null,null,null,null,null,"","",null,null,null,null,null,null,null,{"$f":"MAX(FREQUENCY(IF(D86:AB86=\"r\",COLUMN(D86:AB86)),IF(D86:AB86<>\"r\",COLUMN(D86:AB86))))","v":0},""]
["",{"$f":"IF('INPUT DATA'!B86=\"\",\"\",'INPUT DATA'!B86)","v":""},null,null,null,null,null,null,null,null,null,null,null,null,null,null,null,null,null,null,null,null,null,null,null,null,null,null,"","",null,null,null,null,null,null,null,{"$f":"MAX(FREQUENCY(IF(D87:AB87=\"r\",COLUMN(D87:AB87)),IF(D87:AB87<>\"r\",COLUMN(D87:AB87))))","v":0},""]
["",{"$f":"IF('INPUT DATA'!B87=\"\",\"\",'INPUT DATA'!B87)","v":""},null,null,null,null,null,null,null,null,null,null,null,null,null,null,null,null,null,null,null,null,null,null,null,null,null,null,"","",null,null,null,null,null,null,null,{"$f":"MAX(FREQUENCY(IF(D88:AB88=\"r\",COLUMN(D88:AB88)),IF(D88:AB88<>\"r\",COLUMN(D88:AB88))))","v":0},""]
["",{"$f":"IF('INPUT DATA'!B88=\"\",\"\",'INPUT DATA'!B88)","v":""},null,null,null,null,null,null,null,null,null,null,null,null,null,null,null,null,null,null,null,null,null,null,null,null,null,null,"","",null,null,null,null,null,null,null,{"$f":"MAX(FREQUENCY(IF(D89:AB89=\"r\",COLUMN(D89:AB89)),IF(D89:AB89<>\"r\",COLUMN(D89:AB89))))","v":0},""]
["",{"$f":"IF('INPUT DATA'!B89=\"\",\"\",'INPUT DATA'!B89)","v":""},null,null,null,null,null,null,null,null,null,null,null,null,null,null,null,null,null,null,null,null,null,null,null,null,null,null,"","",null,null,null,null,null,null,null,{"$f":"MAX(FREQUENCY(IF(D90:AB90=\"r\",COLUMN(D90:AB90)),IF(D90:AB90<>\"r\",COLUMN(D90:AB90))))","v":0},""]
["",{"$f":"IF('INPUT DATA'!B90=\"\",\"\",'INPUT DATA'!B90)","v":""},null,null,null,null,null,null,null,null,null,null,null,null,null,null,null,null,null,null,null,null,null,null,null,null,null,null,"","",null,null,null,null,null,null,null,{"$f":"MAX(FREQUENCY(IF(D91:AB91=\"r\",COLUMN(D91:AB91)),IF(D91:AB91<>\"r\",COLUMN(D91:AB91))))","v":0},""]
["",{"$f":"IF('INPUT DATA'!B91=\"\",\"\",'INPUT DATA'!B91)","v":""},null,null,null,null,null,null,null,null,null,null,null,null,null,null,null,null,null,null,null,null,null,null,null,null,null,null,"","",null,null,null,null,null,null,null,{"$f":"MAX(FREQUENCY(IF(D92:AB92=\"r\",COLUMN(D92:AB92)),IF(D92:AB92<>\"r\",COLUMN(D92:AB92))))","v":0},""]
["",{"$f":"IF('INPUT DATA'!B92=\"\",\"\",'INPUT DATA'!B92)","v":""},null,null,null,null,null,null,null,null,null,null,null,null,null,null,null,null,null,null,null,null,null,null,null,null,null,null,"","",null,null,null,null,null,null,null,{"$f":"MAX(FREQUENCY(IF(D93:AB93=\"r\",COLUMN(D93:AB93)),IF(D93:AB93<>\"r\",COLUMN(D93:AB93))))","v":0},""]
["",{"$f":"IF('INPUT DATA'!B93=\"\",\"\",'INPUT DATA'!B93)","v":""},null,null,null,null,null,null,null,null,null,null,null,null,null,null,null,null,null,null,null,null,null,null,null,null,null,null,"","",null,null,null,null,null,null,null,{"$f":"MAX(FREQUENCY(IF(D94:AB94=\"r\",COLUMN(D94:AB94)),IF(D94:AB94<>\"r\",COLUMN(D94:AB94))))","v":0},""]
["",{"$f":"IF('INPUT DATA'!B94=\"\",\"\",'INPUT DATA'!B94)","v":""},null,null,null,null,null,null,null,null,null,null,null,null,null,null,null,null,null,null,null,null,null,null,null,null,null,null,"","",null,null,null,null,null,null,null,{"$f":"MAX(FREQUENCY(IF(D95:AB95=\"r\",COLUMN(D95:AB95)),IF(D95:AB95<>\"r\",COLUMN(D95:AB95))))","v":0},""]
["",{"$f":"IF('INPUT DATA'!B95=\"\",\"\",'INPUT DATA'!B95)","v":""},null,null,null,null,null,null,null,null,null,null,null,null,null,null,null,null,null,null,null,null,null,null,null,null,null,null,"","",null,null,null,null,null,null,null,{"$f":"MAX(FREQUENCY(IF(D96:AB96=\"r\",COLUMN(D96:AB96)),IF(D96:AB96<>\"r\",COLUMN(D96:AB96))))","v":0},""]
["",{"$f":"IF('INPUT DATA'!B96=\"\",\"\",'INPUT DATA'!B96)","v":""},null,null,null,null,null,null,null,null,null,null,null,null,null,null,null,null,null,null,null,null,null,null,null,null,null,null,"","",null,null,null,null,null,null,null,{"$f":"MAX(FREQUENCY(IF(D97:AB97=\"r\",COLUMN(D97:AB97)),IF(D97:AB97<>\"r\",COLUMN(D97:AB97))))","v":0},""]
["",{"$f":"IF('INPUT DATA'!B97=\"\",\"\",'INPUT DATA'!B97)","v":""},null,null,null,null,null,null,null,null,null,null,null,null,null,null,null,null,null,null,null,null,null,null,null,null,null,null,"","",null,null,null,null,null,null,null,{"$f":"MAX(FREQUENCY(IF(D98:AB98=\"r\",COLUMN(D98:AB98)),IF(D98:AB98<>\"r\",COLUMN(D98:AB98))))","v":0},""]
["",{"$f":"IF('INPUT DATA'!B98=\"\",\"\",'INPUT DATA'!B98)","v":""},null,null,null,null,null,null,null,null,null,null,null,null,null,null,null,null,null,null,null,null,null,null,null,null,null,null,"","",null,null,null,null,null,null,null,{"$f":"MAX(FREQUENCY(IF(D99:AB99=\"r\",COLUMN(D99:AB99)),IF(D99:AB99<>\"r\",COLUMN(D99:AB99))))","v":0},""]
["",{"$f":"IF('INPUT DATA'!B99=\"\",\"\",'INPUT DATA'!B99)","v":""},null,null,null,null,null,null,null,null,null,null,null,null,null,null,null,null,null,null,null,null,null,null,null,null,null,null,"","",null,null,null,null,null,null,null,{"$f":"MAX(FREQUENCY(IF(D100:AB100=\"r\",COLUMN(D100:AB100)),IF(D100:AB100<>\"r\",COLUMN(D100:AB100))))","v":0},""]
["",{"$f":"IF('INPUT DATA'!B100=\"\",\"\",'INPUT DATA'!B100)","v":""},null,null,null,null,null,null,null,null,null,null,null,null,null,null,null,null,null,null,null,null,null,null,null,null,null,null,"","",null,null,null,null,null,null,null,{"$f":"MAX(FREQUENCY(IF(D101:AB101=\"r\",COLUMN(D101:AB101)),IF(D101:AB101<>\"r\",COLUMN(D101:AB101))))","v":0},""]
["",{"$f":"IF('INPUT DATA'!B101=\"\",\"\",'INPUT DATA'!B101)","v":""},null,null,null,null,null,null,null,null,null,null,null,null,null,null,null,null,null,null,null,null,null,null,null,null,null,null,"","",null,null,null,null,null,null,null,{"$f":"MAX(FREQUENCY(IF(D102:AB102=\"r\",COLUMN(D102:AB102)),IF(D102:AB102<>\"r\",COLUMN(D102:AB102))))","v":0},""]
["",{"$f":"IF('INPUT DATA'!B102=\"\",\"\",'INPUT DATA'!B102)","v":""},null,null,null,null,null,null,null,null,null,null,null,null,null,null,null,null,null,null,null,null,null,null,null,null,null,null,"","",null,null,null,null,null,null,null,{"$f":"MAX(FREQUENCY(IF(D103:AB103=\"r\",COLUMN(D103:AB103)),IF(D103:AB103<>\"r\",COLUMN(D103:AB103))))","v":0},""]
["",{"$f":"IF('INPUT DATA'!B103=\"\",\"\",'INPUT DATA'!B103)","v":""},null,null,null,null,null,null,null,null,null,null,null,null,null,null,null,null,null,null,null,null,null,null,null,null,null,null,"","",null,null,null,null,null,null,null,{"$f":"MAX(FREQUENCY(IF(D104:AB104=\"r\",COLUMN(D104:AB104)),IF(D104:AB104<>\"r\",COLUMN(D104:AB104))))","v":0},""]
["",{"$f":"IF('INPUT DATA'!B104=\"\",\"\",'INPUT DATA'!B104)","v":""},null,null,null,null,null,null,null,null,null,null,null,null,null,null,null,null,null,null,null,null,null,null,null,null,null,null,"","",null,null,null,null,null,null,null,{"$f":"MAX(FREQUENCY(IF(D105:AB105=\"r\",COLUMN(D105:AB105)),IF(D105:AB105<>\"r\",COLUMN(D105:AB105))))","v":0},""]
["",{"$f":"IF('INPUT DATA'!B105=\"\",\"\",'INPUT DATA'!B105)","v":""},null,null,null,null,null,null,null,null,null,null,null,null,null,null,null,null,null,null,null,null,null,null,null,null,null,null,"","",null,null,null,null,null,null,null,{"$f":"MAX(FREQUENCY(IF(D106:AB106=\"r\",COLUMN(D106:AB106)),IF(D106:AB106<>\"r\",COLUMN(D106:AB106))))","v":0},""]
["",{"$f":"IF('INPUT DATA'!B106=\"\",\"\",'INPUT DATA'!B106)","v":""},null,null,null,null,null,null,null,null,null,null,null,null,null,null,null,null,null,null,null,null,null,null,null,null,null,null,"","",null,null,null,null,null,null,null,{"$f":"MAX(FREQUENCY(IF(D107:AB107=\"r\",COLUMN(D107:AB107)),IF(D107:AB107<>\"r\",COLUMN(D107:AB107))))","v":0},""]
["",{"$f":"IF('INPUT DATA'!B107=\"\",\"\",'INPUT DATA'!B107)","v":""},null,null,null,null,null,null,null,null,null,null,null,null,null,null,null,null,null,null,null,null,null,null,null,null,null,null,"","",null,null,null,null,null,null,null,{"$f":"MAX(FREQUENCY(IF(D108:AB108=\"r\",COLUMN(D108:AB108)),IF(D108:AB108<>\"r\",COLUMN(D108:AB108))))","v":0},""]
["",{"$f":"IF('INPUT DATA'!B108=\"\",\"\",'INPUT DATA'!B108)","v":""},null,null,null,null,null,null,null,null,null,null,null,null,null,null,null,null,null,null,null,null,null,null,null,null,null,null,"","",null,null,null,null,null,null,null,{"$f":"MAX(FREQUENCY(IF(D109:AB109=\"r\",COLUMN(D109:AB109)),IF(D109:AB109<>\"r\",COLUMN(D109:AB109))))","v":0},""]
["",{"$f":"IF('INPUT DATA'!B109=\"\",\"\",'INPUT DATA'!B109)","v":""},null,null,null,null,null,null,null,null,null,null,null,null,null,null,null,null,null,null,null,null,null,null,null,null,null,null,"","",null,null,null,null,null,null,null,{"$f":"MAX(FREQUENCY(IF(D110:AB110=\"r\",COLUMN(D110:AB110)),IF(D110:AB110<>\"r\",COLUMN(D110:AB110))))","v":0},""]
["",{"$f":"IF('INPUT DATA'!B110=\"\",\"\",'INPUT DATA'!B110)","v":""},null,null,null,null,null,null,null,null,null,null,null,null,null,null,null,null,null,null,null,null,null,null,null,null,null,null,"","",null,null,null,null,null,null,null,{"$f":"MAX(FREQUENCY(IF(D111:AB111=\"r\",COLUMN(D111:AB111)),IF(D111:AB111<>\"r\",COLUMN(D111:AB111))))","v":0},""]
["",{"$f":"IF('INPUT DATA'!B111=\"\",\"\",'INPUT DATA'!B111)","v":""},null,null,null,null,null,null,null,null,null,null,null,null,null,null,null,null,null,null,null,null,null,null,null,null,null,null,"","",null,null,null,null,null,null,null,{"$f":"MAX(FREQUENCY(IF(D112:AB112=\"r\",COLUMN(D112:AB112)),IF(D112:AB112<>\"r\",COLUMN(D112:AB112))))","v":0},""]
["",{"$f":"IF('INPUT DATA'!B112=\"\",\"\",'INPUT DATA'!B112)","v":""},null,null,null,null,null,null,null,null,null,null,null,null,null,null,null,null,null,null,null,null,null,null,null,null,null,null,"","",null,null,null,null,null,null,null,{"$f":"MAX(FREQUENCY(IF(D113:AB113=\"r\",COLUMN(D113:AB113)),IF(D113:AB113<>\"r\",COLUMN(D113:AB113))))","v":0},""]
["",{"$f":"IF('INPUT DATA'!B113=\"\",\"\",'INPUT DATA'!B113)","v":""},null,null,null,null,null,null,null,null,null,null,null,null,null,null,null,null,null,null,null,null,null,null,null,null,null,null,"","",null,null,null,null,null,null,null,{"$f":"MAX(FREQUENCY(IF(D114:AB114=\"r\",COLUMN(D114:AB114)),IF(D114:AB114<>\"r\",COLUMN(D114:AB114))))","v":0},""]
["FEMALE  | TOTAL Per Day",null,null,{"$f":"IF(D11=\"\",\"\",SUM(COUNTBLANK(D65:D114)-COUNTBLANK($B$65:$B$114),COUNTIF(D65:D114,\"z\")*0.5,COUNTIF(D65:D114,\"y\")*0.5))","v":20},20,20,20,20,20,20,20,20,20,20,20,20,20,20,20,20,20,20,20,20,20,20,20,20,{"$f":"SUM(AC65:AC114)","v":0},{"$f":"SUM(AD65:AD114)","v":500}]
["    Combined TOTAL PER DAY",null,null,{"$f":"IF(D11=\"\",\"\",SUM(D64,D115))","v":39},39,39,39,39,40,40,40,40,40,40,40,40,40,40,40,40,40,40,40,40,40,40,40,40,{"$f":"SUM(AC64,AC115)","v":5},{"$f":"SUM(AD64,AD115)","v":995}]
[]
["GUIDELINES:",null,null,null,null,null,null,null,null,null,null,null,null,null,null,null,"1. CODES FOR CHECKING ATTENDANCE",null,null,null,null,null,null,null,null,null,null,"Month:",{"$f":"X6","v":"May"},null,"No. of Days of Classes:",null,{"$f":"COUNT(D11:AB11)","v":25},"Summary for the Month"]
["1. The attendance shall be accomplished daily. Refer to the codes for checking learners' attendance.",null,null,null,null,null,null,null,null,null,null,null,null,null,null,null,"blank- Present;   (x)- Absent; Tardy (half shaded= Upper for Late Commer, Lower for Cutting Classes)",null,null,null,null,null,null,null,null,null,null,null,null,null,null,null,null,"M","F","TOTAL"]
["2. Dates shall be written in the preceding columns beside Learner's Name.",null,null,null,null,null,null,null,null,null,null,null,null,null,null,null,null,null,null,null,null,null,null,null,null,null,null,"* Enrolment  as of  (1st Friday of June)",null,null,null,null,null,{"$f":"IF('INPUT DATA'!R88=\"\",\"\",'INPUT DATA'!R88)","v":""},{"$f":"IF('INPUT DATA'!S88=\"\",\"\",'INPUT DATA'!S88)","v":""},{"$f":"SUM(AH120:AI121)","v":0}]
["3. To compute the following:"]
["a.","Percentage of Enrolment =",null,"Registered Learner as of End of the Month",null,null,null,null,null,null,null,null,null,"x 100",null,null,"2. REASONS/CAUSES OF DROP-OUTS",null,null,null,null,null,null,null,null,null,null,"Late Enrollment during the month                                               (beyond cut-off)",null,null,null,null,null,{"$f":"IF('INPUT DATA'!R89=\"\",\"\",'INPUT DATA'!R89)","v":""},{"$f":"IF('INPUT DATA'!S89=\"\",\"\",'INPUT DATA'!S89)","v":""},{"$f":"SUM(AH122:AI123)","v":0}]
[null,null,null,"Enrolment as of 1st Friday of June",null,null,null,null,null,null,null,null,null,null,null,null,"a. Domestic-Related Factors"]
["b.","Average Daily Attendance = ",null,"Total Daily Attendance",null,null,null,null,null,null,null,null,null,null,null,null,"a.1. Had to take care of siblings",null,null,null,null,null,null,null,null,null,null,"Registered Learner as of end of the month",null,null,null,null,null,{"$f":"IF('INPUT DATA'!R90=\"\",\"\",'INPUT DATA'!R90)","v":""},{"$f":"IF('INPUT DATA'!S90=\"\",\"\",'INPUT DATA'!S90)","v":""},{"$f":"SUM(AH124:AI125)","v":0}]
[null,null,null,"Number of School Days in reporting month",null,null,null,null,null,null,null,null,null,null,null,null,"a.2. Early marriage/pregnancy"]
["c.","Percentage of Attendance for the month =",null,"Average daily attendance",null,null,null,null,null,null,null,null,null,"x 100",null,null,"a.3. Parents' attitude toward schooling",null,null,null,null,null,null,null,null,null,null,"Percentage of Enrolment as of end of the month",null,null,null,null,null,{"$f":"CONCATENATE(IFERROR(ROUND((AH124)/(AH120)*100,0),\"\"),\"%\")","v":"%"},{"$f":"CONCATENATE(IFERROR(ROUND((AI124)/(AI120)*100,0),\"\"),\"%\")","v":"%"},{"$f":"CONCATENATE(IFERROR(ROUND((AJ124)/(AJ120)*100,0),\"\"),\"%\")","v":"%"}]
[null,null,null,"Registered Learner as of End of the month",null,null,null,null,null,null,null,null,null,null,null,null,"a.4. Family problems"]
[null,null,null,null,null,null,null,null,null,null,null,null,null,null,null,null,"b. Individual-Related Factors",null,null,null,null,null,null,null,null,null,null,"Average Daily Attendance",null,null,null,null,null,{"$f":"IFERROR(ROUND((AD64)/COUNTA(D11:AB11),2),\"\")","v":19.8},{"$f":"IFERROR(ROUND((AD115/COUNTA(D11:AB11)),2),\"\")","v":20},{"$f":"IFERROR(ROUND((AD116)/COUNTA(D11:AB11),2),\"\")","v":39.799999999999997}]
["4. Every End of the month, the class adviser will submit this form to the office of the principal for recording of \n     summary table into the School Form 4. Once signed by the principal, this form should be returned to the adviser.",null,null,null,null,null,null,null,null,null,null,null,null,null,null,null,"b.1. Illness",null,null,null,null,null,null,null,null,null,null,"Percentage of Attendance for the month ",null,null,null,null,null,{"$f":"CONCATENATE(IFERROR(ROUND((AH128/AH124)*100,0),\"\"),\"%\")","v":"%"},{"$f":"CONCATENATE(IFERROR(ROUND((AI128/AI124)*100,0),\"\"),\"%\")","v":"%"},{"$f":"CONCATENATE(IFERROR(ROUND((AJ128/AJ124)*100,0),\"\"),\"%\")","v":"%"}]
[null,null,null,null,null,null,null,null,null,null,null,null,null,null,null,null,"b.2. Overage"]
["5. The adviser will extend neccessary intervention including but not limited to home visitation  to learner/s that committed 5 consecutive days of absences or those with potentials of dropping out",null,null,null,null,null,null,null,null,null,null,null,null,null,null,null,"b.3. Death",null,null,null,null,null,null,null,null,null,null,"Number of students with 5 consecutive days of absences:",null,null,null,null,null,{"$f":"SUM(AM14:AM63)","v":1},{"$f":"SUM(AM65:AM114)","v":0},{"$f":"SUM(AH131:AI132)","v":1}]
[null,null,null,null,null,null,null,null,null,null,null,null,null,null,null,null,"b.4. Drug Abuse"]
["6.  Attendance performance of learner is expected to reflect in Form 137 and Form 138 every grading period",null,null,null,null,null,null,null,null,null,null,null,null,null,null,null,"b.5. Poor academic performance",null,null,null,null,null,null,null,null,null,null,"Drop out",null,null,null,null,null,{"$f":"IF('INPUT DATA'!R91=\"\",\"\",'INPUT DATA'!R91)","v":""},{"$f":"IF('INPUT DATA'!S91=\"\",\"\",'INPUT DATA'!S91)","v":""},{"$f":"SUM(AH133:AI134)","v":0}]
["*","Beginning of School Year cut-off report is every 1st Friday of School Calendar Days",null,null,null,null,null,null,null,null,null,null,null,null,null,null,"b.6. Lack of interest/Distractions"]
[null,null,null,null,null,null,null,null,null,null,null,null,null,null,null,null,"b.7. Hunger/Malnutrition",null,null,null,null,null,null,null,null,null,null,"Transferred out",null,null,null,null,null,{"$f":"IF('INPUT DATA'!R92=\"\",\"\",'INPUT DATA'!R92)","v":""},{"$f":"IF('INPUT DATA'!S92=\"\",\"\",'INPUT DATA'!S92)","v":""},{"$f":"SUM(AH135:AI136)","v":0}]
[null,null,null,null,null,null,null,null,null,null,null,null,null,null,null,null,"c. School-Related Factors"]
[null,null,null,null,null,null,null,null,null,null,null,null,null,null,null,null,"c.1. Teacher Factor",null,null,null,null,null,null,null,null,null,null,"Transferred in",null,null,null,null,null,{"$f":"IF('INPUT DATA'!R93=\"\",\"\",'INPUT DATA'!R93)","v":""},{"$f":"IF('INPUT DATA'!S93=\"\",\"\",'INPUT DATA'!S93)","v":""},{"$f":"SUM(AH137:AI138)","v":0}]
[null,null,null,null,null,null,null,null,null,null,null,null,null,null,null,null,"c.2. Physical condition of classroom"]
[null,null,null,null,null,null,null,null,null,null,null,null,null,null,null,null,"c.3. Peer influence"]
[null,null,null,null,null,null,null,null,null,null,null,null,null,null,null,null,"d. Geographic/Environmental",null,null,null,null,null,null,null,null,null,null,"I certify that this is a true and correct report."]
[null,null,null,null,null,null,null,null,null,null,null,null,null,null,null,null,"d.1. Distance between home and school"]
[null,null,null,null,null,null,null,null,null,null,null,null,null,null,null,null,"d.2. Armed conflict (incl. Tribal wars & clanfeuds)",null,null,null,null,null,null,null,null,null,null,null,null,{"$f":"UPPER(IF('INPUT DATA'!R7=\"\",\"\",'INPUT DATA'!R7))","v":""}]
[null,null,null,null,null,null,null,null,null,null,null,null,null,null,null,null,null,null,null,null,null,null,null,null,null,null,null,null,"                          (Signature of Teacher over Printed Name)"]
[null,null,null,null,null,null,null,null,null,null,null,null,null,null,null,null,"d.3. Calamities/Disasters"]
[null,null,null,null,null,null,null,null,null,null,null,null,null,null,null,null,"e. Financial-Related",null,null,null,null,null,null,null,null,null,null,"Attested by:"]
[null,null,null,null,null,null,null,null,null,null,null,null,null,null,null,null,"e.1. Child labor, work",null,null,null,null,null,null,null,null,null,null,null,null,{"$f":"UPPER(IF('INPUT DATA'!R6=\"\",\"\",'INPUT DATA'!R6))","v":""}]
[null,null,null,null,null,null,null,null,null,null,null,null,null,null,null,null,"f. Others",null,null,null,null,null,null,null,null,null,null,null,null,null,null," (Signature of School Head over Printed Name)"]

{"sheet":"APR","index":10,"n_rows":147,"n_cols":39,"rows_kept":147,"cut":false,"hidden":true,"merged":[[1,0,1,35],[2,0,2,35],[5,2,5,4],[5,10,5,14],[5,16,5,22],[5,23,5,28],[7,2,7,14],[7,19,7,22],[7,23,7,24],[7,25,7,27],[7,28,7,33],[18,1,18,2],[18,30,18,35],[11,29,12,29],[13,1,13,2],[13,30,13,35],[14,1,14,2],[14,30,14,35],[15,1,15,2],[15,30,15,35],[9,0,12,2],[9,3,9,27],[9,28,10,29],[9,30,12,35],[11,28,12,28],[16,1,16,2],[16,30,16,35],[17,1,17,2],[17,30,17,35],[22,1,22,2],[22,30,22,35],[23,1,23,2],[23,30,23,35],[24,1,24,2],[24,30,24,35],[19,1,19,2],[19,30,19,35],[20,1,20,2],[20,30,20,35],[21,1,21,2],[21,30,21,35],[28,1,28,2],[28,30,28,35],[29,1,29,2],[29,30,29,35],[30,1,30,2],[30,30,30,35],[25,1,25,2],[25,30,25,35],[26,1,26,2],[26,30,26,35],[27,1,27,2],[27,30,27,35],[34,1,34,2],[34,30,34,35],[35,1,35,2],[35,30,35,35],[36,1,36,2],[36,30,36,35],[31,1,31,2],[31,30,31,35],[32,1,32,2],[32,30,32,35],[33,1,33,2],[33,30,33,35],[43,1,43,2],[44,1,44,2],[45,1,45,2],[46,1,46,2],[47,1,47,2],[48,1,48,2],[37,1,37,2],[38,1,38,2],[39,1,39,2],[40,1,40,2],[41,1,41,2],[42,1,42,2],[55,1,55,2],[56,1,56,2],[57,1,57,2],[58,1,58,2],[59,1,59,2],[60,1,60,2],[49,1,49,2],[50,1,50,2],[51,1,51,2],[52,1,52,2],[53,1,53,2],[54,1,54,2],[65,1,65,2],[65,30,65,35],[66,1,66,2],[66,30,66,35],[67,1,67,2],[67,30,67,35],[61,1,61,2],[62,1,62,2],[62,30,62,35],[63,0,63,2],[64,1,64,2],[64,30,64,35],[71,1,71,2],[71,30,71,35],[72,1,72,2],[72,30,72,35],[73,1,73,2],[73,30,73,35],[68,1,68,2],[68,30,68,35],[69,1,69,2],[69,30,69,35],[70,1,70,2],[70,30,70,35],[77,1,77,2],[77,30,77,35],[78,1,78,2],[78,30,78,35],[79,1,79,2],[79,30,79,35],[74,1,74,2],[74,30,74,35],[75,1,75,2],[75,30,75,35],[76,1,76,2],[76,30,76,35],[83,1,83,2],[83,30,83,35],[84,1,84,2],[84,30,84,35],[85,1,85,2],[85,30,85,35],[80,1,80,2],[80,30,80,35],[81,1,81,2],[81,30,81,35],[82,1,82,2],[82,30,82,35],[90,1,90,2],[91,1,91,2],[92,1,92,2],[93,1,93,2],[94,1,94,2],[95,1,95,2],[86,1,86,2],[86,30,86,35],[87,1,87,2],[87,30,87,35],[88,1,88,2],[89,1,89,2],[102,1,102,2],[103,1,103,2],[104,1,104,2],[105,1,105,2],[106,1,106,2],[107,1,107,2],[96,1,96,2],[97,1,97,2],[98,1,98,2],[99,1,99,2],[100,1,100,2],[101,1,101,2],[113,30,113,35],[114,0,114,2],[114,30,114,35],[115,0,115,2],[115,30,115,35],[116,0,116,1],[116,3,116,7],[108,1,108,2],[109,1,109,2],[110,1,110,2],[111,1,111,2],[112,1,112,2],[113,1,113,2],[120,0,120,13],[121,0,122,0],[121,1,122,1],[121,3,121,12],[121,13,122,14],[121,27,122,32],[117,28,117,29],[117,30,118,31],[117,33,117,35],[118,0,118,13],[118,16,120,24],[119,0,119,13],[119,27,120,32],[119,33,120,33],[119,34,120,34],[119,35,120,35],[121,33,122,33],[121,34,122,34],[121,35,122,35],[122,3,122,12],[123,0,124,0],[123,1,124,1],[123,3,123,12],[123,27,124,32],[123,33,124,33],[123,34,124,34],[123,35,124,35],[124,3,124,12],[125,0,126,0],[125,1,126,2],[125,3,125,12],[125,13,126,14],[125,27,126,32],[125,33,126,33],[125,34,126,34],[125,35,126,35],[128,34,129,34],[128,35,129,35],[130,0,131,14],[130,27,131,32],[130,33,131,33],[130,34,131,34],[130,35,131,35],[126,3,126,12],[127,0,127,11],[127,27,127,32],[128,0,129,13],[128,27,129,32],[128,33,129,33],[145,29,145,34],[136,1,137,6],[136,27,137,32],[136,33,137,33],[136,34,137,34],[136,35,137,35],[141,16,142,25],[141,29,141,34],[132,27,133,32],[132,33,133,33],[132,34,133,34],[132,35,133,35],[133,1,133,13],[134,27,135,32],[134,33,135,33],[134,34,135,34],[134,35,135,35]]}
[]
["School Form 2 (SF2) Daily Attendance Report of Learners"]
["(This replaced Form 1, Form 2 & STS Form 4 - Absenteeism and Dropout Profile)"]
[]
[]
[null,"School ID",{"$f":"IF('INPUT DATA'!R5=\"\",\"\",'INPUT DATA'!R5)","v":""},null,null,null,null,"School Year",null,null,{"$f":"IF('INPUT DATA'!R4=\"\",\"\",'INPUT DATA'!R4)","v":""},null,null,null,null,null,"Report for the  Month of",null,null,null,null,null,null,"April"]
[]
[null,"Name of School",{"$f":"IF('INPUT DATA'!F5=\"\",\"\",'INPUT DATA'!F5)","v":""},null,null,null,null,null,null,null,null,null,null,null,null,null,null,null,null,"Grade Level",null,null,null,{"$f":"IF('INPUT DATA'!R8=\"\",\"\",'INPUT DATA'!R8)","v":""},null,"Section",null,null,{"$f":"IF('INPUT DATA'!R9=\"\",\"\",'INPUT DATA'!R9)","v":""}]
[]
["LEARNER'S NAME                                                                                         (Last Name, First Name, Middle Name)                                  ",null,null,"(1st row for date, 2nd row for Day: M,T,W,TH,F)",null,null,null,null,null,null,null,null,null,null,null,null,null,null,null,null,null,null,null,null,null,null,null,null,"Total for the Month             ",null,"REMARK/S (If DROPPED OUT, state reason, please refer to legend number 2.\nIf TRANSFERRED IN/OUT, write the name of School.)"]
[null,null,null,1,2,3,4,5,6,7,8,9,10,11,12,13,14,15,16,17,18,19,20,21,22,23,24,25]
[null,null,null,"Mon","Tue","Wed","Thu","Fri","Mon","Tue","Wed","Thu","Fri","Mon","Tue","Wed","Thu","Fri","Mon","Tue","Wed","Thu","Fri","Mon","Tue","Wed","Thu","Fri","ABSENT","PRESENT"]
[null,null,null,false,false,false,false,false,false,false,false,false,false,false,false,false,false,false,false,false,false,false,false,false,false,false,false,false]
[{"$f":"IF(B14=\"\",\"\",\"1\")","v":"1"},{"$f":"IF('INPUT DATA'!B13=\"\",\"\",'INPUT DATA'!B13)","v":"Student 1"},null,"r","r","r","r",null,null,null,null,null,null,null,null,null,null,null,null,null,null,null,null,null,null,null,null,null,{"$f":"IF(B14=\"\",\"\",SUM(COUNTIF(D14:AB14,\"z\")*0.5,COUNTIF(D14:AB14,\"y\")*0.5,COUNTIF(D14:AB14,\"r\")))","v":4},{"$f":"IF(B14=\"\",\"\",COUNTA($D$11:$AB$11)-AC14)","v":21},null,null,null,null,null,null,null,{"$f":"MAX(FREQUENCY(IF(D14:AB14=\"r\",COLUMN(D14:AB14)),IF(D14:AB14<>\"r\",COLUMN(D14:AB14))))","v":4},{"$f":"IF(AL14>=5,1,\"\")","v":""}]
[{"$f":"IF(B15=\"\",\"\",A14+1)","v":2},{"$f":"IF('INPUT DATA'!B14=\"\",\"\",'INPUT DATA'!B14)","v":"Student 2"},null,null,null,null,null,null,null,null,null,null,null,null,null,null,null,null,null,null,null,null,null,null,null,null,null,null,{"$f":"IF(B15=\"\",\"\",SUM(COUNTIF(D15:AB15,\"z\")*0.5,COUNTIF(D15:AB15,\"y\")*0.5,COUNTIF(D15:AB15,\"r\")))","v":0},{"$f":"IF(B15=\"\",\"\",COUNTA($D$11:$AB$11)-AC15)","v":25},null,null,null,null,null,null,null,{"$f":"MAX(FREQUENCY(IF(D15:AB15=\"r\",COLUMN(D15:AB15)),IF(D15:AB15<>\"r\",COLUMN(D15:AB15))))","v":0},{"$f":"IF(AL15>=5,1,\"\")","v":""}]
[{"$f":"IF(B16=\"\",\"\",A15+1)","v":3},{"$f":"IF('INPUT DATA'!B15=\"\",\"\",'INPUT DATA'!B15)","v":"Student 3"},null,null,null,null,null,null,null,null,null,null,null,null,null,null,null,null,null,null,null,null,null,null,null,null,null,null,0,25,null,null,null,null,null,null,null,{"$f":"MAX(FREQUENCY(IF(D16:AB16=\"r\",COLUMN(D16:AB16)),IF(D16:AB16<>\"r\",COLUMN(D16:AB16))))","v":0},""]
[4,{"$f":"IF('INPUT DATA'!B16=\"\",\"\",'INPUT DATA'!B16)","v":"Student 4"},null,null,null,null,null,null,null,null,null,null,null,null,null,null,null,null,null,null,null,null,null,null,null,null,null,null,0,25,null,null,null,null,null,null,null,{"$f":"MAX(FREQUENCY(IF(D17:AB17=\"r\",COLUMN(D17:AB17)),IF(D17:AB17<>\"r\",COLUMN(D17:AB17))))","v":0},""]
[5,{"$f":"IF('INPUT DATA'!B17=\"\",\"\",'INPUT DATA'!B17)","v":"Student 5"},null,null,null,null,null,null,null,null,null,null,null,null,null,null,null,null,null,null,null,null,null,null,null,null,null,null,0,25,null,null,null,null,null,null,null,{"$f":"MAX(FREQUENCY(IF(D18:AB18=\"r\",COLUMN(D18:AB18)),IF(D18:AB18<>\"r\",COLUMN(D18:AB18))))","v":0},""]
[6,{"$f":"IF('INPUT DATA'!B18=\"\",\"\",'INPUT DATA'!B18)","v":"Student 6"},null,null,null,null,null,null,null,null,null,null,null,null,null,null,null,null,null,null,null,null,null,null,null,null,null,null,0,25,null,null,null,null,null,null,null,{"$f":"MAX(FREQUENCY(IF(D19:AB19=\"r\",COLUMN(D19:AB19)),IF(D19:AB19<>\"r\",COLUMN(D19:AB19))))","v":0},""]
[7,{"$f":"IF('INPUT DATA'!B19=\"\",\"\",'INPUT DATA'!B19)","v":"Student 7"},null,null,null,null,null,null,null,null,null,null,null,null,null,null,null,null,null,null,null,null,null,null,null,null,null,null,0,25,null,null,null,null,null,null,null,{"$f":"MAX(FREQUENCY(IF(D20:AB20=\"r\",COLUMN(D20:AB20)),IF(D20:AB20<>\"r\",COLUMN(D20:AB20))))","v":0},""]
[8,{"$f":"IF('INPUT DATA'!B20=\"\",\"\",'INPUT DATA'!B20)","v":"Student 8"},null,null,null,null,null,null,null,null,null,null,null,null,null,null,null,null,null,null,null,null,null,null,null,null,null,null,0,25,null,null,null,null,null,null,null,{"$f":"MAX(FREQUENCY(IF(D21:AB21=\"r\",COLUMN(D21:AB21)),IF(D21:AB21<>\"r\",COLUMN(D21:AB21))))","v":0},""]
[9,{"$f":"IF('INPUT DATA'!B21=\"\",\"\",'INPUT DATA'!B21)","v":"Student 9"},null,null,null,null,null,null,null,null,null,null,null,null,null,null,null,null,null,null,null,null,null,null,null,null,null,null,0,25,null,null,null,null,null,null,null,{"$f":"MAX(FREQUENCY(IF(D22:AB22=\"r\",COLUMN(D22:AB22)),IF(D22:AB22<>\"r\",COLUMN(D22:AB22))))","v":0},""]
[10,{"$f":"IF('INPUT DATA'!B22=\"\",\"\",'INPUT DATA'!B22)","v":"Student 10"},null,null,null,null,null,null,null,null,null,null,null,null,null,null,null,null,null,null,null,null,null,null,null,null,null,null,0,25,null,null,null,null,null,null,null,{"$f":"MAX(FREQUENCY(IF(D23:AB23=\"r\",COLUMN(D23:AB23)),IF(D23:AB23<>\"r\",COLUMN(D23:AB23))))","v":0},""]
[11,{"$f":"IF('INPUT DATA'!B23=\"\",\"\",'INPUT DATA'!B23)","v":"Student 11"},null,null,null,null,null,null,null,null,null,null,null,null,null,null,null,null,null,null,null,null,null,null,null,null,null,null,0,25,null,null,null,null,null,null,null,{"$f":"MAX(FREQUENCY(IF(D24:AB24=\"r\",COLUMN(D24:AB24)),IF(D24:AB24<>\"r\",COLUMN(D24:AB24))))","v":0},""]
[12,{"$f":"IF('INPUT DATA'!B24=\"\",\"\",'INPUT DATA'!B24)","v":"Student 12"},null,null,null,null,null,null,null,null,null,null,null,null,null,null,null,null,null,null,null,null,null,null,null,null,null,null,0,25,null,null,null,null,null,null,null,{"$f":"MAX(FREQUENCY(IF(D25:AB25=\"r\",COLUMN(D25:AB25)),IF(D25:AB25<>\"r\",COLUMN(D25:AB25))))","v":0},""]
[13,{"$f":"IF('INPUT DATA'!B25=\"\",\"\",'INPUT DATA'!B25)","v":"Student 13"},null,null,null,null,null,null,null,null,null,null,null,null,null,null,null,null,null,null,null,null,null,null,null,null,null,null,0,25,null,null,null,null,null,null,null,{"$f":"MAX(FREQUENCY(IF(D26:AB26=\"r\",COLUMN(D26:AB26)),IF(D26:AB26<>\"r\",COLUMN(D26:AB26))))","v":0},""]
[14,{"$f":"IF('INPUT DATA'!B26=\"\",\"\",'INPUT DATA'!B26)","v":"Student 14"},null,null,null,null,null,null,null,null,null,null,null,null,null,null,null,null,null,null,null,null,null,null,null,null,null,null,0,25,null,null,null,null,null,null,null,{"$f":"MAX(FREQUENCY(IF(D27:AB27=\"r\",COLUMN(D27:AB27)),IF(D27:AB27<>\"r\",COLUMN(D27:AB27))))","v":0},""]
[15,{"$f":"IF('INPUT DATA'!B27=\"\",\"\",'INPUT DATA'!B27)","v":"Student 15"},null,null,null,null,null,null,null,null,null,null,null,null,null,null,null,null,null,null,null,null,null,null,null,null,null,null,0,25,null,null,null,null,null,null,null,{"$f":"MAX(FREQUENCY(IF(D28:AB28=\"r\",COLUMN(D28:AB28)),IF(D28:AB28<>\"r\",COLUMN(D28:AB28))))","v":0},""]
[16,{"$f":"IF('INPUT DATA'!B28=\"\",\"\",'INPUT DATA'!B28)","v":"Student 16"},null,null,null,null,null,null,null,null,null,null,null,null,null,null,null,null,null,null,null,null,null,null,null,null,null,null,0,25,null,null,null,null,null,null,null,{"$f":"MAX(FREQUENCY(IF(D29:AB29=\"r\",COLUMN(D29:AB29)),IF(D29:AB29<>\"r\",COLUMN(D29:AB29))))","v":0},""]
[17,{"$f":"IF('INPUT DATA'!B29=\"\",\"\",'INPUT DATA'!B29)","v":"Student 17"},null,null,null,null,null,null,null,null,null,null,null,null,null,null,null,null,null,null,null,null,null,null,null,null,null,null,0,25,null,null,null,null,null,null,null,{"$f":"MAX(FREQUENCY(IF(D30:AB30=\"r\",COLUMN(D30:AB30)),IF(D30:AB30<>\"r\",COLUMN(D30:AB30))))","v":0},""]
[18,{"$f":"IF('INPUT DATA'!B30=\"\",\"\",'INPUT DATA'!B30)","v":"Student 18"},null,null,null,null,null,null,null,null,null,null,null,null,null,null,null,null,null,null,null,null,null,null,null,null,null,null,0,25,null,null,null,null,null,null,null,{"$f":"MAX(FREQUENCY(IF(D31:AB31=\"r\",COLUMN(D31:AB31)),IF(D31:AB31<>\"r\",COLUMN(D31:AB31))))","v":0},""]
[19,{"$f":"IF('INPUT DATA'!B31=\"\",\"\",'INPUT DATA'!B31)","v":"Student 19"},null,null,null,null,null,null,null,null,null,null,null,null,null,null,null,null,null,null,null,null,null,null,null,null,null,null,0,25,null,null,null,null,null,null,null,{"$f":"MAX(FREQUENCY(IF(D32:AB32=\"r\",COLUMN(D32:AB32)),IF(D32:AB32<>\"r\",COLUMN(D32:AB32))))","v":0},""]
[20,{"$f":"IF('INPUT DATA'!B32=\"\",\"\",'INPUT DATA'!B32)","v":"Student 20"},null,null,null,null,null,null,null,null,null,null,null,null,null,null,null,null,null,null,null,null,null,null,null,null,null,null,0,25,null,null,null,null,null,null,null,{"$f":"MAX(FREQUENCY(IF(D33:AB33=\"r\",COLUMN(D33:AB33)),IF(D33:AB33<>\"r\",COLUMN(D33:AB33))))","v":0},""]
["",{"$f":"IF('INPUT DATA'!B33=\"\",\"\",'INPUT DATA'!B33)","v":""},null,null,null,null,null,null,null,null,null,null,null,null,null,null,null,null,null,null,null,null,null,null,null,null,null,null,"","",null,null,null,null,null,null,null,{"$f":"MAX(FREQUENCY(IF(D34:AB34=\"r\",COLUMN(D34:AB34)),IF(D34:AB34<>\"r\",COLUMN(D34:AB34))))","v":0},""]
["",{"$f":"IF('INPUT DATA'!B34=\"\",\"\",'INPUT DATA'!B34)","v":""},null,null,null,null,null,null,null,null,null,null,null,null,null,null,null,null,null,null,null,null,null,null,null,null,null,null,"","",null,null,null,null,null,null,null,{"$f":"MAX(FREQUENCY(IF(D35:AB35=\"r\",COLUMN(D35:AB35)),IF(D35:AB35<>\"r\",COLUMN(D35:AB35))))","v":0},""]
["",{"$f":"IF('INPUT DATA'!B35=\"\",\"\",'INPUT DATA'!B35)","v":""},null,null,null,null,null,null,null,null,null,null,null,null,null,null,null,null,null,null,null,null,null,null,null,null,null,null,"","",null,null,null,null,null,null,null,{"$f":"MAX(FREQUENCY(IF(D36:AB36=\"r\",COLUMN(D36:AB36)),IF(D36:AB36<>\"r\",COLUMN(D36:AB36))))","v":0},""]
["",{"$f":"IF('INPUT DATA'!B36=\"\",\"\",'INPUT DATA'!B36)","v":""},null,null,null,null,null,null,null,null,null,null,null,null,null,null,null,null,null,null,null,null,null,null,null,null,null,null,"","",null,null,null,null,null,null,null,{"$f":"MAX(FREQUENCY(IF(D37:AB37=\"r\",COLUMN(D37:AB37)),IF(D37:AB37<>\"r\",COLUMN(D37:AB37))))","v":0},""]
["",{"$f":"IF('INPUT DATA'!B37=\"\",\"\",'INPUT DATA'!B37)","v":""},null,null,null,null,null,null,null,null,null,null,null,null,null,null,null,null,null,null,null,null,null,null,null,null,null,null,"","",null,null,null,null,null,null,null,{"$f":"MAX(FREQUENCY(IF(D38:AB38=\"r\",COLUMN(D38:AB38)),IF(D38:AB38<>\"r\",COLUMN(D38:AB38))))","v":0},""]
["",{"$f":"IF('INPUT DATA'!B38=\"\",\"\",'INPUT DATA'!B38)","v":""},null,null,null,null,null,null,null,null,null,null,null,null,null,null,null,null,null,null,null,null,null,null,null,null,null,null,"","",null,null,null,null,null,null,null,{"$f":"MAX(FREQUENCY(IF(D39:AB39=\"r\",COLUMN(D39:AB39)),IF(D39:AB39<>\"r\",COLUMN(D39:AB39))))","v":0},""]
["",{"$f":"IF('INPUT DATA'!B39=\"\",\"\",'INPUT DATA'!B39)","v":""},null,null,null,null,null,null,null,null,null,null,null,null,null,null,null,null,null,null,null,null,null,null,null,null,null,null,"","",null,null,null,null,null,null,null,{"$f":"MAX(FREQUENCY(IF(D40:AB40=\"r\",COLUMN(D40:AB40)),IF(D40:AB40<>\"r\",COLUMN(D40:AB40))))","v":0},""]
["",{"$f":"IF('INPUT DATA'!B40=\"\",\"\",'INPUT DATA'!B40)","v":""},null,null,null,null,null,null,null,null,null,null,null,null,null,null,null,null,null,null,null,null,null,null,null,null,null,null,"","",null,null,null,null,null,null,null,{"$f":"MAX(FREQUENCY(IF(D41:AB41=\"r\",COLUMN(D41:AB41)),IF(D41:AB41<>\"r\",COLUMN(D41:AB41))))","v":0},""]
["",{"$f":"IF('INPUT DATA'!B41=\"\",\"\",'INPUT DATA'!B41)","v":""},null,null,null,null,null,null,null,null,null,null,null,null,null,null,null,null,null,null,null,null,null,null,null,null,null,null,"","",null,null,null,null,null,null,null,{"$f":"MAX(FREQUENCY(IF(D42:AB42=\"r\",COLUMN(D42:AB42)),IF(D42:AB42<>\"r\",COLUMN(D42:AB42))))","v":0},""]
["",{"$f":"IF('INPUT DATA'!B42=\"\",\"\",'INPUT DATA'!B42)","v":""},null,null,null,null,null,null,null,null,null,null,null,null,null,null,null,null,null,null,null,null,null,null,null,null,null,null,"","",null,null,null,null,null,null,null,{"$f":"MAX(FREQUENCY(IF(D43:AB43=\"r\",COLUMN(D43:AB43)),IF(D43:AB43<>\"r\",COLUMN(D43:AB43))))","v":0},""]
["",{"$f":"IF('INPUT DATA'!B43=\"\",\"\",'INPUT DATA'!B43)","v":""},null,null,null,null,null,null,null,null,null,null,null,null,null,null,null,null,null,null,null,null,null,null,null,null,null,null,"","",null,null,null,null,null,null,null,{"$f":"MAX(FREQUENCY(IF(D44:AB44=\"r\",COLUMN(D44:AB44)),IF(D44:AB44<>\"r\",COLUMN(D44:AB44))))","v":0},""]
["",{"$f":"IF('INPUT DATA'!B44=\"\",\"\",'INPUT DATA'!B44)","v":""},null,null,null,null,null,null,null,null,null,null,null,null,null,null,null,null,null,null,null,null,null,null,null,null,null,null,"","",null,null,null,null,null,null,null,{"$f":"MAX(FREQUENCY(IF(D45:AB45=\"r\",COLUMN(D45:AB45)),IF(D45:AB45<>\"r\",COLUMN(D45:AB45))))","v":0},""]
["",{"$f":"IF('INPUT DATA'!B45=\"\",\"\",'INPUT DATA'!B45)","v":""},null,null,null,null,null,null,null,null,null,null,null,null,null,null,null,null,null,null,null,null,null,null,null,null,null,null,"","",null,null,null,null,null,null,null,{"$f":"MAX(FREQUENCY(IF(D46:AB46=\"r\",COLUMN(D46:AB46)),IF(D46:AB46<>\"r\",COLUMN(D46:AB46))))","v":0},""]
["",{"$f":"IF('INPUT DATA'!B46=\"\",\"\",'INPUT DATA'!B46)","v":""},null,null,null,null,null,null,null,null,null,null,null,null,null,null,null,null,null,null,null,null,null,null,null,null,null,null,"","",null,null,null,null,null,null,null,{"$f":"MAX(FREQUENCY(IF(D47:AB47=\"r\",COLUMN(D47:AB47)),IF(D47:AB47<>\"r\",COLUMN(D47:AB47))))","v":0},""]
["",{"$f":"IF('INPUT DATA'!B47=\"\",\"\",'INPUT DATA'!B47)","v":""},null,null,null,null,null,null,null,null,null,null,null,null,null,null,null,null,null,null,null,null,null,null,null,null,null,null,"","",null,null,null,null,null,null,null,{"$f":"MAX(FREQUENCY(IF(D48:AB48=\"r\",COLUMN(D48:AB48)),IF(D48:AB48<>\"r\",COLUMN(D48:AB48))))","v":0},""]
["",{"$f":"IF('INPUT DATA'!B48=\"\",\"\",'INPUT DATA'!B48)","v":""},null,null,null,null,null,null,null,null,null,null,null,null,null,null,null,null,null,null,null,null,null,null,null,null,null,null,"","",null,null,null,null,null,null,null,{"$f":"MAX(FREQUENCY(IF(D49:AB49=\"r\",COLUMN(D49:AB49)),IF(D49:AB49<>\"r\",COLUMN(D49:AB49))))","v":0},""]
["",{"$f":"IF('INPUT DATA'!B49=\"\",\"\",'INPUT DATA'!B49)","v":""},null,null,null,null,null,null,null,null,null,null,null,null,null,null,null,null,null,null,null,null,null,null,null,null,null,null,"","",null,null,null,null,null,null,null,{"$f":"MAX(FREQUENCY(IF(D50:AB50=\"r\",COLUMN(D50:AB50)),IF(D50:AB50<>\"r\",COLUMN(D50:AB50))))","v":0},""]
["",{"$f":"IF('INPUT DATA'!B50=\"\",\"\",'INPUT DATA'!B50)","v":""},null,null,null,null,null,null,null,null,null,null,null,null,null,null,null,null,null,null,null,null,null,null,null,null,null,null,"","",null,null,null,null,null,null,null,{"$f":"MAX(FREQUENCY(IF(D51:AB51=\"r\",COLUMN(D51:AB51)),IF(D51:AB51<>\"r\",COLUMN(D51:AB51))))","v":0},""]
["",{"$f":"IF('INPUT DATA'!B51=\"\",\"\",'INPUT DATA'!B51)","v":""},null,null,null,null,null,null,null,null,null,null,null,null,null,null,null,null,null,null,null,null,null,null,null,null,null,null,"","",null,null,null,null,null,null,null,{"$f":"MAX(FREQUENCY(IF(D52:AB52=\"r\",COLUMN(D52:AB52)),IF(D52:AB52<>\"r\",COLUMN(D52:AB52))))","v":0},""]
["",{"$f":"IF('INPUT DATA'!B52=\"\",\"\",'INPUT DATA'!B52)","v":""},null,null,null,null,null,null,null,null,null,null,null,null,null,null,null,null,null,null,null,null,null,null,null,null,null,null,"","",null,null,null,null,null,null,null,{"$f":"MAX(FREQUENCY(IF(D53:AB53=\"r\",COLUMN(D53:AB53)),IF(D53:AB53<>\"r\",COLUMN(D53:AB53))))","v":0},""]
["",{"$f":"IF('INPUT DATA'!B53=\"\",\"\",'INPUT DATA'!B53)","v":""},null,null,null,null,null,null,null,null,null,null,null,null,null,null,null,null,null,null,null,null,null,null,null,null,null,null,"","",null,null,null,null,null,null,null,{"$f":"MAX(FREQUENCY(IF(D54:AB54=\"r\",COLUMN(D54:AB54)),IF(D54:AB54<>\"r\",COLUMN(D54:AB54))))","v":0},""]
["",{"$f":"IF('INPUT DATA'!B54=\"\",\"\",'INPUT DATA'!B54)","v":""},null,null,null,null,null,null,null,null,null,null,null,null,null,null,null,null,null,null,null,null,null,null,null,null,null,null,"","",null,null,null,null,null,null,null,{"$f":"MAX(FREQUENCY(IF(D55:AB55=\"r\",COLUMN(D55:AB55)),IF(D55:AB55<>\"r\",COLUMN(D55:AB55))))","v":0},""]
["",{"$f":"IF('INPUT DATA'!B55=\"\",\"\",'INPUT DATA'!B55)","v":""},null,null,null,null,null,null,null,null,null,null,null,null,null,null,null,null,null,null,null,null,null,null,null,null,null,null,"","",null,null,null,null,null,null,null,{"$f":"MAX(FREQUENCY(IF(D56:AB56=\"r\",COLUMN(D56:AB56)),IF(D56:AB56<>\"r\",COLUMN(D56:AB56))))","v":0},""]
["",{"$f":"IF('INPUT DATA'!B56=\"\",\"\",'INPUT DATA'!B56)","v":""},null,null,null,null,null,null,null,null,null,null,null,null,null,null,null,null,null,null,null,null,null,null,null,null,null,null,"","",null,null,null,null,null,null,null,{"$f":"MAX(FREQUENCY(IF(D57:AB57=\"r\",COLUMN(D57:AB57)),IF(D57:AB57<>\"r\",COLUMN(D57:AB57))))","v":0},""]
["",{"$f":"IF('INPUT DATA'!B57=\"\",\"\",'INPUT DATA'!B57)","v":""},null,null,null,null,null,null,null,null,null,null,null,null,null,null,null,null,null,null,null,null,null,null,null,null,null,null,"","",null,null,null,null,null,null,null,{"$f":"MAX(FREQUENCY(IF(D58:AB58=\"r\",COLUMN(D58:AB58)),IF(D58:AB58<>\"r\",COLUMN(D58:AB58))))","v":0},""]
["",{"$f":"IF('INPUT DATA'!B58=\"\",\"\",'INPUT DATA'!B58)","v":""},null,null,null,null,null,null,null,null,null,null,null,null,null,null,null,null,null,null,null,null,null,null,null,null,null,null,"","",null,null,null,null,null,null,null,{"$f":"MAX(FREQUENCY(IF(D59:AB59=\"r\",COLUMN(D59:AB59)),IF(D59:AB59<>\"r\",COLUMN(D59:AB59))))","v":0},""]
["",{"$f":"IF('INPUT DATA'!B59=\"\",\"\",'INPUT DATA'!B59)","v":""},null,null,null,null,null,null,null,null,null,null,null,null,null,null,null,null,null,null,null,null,null,null,null,null,null,null,"","",null,null,null,null,null,null,null,{"$f":"MAX(FREQUENCY(IF(D60:AB60=\"r\",COLUMN(D60:AB60)),IF(D60:AB60<>\"r\",COLUMN(D60:AB60))))","v":0},""]
["",{"$f":"IF('INPUT DATA'!B60=\"\",\"\",'INPUT DATA'!B60)","v":""},null,null,null,null,null,null,null,null,null,null,null,null,null,null,null,null,null,null,null,null,null,null,null,null,null,null,"","",null,null,null,null,null,null,null,{"$f":"MAX(FREQUENCY(IF(D61:AB61=\"r\",COLUMN(D61:AB61)),IF(D61:AB61<>\"r\",COLUMN(D61:AB61))))","v":0},""]
["",{"$f":"IF('INPUT DATA'!B61=\"\",\"\",'INPUT DATA'!B61)","v":""},null,null,null,null,null,null,null,null,null,null,null,null,null,null,null,null,null,null,null,null,null,null,null,null,null,null,"","",null,null,null,null,null,null,null,{"$f":"MAX(FREQUENCY(IF(D62:AB62=\"r\",COLUMN(D62:AB62)),IF(D62:AB62<>\"r\",COLUMN(D62:AB62))))","v":0},""]
["",{"$f":"IF('INPUT DATA'!B62=\"\",\"\",'INPUT DATA'!B62)","v":""},null,null,null,null,null,null,null,null,null,null,null,null,null,null,null,null,null,null,null,null,null,null,null,null,null,null,"","",null,null,null,null,null,null,null,{"$f":"MAX(FREQUENCY(IF(D63:AB63=\"r\",COLUMN(D63:AB63)),IF(D63:AB63<>\"r\",COLUMN(D63:AB63))))","v":0},""]
["MALE  | TOTAL Per Day",null,null,{"$f":"IF(D11=\"\",\"\",SUM(COUNTBLANK(D14:D63)-COUNTBLANK($B$14:$B$63),COUNTIF(D14:D63,\"z\")*0.5,COUNTIF(D14:D63,\"y\")*0.5))","v":19},19,19,19,20,20,20,20,20,20,20,20,20,20,20,20,20,20,20,20,20,20,20,20,20,{"$f":"SUM(AC14:AC63)","v":4},{"$f":"SUM(AD14:AD63)","v":496},null,null,null,null,null,null,null,{"$f":"MAX(FREQUENCY(IF(D64:AB64=\"r\",COLUMN(D64:AB64)),IF(D64:AB64<>\"r\",COLUMN(D64:AB64))))","v":0},""]
[{"$f":"IF(B65=\"\",\"\",\"1\")","v":"1"},{"$f":"IF('INPUT DATA'!B64=\"\",\"\",'INPUT DATA'!B64)","v":"Student 1"},null,null,null,null,null,null,null,null,null,null,null,null,null,null,null,null,null,null,null,null,null,null,null,null,null,null,{"$f":"IF(B65=\"\",\"\",SUM(COUNTIF(D65:AB65,\"z\")*0.5,COUNTIF(D65:AB65,\"y\")*0.5,COUNTIF(D65:AB65,\"r\")))","v":0},{"$f":"IF(B65=\"\",\"\",COUNTA($D$11:$AB$11)-AC65)","v":25},null,null,null,null,null,null,null,{"$f":"MAX(FREQUENCY(IF(D65:AB65=\"r\",COLUMN(D65:AB65)),IF(D65:AB65<>\"r\",COLUMN(D65:AB65))))","v":0},""]
[{"$f":"IF(B66=\"\",\"\",A65+1)","v":2},{"$f":"IF('INPUT DATA'!B65=\"\",\"\",'INPUT DATA'!B65)","v":"Student 2"},null,null,null,null,null,null,null,null,null,null,null,null,null,null,null,null,null,null,null,null,null,null,null,null,null,null,{"$f":"IF(B66=\"\",\"\",SUM(COUNTIF(D66:AB66,\"z\")*0.5,COUNTIF(D66:AB66,\"y\")*0.5,COUNTIF(D66:AB66,\"r\")))","v":0},{"$f":"IF(B66=\"\",\"\",COUNTA($D$11:$AB$11)-AC66)","v":25},null,null,null,null,null,null,null,{"$f":"MAX(FREQUENCY(IF(D66:AB66=\"r\",COLUMN(D66:AB66)),IF(D66:AB66<>\"r\",COLUMN(D66:AB66))))","v":0},""]
[{"$f":"IF(B67=\"\",\"\",A66+1)","v":3},{"$f":"IF('INPUT DATA'!B66=\"\",\"\",'INPUT DATA'!B66)","v":"Student 3"},null,null,null,null,null,null,null,null,null,null,null,null,null,null,null,null,null,null,null,null,null,null,null,null,null,null,0,25,null,null,null,null,null,null,null,{"$f":"MAX(FREQUENCY(IF(D67:AB67=\"r\",COLUMN(D67:AB67)),IF(D67:AB67<>\"r\",COLUMN(D67:AB67))))","v":0},""]
[4,{"$f":"IF('INPUT DATA'!B67=\"\",\"\",'INPUT DATA'!B67)","v":"Student 4"},null,null,null,null,null,null,null,null,null,null,null,null,null,null,null,null,null,null,null,null,null,null,null,null,null,null,0,25,null,null,null,null,null,null,null,{"$f":"MAX(FREQUENCY(IF(D68:AB68=\"r\",COLUMN(D68:AB68)),IF(D68:AB68<>\"r\",COLUMN(D68:AB68))))","v":0},""]
[5,{"$f":"IF('INPUT DATA'!B68=\"\",\"\",'INPUT DATA'!B68)","v":"Student 5"},null,null,null,null,null,null,null,null,null,null,null,null,null,null,null,null,null,null,null,null,null,null,null,null,null,null,0,25,null,null,null,null,null,null,null,{"$f":"MAX(FREQUENCY(IF(D69:AB69=\"r\",COLUMN(D69:AB69)),IF(D69:AB69<>\"r\",COLUMN(D69:AB69))))","v":0},""]
[6,{"$f":"IF('INPUT DATA'!B69=\"\",\"\",'INPUT DATA'!B69)","v":"Student 6"},null,null,null,null,null,null,null,null,null,null,null,null,null,null,null,null,null,null,null,null,null,null,null,null,null,null,0,25,null,null,null,null,null,null,null,{"$f":"MAX(FREQUENCY(IF(D70:AB70=\"r\",COLUMN(D70:AB70)),IF(D70:AB70<>\"r\",COLUMN(D70:AB70))))","v":0},""]
[7,{"$f":"IF('INPUT DATA'!B70=\"\",\"\",'INPUT DATA'!B70)","v":"Student 7"},null,null,null,null,null,null,null,null,null,null,null,null,null,null,null,null,null,null,null,null,null,null,null,null,null,null,0,25,null,null,null,null,null,null,null,{"$f":"MAX(FREQUENCY(IF(D71:AB71=\"r\",COLUMN(D71:AB71)),IF(D71:AB71<>\"r\",COLUMN(D71:AB71))))","v":0},""]
[8,{"$f":"IF('INPUT DATA'!B71=\"\",\"\",'INPUT DATA'!B71)","v":"Student 8"},null,null,null,null,null,null,null,null,null,null,null,null,null,null,null,null,null,null,null,null,null,null,null,null,null,null,0,25,null,null,null,null,null,null,null,{"$f":"MAX(FREQUENCY(IF(D72:AB72=\"r\",COLUMN(D72:AB72)),IF(D72:AB72<>\"r\",COLUMN(D72:AB72))))","v":0},""]
[9,{"$f":"IF('INPUT DATA'!B72=\"\",\"\",'INPUT DATA'!B72)","v":"Student 9"},null,null,null,null,null,null,null,null,null,null,null,null,null,null,null,null,null,null,null,null,null,null,null,null,null,null,0,25,null,null,null,null,null,null,null,{"$f":"MAX(FREQUENCY(IF(D73:AB73=\"r\",COLUMN(D73:AB73)),IF(D73:AB73<>\"r\",COLUMN(D73:AB73))))","v":0},""]
[10,{"$f":"IF('INPUT DATA'!B73=\"\",\"\",'INPUT DATA'!B73)","v":"Student 10"},null,null,null,null,null,null,null,null,null,null,null,null,null,null,null,null,null,null,null,null,null,null,null,null,null,null,0,25,null,null,null,null,null,null,null,{"$f":"MAX(FREQUENCY(IF(D74:AB74=\"r\",COLUMN(D74:AB74)),IF(D74:AB74<>\"r\",COLUMN(D74:AB74))))","v":0},""]
[11,{"$f":"IF('INPUT DATA'!B74=\"\",\"\",'INPUT DATA'!B74)","v":"Student 11"},null,null,null,null,null,null,null,null,null,null,null,null,null,null,null,null,null,null,null,null,null,null,null,null,null,null,0,25,null,null,null,null,null,null,null,{"$f":"MAX(FREQUENCY(IF(D75:AB75=\"r\",COLUMN(D75:AB75)),IF(D75:AB75<>\"r\",COLUMN(D75:AB75))))","v":0},""]
[12,{"$f":"IF('INPUT DATA'!B75=\"\",\"\",'INPUT DATA'!B75)","v":"Student 12"},null,null,null,null,null,null,null,null,null,null,null,null,null,null,null,null,null,null,null,null,null,null,null,null,null,null,0,25,null,null,null,null,null,null,null,{"$f":"MAX(FREQUENCY(IF(D76:AB76=\"r\",COLUMN(D76:AB76)),IF(D76:AB76<>\"r\",COLUMN(D76:AB76))))","v":0},""]
[13,{"$f":"IF('INPUT DATA'!B76=\"\",\"\",'INPUT DATA'!B76)","v":"Student 13"},null,null,null,null,null,null,null,null,null,null,null,null,null,null,null,null,null,null,null,null,null,null,null,null,null,null,0,25,null,null,null,null,null,null,null,{"$f":"MAX(FREQUENCY(IF(D77:AB77=\"r\",COLUMN(D77:AB77)),IF(D77:AB77<>\"r\",COLUMN(D77:AB77))))","v":0},""]
[14,{"$f":"IF('INPUT DATA'!B77=\"\",\"\",'INPUT DATA'!B77)","v":"Student 14"},null,null,null,null,null,null,null,null,null,null,null,null,null,null,null,null,null,null,null,null,null,null,null,null,null,null,0,25,null,null,null,null,null,null,null,{"$f":"MAX(FREQUENCY(IF(D78:AB78=\"r\",COLUMN(D78:AB78)),IF(D78:AB78<>\"r\",COLUMN(D78:AB78))))","v":0},""]
[15,{"$f":"IF('INPUT DATA'!B78=\"\",\"\",'INPUT DATA'!B78)","v":"Student 15"},null,null,null,null,null,null,null,null,null,null,null,null,null,null,null,null,null,null,null,null,null,null,null,null,null,null,0,25,null,null,null,null,null,null,null,{"$f":"MAX(FREQUENCY(IF(D79:AB79=\"r\",COLUMN(D79:AB79)),IF(D79:AB79<>\"r\",COLUMN(D79:AB79))))","v":0},{"$f":"IF(AL79>=5,1,\"\")","v":""}]
[16,{"$f":"IF('INPUT DATA'!B79=\"\",\"\",'INPUT DATA'!B79)","v":"Student 16"},null,null,null,null,null,null,null,null,null,null,null,null,null,null,null,null,null,null,null,null,null,null,null,null,null,null,0,25,null,null,null,null,null,null,null,{"$f":"MAX(FREQUENCY(IF(D80:AB80=\"r\",COLUMN(D80:AB80)),IF(D80:AB80<>\"r\",COLUMN(D80:AB80))))","v":0},""]
[17,{"$f":"IF('INPUT DATA'!B80=\"\",\"\",'INPUT DATA'!B80)","v":"Student 17"},null,null,null,null,null,null,null,null,null,null,null,null,null,null,null,null,null,null,null,null,null,null,null,null,null,null,0,25,null,null,null,null,null,null,null,{"$f":"MAX(FREQUENCY(IF(D81:AB81=\"r\",COLUMN(D81:AB81)),IF(D81:AB81<>\"r\",COLUMN(D81:AB81))))","v":0},""]
[18,{"$f":"IF('INPUT DATA'!B81=\"\",\"\",'INPUT DATA'!B81)","v":"Student 18"},null,null,null,null,null,null,null,null,null,null,null,null,null,null,null,null,null,null,null,null,null,null,null,null,null,null,0,25,null,null,null,null,null,null,null,{"$f":"MAX(FREQUENCY(IF(D82:AB82=\"r\",COLUMN(D82:AB82)),IF(D82:AB82<>\"r\",COLUMN(D82:AB82))))","v":0},""]
[19,{"$f":"IF('INPUT DATA'!B82=\"\",\"\",'INPUT DATA'!B82)","v":"Student 19"},null,null,null,null,null,null,null,null,null,null,null,null,null,null,null,null,null,null,null,null,null,null,null,null,null,null,0,25,null,null,null,null,null,null,null,{"$f":"MAX(FREQUENCY(IF(D83:AB83=\"r\",COLUMN(D83:AB83)),IF(D83:AB83<>\"r\",COLUMN(D83:AB83))))","v":0},""]
[20,{"$f":"IF('INPUT DATA'!B83=\"\",\"\",'INPUT DATA'!B83)","v":"Student 20"},null,null,null,null,null,null,null,null,null,null,null,null,null,null,null,null,null,null,null,null,null,null,null,null,null,null,0,25,null,null,null,null,null,null,null,{"$f":"MAX(FREQUENCY(IF(D84:AB84=\"r\",COLUMN(D84:AB84)),IF(D84:AB84<>\"r\",COLUMN(D84:AB84))))","v":0},""]
["",{"$f":"IF('INPUT DATA'!B84=\"\",\"\",'INPUT DATA'!B84)","v":""},null,null,null,null,null,null,null,null,null,null,null,null,null,null,null,null,null,null,null,null,null,null,null,null,null,null,"","",null,null,null,null,null,null,null,{"$f":"MAX(FREQUENCY(IF(D85:AB85=\"r\",COLUMN(D85:AB85)),IF(D85:AB85<>\"r\",COLUMN(D85:AB85))))","v":0},""]
["",{"$f":"IF('INPUT DATA'!B85=\"\",\"\",'INPUT DATA'!B85)","v":""},null,null,null,null,null,null,null,null,null,null,null,null,null,null,null,null,null,null,null,null,null,null,null,null,null,null,"","",null,null,null,null,null,null,null,{"$f":"MAX(FREQUENCY(IF(D86:AB86=\"r\",COLUMN(D86:AB86)),IF(D86:AB86<>\"r\",COLUMN(D86:AB86))))","v":0},""]
["",{"$f":"IF('INPUT DATA'!B86=\"\",\"\",'INPUT DATA'!B86)","v":""},null,null,null,null,null,null,null,null,null,null,null,null,null,null,null,null,null,null,null,null,null,null,null,null,null,null,"","",null,null,null,null,null,null,null,{"$f":"MAX(FREQUENCY(IF(D87:AB87=\"r\",COLUMN(D87:AB87)),IF(D87:AB87<>\"r\",COLUMN(D87:AB87))))","v":0},""]
["",{"$f":"IF('INPUT DATA'!B87=\"\",\"\",'INPUT DATA'!B87)","v":""},null,null,null,null,null,null,null,null,null,null,null,null,null,null,null,null,null,null,null,null,null,null,null,null,null,null,"","",null,null,null,null,null,null,null,{"$f":"MAX(FREQUENCY(IF(D88:AB88=\"r\",COLUMN(D88:AB88)),IF(D88:AB88<>\"r\",COLUMN(D88:AB88))))","v":0},""]
["",{"$f":"IF('INPUT DATA'!B88=\"\",\"\",'INPUT DATA'!B88)","v":""},null,null,null,null,null,null,null,null,null,null,null,null,null,null,null,null,null,null,null,null,null,null,null,null,null,null,"","",null,null,null,null,null,null,null,{"$f":"MAX(FREQUENCY(IF(D89:AB89=\"r\",COLUMN(D89:AB89)),IF(D89:AB89<>\"r\",COLUMN(D89:AB89))))","v":0},""]
["",{"$f":"IF('INPUT DATA'!B89=\"\",\"\",'INPUT DATA'!B89)","v":""},null,null,null,null,null,null,null,null,null,null,null,null,null,null,null,null,null,null,null,null,null,null,null,null,null,null,"","",null,null,null,null,null,null,null,{"$f":"MAX(FREQUENCY(IF(D90:AB90=\"r\",COLUMN(D90:AB90)),IF(D90:AB90<>\"r\",COLUMN(D90:AB90))))","v":0},""]
["",{"$f":"IF('INPUT DATA'!B90=\"\",\"\",'INPUT DATA'!B90)","v":""},null,null,null,null,null,null,null,null,null,null,null,null,null,null,null,null,null,null,null,null,null,null,null,null,null,null,"","",null,null,null,null,null,null,null,{"$f":"MAX(FREQUENCY(IF(D91:AB91=\"r\",COLUMN(D91:AB91)),IF(D91:AB91<>\"r\",COLUMN(D91:AB91))))","v":0},""]
["",{"$f":"IF('INPUT DATA'!B91=\"\",\"\",'INPUT DATA'!B91)","v":""},null,null,null,null,null,null,null,null,null,null,null,null,null,null,null,null,null,null,null,null,null,null,null,null,null,null,"","",null,null,null,null,null,null,null,{"$f":"MAX(FREQUENCY(IF(D92:AB92=\"r\",COLUMN(D92:AB92)),IF(D92:AB92<>\"r\",COLUMN(D92:AB92))))","v":0},""]
["",{"$f":"IF('INPUT DATA'!B92=\"\",\"\",'INPUT DATA'!B92)","v":""},null,null,null,null,null,null,null,null,null,null,null,null,null,null,null,null,null,null,null,null,null,null,null,null,null,null,"","",null,null,null,null,null,null,null,{"$f":"MAX(FREQUENCY(IF(D93:AB93=\"r\",COLUMN(D93:AB93)),IF(D93:AB93<>\"r\",COLUMN(D93:AB93))))","v":0},""]
["",{"$f":"IF('INPUT DATA'!B93=\"\",\"\",'INPUT DATA'!B93)","v":""},null,null,null,null,null,null,null,null,null,null,null,null,null,null,null,null,null,null,null,null,null,null,null,null,null,null,"","",null,null,null,null,null,null,null,{"$f":"MAX(FREQUENCY(IF(D94:AB94=\"r\",COLUMN(D94:AB94)),IF(D94:AB94<>\"r\",COLUMN(D94:AB94))))","v":0},""]
["",{"$f":"IF('INPUT DATA'!B94=\"\",\"\",'INPUT DATA'!B94)","v":""},null,null,null,null,null,null,null,null,null,null,null,null,null,null,null,null,null,null,null,null,null,null,null,null,null,null,"","",null,null,null,null,null,null,null,{"$f":"MAX(FREQUENCY(IF(D95:AB95=\"r\",COLUMN(D95:AB95)),IF(D95:AB95<>\"r\",COLUMN(D95:AB95))))","v":0},""]
["",{"$f":"IF('INPUT DATA'!B95=\"\",\"\",'INPUT DATA'!B95)","v":""},null,null,null,null,null,null,null,null,null,null,null,null,null,null,null,null,null,null,null,null,null,null,null,null,null,null,"","",null,null,null,null,null,null,null,{"$f":"MAX(FREQUENCY(IF(D96:AB96=\"r\",COLUMN(D96:AB96)),IF(D96:AB96<>\"r\",COLUMN(D96:AB96))))","v":0},""]
["",{"$f":"IF('INPUT DATA'!B96=\"\",\"\",'INPUT DATA'!B96)","v":""},null,null,null,null,null,null,null,null,null,null,null,null,null,null,null,null,null,null,null,null,null,null,null,null,null,null,"","",null,null,null,null,null,null,null,{"$f":"MAX(FREQUENCY(IF(D97:AB97=\"r\",COLUMN(D97:AB97)),IF(D97:AB97<>\"r\",COLUMN(D97:AB97))))","v":0},""]
["",{"$f":"IF('INPUT DATA'!B97=\"\",\"\",'INPUT DATA'!B97)","v":""},null,null,null,null,null,null,null,null,null,null,null,null,null,null,null,null,null,null,null,null,null,null,null,null,null,null,"","",null,null,null,null,null,null,null,{"$f":"MAX(FREQUENCY(IF(D98:AB98=\"r\",COLUMN(D98:AB98)),IF(D98:AB98<>\"r\",COLUMN(D98:AB98))))","v":0},""]
["",{"$f":"IF('INPUT DATA'!B98=\"\",\"\",'INPUT DATA'!B98)","v":""},null,null,null,null,null,null,null,null,null,null,null,null,null,null,null,null,null,null,null,null,null,null,null,null,null,null,"","",null,null,null,null,null,null,null,{"$f":"MAX(FREQUENCY(IF(D99:AB99=\"r\",COLUMN(D99:AB99)),IF(D99:AB99<>\"r\",COLUMN(D99:AB99))))","v":0},""]
["",{"$f":"IF('INPUT DATA'!B99=\"\",\"\",'INPUT DATA'!B99)","v":""},null,null,null,null,null,null,null,null,null,null,null,null,null,null,null,null,null,null,null,null,null,null,null,null,null,null,"","",null,null,null,null,null,null,null,{"$f":"MAX(FREQUENCY(IF(D100:AB100=\"r\",COLUMN(D100:AB100)),IF(D100:AB100<>\"r\",COLUMN(D100:AB100))))","v":0},""]
["",{"$f":"IF('INPUT DATA'!B100=\"\",\"\",'INPUT DATA'!B100)","v":""},null,null,null,null,null,null,null,null,null,null,null,null,null,null,null,null,null,null,null,null,null,null,null,null,null,null,"","",null,null,null,null,null,null,null,{"$f":"MAX(FREQUENCY(IF(D101:AB101=\"r\",COLUMN(D101:AB101)),IF(D101:AB101<>\"r\",COLUMN(D101:AB101))))","v":0},""]
["",{"$f":"IF('INPUT DATA'!B101=\"\",\"\",'INPUT DATA'!B101)","v":""},null,null,null,null,null,null,null,null,null,null,null,null,null,null,null,null,null,null,null,null,null,null,null,null,null,null,"","",null,null,null,null,null,null,null,{"$f":"MAX(FREQUENCY(IF(D102:AB102=\"r\",COLUMN(D102:AB102)),IF(D102:AB102<>\"r\",COLUMN(D102:AB102))))","v":0},""]
["",{"$f":"IF('INPUT DATA'!B102=\"\",\"\",'INPUT DATA'!B102)","v":""},null,null,null,null,null,null,null,null,null,null,null,null,null,null,null,null,null,null,null,null,null,null,null,null,null,null,"","",null,null,null,null,null,null,null,{"$f":"MAX(FREQUENCY(IF(D103:AB103=\"r\",COLUMN(D103:AB103)),IF(D103:AB103<>\"r\",COLUMN(D103:AB103))))","v":0},""]
["",{"$f":"IF('INPUT DATA'!B103=\"\",\"\",'INPUT DATA'!B103)","v":""},null,null,null,null,null,null,null,null,null,null,null,null,null,null,null,null,null,null,null,null,null,null,null,null,null,null,"","",null,null,null,null,null,null,null,{"$f":"MAX(FREQUENCY(IF(D104:AB104=\"r\",COLUMN(D104:AB104)),IF(D104:AB104<>\"r\",COLUMN(D104:AB104))))","v":0},""]
["",{"$f":"IF('INPUT DATA'!B104=\"\",\"\",'INPUT DATA'!B104)","v":""},null,null,null,null,null,null,null,null,null,null,null,null,null,null,null,null,null,null,null,null,null,null,null,null,null,null,"","",null,null,null,null,null,null,null,{"$f":"MAX(FREQUENCY(IF(D105:AB105=\"r\",COLUMN(D105:AB105)),IF(D105:AB105<>\"r\",COLUMN(D105:AB105))))","v":0},""]
["",{"$f":"IF('INPUT DATA'!B105=\"\",\"\",'INPUT DATA'!B105)","v":""},null,null,null,null,null,null,null,null,null,null,null,null,null,null,null,null,null,null,null,null,null,null,null,null,null,null,"","",null,null,null,null,null,null,null,{"$f":"MAX(FREQUENCY(IF(D106:AB106=\"r\",COLUMN(D106:AB106)),IF(D106:AB106<>\"r\",COLUMN(D106:AB106))))","v":0},""]
["",{"$f":"IF('INPUT DATA'!B106=\"\",\"\",'INPUT DATA'!B106)","v":""},null,null,null,null,null,null,null,null,null,null,null,null,null,null,null,null,null,null,null,null,null,null,null,null,null,null,"","",null,null,null,null,null,null,null,{"$f":"MAX(FREQUENCY(IF(D107:AB107=\"r\",COLUMN(D107:AB107)),IF(D107:AB107<>\"r\",COLUMN(D107:AB107))))","v":0},""]
["",{"$f":"IF('INPUT DATA'!B107=\"\",\"\",'INPUT DATA'!B107)","v":""},null,null,null,null,null,null,null,null,null,null,null,null,null,null,null,null,null,null,null,null,null,null,null,null,null,null,"","",null,null,null,null,null,null,null,{"$f":"MAX(FREQUENCY(IF(D108:AB108=\"r\",COLUMN(D108:AB108)),IF(D108:AB108<>\"r\",COLUMN(D108:AB108))))","v":0},""]
["",{"$f":"IF('INPUT DATA'!B108=\"\",\"\",'INPUT DATA'!B108)","v":""},null,null,null,null,null,null,null,null,null,null,null,null,null,null,null,null,null,null,null,null,null,null,null,null,null,null,"","",null,null,null,null,null,null,null,{"$f":"MAX(FREQUENCY(IF(D109:AB109=\"r\",COLUMN(D109:AB109)),IF(D109:AB109<>\"r\",COLUMN(D109:AB109))))","v":0},""]
["",{"$f":"IF('INPUT DATA'!B109=\"\",\"\",'INPUT DATA'!B109)","v":""},null,null,null,null,null,null,null,null,null,null,null,null,null,null,null,null,null,null,null,null,null,null,null,null,null,null,"","",null,null,null,null,null,null,null,{"$f":"MAX(FREQUENCY(IF(D110:AB110=\"r\",COLUMN(D110:AB110)),IF(D110:AB110<>\"r\",COLUMN(D110:AB110))))","v":0},""]
["",{"$f":"IF('INPUT DATA'!B110=\"\",\"\",'INPUT DATA'!B110)","v":""},null,null,null,null,null,null,null,null,null,null,null,null,null,null,null,null,null,null,null,null,null,null,null,null,null,null,"","",null,null,null,null,null,null,null,{"$f":"MAX(FREQUENCY(IF(D111:AB111=\"r\",COLUMN(D111:AB111)),IF(D111:AB111<>\"r\",COLUMN(D111:AB111))))","v":0},""]
["",{"$f":"IF('INPUT DATA'!B111=\"\",\"\",'INPUT DATA'!B111)","v":""},null,null,null,null,null,null,null,null,null,null,null,null,null,null,null,null,null,null,null,null,null,null,null,null,null,null,"","",null,null,null,null,null,null,null,{"$f":"MAX(FREQUENCY(IF(D112:AB112=\"r\",COLUMN(D112:AB112)),IF(D112:AB112<>\"r\",COLUMN(D112:AB112))))","v":0},""]
["",{"$f":"IF('INPUT DATA'!B112=\"\",\"\",'INPUT DATA'!B112)","v":""},null,null,null,null,null,null,null,null,null,null,null,null,null,null,null,null,null,null,null,null,null,null,null,null,null,null,"","",null,null,null,null,null,null,null,{"$f":"MAX(FREQUENCY(IF(D113:AB113=\"r\",COLUMN(D113:AB113)),IF(D113:AB113<>\"r\",COLUMN(D113:AB113))))","v":0},""]
["",{"$f":"IF('INPUT DATA'!B113=\"\",\"\",'INPUT DATA'!B113)","v":""},null,null,null,null,null,null,null,null,null,null,null,null,null,null,null,null,null,null,null,null,null,null,null,null,null,null,"","",null,null,null,null,null,null,null,{"$f":"MAX(FREQUENCY(IF(D114:AB114=\"r\",COLUMN(D114:AB114)),IF(D114:AB114<>\"r\",COLUMN(D114:AB114))))","v":0},""]
["FEMALE  | TOTAL Per Day",null,null,{"$f":"IF(D11=\"\",\"\",SUM(COUNTBLANK(D65:D114)-COUNTBLANK($B$65:$B$114),COUNTIF(D65:D114,\"z\")*0.5,COUNTIF(D65:D114,\"y\")*0.5))","v":20},20,20,20,20,20,20,20,20,20,20,20,20,20,20,20,20,20,20,20,20,20,20,20,20,{"$f":"SUM(AC65:AC114)","v":0},{"$f":"SUM(AD65:AD114)","v":500}]
["    Combined TOTAL PER DAY",null,null,{"$f":"IF(D11=\"\",\"\",SUM(D64,D115))","v":39},39,39,39,40,40,40,40,40,40,40,40,40,40,40,40,40,40,40,40,40,40,40,40,40,{"$f":"SUM(AC64,AC115)","v":4},{"$f":"SUM(AD64,AD115)","v":996}]
[]
["GUIDELINES:",null,null,null,null,null,null,null,null,null,null,null,null,null,null,null,"1. CODES FOR CHECKING ATTENDANCE",null,null,null,null,null,null,null,null,null,null,"Month:",{"$f":"X6","v":"April"},null,"No. of Days of Classes:",null,{"$f":"COUNT(D11:AB11)","v":25},"Summary for the Month"]
["1. The attendance shall be accomplished daily. Refer to the codes for checking learners' attendance.",null,null,null,null,null,null,null,null,null,null,null,null,null,null,null,"blank- Present;   (x)- Absent; Tardy (half shaded= Upper for Late Commer, Lower for Cutting Classes)",null,null,null,null,null,null,null,null,null,null,null,null,null,null,null,null,"M","F","TOTAL"]
["2. Dates shall be written in the preceding columns beside Learner's Name.",null,null,null,null,null,null,null,null,null,null,null,null,null,null,null,null,null,null,null,null,null,null,null,null,null,null,"* Enrolment  as of  (1st Friday of June)",null,null,null,null,null,{"$f":"IF('INPUT DATA'!R79=\"\",\"\",'INPUT DATA'!R79)","v":""},{"$f":"IF('INPUT DATA'!S79=\"\",\"\",'INPUT DATA'!S79)","v":""},{"$f":"SUM(AH120:AI121)","v":0}]
["3. To compute the following:"]
["a.","Percentage of Enrolment =",null,"Registered Learner as of End of the Month",null,null,null,null,null,null,null,null,null,"x 100",null,null,"2. REASONS/CAUSES OF DROP-OUTS",null,null,null,null,null,null,null,null,null,null,"Late Enrollment during the month                                               (beyond cut-off)",null,null,null,null,null,{"$f":"IF('INPUT DATA'!R80=\"\",\"\",'INPUT DATA'!R80)","v":""},{"$f":"IF('INPUT DATA'!S80=\"\",\"\",'INPUT DATA'!S80)","v":""},{"$f":"SUM(AH122:AI123)","v":0}]
[null,null,null,"Enrolment as of 1st Friday of June",null,null,null,null,null,null,null,null,null,null,null,null,"a. Domestic-Related Factors"]
["b.","Average Daily Attendance = ",null,"Total Daily Attendance",null,null,null,null,null,null,null,null,null,null,null,null,"a.1. Had to take care of siblings",null,null,null,null,null,null,null,null,null,null,"Registered Learner as of end of the month",null,null,null,null,null,{"$f":"IF('INPUT DATA'!R81=\"\",\"\",'INPUT DATA'!R81)","v":""},{"$f":"IF('INPUT DATA'!S81=\"\",\"\",'INPUT DATA'!S81)","v":""},{"$f":"SUM(AH124:AI125)","v":0}]
[null,null,null,"Number of School Days in reporting month",null,null,null,null,null,null,null,null,null,null,null,null,"a.2. Early marriage/pregnancy"]
["c.","Percentage of Attendance for the month =",null,"Average daily attendance",null,null,null,null,null,null,null,null,null,"x 100",null,null,"a.3. Parents' attitude toward schooling",null,null,null,null,null,null,null,null,null,null,"Percentage of Enrolment as of end of the month",null,null,null,null,null,{"$f":"CONCATENATE(IFERROR(ROUND((AH124)/(AH120)*100,0),\"\"),\"%\")","v":"%"},{"$f":"CONCATENATE(IFERROR(ROUND((AI124)/(AI120)*100,0),\"\"),\"%\")","v":"%"},{"$f":"CONCATENATE(IFERROR(ROUND((AJ124)/(AJ120)*100,0),\"\"),\"%\")","v":"%"}]
[null,null,null,"Registered Learner as of End of the month",null,null,null,null,null,null,null,null,null,null,null,null,"a.4. Family problems"]
[null,null,null,null,null,null,null,null,null,null,null,null,null,null,null,null,"b. Individual-Related Factors",null,null,null,null,null,null,null,null,null,null,"Average Daily Attendance",null,null,null,null,null,{"$f":"IFERROR(ROUND((AD64)/COUNTA(D11:AB11),2),\"\")","v":19.84},{"$f":"IFERROR(ROUND((AD115/COUNTA(D11:AB11)),2),\"\")","v":20},{"$f":"IFERROR(ROUND((AD116)/COUNTA(D11:AB11),2),\"\")","v":39.840000000000003}]
["4. Every End of the month, the class adviser will submit this form to the office of the principal for recording of \n     summary table into the School Form 4. Once signed by the principal, this form should be returned to the adviser.",null,null,null,null,null,null,null,null,null,null,null,null,null,null,null,"b.1. Illness",null,null,null,null,null,null,null,null,null,null,"Percentage of Attendance for the month ",null,null,null,null,null,{"$f":"CONCATENATE(IFERROR(ROUND((AH128/AH124)*100,0),\"\"),\"%\")","v":"%"},{"$f":"CONCATENATE(IFERROR(ROUND((AI128/AI124)*100,0),\"\"),\"%\")","v":"%"},{"$f":"CONCATENATE(IFERROR(ROUND((AJ128/AJ124)*100,0),\"\"),\"%\")","v":"%"}]
[null,null,null,null,null,null,null,null,null,null,null,null,null,null,null,null,"b.2. Overage"]
["5. The adviser will extend neccessary intervention including but not limited to home visitation  to learner/s that committed 5 consecutive days of absences or those with potentials of dropping out",null,null,null,null,null,null,null,null,null,null,null,null,null,null,null,"b.3. Death",null,null,null,null,null,null,null,null,null,null,"Number of students with 5 consecutive days of absences:",null,null,null,null,null,{"$f":"SUM(AM14:AM63)","v":0},{"$f":"SUM(AM65:AM114)","v":0},{"$f":"SUM(AH131:AI132)","v":0}]
[null,null,null,null,null,null,null,null,null,null,null,null,null,null,null,null,"b.4. Drug Abuse"]
["6.  Attendance performance of learner is expected to reflect in Form 137 and Form 138 every grading period",null,null,null,null,null,null,null,null,null,null,null,null,null,null,null,"b.5. Poor academic performance",null,null,null,null,null,null,null,null,null,null,"Drop out",null,null,null,null,null,{"$f":"IF('INPUT DATA'!R82=\"\",\"\",'INPUT DATA'!R82)","v":""},{"$f":"IF('INPUT DATA'!S82=\"\",\"\",'INPUT DATA'!S82)","v":""},{"$f":"SUM(AH133:AI134)","v":0}]
["*","Beginning of School Year cut-off report is every 1st Friday of School Calendar Days",null,null,null,null,null,null,null,null,null,null,null,null,null,null,"b.6. Lack of interest/Distractions"]
[null,null,null,null,null,null,null,null,null,null,null,null,null,null,null,null,"b.7. Hunger/Malnutrition",null,null,null,null,null,null,null,null,null,null,"Transferred out",null,null,null,null,null,{"$f":"IF('INPUT DATA'!R83=\"\",\"\",'INPUT DATA'!R83)","v":""},{"$f":"IF('INPUT DATA'!S83=\"\",\"\",'INPUT DATA'!S83)","v":""},{"$f":"SUM(AH135:AI136)","v":0}]
[null,null,null,null,null,null,null,null,null,null,null,null,null,null,null,null,"c. School-Related Factors"]
[null,null,null,null,null,null,null,null,null,null,null,null,null,null,null,null,"c.1. Teacher Factor",null,null,null,null,null,null,null,null,null,null,"Transferred in",null,null,null,null,null,{"$f":"IF('INPUT DATA'!R84=\"\",\"\",'INPUT DATA'!R84)","v":""},{"$f":"IF('INPUT DATA'!S84=\"\",\"\",'INPUT DATA'!S84)","v":""},{"$f":"SUM(AH137:AI138)","v":0}]
[null,null,null,null,null,null,null,null,null,null,null,null,null,null,null,null,"c.2. Physical condition of classroom"]
[null,null,null,null,null,null,null,null,null,null,null,null,null,null,null,null,"c.3. Peer influence"]
[null,null,null,null,null,null,null,null,null,null,null,null,null,null,null,null,"d. Geographic/Environmental",null,null,null,null,null,null,null,null,null,null,"I certify that this is a true and correct report."]
[null,null,null,null,null,null,null,null,null,null,null,null,null,null,null,null,"d.1. Distance between home and school"]
[null,null,null,null,null,null,null,null,null,null,null,null,null,null,null,null,"d.2. Armed conflict (incl. Tribal wars & clanfeuds)",null,null,null,null,null,null,null,null,null,null,null,null,{"$f":"UPPER(IF('INPUT DATA'!R7=\"\",\"\",'INPUT DATA'!R7))","v":""}]
[null,null,null,null,null,null,null,null,null,null,null,null,null,null,null,null,null,null,null,null,null,null,null,null,null,null,null,null,"                          (Signature of Teacher over Printed Name)"]
[null,null,null,null,null,null,null,null,null,null,null,null,null,null,null,null,"d.3. Calamities/Disasters"]
[null,null,null,null,null,null,null,null,null,null,null,null,null,null,null,null,"e. Financial-Related",null,null,null,null,null,null,null,null,null,null,"Attested by:"]
[null,null,null,null,null,null,null,null,null,null,null,null,null,null,null,null,"e.1. Child labor, work",null,null,null,null,null,null,null,null,null,null,null,null,{"$f":"UPPER(IF('INPUT DATA'!R6=\"\",\"\",'INPUT DATA'!R6))","v":""}]
[null,null,null,null,null,null,null,null,null,null,null,null,null,null,null,null,"f. Others",null,null,null,null,null,null,null,null,null,null,null,null,null,null," (Signature of School Head over Printed Name)"]

{"sheet":"MAR","index":11,"n_rows":147,"n_cols":39,"rows_kept":147,"cut":false,"hidden":true,"merged":[[1,0,1,35],[2,0,2,35],[5,2,5,4],[5,10,5,14],[5,16,5,22],[5,23,5,28],[7,2,7,14],[7,19,7,22],[7,23,7,24],[7,25,7,27],[7,28,7,33],[18,1,18,2],[18,30,18,35],[11,29,12,29],[13,1,13,2],[13,30,13,35],[14,1,14,2],[14,30,14,35],[15,1,15,2],[15,30,15,35],[9,0,12,2],[9,3,9,27],[9,28,10,29],[9,30,12,35],[11,28,12,28],[16,1,16,2],[16,30,16,35],[17,1,17,2],[17,30,17,35],[22,1,22,2],[22,30,22,35],[23,1,23,2],[23,30,23,35],[24,1,24,2],[24,30,24,35],[19,1,19,2],[19,30,19,35],[20,1,20,2],[20,30,20,35],[21,1,21,2],[21,30,21,35],[28,1,28,2],[28,30,28,35],[29,1,29,2],[29,30,29,35],[30,1,30,2],[30,30,30,35],[25,1,25,2],[25,30,25,35],[26,1,26,2],[26,30,26,35],[27,1,27,2],[27,30,27,35],[34,1,34,2],[34,30,34,35],[35,1,35,2],[35,30,35,35],[36,1,36,2],[36,30,36,35],[31,1,31,2],[31,30,31,35],[32,1,32,2],[32,30,32,35],[33,1,33,2],[33,30,33,35],[43,1,43,2],[44,1,44,2],[45,1,45,2],[46,1,46,2],[47,1,47,2],[48,1,48,2],[37,1,37,2],[38,1,38,2],[39,1,39,2],[40,1,40,2],[41,1,41,2],[42,1,42,2],[55,1,55,2],[56,1,56,2],[57,1,57,2],[58,1,58,2],[59,1,59,2],[60,1,60,2],[49,1,49,2],[50,1,50,2],[51,1,51,2],[52,1,52,2],[53,1,53,2],[54,1,54,2],[65,1,65,2],[65,30,65,35],[66,1,66,2],[66,30,66,35],[67,1,67,2],[67,30,67,35],[61,1,61,2],[62,1,62,2],[62,30,62,35],[63,0,63,2],[64,1,64,2],[64,30,64,35],[71,1,71,2],[71,30,71,35],[72,1,72,2],[72,30,72,35],[73,1,73,2],[73,30,73,35],[68,1,68,2],[68,30,68,35],[69,1,69,2],[69,30,69,35],[70,1,70,2],[70,30,70,35],[77,1,77,2],[77,30,77,35],[78,1,78,2],[78,30,78,35],[79,1,79,2],[79,30,79,35],[74,1,74,2],[74,30,74,35],[75,1,75,2],[75,30,75,35],[76,1,76,2],[76,30,76,35],[83,1,83,2],[83,30,83,35],[84,1,84,2],[84,30,84,35],[85,1,85,2],[85,30,85,35],[80,1,80,2],[80,30,80,35],[81,1,81,2],[81,30,81,35],[82,1,82,2],[82,30,82,35],[90,1,90,2],[91,1,91,2],[92,1,92,2],[93,1,93,2],[94,1,94,2],[95,1,95,2],[86,1,86,2],[86,30,86,35],[87,1,87,2],[87,30,87,35],[88,1,88,2],[89,1,89,2],[102,1,102,2],[103,1,103,2],[104,1,104,2],[105,1,105,2],[106,1,106,2],[107,1,107,2],[96,1,96,2],[97,1,97,2],[98,1,98,2],[99,1,99,2],[100,1,100,2],[101,1,101,2],[113,30,113,35],[114,0,114,2],[114,30,114,35],[115,0,115,2],[115,30,115,35],[116,0,116,1],[116,3,116,7],[108,1,108,2],[109,1,109,2],[110,1,110,2],[111,1,111,2],[112,1,112,2],[113,1,113,2],[120,0,120,13],[121,0,122,0],[121,1,122,1],[121,3,121,12],[121,13,122,14],[121,27,122,32],[117,28,117,29],[117,30,118,31],[117,33,117,35],[118,0,118,13],[118,16,120,24],[119,0,119,13],[119,27,120,32],[119,33,120,33],[119,34,120,34],[119,35,120,35],[121,33,122,33],[121,34,122,34],[121,35,122,35],[122,3,122,12],[123,0,124,0],[123,1,124,1],[123,3,123,12],[123,27,124,32],[123,33,124,33],[123,34,124,34],[123,35,124,35],[124,3,124,12],[125,0,126,0],[125,1,126,2],[125,3,125,12],[125,13,126,14],[125,27,126,32],[125,33,126,33],[125,34,126,34],[125,35,126,35],[128,34,129,34],[128,35,129,35],[130,0,131,14],[130,27,131,32],[130,33,131,33],[130,34,131,34],[130,35,131,35],[126,3,126,12],[127,0,127,11],[127,27,127,32],[128,0,129,13],[128,27,129,32],[128,33,129,33],[145,29,145,34],[136,1,137,6],[136,27,137,32],[136,33,137,33],[136,34,137,34],[136,35,137,35],[141,16,142,25],[141,29,141,34],[132,27,133,32],[132,33,133,33],[132,34,133,34],[132,35,133,35],[133,1,133,13],[134,27,135,32],[134,33,135,33],[134,34,135,34],[134,35,135,35]]}
[]
["School Form 2 (SF2) Daily Attendance Report of Learners"]
["(This replaced Form 1, Form 2 & STS Form 4 - Absenteeism and Dropout Profile)"]
[]
[]
[null,"School ID",{"$f":"IF('INPUT DATA'!R5=\"\",\"\",'INPUT DATA'!R5)","v":""},null,null,null,null,"School Year",null,null,{"$f":"IF('INPUT DATA'!R4=\"\",\"\",'INPUT DATA'!R4)","v":""},null,null,null,null,null,"Report for the  Month of",null,null,null,null,null,null,"March"]
[]
[null,"Name of School",{"$f":"IF('INPUT DATA'!F5=\"\",\"\",'INPUT DATA'!F5)","v":""},null,null,null,null,null,null,null,null,null,null,null,null,null,null,null,null,"Grade Level",null,null,null,{"$f":"IF('INPUT DATA'!R8=\"\",\"\",'INPUT DATA'!R8)","v":""},null,"Section",null,null,{"$f":"IF('INPUT DATA'!R9=\"\",\"\",'INPUT DATA'!R9)","v":""}]
[]
["LEARNER'S NAME                                                                                         (Last Name, First Name, Middle Name)                                  ",null,null,"(1st row for date, 2nd row for Day: M,T,W,TH,F)",null,null,null,null,null,null,null,null,null,null,null,null,null,null,null,null,null,null,null,null,null,null,null,null,"Total for the Month             ",null,"REMARK/S (If DROPPED OUT, state reason, please refer to legend number 2.\nIf TRANSFERRED IN/OUT, write the name of School.)"]
[null,null,null,1,2,3,4,5,6,7,8,9,10,11,12,13,14,15,16,17,18,19,20,21,22,23,24,25]
[null,null,null,"Mon","Tue","Wed","Thu","Fri","Mon","Tue","Wed","Thu","Fri","Mon","Tue","Wed","Thu","Fri","Mon","Tue","Wed","Thu","Fri","Mon","Tue","Wed","Thu","Fri","ABSENT","PRESENT"]
[null,null,null,false,false,false,false,false,false,false,false,false,false,false,false,false,false,false,false,false,false,false,false,false,false,false,false,false]
[{"$f":"IF(B14=\"\",\"\",\"1\")","v":"1"},{"$f":"IF('INPUT DATA'!B13=\"\",\"\",'INPUT DATA'!B13)","v":"Student 1"},null,"r","r","r",null,null,null,null,null,null,null,null,null,null,null,null,null,null,null,null,null,null,null,null,null,null,{"$f":"IF(B14=\"\",\"\",SUM(COUNTIF(D14:AB14,\"z\")*0.5,COUNTIF(D14:AB14,\"y\")*0.5,COUNTIF(D14:AB14,\"r\")))","v":3},{"$f":"IF(B14=\"\",\"\",COUNTA($D$11:$AB$11)-AC14)","v":22},null,null,null,null,null,null,null,{"$f":"MAX(FREQUENCY(IF(D14:AB14=\"r\",COLUMN(D14:AB14)),IF(D14:AB14<>\"r\",COLUMN(D14:AB14))))","v":3},{"$f":"IF(AL14>=5,1,\"\")","v":""}]
[{"$f":"IF(B15=\"\",\"\",A14+1)","v":2},{"$f":"IF('INPUT DATA'!B14=\"\",\"\",'INPUT DATA'!B14)","v":"Student 2"},null,null,null,null,null,null,null,null,null,null,null,null,null,null,null,null,null,null,null,null,null,null,null,null,null,null,{"$f":"IF(B15=\"\",\"\",SUM(COUNTIF(D15:AB15,\"z\")*0.5,COUNTIF(D15:AB15,\"y\")*0.5,COUNTIF(D15:AB15,\"r\")))","v":0},{"$f":"IF(B15=\"\",\"\",COUNTA($D$11:$AB$11)-AC15)","v":25},null,null,null,null,null,null,null,{"$f":"MAX(FREQUENCY(IF(D15:AB15=\"r\",COLUMN(D15:AB15)),IF(D15:AB15<>\"r\",COLUMN(D15:AB15))))","v":0},{"$f":"IF(AL15>=5,1,\"\")","v":""}]
[{"$f":"IF(B16=\"\",\"\",A15+1)","v":3},{"$f":"IF('INPUT DATA'!B15=\"\",\"\",'INPUT DATA'!B15)","v":"Student 3"},null,null,null,null,null,null,null,null,null,null,null,null,null,null,null,null,null,null,null,null,null,null,null,null,null,null,0,25,null,null,null,null,null,null,null,{"$f":"MAX(FREQUENCY(IF(D16:AB16=\"r\",COLUMN(D16:AB16)),IF(D16:AB16<>\"r\",COLUMN(D16:AB16))))","v":0},""]
[4,{"$f":"IF('INPUT DATA'!B16=\"\",\"\",'INPUT DATA'!B16)","v":"Student 4"},null,null,null,null,null,null,null,null,null,null,null,null,null,null,null,null,null,null,null,null,null,null,null,null,null,null,0,25,null,null,null,null,null,null,null,{"$f":"MAX(FREQUENCY(IF(D17:AB17=\"r\",COLUMN(D17:AB17)),IF(D17:AB17<>\"r\",COLUMN(D17:AB17))))","v":0},""]
[5,{"$f":"IF('INPUT DATA'!B17=\"\",\"\",'INPUT DATA'!B17)","v":"Student 5"},null,null,null,null,null,null,null,null,null,null,null,null,null,null,null,null,null,null,null,null,null,null,null,null,null,null,0,25,null,null,null,null,null,null,null,{"$f":"MAX(FREQUENCY(IF(D18:AB18=\"r\",COLUMN(D18:AB18)),IF(D18:AB18<>\"r\",COLUMN(D18:AB18))))","v":0},""]
[6,{"$f":"IF('INPUT DATA'!B18=\"\",\"\",'INPUT DATA'!B18)","v":"Student 6"},null,null,null,null,null,null,null,null,null,null,null,null,null,null,null,null,null,null,null,null,null,null,null,null,null,null,0,25,null,null,null,null,null,null,null,{"$f":"MAX(FREQUENCY(IF(D19:AB19=\"r\",COLUMN(D19:AB19)),IF(D19:AB19<>\"r\",COLUMN(D19:AB19))))","v":0},""]
[7,{"$f":"IF('INPUT DATA'!B19=\"\",\"\",'INPUT DATA'!B19)","v":"Student 7"},null,null,null,null,null,null,null,null,null,null,null,null,null,null,null,null,null,null,null,null,null,null,null,null,null,null,0,25,null,null,null,null,null,null,null,{"$f":"MAX(FREQUENCY(IF(D20:AB20=\"r\",COLUMN(D20:AB20)),IF(D20:AB20<>\"r\",COLUMN(D20:AB20))))","v":0},""]
[8,{"$f":"IF('INPUT DATA'!B20=\"\",\"\",'INPUT DATA'!B20)","v":"Student 8"},null,null,null,null,null,null,null,null,null,null,null,null,null,null,null,null,null,null,null,null,null,null,null,null,null,null,0,25,null,null,null,null,null,null,null,{"$f":"MAX(FREQUENCY(IF(D21:AB21=\"r\",COLUMN(D21:AB21)),IF(D21:AB21<>\"r\",COLUMN(D21:AB21))))","v":0},""]
[9,{"$f":"IF('INPUT DATA'!B21=\"\",\"\",'INPUT DATA'!B21)","v":"Student 9"},null,null,null,null,null,null,null,null,null,null,null,null,null,null,null,null,null,null,null,null,null,null,null,null,null,null,0,25,null,null,null,null,null,null,null,{"$f":"MAX(FREQUENCY(IF(D22:AB22=\"r\",COLUMN(D22:AB22)),IF(D22:AB22<>\"r\",COLUMN(D22:AB22))))","v":0},""]
[10,{"$f":"IF('INPUT DATA'!B22=\"\",\"\",'INPUT DATA'!B22)","v":"Student 10"},null,null,null,null,null,null,null,null,null,null,null,null,null,null,null,null,null,null,null,null,null,null,null,null,null,null,0,25,null,null,null,null,null,null,null,{"$f":"MAX(FREQUENCY(IF(D23:AB23=\"r\",COLUMN(D23:AB23)),IF(D23:AB23<>\"r\",COLUMN(D23:AB23))))","v":0},""]
[11,{"$f":"IF('INPUT DATA'!B23=\"\",\"\",'INPUT DATA'!B23)","v":"Student 11"},null,null,null,null,null,null,null,null,null,null,null,null,null,null,null,null,null,null,null,null,null,null,null,null,null,null,0,25,null,null,null,null,null,null,null,{"$f":"MAX(FREQUENCY(IF(D24:AB24=\"r\",COLUMN(D24:AB24)),IF(D24:AB24<>\"r\",COLUMN(D24:AB24))))","v":0},""]
[12,{"$f":"IF('INPUT DATA'!B24=\"\",\"\",'INPUT DATA'!B24)","v":"Student 12"},null,null,null,null,null,null,null,null,null,null,null,null,null,null,null,null,null,null,null,null,null,null,null,null,null,null,0,25,null,null,null,null,null,null,null,{"$f":"MAX(FREQUENCY(IF(D25:AB25=\"r\",COLUMN(D25:AB25)),IF(D25:AB25<>\"r\",COLUMN(D25:AB25))))","v":0},""]
[13,{"$f":"IF('INPUT DATA'!B25=\"\",\"\",'INPUT DATA'!B25)","v":"Student 13"},null,null,null,null,null,null,null,null,null,null,null,null,null,null,null,null,null,null,null,null,null,null,null,null,null,null,0,25,null,null,null,null,null,null,null,{"$f":"MAX(FREQUENCY(IF(D26:AB26=\"r\",COLUMN(D26:AB26)),IF(D26:AB26<>\"r\",COLUMN(D26:AB26))))","v":0},""]
[14,{"$f":"IF('INPUT DATA'!B26=\"\",\"\",'INPUT DATA'!B26)","v":"Student 14"},null,null,null,null,null,null,null,null,null,null,null,null,null,null,null,null,null,null,null,null,null,null,null,null,null,null,0,25,null,null,null,null,null,null,null,{"$f":"MAX(FREQUENCY(IF(D27:AB27=\"r\",COLUMN(D27:AB27)),IF(D27:AB27<>\"r\",COLUMN(D27:AB27))))","v":0},""]
[15,{"$f":"IF('INPUT DATA'!B27=\"\",\"\",'INPUT DATA'!B27)","v":"Student 15"},null,null,null,null,null,null,null,null,null,null,null,null,null,null,null,null,null,null,null,null,null,null,null,null,null,null,0,25,null,null,null,null,null,null,null,{"$f":"MAX(FREQUENCY(IF(D28:AB28=\"r\",COLUMN(D28:AB28)),IF(D28:AB28<>\"r\",COLUMN(D28:AB28))))","v":0},""]
[16,{"$f":"IF('INPUT DATA'!B28=\"\",\"\",'INPUT DATA'!B28)","v":"Student 16"},null,null,null,null,null,null,null,null,null,null,null,null,null,null,null,null,null,null,null,null,null,null,null,null,null,null,0,25,null,null,null,null,null,null,null,{"$f":"MAX(FREQUENCY(IF(D29:AB29=\"r\",COLUMN(D29:AB29)),IF(D29:AB29<>\"r\",COLUMN(D29:AB29))))","v":0},""]
[17,{"$f":"IF('INPUT DATA'!B29=\"\",\"\",'INPUT DATA'!B29)","v":"Student 17"},null,null,null,null,null,null,null,null,null,null,null,null,null,null,null,null,null,null,null,null,null,null,null,null,null,null,0,25,null,null,null,null,null,null,null,{"$f":"MAX(FREQUENCY(IF(D30:AB30=\"r\",COLUMN(D30:AB30)),IF(D30:AB30<>\"r\",COLUMN(D30:AB30))))","v":0},""]
[18,{"$f":"IF('INPUT DATA'!B30=\"\",\"\",'INPUT DATA'!B30)","v":"Student 18"},null,null,null,null,null,null,null,null,null,null,null,null,null,null,null,null,null,null,null,null,null,null,null,null,null,null,0,25,null,null,null,null,null,null,null,{"$f":"MAX(FREQUENCY(IF(D31:AB31=\"r\",COLUMN(D31:AB31)),IF(D31:AB31<>\"r\",COLUMN(D31:AB31))))","v":0},""]
[19,{"$f":"IF('INPUT DATA'!B31=\"\",\"\",'INPUT DATA'!B31)","v":"Student 19"},null,null,null,null,null,null,null,null,null,null,null,null,null,null,null,null,null,null,null,null,null,null,null,null,null,null,0,25,null,null,null,null,null,null,null,{"$f":"MAX(FREQUENCY(IF(D32:AB32=\"r\",COLUMN(D32:AB32)),IF(D32:AB32<>\"r\",COLUMN(D32:AB32))))","v":0},""]
[20,{"$f":"IF('INPUT DATA'!B32=\"\",\"\",'INPUT DATA'!B32)","v":"Student 20"},null,null,null,null,null,null,null,null,null,null,null,null,null,null,null,null,null,null,null,null,null,null,null,null,null,null,0,25,null,null,null,null,null,null,null,{"$f":"MAX(FREQUENCY(IF(D33:AB33=\"r\",COLUMN(D33:AB33)),IF(D33:AB33<>\"r\",COLUMN(D33:AB33))))","v":0},""]
["",{"$f":"IF('INPUT DATA'!B33=\"\",\"\",'INPUT DATA'!B33)","v":""},null,null,null,null,null,null,null,null,null,null,null,null,null,null,null,null,null,null,null,null,null,null,null,null,null,null,"","",null,null,null,null,null,null,null,{"$f":"MAX(FREQUENCY(IF(D34:AB34=\"r\",COLUMN(D34:AB34)),IF(D34:AB34<>\"r\",COLUMN(D34:AB34))))","v":0},""]
["",{"$f":"IF('INPUT DATA'!B34=\"\",\"\",'INPUT DATA'!B34)","v":""},null,null,null,null,null,null,null,null,null,null,null,null,null,null,null,null,null,null,null,null,null,null,null,null,null,null,"","",null,null,null,null,null,null,null,{"$f":"MAX(FREQUENCY(IF(D35:AB35=\"r\",COLUMN(D35:AB35)),IF(D35:AB35<>\"r\",COLUMN(D35:AB35))))","v":0},""]
["",{"$f":"IF('INPUT DATA'!B35=\"\",\"\",'INPUT DATA'!B35)","v":""},null,null,null,null,null,null,null,null,null,null,null,null,null,null,null,null,null,null,null,null,null,null,null,null,null,null,"","",null,null,null,null,null,null,null,{"$f":"MAX(FREQUENCY(IF(D36:AB36=\"r\",COLUMN(D36:AB36)),IF(D36:AB36<>\"r\",COLUMN(D36:AB36))))","v":0},""]
["",{"$f":"IF('INPUT DATA'!B36=\"\",\"\",'INPUT DATA'!B36)","v":""},null,null,null,null,null,null,null,null,null,null,null,null,null,null,null,null,null,null,null,null,null,null,null,null,null,null,"","",null,null,null,null,null,null,null,{"$f":"MAX(FREQUENCY(IF(D37:AB37=\"r\",COLUMN(D37:AB37)),IF(D37:AB37<>\"r\",COLUMN(D37:AB37))))","v":0},""]
["",{"$f":"IF('INPUT DATA'!B37=\"\",\"\",'INPUT DATA'!B37)","v":""},null,null,null,null,null,null,null,null,null,null,null,null,null,null,null,null,null,null,null,null,null,null,null,null,null,null,"","",null,null,null,null,null,null,null,{"$f":"MAX(FREQUENCY(IF(D38:AB38=\"r\",COLUMN(D38:AB38)),IF(D38:AB38<>\"r\",COLUMN(D38:AB38))))","v":0},""]
["",{"$f":"IF('INPUT DATA'!B38=\"\",\"\",'INPUT DATA'!B38)","v":""},null,null,null,null,null,null,null,null,null,null,null,null,null,null,null,null,null,null,null,null,null,null,null,null,null,null,"","",null,null,null,null,null,null,null,{"$f":"MAX(FREQUENCY(IF(D39:AB39=\"r\",COLUMN(D39:AB39)),IF(D39:AB39<>\"r\",COLUMN(D39:AB39))))","v":0},""]
["",{"$f":"IF('INPUT DATA'!B39=\"\",\"\",'INPUT DATA'!B39)","v":""},null,null,null,null,null,null,null,null,null,null,null,null,null,null,null,null,null,null,null,null,null,null,null,null,null,null,"","",null,null,null,null,null,null,null,{"$f":"MAX(FREQUENCY(IF(D40:AB40=\"r\",COLUMN(D40:AB40)),IF(D40:AB40<>\"r\",COLUMN(D40:AB40))))","v":0},""]
["",{"$f":"IF('INPUT DATA'!B40=\"\",\"\",'INPUT DATA'!B40)","v":""},null,null,null,null,null,null,null,null,null,null,null,null,null,null,null,null,null,null,null,null,null,null,null,null,null,null,"","",null,null,null,null,null,null,null,{"$f":"MAX(FREQUENCY(IF(D41:AB41=\"r\",COLUMN(D41:AB41)),IF(D41:AB41<>\"r\",COLUMN(D41:AB41))))","v":0},""]
["",{"$f":"IF('INPUT DATA'!B41=\"\",\"\",'INPUT DATA'!B41)","v":""},null,null,null,null,null,null,null,null,null,null,null,null,null,null,null,null,null,null,null,null,null,null,null,null,null,null,"","",null,null,null,null,null,null,null,{"$f":"MAX(FREQUENCY(IF(D42:AB42=\"r\",COLUMN(D42:AB42)),IF(D42:AB42<>\"r\",COLUMN(D42:AB42))))","v":0},""]
["",{"$f":"IF('INPUT DATA'!B42=\"\",\"\",'INPUT DATA'!B42)","v":""},null,null,null,null,null,null,null,null,null,null,null,null,null,null,null,null,null,null,null,null,null,null,null,null,null,null,"","",null,null,null,null,null,null,null,{"$f":"MAX(FREQUENCY(IF(D43:AB43=\"r\",COLUMN(D43:AB43)),IF(D43:AB43<>\"r\",COLUMN(D43:AB43))))","v":0},""]
["",{"$f":"IF('INPUT DATA'!B43=\"\",\"\",'INPUT DATA'!B43)","v":""},null,null,null,null,null,null,null,null,null,null,null,null,null,null,null,null,null,null,null,null,null,null,null,null,null,null,"","",null,null,null,null,null,null,null,{"$f":"MAX(FREQUENCY(IF(D44:AB44=\"r\",COLUMN(D44:AB44)),IF(D44:AB44<>\"r\",COLUMN(D44:AB44))))","v":0},""]
["",{"$f":"IF('INPUT DATA'!B44=\"\",\"\",'INPUT DATA'!B44)","v":""},null,null,null,null,null,null,null,null,null,null,null,null,null,null,null,null,null,null,null,null,null,null,null,null,null,null,"","",null,null,null,null,null,null,null,{"$f":"MAX(FREQUENCY(IF(D45:AB45=\"r\",COLUMN(D45:AB45)),IF(D45:AB45<>\"r\",COLUMN(D45:AB45))))","v":0},""]
["",{"$f":"IF('INPUT DATA'!B45=\"\",\"\",'INPUT DATA'!B45)","v":""},null,null,null,null,null,null,null,null,null,null,null,null,null,null,null,null,null,null,null,null,null,null,null,null,null,null,"","",null,null,null,null,null,null,null,{"$f":"MAX(FREQUENCY(IF(D46:AB46=\"r\",COLUMN(D46:AB46)),IF(D46:AB46<>\"r\",COLUMN(D46:AB46))))","v":0},""]
["",{"$f":"IF('INPUT DATA'!B46=\"\",\"\",'INPUT DATA'!B46)","v":""},null,null,null,null,null,null,null,null,null,null,null,null,null,null,null,null,null,null,null,null,null,null,null,null,null,null,"","",null,null,null,null,null,null,null,{"$f":"MAX(FREQUENCY(IF(D47:AB47=\"r\",COLUMN(D47:AB47)),IF(D47:AB47<>\"r\",COLUMN(D47:AB47))))","v":0},""]
["",{"$f":"IF('INPUT DATA'!B47=\"\",\"\",'INPUT DATA'!B47)","v":""},null,null,null,null,null,null,null,null,null,null,null,null,null,null,null,null,null,null,null,null,null,null,null,null,null,null,"","",null,null,null,null,null,null,null,{"$f":"MAX(FREQUENCY(IF(D48:AB48=\"r\",COLUMN(D48:AB48)),IF(D48:AB48<>\"r\",COLUMN(D48:AB48))))","v":0},""]
["",{"$f":"IF('INPUT DATA'!B48=\"\",\"\",'INPUT DATA'!B48)","v":""},null,null,null,null,null,null,null,null,null,null,null,null,null,null,null,null,null,null,null,null,null,null,null,null,null,null,"","",null,null,null,null,null,null,null,{"$f":"MAX(FREQUENCY(IF(D49:AB49=\"r\",COLUMN(D49:AB49)),IF(D49:AB49<>\"r\",COLUMN(D49:AB49))))","v":0},""]
["",{"$f":"IF('INPUT DATA'!B49=\"\",\"\",'INPUT DATA'!B49)","v":""},null,null,null,null,null,null,null,null,null,null,null,null,null,null,null,null,null,null,null,null,null,null,null,null,null,null,"","",null,null,null,null,null,null,null,{"$f":"MAX(FREQUENCY(IF(D50:AB50=\"r\",COLUMN(D50:AB50)),IF(D50:AB50<>\"r\",COLUMN(D50:AB50))))","v":0},""]
["",{"$f":"IF('INPUT DATA'!B50=\"\",\"\",'INPUT DATA'!B50)","v":""},null,null,null,null,null,null,null,null,null,null,null,null,null,null,null,null,null,null,null,null,null,null,null,null,null,null,"","",null,null,null,null,null,null,null,{"$f":"MAX(FREQUENCY(IF(D51:AB51=\"r\",COLUMN(D51:AB51)),IF(D51:AB51<>\"r\",COLUMN(D51:AB51))))","v":0},""]
["",{"$f":"IF('INPUT DATA'!B51=\"\",\"\",'INPUT DATA'!B51)","v":""},null,null,null,null,null,null,null,null,null,null,null,null,null,null,null,null,null,null,null,null,null,null,null,null,null,null,"","",null,null,null,null,null,null,null,{"$f":"MAX(FREQUENCY(IF(D52:AB52=\"r\",COLUMN(D52:AB52)),IF(D52:AB52<>\"r\",COLUMN(D52:AB52))))","v":0},""]
["",{"$f":"IF('INPUT DATA'!B52=\"\",\"\",'INPUT DATA'!B52)","v":""},null,null,null,null,null,null,null,null,null,null,null,null,null,null,null,null,null,null,null,null,null,null,null,null,null,null,"","",null,null,null,null,null,null,null,{"$f":"MAX(FREQUENCY(IF(D53:AB53=\"r\",COLUMN(D53:AB53)),IF(D53:AB53<>\"r\",COLUMN(D53:AB53))))","v":0},""]
["",{"$f":"IF('INPUT DATA'!B53=\"\",\"\",'INPUT DATA'!B53)","v":""},null,null,null,null,null,null,null,null,null,null,null,null,null,null,null,null,null,null,null,null,null,null,null,null,null,null,"","",null,null,null,null,null,null,null,{"$f":"MAX(FREQUENCY(IF(D54:AB54=\"r\",COLUMN(D54:AB54)),IF(D54:AB54<>\"r\",COLUMN(D54:AB54))))","v":0},""]
["",{"$f":"IF('INPUT DATA'!B54=\"\",\"\",'INPUT DATA'!B54)","v":""},null,null,null,null,null,null,null,null,null,null,null,null,null,null,null,null,null,null,null,null,null,null,null,null,null,null,"","",null,null,null,null,null,null,null,{"$f":"MAX(FREQUENCY(IF(D55:AB55=\"r\",COLUMN(D55:AB55)),IF(D55:AB55<>\"r\",COLUMN(D55:AB55))))","v":0},""]
["",{"$f":"IF('INPUT DATA'!B55=\"\",\"\",'INPUT DATA'!B55)","v":""},null,null,null,null,null,null,null,null,null,null,null,null,null,null,null,null,null,null,null,null,null,null,null,null,null,null,"","",null,null,null,null,null,null,null,{"$f":"MAX(FREQUENCY(IF(D56:AB56=\"r\",COLUMN(D56:AB56)),IF(D56:AB56<>\"r\",COLUMN(D56:AB56))))","v":0},""]
["",{"$f":"IF('INPUT DATA'!B56=\"\",\"\",'INPUT DATA'!B56)","v":""},null,null,null,null,null,null,null,null,null,null,null,null,null,null,null,null,null,null,null,null,null,null,null,null,null,null,"","",null,null,null,null,null,null,null,{"$f":"MAX(FREQUENCY(IF(D57:AB57=\"r\",COLUMN(D57:AB57)),IF(D57:AB57<>\"r\",COLUMN(D57:AB57))))","v":0},""]
["",{"$f":"IF('INPUT DATA'!B57=\"\",\"\",'INPUT DATA'!B57)","v":""},null,null,null,null,null,null,null,null,null,null,null,null,null,null,null,null,null,null,null,null,null,null,null,null,null,null,"","",null,null,null,null,null,null,null,{"$f":"MAX(FREQUENCY(IF(D58:AB58=\"r\",COLUMN(D58:AB58)),IF(D58:AB58<>\"r\",COLUMN(D58:AB58))))","v":0},""]
["",{"$f":"IF('INPUT DATA'!B58=\"\",\"\",'INPUT DATA'!B58)","v":""},null,null,null,null,null,null,null,null,null,null,null,null,null,null,null,null,null,null,null,null,null,null,null,null,null,null,"","",null,null,null,null,null,null,null,{"$f":"MAX(FREQUENCY(IF(D59:AB59=\"r\",COLUMN(D59:AB59)),IF(D59:AB59<>\"r\",COLUMN(D59:AB59))))","v":0},""]
["",{"$f":"IF('INPUT DATA'!B59=\"\",\"\",'INPUT DATA'!B59)","v":""},null,null,null,null,null,null,null,null,null,null,null,null,null,null,null,null,null,null,null,null,null,null,null,null,null,null,"","",null,null,null,null,null,null,null,{"$f":"MAX(FREQUENCY(IF(D60:AB60=\"r\",COLUMN(D60:AB60)),IF(D60:AB60<>\"r\",COLUMN(D60:AB60))))","v":0},""]
["",{"$f":"IF('INPUT DATA'!B60=\"\",\"\",'INPUT DATA'!B60)","v":""},null,null,null,null,null,null,null,null,null,null,null,null,null,null,null,null,null,null,null,null,null,null,null,null,null,null,"","",null,null,null,null,null,null,null,{"$f":"MAX(FREQUENCY(IF(D61:AB61=\"r\",COLUMN(D61:AB61)),IF(D61:AB61<>\"r\",COLUMN(D61:AB61))))","v":0},""]
["",{"$f":"IF('INPUT DATA'!B61=\"\",\"\",'INPUT DATA'!B61)","v":""},null,null,null,null,null,null,null,null,null,null,null,null,null,null,null,null,null,null,null,null,null,null,null,null,null,null,"","",null,null,null,null,null,null,null,{"$f":"MAX(FREQUENCY(IF(D62:AB62=\"r\",COLUMN(D62:AB62)),IF(D62:AB62<>\"r\",COLUMN(D62:AB62))))","v":0},""]
["",{"$f":"IF('INPUT DATA'!B62=\"\",\"\",'INPUT DATA'!B62)","v":""},null,null,null,null,null,null,null,null,null,null,null,null,null,null,null,null,null,null,null,null,null,null,null,null,null,null,"","",null,null,null,null,null,null,null,{"$f":"MAX(FREQUENCY(IF(D63:AB63=\"r\",COLUMN(D63:AB63)),IF(D63:AB63<>\"r\",COLUMN(D63:AB63))))","v":0},""]
["MALE  | TOTAL Per Day",null,null,{"$f":"IF(D11=\"\",\"\",SUM(COUNTBLANK(D14:D63)-COUNTBLANK($B$14:$B$63),COUNTIF(D14:D63,\"z\")*0.5,COUNTIF(D14:D63,\"y\")*0.5))","v":19},19,19,20,20,20,20,20,20,20,20,20,20,20,20,20,20,20,20,20,20,20,20,20,20,{"$f":"SUM(AC14:AC63)","v":3},{"$f":"SUM(AD14:AD63)","v":497},null,null,null,null,null,null,null,{"$f":"MAX(FREQUENCY(IF(D64:AB64=\"r\",COLUMN(D64:AB64)),IF(D64:AB64<>\"r\",COLUMN(D64:AB64))))","v":0},""]
[{"$f":"IF(B65=\"\",\"\",\"1\")","v":"1"},{"$f":"IF('INPUT DATA'!B64=\"\",\"\",'INPUT DATA'!B64)","v":"Student 1"},null,null,null,null,null,null,null,null,null,null,null,null,null,null,null,null,null,null,null,null,null,null,null,null,null,null,{"$f":"IF(B65=\"\",\"\",SUM(COUNTIF(D65:AB65,\"z\")*0.5,COUNTIF(D65:AB65,\"y\")*0.5,COUNTIF(D65:AB65,\"r\")))","v":0},{"$f":"IF(B65=\"\",\"\",COUNTA($D$11:$AB$11)-AC65)","v":25},null,null,null,null,null,null,null,{"$f":"MAX(FREQUENCY(IF(D65:AB65=\"r\",COLUMN(D65:AB65)),IF(D65:AB65<>\"r\",COLUMN(D65:AB65))))","v":0},""]
[{"$f":"IF(B66=\"\",\"\",A65+1)","v":2},{"$f":"IF('INPUT DATA'!B65=\"\",\"\",'INPUT DATA'!B65)","v":"Student 2"},null,null,null,null,null,null,null,null,null,null,null,null,null,null,null,null,null,null,null,null,null,null,null,null,null,null,{"$f":"IF(B66=\"\",\"\",SUM(COUNTIF(D66:AB66,\"z\")*0.5,COUNTIF(D66:AB66,\"y\")*0.5,COUNTIF(D66:AB66,\"r\")))","v":0},{"$f":"IF(B66=\"\",\"\",COUNTA($D$11:$AB$11)-AC66)","v":25},null,null,null,null,null,null,null,{"$f":"MAX(FREQUENCY(IF(D66:AB66=\"r\",COLUMN(D66:AB66)),IF(D66:AB66<>\"r\",COLUMN(D66:AB66))))","v":0},""]
[{"$f":"IF(B67=\"\",\"\",A66+1)","v":3},{"$f":"IF('INPUT DATA'!B66=\"\",\"\",'INPUT DATA'!B66)","v":"Student 3"},null,null,null,null,null,null,null,null,null,null,null,null,null,null,null,null,null,null,null,null,null,null,null,null,null,null,0,25,null,null,null,null,null,null,null,{"$f":"MAX(FREQUENCY(IF(D67:AB67=\"r\",COLUMN(D67:AB67)),IF(D67:AB67<>\"r\",COLUMN(D67:AB67))))","v":0},""]
[4,{"$f":"IF('INPUT DATA'!B67=\"\",\"\",'INPUT DATA'!B67)","v":"Student 4"},null,null,null,null,null,null,null,null,null,null,null,null,null,null,null,null,null,null,null,null,null,null,null,null,null,null,0,25,null,null,null,null,null,null,null,{"$f":"MAX(FREQUENCY(IF(D68:AB68=\"r\",COLUMN(D68:AB68)),IF(D68:AB68<>\"r\",COLUMN(D68:AB68))))","v":0},""]
[5,{"$f":"IF('INPUT DATA'!B68=\"\",\"\",'INPUT DATA'!B68)","v":"Student 5"},null,null,null,null,null,null,null,null,null,null,null,null,null,null,null,null,null,null,null,null,null,null,null,null,null,null,0,25,null,null,null,null,null,null,null,{"$f":"MAX(FREQUENCY(IF(D69:AB69=\"r\",COLUMN(D69:AB69)),IF(D69:AB69<>\"r\",COLUMN(D69:AB69))))","v":0},""]
[6,{"$f":"IF('INPUT DATA'!B69=\"\",\"\",'INPUT DATA'!B69)","v":"Student 6"},null,null,null,null,null,null,null,null,null,null,null,null,null,null,null,null,null,null,null,null,null,null,null,null,null,null,0,25,null,null,null,null,null,null,null,{"$f":"MAX(FREQUENCY(IF(D70:AB70=\"r\",COLUMN(D70:AB70)),IF(D70:AB70<>\"r\",COLUMN(D70:AB70))))","v":0},""]
[7,{"$f":"IF('INPUT DATA'!B70=\"\",\"\",'INPUT DATA'!B70)","v":"Student 7"},null,null,null,null,null,null,null,null,null,null,null,null,null,null,null,null,null,null,null,null,null,null,null,null,null,null,0,25,null,null,null,null,null,null,null,{"$f":"MAX(FREQUENCY(IF(D71:AB71=\"r\",COLUMN(D71:AB71)),IF(D71:AB71<>\"r\",COLUMN(D71:AB71))))","v":0},""]
[8,{"$f":"IF('INPUT DATA'!B71=\"\",\"\",'INPUT DATA'!B71)","v":"Student 8"},null,null,null,null,null,null,null,null,null,null,null,null,null,null,null,null,null,null,null,null,null,null,null,null,null,null,0,25,null,null,null,null,null,null,null,{"$f":"MAX(FREQUENCY(IF(D72:AB72=\"r\",COLUMN(D72:AB72)),IF(D72:AB72<>\"r\",COLUMN(D72:AB72))))","v":0},""]
[9,{"$f":"IF('INPUT DATA'!B72=\"\",\"\",'INPUT DATA'!B72)","v":"Student 9"},null,null,null,null,null,null,null,null,null,null,null,null,null,null,null,null,null,null,null,null,null,null,null,null,null,null,0,25,null,null,null,null,null,null,null,{"$f":"MAX(FREQUENCY(IF(D73:AB73=\"r\",COLUMN(D73:AB73)),IF(D73:AB73<>\"r\",COLUMN(D73:AB73))))","v":0},""]
[10,{"$f":"IF('INPUT DATA'!B73=\"\",\"\",'INPUT DATA'!B73)","v":"Student 10"},null,null,null,null,null,null,null,null,null,null,null,null,null,null,null,null,null,null,null,null,null,null,null,null,null,null,0,25,null,null,null,null,null,null,null,{"$f":"MAX(FREQUENCY(IF(D74:AB74=\"r\",COLUMN(D74:AB74)),IF(D74:AB74<>\"r\",COLUMN(D74:AB74))))","v":0},""]
[11,{"$f":"IF('INPUT DATA'!B74=\"\",\"\",'INPUT DATA'!B74)","v":"Student 11"},null,null,null,null,null,null,null,null,null,null,null,null,null,null,null,null,null,null,null,null,null,null,null,null,null,null,0,25,null,null,null,null,null,null,null,{"$f":"MAX(FREQUENCY(IF(D75:AB75=\"r\",COLUMN(D75:AB75)),IF(D75:AB75<>\"r\",COLUMN(D75:AB75))))","v":0},""]
[12,{"$f":"IF('INPUT DATA'!B75=\"\",\"\",'INPUT DATA'!B75)","v":"Student 12"},null,null,null,null,null,null,null,null,null,null,null,null,null,null,null,null,null,null,null,null,null,null,null,null,null,null,0,25,null,null,null,null,null,null,null,{"$f":"MAX(FREQUENCY(IF(D76:AB76=\"r\",COLUMN(D76:AB76)),IF(D76:AB76<>\"r\",COLUMN(D76:AB76))))","v":0},""]
[13,{"$f":"IF('INPUT DATA'!B76=\"\",\"\",'INPUT DATA'!B76)","v":"Student 13"},null,null,null,null,null,null,null,null,null,null,null,null,null,null,null,null,null,null,null,null,null,null,null,null,null,null,0,25,null,null,null,null,null,null,null,{"$f":"MAX(FREQUENCY(IF(D77:AB77=\"r\",COLUMN(D77:AB77)),IF(D77:AB77<>\"r\",COLUMN(D77:AB77))))","v":0},""]
[14,{"$f":"IF('INPUT DATA'!B77=\"\",\"\",'INPUT DATA'!B77)","v":"Student 14"},null,null,null,null,null,null,null,null,null,null,null,null,null,null,null,null,null,null,null,null,null,null,null,null,null,null,0,25,null,null,null,null,null,null,null,{"$f":"MAX(FREQUENCY(IF(D78:AB78=\"r\",COLUMN(D78:AB78)),IF(D78:AB78<>\"r\",COLUMN(D78:AB78))))","v":0},""]
[15,{"$f":"IF('INPUT DATA'!B78=\"\",\"\",'INPUT DATA'!B78)","v":"Student 15"},null,null,null,null,null,null,null,null,null,null,null,null,null,null,null,null,null,null,null,null,null,null,null,null,null,null,0,25,null,null,null,null,null,null,null,{"$f":"MAX(FREQUENCY(IF(D79:AB79=\"r\",COLUMN(D79:AB79)),IF(D79:AB79<>\"r\",COLUMN(D79:AB79))))","v":0},{"$f":"IF(AL79>=5,1,\"\")","v":""}]
[16,{"$f":"IF('INPUT DATA'!B79=\"\",\"\",'INPUT DATA'!B79)","v":"Student 16"},null,null,null,null,null,null,null,null,null,null,null,null,null,null,null,null,null,null,null,null,null,null,null,null,null,null,0,25,null,null,null,null,null,null,null,{"$f":"MAX(FREQUENCY(IF(D80:AB80=\"r\",COLUMN(D80:AB80)),IF(D80:AB80<>\"r\",COLUMN(D80:AB80))))","v":0},""]
[17,{"$f":"IF('INPUT DATA'!B80=\"\",\"\",'INPUT DATA'!B80)","v":"Student 17"},null,null,null,null,null,null,null,null,null,null,null,null,null,null,null,null,null,null,null,null,null,null,null,null,null,null,0,25,null,null,null,null,null,null,null,{"$f":"MAX(FREQUENCY(IF(D81:AB81=\"r\",COLUMN(D81:AB81)),IF(D81:AB81<>\"r\",COLUMN(D81:AB81))))","v":0},""]
[18,{"$f":"IF('INPUT DATA'!B81=\"\",\"\",'INPUT DATA'!B81)","v":"Student 18"},null,null,null,null,null,null,null,null,null,null,null,null,null,null,null,null,null,null,null,null,null,null,null,null,null,null,0,25,null,null,null,null,null,null,null,{"$f":"MAX(FREQUENCY(IF(D82:AB82=\"r\",COLUMN(D82:AB82)),IF(D82:AB82<>\"r\",COLUMN(D82:AB82))))","v":0},""]
[19,{"$f":"IF('INPUT DATA'!B82=\"\",\"\",'INPUT DATA'!B82)","v":"Student 19"},null,null,null,null,null,null,null,null,null,null,null,null,null,null,null,null,null,null,null,null,null,null,null,null,null,null,0,25,null,null,null,null,null,null,null,{"$f":"MAX(FREQUENCY(IF(D83:AB83=\"r\",COLUMN(D83:AB83)),IF(D83:AB83<>\"r\",COLUMN(D83:AB83))))","v":0},""]
[20,{"$f":"IF('INPUT DATA'!B83=\"\",\"\",'INPUT DATA'!B83)","v":"Student 20"},null,null,null,null,null,null,null,null,null,null,null,null,null,null,null,null,null,null,null,null,null,null,null,null,null,null,0,25,null,null,null,null,null,null,null,{"$f":"MAX(FREQUENCY(IF(D84:AB84=\"r\",COLUMN(D84:AB84)),IF(D84:AB84<>\"r\",COLUMN(D84:AB84))))","v":0},""]
["",{"$f":"IF('INPUT DATA'!B84=\"\",\"\",'INPUT DATA'!B84)","v":""},null,null,null,null,null,null,null,null,null,null,null,null,null,null,null,null,null,null,null,null,null,null,null,null,null,null,"","",null,null,null,null,null,null,null,{"$f":"MAX(FREQUENCY(IF(D85:AB85=\"r\",COLUMN(D85:AB85)),IF(D85:AB85<>\"r\",COLUMN(D85:AB85))))","v":0},""]
["",{"$f":"IF('INPUT DATA'!B85=\"\",\"\",'INPUT DATA'!B85)","v":""},null,null,null,null,null,null,null,null,null,null,null,null,null,null,null,null,null,null,null,null,null,null,null,null,null,null,"","",null,null,null,null,null,null,null,{"$f":"MAX(FREQUENCY(IF(D86:AB86=\"r\",COLUMN(D86:AB86)),IF(D86:AB86<>\"r\",COLUMN(D86:AB86))))","v":0},""]
["",{"$f":"IF('INPUT DATA'!B86=\"\",\"\",'INPUT DATA'!B86)","v":""},null,null,null,null,null,null,null,null,null,null,null,null,null,null,null,null,null,null,null,null,null,null,null,null,null,null,"","",null,null,null,null,null,null,null,{"$f":"MAX(FREQUENCY(IF(D87:AB87=\"r\",COLUMN(D87:AB87)),IF(D87:AB87<>\"r\",COLUMN(D87:AB87))))","v":0},""]
["",{"$f":"IF('INPUT DATA'!B87=\"\",\"\",'INPUT DATA'!B87)","v":""},null,null,null,null,null,null,null,null,null,null,null,null,null,null,null,null,null,null,null,null,null,null,null,null,null,null,"","",null,null,null,null,null,null,null,{"$f":"MAX(FREQUENCY(IF(D88:AB88=\"r\",COLUMN(D88:AB88)),IF(D88:AB88<>\"r\",COLUMN(D88:AB88))))","v":0},""]
["",{"$f":"IF('INPUT DATA'!B88=\"\",\"\",'INPUT DATA'!B88)","v":""},null,null,null,null,null,null,null,null,null,null,null,null,null,null,null,null,null,null,null,null,null,null,null,null,null,null,"","",null,null,null,null,null,null,null,{"$f":"MAX(FREQUENCY(IF(D89:AB89=\"r\",COLUMN(D89:AB89)),IF(D89:AB89<>\"r\",COLUMN(D89:AB89))))","v":0},""]
["",{"$f":"IF('INPUT DATA'!B89=\"\",\"\",'INPUT DATA'!B89)","v":""},null,null,null,null,null,null,null,null,null,null,null,null,null,null,null,null,null,null,null,null,null,null,null,null,null,null,"","",null,null,null,null,null,null,null,{"$f":"MAX(FREQUENCY(IF(D90:AB90=\"r\",COLUMN(D90:AB90)),IF(D90:AB90<>\"r\",COLUMN(D90:AB90))))","v":0},""]
["",{"$f":"IF('INPUT DATA'!B90=\"\",\"\",'INPUT DATA'!B90)","v":""},null,null,null,null,null,null,null,null,null,null,null,null,null,null,null,null,null,null,null,null,null,null,null,null,null,null,"","",null,null,null,null,null,null,null,{"$f":"MAX(FREQUENCY(IF(D91:AB91=\"r\",COLUMN(D91:AB91)),IF(D91:AB91<>\"r\",COLUMN(D91:AB91))))","v":0},""]
["",{"$f":"IF('INPUT DATA'!B91=\"\",\"\",'INPUT DATA'!B91)","v":""},null,null,null,null,null,null,null,null,null,null,null,null,null,null,null,null,null,null,null,null,null,null,null,null,null,null,"","",null,null,null,null,null,null,null,{"$f":"MAX(FREQUENCY(IF(D92:AB92=\"r\",COLUMN(D92:AB92)),IF(D92:AB92<>\"r\",COLUMN(D92:AB92))))","v":0},""]
["",{"$f":"IF('INPUT DATA'!B92=\"\",\"\",'INPUT DATA'!B92)","v":""},null,null,null,null,null,null,null,null,null,null,null,null,null,null,null,null,null,null,null,null,null,null,null,null,null,null,"","",null,null,null,null,null,null,null,{"$f":"MAX(FREQUENCY(IF(D93:AB93=\"r\",COLUMN(D93:AB93)),IF(D93:AB93<>\"r\",COLUMN(D93:AB93))))","v":0},""]
["",{"$f":"IF('INPUT DATA'!B93=\"\",\"\",'INPUT DATA'!B93)","v":""},null,null,null,null,null,null,null,null,null,null,null,null,null,null,null,null,null,null,null,null,null,null,null,null,null,null,"","",null,null,null,null,null,null,null,{"$f":"MAX(FREQUENCY(IF(D94:AB94=\"r\",COLUMN(D94:AB94)),IF(D94:AB94<>\"r\",COLUMN(D94:AB94))))","v":0},""]
["",{"$f":"IF('INPUT DATA'!B94=\"\",\"\",'INPUT DATA'!B94)","v":""},null,null,null,null,null,null,null,null,null,null,null,null,null,null,null,null,null,null,null,null,null,null,null,null,null,null,"","",null,null,null,null,null,null,null,{"$f":"MAX(FREQUENCY(IF(D95:AB95=\"r\",COLUMN(D95:AB95)),IF(D95:AB95<>\"r\",COLUMN(D95:AB95))))","v":0},""]
["",{"$f":"IF('INPUT DATA'!B95=\"\",\"\",'INPUT DATA'!B95)","v":""},null,null,null,null,null,null,null,null,null,null,null,null,null,null,null,null,null,null,null,null,null,null,null,null,null,null,"","",null,null,null,null,null,null,null,{"$f":"MAX(FREQUENCY(IF(D96:AB96=\"r\",COLUMN(D96:AB96)),IF(D96:AB96<>\"r\",COLUMN(D96:AB96))))","v":0},""]
["",{"$f":"IF('INPUT DATA'!B96=\"\",\"\",'INPUT DATA'!B96)","v":""},null,null,null,null,null,null,null,null,null,null,null,null,null,null,null,null,null,null,null,null,null,null,null,null,null,null,"","",null,null,null,null,null,null,null,{"$f":"MAX(FREQUENCY(IF(D97:AB97=\"r\",COLUMN(D97:AB97)),IF(D97:AB97<>\"r\",COLUMN(D97:AB97))))","v":0},""]
["",{"$f":"IF('INPUT DATA'!B97=\"\",\"\",'INPUT DATA'!B97)","v":""},null,null,null,null,null,null,null,null,null,null,null,null,null,null,null,null,null,null,null,null,null,null,null,null,null,null,"","",null,null,null,null,null,null,null,{"$f":"MAX(FREQUENCY(IF(D98:AB98=\"r\",COLUMN(D98:AB98)),IF(D98:AB98<>\"r\",COLUMN(D98:AB98))))","v":0},""]
["",{"$f":"IF('INPUT DATA'!B98=\"\",\"\",'INPUT DATA'!B98)","v":""},null,null,null,null,null,null,null,null,null,null,null,null,null,null,null,null,null,null,null,null,null,null,null,null,null,null,"","",null,null,null,null,null,null,null,{"$f":"MAX(FREQUENCY(IF(D99:AB99=\"r\",COLUMN(D99:AB99)),IF(D99:AB99<>\"r\",COLUMN(D99:AB99))))","v":0},""]
["",{"$f":"IF('INPUT DATA'!B99=\"\",\"\",'INPUT DATA'!B99)","v":""},null,null,null,null,null,null,null,null,null,null,null,null,null,null,null,null,null,null,null,null,null,null,null,null,null,null,"","",null,null,null,null,null,null,null,{"$f":"MAX(FREQUENCY(IF(D100:AB100=\"r\",COLUMN(D100:AB100)),IF(D100:AB100<>\"r\",COLUMN(D100:AB100))))","v":0},""]
["",{"$f":"IF('INPUT DATA'!B100=\"\",\"\",'INPUT DATA'!B100)","v":""},null,null,null,null,null,null,null,null,null,null,null,null,null,null,null,null,null,null,null,null,null,null,null,null,null,null,"","",null,null,null,null,null,null,null,{"$f":"MAX(FREQUENCY(IF(D101:AB101=\"r\",COLUMN(D101:AB101)),IF(D101:AB101<>\"r\",COLUMN(D101:AB101))))","v":0},""]
["",{"$f":"IF('INPUT DATA'!B101=\"\",\"\",'INPUT DATA'!B101)","v":""},null,null,null,null,null,null,null,null,null,null,null,null,null,null,null,null,null,null,null,null,null,null,null,null,null,null,"","",null,null,null,null,null,null,null,{"$f":"MAX(FREQUENCY(IF(D102:AB102=\"r\",COLUMN(D102:AB102)),IF(D102:AB102<>\"r\",COLUMN(D102:AB102))))","v":0},""]
["",{"$f":"IF('INPUT DATA'!B102=\"\",\"\",'INPUT DATA'!B102)","v":""},null,null,null,null,null,null,null,null,null,null,null,null,null,null,null,null,null,null,null,null,null,null,null,null,null,null,"","",null,null,null,null,null,null,null,{"$f":"MAX(FREQUENCY(IF(D103:AB103=\"r\",COLUMN(D103:AB103)),IF(D103:AB103<>\"r\",COLUMN(D103:AB103))))","v":0},""]
["",{"$f":"IF('INPUT DATA'!B103=\"\",\"\",'INPUT DATA'!B103)","v":""},null,null,null,null,null,null,null,null,null,null,null,null,null,null,null,null,null,null,null,null,null,null,null,null,null,null,"","",null,null,null,null,null,null,null,{"$f":"MAX(FREQUENCY(IF(D104:AB104=\"r\",COLUMN(D104:AB104)),IF(D104:AB104<>\"r\",COLUMN(D104:AB104))))","v":0},""]
["",{"$f":"IF('INPUT DATA'!B104=\"\",\"\",'INPUT DATA'!B104)","v":""},null,null,null,null,null,null,null,null,null,null,null,null,null,null,null,null,null,null,null,null,null,null,null,null,null,null,"","",null,null,null,null,null,null,null,{"$f":"MAX(FREQUENCY(IF(D105:AB105=\"r\",COLUMN(D105:AB105)),IF(D105:AB105<>\"r\",COLUMN(D105:AB105))))","v":0},""]
["",{"$f":"IF('INPUT DATA'!B105=\"\",\"\",'INPUT DATA'!B105)","v":""},null,null,null,null,null,null,null,null,null,null,null,null,null,null,null,null,null,null,null,null,null,null,null,null,null,null,"","",null,null,null,null,null,null,null,{"$f":"MAX(FREQUENCY(IF(D106:AB106=\"r\",COLUMN(D106:AB106)),IF(D106:AB106<>\"r\",COLUMN(D106:AB106))))","v":0},""]
["",{"$f":"IF('INPUT DATA'!B106=\"\",\"\",'INPUT DATA'!B106)","v":""},null,null,null,null,null,null,null,null,null,null,null,null,null,null,null,null,null,null,null,null,null,null,null,null,null,null,"","",null,null,null,null,null,null,null,{"$f":"MAX(FREQUENCY(IF(D107:AB107=\"r\",COLUMN(D107:AB107)),IF(D107:AB107<>\"r\",COLUMN(D107:AB107))))","v":0},""]
["",{"$f":"IF('INPUT DATA'!B107=\"\",\"\",'INPUT DATA'!B107)","v":""},null,null,null,null,null,null,null,null,null,null,null,null,null,null,null,null,null,null,null,null,null,null,null,null,null,null,"","",null,null,null,null,null,null,null,{"$f":"MAX(FREQUENCY(IF(D108:AB108=\"r\",COLUMN(D108:AB108)),IF(D108:AB108<>\"r\",COLUMN(D108:AB108))))","v":0},""]
["",{"$f":"IF('INPUT DATA'!B108=\"\",\"\",'INPUT DATA'!B108)","v":""},null,null,null,null,null,null,null,null,null,null,null,null,null,null,null,null,null,null,null,null,null,null,null,null,null,null,"","",null,null,null,null,null,null,null,{"$f":"MAX(FREQUENCY(IF(D109:AB109=\"r\",COLUMN(D109:AB109)),IF(D109:AB109<>\"r\",COLUMN(D109:AB109))))","v":0},""]
["",{"$f":"IF('INPUT DATA'!B109=\"\",\"\",'INPUT DATA'!B109)","v":""},null,null,null,null,null,null,null,null,null,null,null,null,null,null,null,null,null,null,null,null,null,null,null,null,null,null,"","",null,null,null,null,null,null,null,{"$f":"MAX(FREQUENCY(IF(D110:AB110=\"r\",COLUMN(D110:AB110)),IF(D110:AB110<>\"r\",COLUMN(D110:AB110))))","v":0},""]
["",{"$f":"IF('INPUT DATA'!B110=\"\",\"\",'INPUT DATA'!B110)","v":""},null,null,null,null,null,null,null,null,null,null,null,null,null,null,null,null,null,null,null,null,null,null,null,null,null,null,"","",null,null,null,null,null,null,null,{"$f":"MAX(FREQUENCY(IF(D111:AB111=\"r\",COLUMN(D111:AB111)),IF(D111:AB111<>\"r\",COLUMN(D111:AB111))))","v":0},""]
["",{"$f":"IF('INPUT DATA'!B111=\"\",\"\",'INPUT DATA'!B111)","v":""},null,null,null,null,null,null,null,null,null,null,null,null,null,null,null,null,null,null,null,null,null,null,null,null,null,null,"","",null,null,null,null,null,null,null,{"$f":"MAX(FREQUENCY(IF(D112:AB112=\"r\",COLUMN(D112:AB112)),IF(D112:AB112<>\"r\",COLUMN(D112:AB112))))","v":0},""]
["",{"$f":"IF('INPUT DATA'!B112=\"\",\"\",'INPUT DATA'!B112)","v":""},null,null,null,null,null,null,null,null,null,null,null,null,null,null,null,null,null,null,null,null,null,null,null,null,null,null,"","",null,null,null,null,null,null,null,{"$f":"MAX(FREQUENCY(IF(D113:AB113=\"r\",COLUMN(D113:AB113)),IF(D113:AB113<>\"r\",COLUMN(D113:AB113))))","v":0},""]
["",{"$f":"IF('INPUT DATA'!B113=\"\",\"\",'INPUT DATA'!B113)","v":""},null,null,null,null,null,null,null,null,null,null,null,null,null,null,null,null,null,null,null,null,null,null,null,null,null,null,"","",null,null,null,null,null,null,null,{"$f":"MAX(FREQUENCY(IF(D114:AB114=\"r\",COLUMN(D114:AB114)),IF(D114:AB114<>\"r\",COLUMN(D114:AB114))))","v":0},""]
["FEMALE  | TOTAL Per Day",null,null,{"$f":"IF(D11=\"\",\"\",SUM(COUNTBLANK(D65:D114)-COUNTBLANK($B$65:$B$114),COUNTIF(D65:D114,\"z\")*0.5,COUNTIF(D65:D114,\"y\")*0.5))","v":20},20,20,20,20,20,20,20,20,20,20,20,20,20,20,20,20,20,20,20,20,20,20,20,20,{"$f":"SUM(AC65:AC114)","v":0},{"$f":"SUM(AD65:AD114)","v":500}]
["    Combined TOTAL PER DAY",null,null,{"$f":"IF(D11=\"\",\"\",SUM(D64,D115))","v":39},39,39,40,40,40,40,40,40,40,40,40,40,40,40,40,40,40,40,40,40,40,40,40,40,{"$f":"SUM(AC64,AC115)","v":3},{"$f":"SUM(AD64,AD115)","v":997}]
[]
["GUIDELINES:",null,null,null,null,null,null,null,null,null,null,null,null,null,null,null,"1. CODES FOR CHECKING ATTENDANCE",null,null,null,null,null,null,null,null,null,null,"Month:",{"$f":"X6","v":"March"},null,"No. of Days of Classes:",null,{"$f":"COUNT(D11:AB11)","v":25},"Summary for the Month"]
["1. The attendance shall be accomplished daily. Refer to the codes for checking learners' attendance.",null,null,null,null,null,null,null,null,null,null,null,null,null,null,null,"blank- Present;   (x)- Absent; Tardy (half shaded= Upper for Late Commer, Lower for Cutting Classes)",null,null,null,null,null,null,null,null,null,null,null,null,null,null,null,null,"M","F","TOTAL"]
["2. Dates shall be written in the preceding columns beside Learner's Name.",null,null,null,null,null,null,null,null,null,null,null,null,null,null,null,null,null,null,null,null,null,null,null,null,null,null,"* Enrolment  as of  (1st Friday of June)",null,null,null,null,null,{"$f":"IF('INPUT DATA'!R70=\"\",\"\",'INPUT DATA'!R70)","v":""},{"$f":"IF('INPUT DATA'!S70=\"\",\"\",'INPUT DATA'!S70)","v":""},{"$f":"SUM(AH120:AI121)","v":0}]
["3. To compute the following:"]
["a.","Percentage of Enrolment =",null,"Registered Learner as of End of the Month",null,null,null,null,null,null,null,null,null,"x 100",null,null,"2. REASONS/CAUSES OF DROP-OUTS",null,null,null,null,null,null,null,null,null,null,"Late Enrollment during the month                                               (beyond cut-off)",null,null,null,null,null,{"$f":"IF('INPUT DATA'!R71=\"\",\"\",'INPUT DATA'!R71)","v":""},{"$f":"IF('INPUT DATA'!S71=\"\",\"\",'INPUT DATA'!S71)","v":""},{"$f":"SUM(AH122:AI123)","v":0}]
[null,null,null,"Enrolment as of 1st Friday of June",null,null,null,null,null,null,null,null,null,null,null,null,"a. Domestic-Related Factors"]
["b.","Average Daily Attendance = ",null,"Total Daily Attendance",null,null,null,null,null,null,null,null,null,null,null,null,"a.1. Had to take care of siblings",null,null,null,null,null,null,null,null,null,null,"Registered Learner as of end of the month",null,null,null,null,null,{"$f":"IF('INPUT DATA'!R72=\"\",\"\",'INPUT DATA'!R72)","v":""},{"$f":"IF('INPUT DATA'!S72=\"\",\"\",'INPUT DATA'!S72)","v":""},{"$f":"SUM(AH124:AI125)","v":0}]
[null,null,null,"Number of School Days in reporting month",null,null,null,null,null,null,null,null,null,null,null,null,"a.2. Early marriage/pregnancy"]
["c.","Percentage of Attendance for the month =",null,"Average daily attendance",null,null,null,null,null,null,null,null,null,"x 100",null,null,"a.3. Parents' attitude toward schooling",null,null,null,null,null,null,null,null,null,null,"Percentage of Enrolment as of end of the month",null,null,null,null,null,{"$f":"CONCATENATE(IFERROR(ROUND((AH124)/(AH120)*100,0),\"\"),\"%\")","v":"%"},{"$f":"CONCATENATE(IFERROR(ROUND((AI124)/(AI120)*100,0),\"\"),\"%\")","v":"%"},{"$f":"CONCATENATE(IFERROR(ROUND((AJ124)/(AJ120)*100,0),\"\"),\"%\")","v":"%"}]
[null,null,null,"Registered Learner as of End of the month",null,null,null,null,null,null,null,null,null,null,null,null,"a.4. Family problems"]
[null,null,null,null,null,null,null,null,null,null,null,null,null,null,null,null,"b. Individual-Related Factors",null,null,null,null,null,null,null,null,null,null,"Average Daily Attendance",null,null,null,null,null,{"$f":"IFERROR(ROUND((AD64)/COUNTA(D11:AB11),2),\"\")","v":19.88},{"$f":"IFERROR(ROUND((AD115/COUNTA(D11:AB11)),2),\"\")","v":20},{"$f":"IFERROR(ROUND((AD116)/COUNTA(D11:AB11),2),\"\")","v":39.880000000000003}]
["4. Every End of the month, the class adviser will submit this form to the office of the principal for recording of \n     summary table into the School Form 4. Once signed by the principal, this form should be returned to the adviser.",null,null,null,null,null,null,null,null,null,null,null,null,null,null,null,"b.1. Illness",null,null,null,null,null,null,null,null,null,null,"Percentage of Attendance for the month ",null,null,null,null,null,{"$f":"CONCATENATE(IFERROR(ROUND((AH128/AH124)*100,0),\"\"),\"%\")","v":"%"},{"$f":"CONCATENATE(IFERROR(ROUND((AI128/AI124)*100,0),\"\"),\"%\")","v":"%"},{"$f":"CONCATENATE(IFERROR(ROUND((AJ128/AJ124)*100,0),\"\"),\"%\")","v":"%"}]
[null,null,null,null,null,null,null,null,null,null,null,null,null,null,null,null,"b.2. Overage"]
["5. The adviser will extend neccessary intervention including but not limited to home visitation  to learner/s that committed 5 consecutive days of absences or those with potentials of dropping out",null,null,null,null,null,null,null,null,null,null,null,null,null,null,null,"b.3. Death",null,null,null,null,null,null,null,null,null,null,"Number of students with 5 consecutive days of absences:",null,null,null,null,null,{"$f":"SUM(AM14:AM63)","v":0},{"$f":"SUM(AM65:AM114)","v":0},{"$f":"SUM(AH131:AI132)","v":0}]
[null,null,null,null,null,null,null,null,null,null,null,null,null,null,null,null,"b.4. Drug Abuse"]
["6.  Attendance performance of learner is expected to reflect in Form 137 and Form 138 every grading period",null,null,null,null,null,null,null,null,null,null,null,null,null,null,null,"b.5. Poor academic performance",null,null,null,null,null,null,null,null,null,null,"Drop out",null,null,null,null,null,{"$f":"IF('INPUT DATA'!R73=\"\",\"\",'INPUT DATA'!R73)","v":""},{"$f":"IF('INPUT DATA'!S73=\"\",\"\",'INPUT DATA'!S73)","v":""},{"$f":"SUM(AH133:AI134)","v":0}]
["*","Beginning of School Year cut-off report is every 1st Friday of School Calendar Days",null,null,null,null,null,null,null,null,null,null,null,null,null,null,"b.6. Lack of interest/Distractions"]
[null,null,null,null,null,null,null,null,null,null,null,null,null,null,null,null,"b.7. Hunger/Malnutrition",null,null,null,null,null,null,null,null,null,null,"Transferred out",null,null,null,null,null,{"$f":"IF('INPUT DATA'!R74=\"\",\"\",'INPUT DATA'!R74)","v":""},{"$f":"IF('INPUT DATA'!S74=\"\",\"\",'INPUT DATA'!S74)","v":""},{"$f":"SUM(AH135:AI136)","v":0}]
[null,null,null,null,null,null,null,null,null,null,null,null,null,null,null,null,"c. School-Related Factors"]
[null,null,null,null,null,null,null,null,null,null,null,null,null,null,null,null,"c.1. Teacher Factor",null,null,null,null,null,null,null,null,null,null,"Transferred in",null,null,null,null,null,{"$f":"IF('INPUT DATA'!R75=\"\",\"\",'INPUT DATA'!R75)","v":""},{"$f":"IF('INPUT DATA'!S75=\"\",\"\",'INPUT DATA'!S75)","v":""},{"$f":"SUM(AH137:AI138)","v":0}]
[null,null,null,null,null,null,null,null,null,null,null,null,null,null,null,null,"c.2. Physical condition of classroom"]
[null,null,null,null,null,null,null,null,null,null,null,null,null,null,null,null,"c.3. Peer influence"]
[null,null,null,null,null,null,null,null,null,null,null,null,null,null,null,null,"d. Geographic/Environmental",null,null,null,null,null,null,null,null,null,null,"I certify that this is a true and correct report."]
[null,null,null,null,null,null,null,null,null,null,null,null,null,null,null,null,"d.1. Distance between home and school"]
[null,null,null,null,null,null,null,null,null,null,null,null,null,null,null,null,"d.2. Armed conflict (incl. Tribal wars & clanfeuds)",null,null,null,null,null,null,null,null,null,null,null,null,{"$f":"UPPER(IF('INPUT DATA'!R7=\"\",\"\",'INPUT DATA'!R7))","v":""}]
[null,null,null,null,null,null,null,null,null,null,null,null,null,null,null,null,null,null,null,null,null,null,null,null,null,null,null,null,"                          (Signature of Teacher over Printed Name)"]
[null,null,null,null,null,null,null,null,null,null,null,null,null,null,null,null,"d.3. Calamities/Disasters"]
[null,null,null,null,null,null,null,null,null,null,null,null,null,null,null,null,"e. Financial-Related",null,null,null,null,null,null,null,null,null,null,"Attested by:"]
[null,null,null,null,null,null,null,null,null,null,null,null,null,null,null,null,"e.1. Child labor, work",null,null,null,null,null,null,null,null,null,null,null,null,{"$f":"UPPER(IF('INPUT DATA'!R6=\"\",\"\",'INPUT DATA'!R6))","v":""}]
[null,null,null,null,null,null,null,null,null,null,null,null,null,null,null,null,"f. Others",null,null,null,null,null,null,null,null,null,null,null,null,null,null," (Signature of School Head over Printed Name)"]

{"sheet":"FEB","index":12,"n_rows":147,"n_cols":39,"rows_kept":147,"cut":false,"hidden":true,"merged":[[1,0,1,35],[2,0,2,35],[5,2,5,4],[5,10,5,14],[5,16,5,22],[5,23,5,28],[7,2,7,14],[7,19,7,22],[7,23,7,24],[7,25,7,27],[7,28,7,33],[18,1,18,2],[18,30,18,35],[11,29,12,29],[13,1,13,2],[13,30,13,35],[14,1,14,2],[14,30,14,35],[15,1,15,2],[15,30,15,35],[9,0,12,2],[9,3,9,27],[9,28,10,29],[9,30,12,35],[11,28,12,28],[16,1,16,2],[16,30,16,35],[17,1,17,2],[17,30,17,35],[22,1,22,2],[22,30,22,35],[23,1,23,2],[23,30,23,35],[24,1,24,2],[24,30,24,35],[19,1,19,2],[19,30,19,35],[20,1,20,2],[20,30,20,35],[21,1,21,2],[21,30,21,35],[28,1,28,2],[28,30,28,35],[29,1,29,2],[29,30,29,35],[30,1,30,2],[30,30,30,35],[25,1,25,2],[25,30,25,35],[26,1,26,2],[26,30,26,35],[27,1,27,2],[27,30,27,35],[34,1,34,2],[34,30,34,35],[35,1,35,2],[35,30,35,35],[36,1,36,2],[36,30,36,35],[31,1,31,2],[31,30,31,35],[32,1,32,2],[32,30,32,35],[33,1,33,2],[33,30,33,35],[43,1,43,2],[44,1,44,2],[45,1,45,2],[46,1,46,2],[47,1,47,2],[48,1,48,2],[37,1,37,2],[38,1,38,2],[39,1,39,2],[40,1,40,2],[41,1,41,2],[42,1,42,2],[55,1,55,2],[56,1,56,2],[57,1,57,2],[58,1,58,2],[59,1,59,2],[60,1,60,2],[49,1,49,2],[50,1,50,2],[51,1,51,2],[52,1,52,2],[53,1,53,2],[54,1,54,2],[65,1,65,2],[65,30,65,35],[66,1,66,2],[66,30,66,35],[67,1,67,2],[67,30,67,35],[61,1,61,2],[62,1,62,2],[62,30,62,35],[63,0,63,2],[64,1,64,2],[64,30,64,35],[71,1,71,2],[71,30,71,35],[72,1,72,2],[72,30,72,35],[73,1,73,2],[73,30,73,35],[68,1,68,2],[68,30,68,35],[69,1,69,2],[69,30,69,35],[70,1,70,2],[70,30,70,35],[77,1,77,2],[77,30,77,35],[78,1,78,2],[78,30,78,35],[79,1,79,2],[79,30,79,35],[74,1,74,2],[74,30,74,35],[75,1,75,2],[75,30,75,35],[76,1,76,2],[76,30,76,35],[83,1,83,2],[83,30,83,35],[84,1,84,2],[84,30,84,35],[85,1,85,2],[85,30,85,35],[80,1,80,2],[80,30,80,35],[81,1,81,2],[81,30,81,35],[82,1,82,2],[82,30,82,35],[90,1,90,2],[91,1,91,2],[92,1,92,2],[93,1,93,2],[94,1,94,2],[95,1,95,2],[86,1,86,2],[86,30,86,35],[87,1,87,2],[87,30,87,35],[88,1,88,2],[89,1,89,2],[102,1,102,2],[103,1,103,2],[104,1,104,2],[105,1,105,2],[106,1,106,2],[107,1,107,2],[96,1,96,2],[97,1,97,2],[98,1,98,2],[99,1,99,2],[100,1,100,2],[101,1,101,2],[113,30,113,35],[114,0,114,2],[114,30,114,35],[115,0,115,2],[115,30,115,35],[116,0,116,1],[116,3,116,7],[108,1,108,2],[109,1,109,2],[110,1,110,2],[111,1,111,2],[112,1,112,2],[113,1,113,2],[120,0,120,13],[121,0,122,0],[121,1,122,1],[121,3,121,12],[121,13,122,14],[121,27,122,32],[117,28,117,29],[117,30,118,31],[117,33,117,35],[118,0,118,13],[118,16,120,24],[119,0,119,13],[119,27,120,32],[119,33,120,33],[119,34,120,34],[119,35,120,35],[121,33,122,33],[121,34,122,34],[121,35,122,35],[122,3,122,12],[123,0,124,0],[123,1,124,1],[123,3,123,12],[123,27,124,32],[123,33,124,33],[123,34,124,34],[123,35,124,35],[124,3,124,12],[125,0,126,0],[125,1,126,2],[125,3,125,12],[125,13,126,14],[125,27,126,32],[125,33,126,33],[125,34,126,34],[125,35,126,35],[128,34,129,34],[128,35,129,35],[130,0,131,14],[130,27,131,32],[130,33,131,33],[130,34,131,34],[130,35,131,35],[126,3,126,12],[127,0,127,11],[127,27,127,32],[128,0,129,13],[128,27,129,32],[128,33,129,33],[145,29,145,34],[136,1,137,6],[136,27,137,32],[136,33,137,33],[136,34,137,34],[136,35,137,35],[141,16,142,25],[141,29,141,34],[132,27,133,32],[132,33,133,33],[132,34,133,34],[132,35,133,35],[133,1,133,13],[134,27,135,32],[134,33,135,33],[134,34,135,34],[134,35,135,35]]}
[]
["School Form 2 (SF2) Daily Attendance Report of Learners"]
["(This replaced Form 1, Form 2 & STS Form 4 - Absenteeism and Dropout Profile)"]
[]
[]
[null,"School ID",{"$f":"IF('INPUT DATA'!R5=\"\",\"\",'INPUT DATA'!R5)","v":""},null,null,null,null,"School Year",null,null,{"$f":"IF('INPUT DATA'!R4=\"\",\"\",'INPUT DATA'!R4)","v":""},null,null,null,null,null,"Report for the  Month of",null,null,null,null,null,null,"February"]
[]
[null,"Name of School",{"$f":"IF('INPUT DATA'!F5=\"\",\"\",'INPUT DATA'!F5)","v":""},null,null,null,null,null,null,null,null,null,null,null,null,null,null,null,null,"Grade Level",null,null,null,{"$f":"IF('INPUT DATA'!R8=\"\",\"\",'INPUT DATA'!R8)","v":""},null,"Section",null,null,{"$f":"IF('INPUT DATA'!R9=\"\",\"\",'INPUT DATA'!R9)","v":""}]
[]
["LEARNER'S NAME                                                                                         (Last Name, First Name, Middle Name)                                  ",null,null,"(1st row for date, 2nd row for Day: M,T,W,TH,F)",null,null,null,null,null,null,null,null,null,null,null,null,null,null,null,null,null,null,null,null,null,null,null,null,"Total for the Month             ",null,"REMARK/S (If DROPPED OUT, state reason, please refer to legend number 2.\nIf TRANSFERRED IN/OUT, write the name of School.)"]
[null,null,null,1,2,3,4,5,6,7,8,9,10,11,12,13,14,15,16,17,18,19,20,21,22,23,24,25]
[null,null,null,"Mon","Tue","Wed","Thu","Fri","Mon","Tue","Wed","Thu","Fri","Mon","Tue","Wed","Thu","Fri","Mon","Tue","Wed","Thu","Fri","Mon","Tue","Wed","Thu","Fri","ABSENT","PRESENT"]
[null,null,null,false,false,false,false,false,false,false,false,false,false,false,false,false,false,false,false,false,false,false,false,false,false,false,false,false]
[{"$f":"IF(B14=\"\",\"\",\"1\")","v":"1"},{"$f":"IF('INPUT DATA'!B13=\"\",\"\",'INPUT DATA'!B13)","v":"Student 1"},null,"r","r",null,null,null,null,null,null,null,null,null,null,null,null,null,null,null,null,null,null,null,null,null,null,null,{"$f":"IF(B14=\"\",\"\",SUM(COUNTIF(D14:AB14,\"z\")*0.5,COUNTIF(D14:AB14,\"y\")*0.5,COUNTIF(D14:AB14,\"r\")))","v":2},{"$f":"IF(B14=\"\",\"\",COUNTA($D$11:$AB$11)-AC14)","v":23},null,null,null,null,null,null,null,{"$f":"MAX(FREQUENCY(IF(D14:AB14=\"r\",COLUMN(D14:AB14)),IF(D14:AB14<>\"r\",COLUMN(D14:AB14))))","v":2},{"$f":"IF(AL14>=5,1,\"\")","v":""}]
[{"$f":"IF(B15=\"\",\"\",A14+1)","v":2},{"$f":"IF('INPUT DATA'!B14=\"\",\"\",'INPUT DATA'!B14)","v":"Student 2"},null,null,null,null,null,null,null,null,null,null,null,null,null,null,null,null,null,null,null,null,null,null,null,null,null,null,{"$f":"IF(B15=\"\",\"\",SUM(COUNTIF(D15:AB15,\"z\")*0.5,COUNTIF(D15:AB15,\"y\")*0.5,COUNTIF(D15:AB15,\"r\")))","v":0},{"$f":"IF(B15=\"\",\"\",COUNTA($D$11:$AB$11)-AC15)","v":25},null,null,null,null,null,null,null,{"$f":"MAX(FREQUENCY(IF(D15:AB15=\"r\",COLUMN(D15:AB15)),IF(D15:AB15<>\"r\",COLUMN(D15:AB15))))","v":0},{"$f":"IF(AL15>=5,1,\"\")","v":""}]
[{"$f":"IF(B16=\"\",\"\",A15+1)","v":3},{"$f":"IF('INPUT DATA'!B15=\"\",\"\",'INPUT DATA'!B15)","v":"Student 3"},null,null,null,null,null,null,null,null,null,null,null,null,null,null,null,null,null,null,null,null,null,null,null,null,null,null,0,25,null,null,null,null,null,null,null,{"$f":"MAX(FREQUENCY(IF(D16:AB16=\"r\",COLUMN(D16:AB16)),IF(D16:AB16<>\"r\",COLUMN(D16:AB16))))","v":0},""]
[4,{"$f":"IF('INPUT DATA'!B16=\"\",\"\",'INPUT DATA'!B16)","v":"Student 4"},null,null,null,null,null,null,null,null,null,null,null,null,null,null,null,null,null,null,null,null,null,null,null,null,null,null,0,25,null,null,null,null,null,null,null,{"$f":"MAX(FREQUENCY(IF(D17:AB17=\"r\",COLUMN(D17:AB17)),IF(D17:AB17<>\"r\",COLUMN(D17:AB17))))","v":0},""]
[5,{"$f":"IF('INPUT DATA'!B17=\"\",\"\",'INPUT DATA'!B17)","v":"Student 5"},null,null,null,null,null,null,null,null,null,null,null,null,null,null,null,null,null,null,null,null,null,null,null,null,null,null,0,25,null,null,null,null,null,null,null,{"$f":"MAX(FREQUENCY(IF(D18:AB18=\"r\",COLUMN(D18:AB18)),IF(D18:AB18<>\"r\",COLUMN(D18:AB18))))","v":0},""]
[6,{"$f":"IF('INPUT DATA'!B18=\"\",\"\",'INPUT DATA'!B18)","v":"Student 6"},null,null,null,null,null,null,null,null,null,null,null,null,null,null,null,null,null,null,null,null,null,null,null,null,null,null,0,25,null,null,null,null,null,null,null,{"$f":"MAX(FREQUENCY(IF(D19:AB19=\"r\",COLUMN(D19:AB19)),IF(D19:AB19<>\"r\",COLUMN(D19:AB19))))","v":0},""]
[7,{"$f":"IF('INPUT DATA'!B19=\"\",\"\",'INPUT DATA'!B19)","v":"Student 7"},null,null,null,null,null,null,null,null,null,null,null,null,null,null,null,null,null,null,null,null,null,null,null,null,null,null,0,25,null,null,null,null,null,null,null,{"$f":"MAX(FREQUENCY(IF(D20:AB20=\"r\",COLUMN(D20:AB20)),IF(D20:AB20<>\"r\",COLUMN(D20:AB20))))","v":0},""]
[8,{"$f":"IF('INPUT DATA'!B20=\"\",\"\",'INPUT DATA'!B20)","v":"Student 8"},null,null,null,null,null,null,null,null,null,null,null,null,null,null,null,null,null,null,null,null,null,null,null,null,null,null,0,25,null,null,null,null,null,null,null,{"$f":"MAX(FREQUENCY(IF(D21:AB21=\"r\",COLUMN(D21:AB21)),IF(D21:AB21<>\"r\",COLUMN(D21:AB21))))","v":0},""]
[9,{"$f":"IF('INPUT DATA'!B21=\"\",\"\",'INPUT DATA'!B21)","v":"Student 9"},null,null,null,null,null,null,null,null,null,null,null,null,null,null,null,null,null,null,null,null,null,null,null,null,null,null,0,25,null,null,null,null,null,null,null,{"$f":"MAX(FREQUENCY(IF(D22:AB22=\"r\",COLUMN(D22:AB22)),IF(D22:AB22<>\"r\",COLUMN(D22:AB22))))","v":0},""]
[10,{"$f":"IF('INPUT DATA'!B22=\"\",\"\",'INPUT DATA'!B22)","v":"Student 10"},null,null,null,null,null,null,null,null,null,null,null,null,null,null,null,null,null,null,null,null,null,null,null,null,null,null,0,25,null,null,null,null,null,null,null,{"$f":"MAX(FREQUENCY(IF(D23:AB23=\"r\",COLUMN(D23:AB23)),IF(D23:AB23<>\"r\",COLUMN(D23:AB23))))","v":0},""]
[11,{"$f":"IF('INPUT DATA'!B23=\"\",\"\",'INPUT DATA'!B23)","v":"Student 11"},null,null,null,null,null,null,null,null,null,null,null,null,null,null,null,null,null,null,null,null,null,null,null,null,null,null,0,25,null,null,null,null,null,null,null,{"$f":"MAX(FREQUENCY(IF(D24:AB24=\"r\",COLUMN(D24:AB24)),IF(D24:AB24<>\"r\",COLUMN(D24:AB24))))","v":0},""]
[12,{"$f":"IF('INPUT DATA'!B24=\"\",\"\",'INPUT DATA'!B24)","v":"Student 12"},null,null,null,null,null,null,null,null,null,null,null,null,null,null,null,null,null,null,null,null,null,null,null,null,null,null,0,25,null,null,null,null,null,null,null,{"$f":"MAX(FREQUENCY(IF(D25:AB25=\"r\",COLUMN(D25:AB25)),IF(D25:AB25<>\"r\",COLUMN(D25:AB25))))","v":0},""]
[13,{"$f":"IF('INPUT DATA'!B25=\"\",\"\",'INPUT DATA'!B25)","v":"Student 13"},null,null,null,null,null,null,null,null,null,null,null,null,null,null,null,null,null,null,null,null,null,null,null,null,null,null,0,25,null,null,null,null,null,null,null,{"$f":"MAX(FREQUENCY(IF(D26:AB26=\"r\",COLUMN(D26:AB26)),IF(D26:AB26<>\"r\",COLUMN(D26:AB26))))","v":0},""]
[14,{"$f":"IF('INPUT DATA'!B26=\"\",\"\",'INPUT DATA'!B26)","v":"Student 14"},null,null,null,null,null,null,null,null,null,null,null,null,null,null,null,null,null,null,null,null,null,null,null,null,null,null,0,25,null,null,null,null,null,null,null,{"$f":"MAX(FREQUENCY(IF(D27:AB27=\"r\",COLUMN(D27:AB27)),IF(D27:AB27<>\"r\",COLUMN(D27:AB27))))","v":0},""]
[15,{"$f":"IF('INPUT DATA'!B27=\"\",\"\",'INPUT DATA'!B27)","v":"Student 15"},null,null,null,null,null,null,null,null,null,null,null,null,null,null,null,null,null,null,null,null,null,null,null,null,null,null,0,25,null,null,null,null,null,null,null,{"$f":"MAX(FREQUENCY(IF(D28:AB28=\"r\",COLUMN(D28:AB28)),IF(D28:AB28<>\"r\",COLUMN(D28:AB28))))","v":0},""]
[16,{"$f":"IF('INPUT DATA'!B28=\"\",\"\",'INPUT DATA'!B28)","v":"Student 16"},null,null,null,null,null,null,null,null,null,null,null,null,null,null,null,null,null,null,null,null,null,null,null,null,null,null,0,25,null,null,null,null,null,null,null,{"$f":"MAX(FREQUENCY(IF(D29:AB29=\"r\",COLUMN(D29:AB29)),IF(D29:AB29<>\"r\",COLUMN(D29:AB29))))","v":0},""]
[17,{"$f":"IF('INPUT DATA'!B29=\"\",\"\",'INPUT DATA'!B29)","v":"Student 17"},null,null,null,null,null,null,null,null,null,null,null,null,null,null,null,null,null,null,null,null,null,null,null,null,null,null,0,25,null,null,null,null,null,null,null,{"$f":"MAX(FREQUENCY(IF(D30:AB30=\"r\",COLUMN(D30:AB30)),IF(D30:AB30<>\"r\",COLUMN(D30:AB30))))","v":0},""]
[18,{"$f":"IF('INPUT DATA'!B30=\"\",\"\",'INPUT DATA'!B30)","v":"Student 18"},null,null,null,null,null,null,null,null,null,null,null,null,null,null,null,null,null,null,null,null,null,null,null,null,null,null,0,25,null,null,null,null,null,null,null,{"$f":"MAX(FREQUENCY(IF(D31:AB31=\"r\",COLUMN(D31:AB31)),IF(D31:AB31<>\"r\",COLUMN(D31:AB31))))","v":0},""]
[19,{"$f":"IF('INPUT DATA'!B31=\"\",\"\",'INPUT DATA'!B31)","v":"Student 19"},null,null,null,null,null,null,null,null,null,null,null,null,null,null,null,null,null,null,null,null,null,null,null,null,null,null,0,25,null,null,null,null,null,null,null,{"$f":"MAX(FREQUENCY(IF(D32:AB32=\"r\",COLUMN(D32:AB32)),IF(D32:AB32<>\"r\",COLUMN(D32:AB32))))","v":0},""]
[20,{"$f":"IF('INPUT DATA'!B32=\"\",\"\",'INPUT DATA'!B32)","v":"Student 20"},null,null,null,null,null,null,null,null,null,null,null,null,null,null,null,null,null,null,null,null,null,null,null,null,null,null,0,25,null,null,null,null,null,null,null,{"$f":"MAX(FREQUENCY(IF(D33:AB33=\"r\",COLUMN(D33:AB33)),IF(D33:AB33<>\"r\",COLUMN(D33:AB33))))","v":0},""]
["",{"$f":"IF('INPUT DATA'!B33=\"\",\"\",'INPUT DATA'!B33)","v":""},null,null,null,null,null,null,null,null,null,null,null,null,null,null,null,null,null,null,null,null,null,null,null,null,null,null,"","",null,null,null,null,null,null,null,{"$f":"MAX(FREQUENCY(IF(D34:AB34=\"r\",COLUMN(D34:AB34)),IF(D34:AB34<>\"r\",COLUMN(D34:AB34))))","v":0},""]
["",{"$f":"IF('INPUT DATA'!B34=\"\",\"\",'INPUT DATA'!B34)","v":""},null,null,null,null,null,null,null,null,null,null,null,null,null,null,null,null,null,null,null,null,null,null,null,null,null,null,"","",null,null,null,null,null,null,null,{"$f":"MAX(FREQUENCY(IF(D35:AB35=\"r\",COLUMN(D35:AB35)),IF(D35:AB35<>\"r\",COLUMN(D35:AB35))))","v":0},""]
["",{"$f":"IF('INPUT DATA'!B35=\"\",\"\",'INPUT DATA'!B35)","v":""},null,null,null,null,null,null,null,null,null,null,null,null,null,null,null,null,null,null,null,null,null,null,null,null,null,null,"","",null,null,null,null,null,null,null,{"$f":"MAX(FREQUENCY(IF(D36:AB36=\"r\",COLUMN(D36:AB36)),IF(D36:AB36<>\"r\",COLUMN(D36:AB36))))","v":0},""]
["",{"$f":"IF('INPUT DATA'!B36=\"\",\"\",'INPUT DATA'!B36)","v":""},null,null,null,null,null,null,null,null,null,null,null,null,null,null,null,null,null,null,null,null,null,null,null,null,null,null,"","",null,null,null,null,null,null,null,{"$f":"MAX(FREQUENCY(IF(D37:AB37=\"r\",COLUMN(D37:AB37)),IF(D37:AB37<>\"r\",COLUMN(D37:AB37))))","v":0},""]
["",{"$f":"IF('INPUT DATA'!B37=\"\",\"\",'INPUT DATA'!B37)","v":""},null,null,null,null,null,null,null,null,null,null,null,null,null,null,null,null,null,null,null,null,null,null,null,null,null,null,"","",null,null,null,null,null,null,null,{"$f":"MAX(FREQUENCY(IF(D38:AB38=\"r\",COLUMN(D38:AB38)),IF(D38:AB38<>\"r\",COLUMN(D38:AB38))))","v":0},""]
["",{"$f":"IF('INPUT DATA'!B38=\"\",\"\",'INPUT DATA'!B38)","v":""},null,null,null,null,null,null,null,null,null,null,null,null,null,null,null,null,null,null,null,null,null,null,null,null,null,null,"","",null,null,null,null,null,null,null,{"$f":"MAX(FREQUENCY(IF(D39:AB39=\"r\",COLUMN(D39:AB39)),IF(D39:AB39<>\"r\",COLUMN(D39:AB39))))","v":0},""]
["",{"$f":"IF('INPUT DATA'!B39=\"\",\"\",'INPUT DATA'!B39)","v":""},null,null,null,null,null,null,null,null,null,null,null,null,null,null,null,null,null,null,null,null,null,null,null,null,null,null,"","",null,null,null,null,null,null,null,{"$f":"MAX(FREQUENCY(IF(D40:AB40=\"r\",COLUMN(D40:AB40)),IF(D40:AB40<>\"r\",COLUMN(D40:AB40))))","v":0},""]
["",{"$f":"IF('INPUT DATA'!B40=\"\",\"\",'INPUT DATA'!B40)","v":""},null,null,null,null,null,null,null,null,null,null,null,null,null,null,null,null,null,null,null,null,null,null,null,null,null,null,"","",null,null,null,null,null,null,null,{"$f":"MAX(FREQUENCY(IF(D41:AB41=\"r\",COLUMN(D41:AB41)),IF(D41:AB41<>\"r\",COLUMN(D41:AB41))))","v":0},""]
["",{"$f":"IF('INPUT DATA'!B41=\"\",\"\",'INPUT DATA'!B41)","v":""},null,null,null,null,null,null,null,null,null,null,null,null,null,null,null,null,null,null,null,null,null,null,null,null,null,null,"","",null,null,null,null,null,null,null,{"$f":"MAX(FREQUENCY(IF(D42:AB42=\"r\",COLUMN(D42:AB42)),IF(D42:AB42<>\"r\",COLUMN(D42:AB42))))","v":0},""]
["",{"$f":"IF('INPUT DATA'!B42=\"\",\"\",'INPUT DATA'!B42)","v":""},null,null,null,null,null,null,null,null,null,null,null,null,null,null,null,null,null,null,null,null,null,null,null,null,null,null,"","",null,null,null,null,null,null,null,{"$f":"MAX(FREQUENCY(IF(D43:AB43=\"r\",COLUMN(D43:AB43)),IF(D43:AB43<>\"r\",COLUMN(D43:AB43))))","v":0},""]
["",{"$f":"IF('INPUT DATA'!B43=\"\",\"\",'INPUT DATA'!B43)","v":""},null,null,null,null,null,null,null,null,null,null,null,null,null,null,null,null,null,null,null,null,null,null,null,null,null,null,"","",null,null,null,null,null,null,null,{"$f":"MAX(FREQUENCY(IF(D44:AB44=\"r\",COLUMN(D44:AB44)),IF(D44:AB44<>\"r\",COLUMN(D44:AB44))))","v":0},""]
["",{"$f":"IF('INPUT DATA'!B44=\"\",\"\",'INPUT DATA'!B44)","v":""},null,null,null,null,null,null,null,null,null,null,null,null,null,null,null,null,null,null,null,null,null,null,null,null,null,null,"","",null,null,null,null,null,null,null,{"$f":"MAX(FREQUENCY(IF(D45:AB45=\"r\",COLUMN(D45:AB45)),IF(D45:AB45<>\"r\",COLUMN(D45:AB45))))","v":0},""]
["",{"$f":"IF('INPUT DATA'!B45=\"\",\"\",'INPUT DATA'!B45)","v":""},null,null,null,null,null,null,null,null,null,null,null,null,null,null,null,null,null,null,null,null,null,null,null,null,null,null,"","",null,null,null,null,null,null,null,{"$f":"MAX(FREQUENCY(IF(D46:AB46=\"r\",COLUMN(D46:AB46)),IF(D46:AB46<>\"r\",COLUMN(D46:AB46))))","v":0},""]
["",{"$f":"IF('INPUT DATA'!B46=\"\",\"\",'INPUT DATA'!B46)","v":""},null,null,null,null,null,null,null,null,null,null,null,null,null,null,null,null,null,null,null,null,null,null,null,null,null,null,"","",null,null,null,null,null,null,null,{"$f":"MAX(FREQUENCY(IF(D47:AB47=\"r\",COLUMN(D47:AB47)),IF(D47:AB47<>\"r\",COLUMN(D47:AB47))))","v":0},""]
["",{"$f":"IF('INPUT DATA'!B47=\"\",\"\",'INPUT DATA'!B47)","v":""},null,null,null,null,null,null,null,null,null,null,null,null,null,null,null,null,null,null,null,null,null,null,null,null,null,null,"","",null,null,null,null,null,null,null,{"$f":"MAX(FREQUENCY(IF(D48:AB48=\"r\",COLUMN(D48:AB48)),IF(D48:AB48<>\"r\",COLUMN(D48:AB48))))","v":0},""]
["",{"$f":"IF('INPUT DATA'!B48=\"\",\"\",'INPUT DATA'!B48)","v":""},null,null,null,null,null,null,null,null,null,null,null,null,null,null,null,null,null,null,null,null,null,null,null,null,null,null,"","",null,null,null,null,null,null,null,{"$f":"MAX(FREQUENCY(IF(D49:AB49=\"r\",COLUMN(D49:AB49)),IF(D49:AB49<>\"r\",COLUMN(D49:AB49))))","v":0},""]
["",{"$f":"IF('INPUT DATA'!B49=\"\",\"\",'INPUT DATA'!B49)","v":""},null,null,null,null,null,null,null,null,null,null,null,null,null,null,null,null,null,null,null,null,null,null,null,null,null,null,"","",null,null,null,null,null,null,null,{"$f":"MAX(FREQUENCY(IF(D50:AB50=\"r\",COLUMN(D50:AB50)),IF(D50:AB50<>\"r\",COLUMN(D50:AB50))))","v":0},""]
["",{"$f":"IF('INPUT DATA'!B50=\"\",\"\",'INPUT DATA'!B50)","v":""},null,null,null,null,null,null,null,null,null,null,null,null,null,null,null,null,null,null,null,null,null,null,null,null,null,null,"","",null,null,null,null,null,null,null,{"$f":"MAX(FREQUENCY(IF(D51:AB51=\"r\",COLUMN(D51:AB51)),IF(D51:AB51<>\"r\",COLUMN(D51:AB51))))","v":0},""]
["",{"$f":"IF('INPUT DATA'!B51=\"\",\"\",'INPUT DATA'!B51)","v":""},null,null,null,null,null,null,null,null,null,null,null,null,null,null,null,null,null,null,null,null,null,null,null,null,null,null,"","",null,null,null,null,null,null,null,{"$f":"MAX(FREQUENCY(IF(D52:AB52=\"r\",COLUMN(D52:AB52)),IF(D52:AB52<>\"r\",COLUMN(D52:AB52))))","v":0},""]
["",{"$f":"IF('INPUT DATA'!B52=\"\",\"\",'INPUT DATA'!B52)","v":""},null,null,null,null,null,null,null,null,null,null,null,null,null,null,null,null,null,null,null,null,null,null,null,null,null,null,"","",null,null,null,null,null,null,null,{"$f":"MAX(FREQUENCY(IF(D53:AB53=\"r\",COLUMN(D53:AB53)),IF(D53:AB53<>\"r\",COLUMN(D53:AB53))))","v":0},""]
["",{"$f":"IF('INPUT DATA'!B53=\"\",\"\",'INPUT DATA'!B53)","v":""},null,null,null,null,null,null,null,null,null,null,null,null,null,null,null,null,null,null,null,null,null,null,null,null,null,null,"","",null,null,null,null,null,null,null,{"$f":"MAX(FREQUENCY(IF(D54:AB54=\"r\",COLUMN(D54:AB54)),IF(D54:AB54<>\"r\",COLUMN(D54:AB54))))","v":0},""]
["",{"$f":"IF('INPUT DATA'!B54=\"\",\"\",'INPUT DATA'!B54)","v":""},null,null,null,null,null,null,null,null,null,null,null,null,null,null,null,null,null,null,null,null,null,null,null,null,null,null,"","",null,null,null,null,null,null,null,{"$f":"MAX(FREQUENCY(IF(D55:AB55=\"r\",COLUMN(D55:AB55)),IF(D55:AB55<>\"r\",COLUMN(D55:AB55))))","v":0},""]
["",{"$f":"IF('INPUT DATA'!B55=\"\",\"\",'INPUT DATA'!B55)","v":""},null,null,null,null,null,null,null,null,null,null,null,null,null,null,null,null,null,null,null,null,null,null,null,null,null,null,"","",null,null,null,null,null,null,null,{"$f":"MAX(FREQUENCY(IF(D56:AB56=\"r\",COLUMN(D56:AB56)),IF(D56:AB56<>\"r\",COLUMN(D56:AB56))))","v":0},""]
["",{"$f":"IF('INPUT DATA'!B56=\"\",\"\",'INPUT DATA'!B56)","v":""},null,null,null,null,null,null,null,null,null,null,null,null,null,null,null,null,null,null,null,null,null,null,null,null,null,null,"","",null,null,null,null,null,null,null,{"$f":"MAX(FREQUENCY(IF(D57:AB57=\"r\",COLUMN(D57:AB57)),IF(D57:AB57<>\"r\",COLUMN(D57:AB57))))","v":0},""]
["",{"$f":"IF('INPUT DATA'!B57=\"\",\"\",'INPUT DATA'!B57)","v":""},null,null,null,null,null,null,null,null,null,null,null,null,null,null,null,null,null,null,null,null,null,null,null,null,null,null,"","",null,null,null,null,null,null,null,{"$f":"MAX(FREQUENCY(IF(D58:AB58=\"r\",COLUMN(D58:AB58)),IF(D58:AB58<>\"r\",COLUMN(D58:AB58))))","v":0},""]
["",{"$f":"IF('INPUT DATA'!B58=\"\",\"\",'INPUT DATA'!B58)","v":""},null,null,null,null,null,null,null,null,null,null,null,null,null,null,null,null,null,null,null,null,null,null,null,null,null,null,"","",null,null,null,null,null,null,null,{"$f":"MAX(FREQUENCY(IF(D59:AB59=\"r\",COLUMN(D59:AB59)),IF(D59:AB59<>\"r\",COLUMN(D59:AB59))))","v":0},""]
["",{"$f":"IF('INPUT DATA'!B59=\"\",\"\",'INPUT DATA'!B59)","v":""},null,null,null,null,null,null,null,null,null,null,null,null,null,null,null,null,null,null,null,null,null,null,null,null,null,null,"","",null,null,null,null,null,null,null,{"$f":"MAX(FREQUENCY(IF(D60:AB60=\"r\",COLUMN(D60:AB60)),IF(D60:AB60<>\"r\",COLUMN(D60:AB60))))","v":0},""]
["",{"$f":"IF('INPUT DATA'!B60=\"\",\"\",'INPUT DATA'!B60)","v":""},null,null,null,null,null,null,null,null,null,null,null,null,null,null,null,null,null,null,null,null,null,null,null,null,null,null,"","",null,null,null,null,null,null,null,{"$f":"MAX(FREQUENCY(IF(D61:AB61=\"r\",COLUMN(D61:AB61)),IF(D61:AB61<>\"r\",COLUMN(D61:AB61))))","v":0},""]
["",{"$f":"IF('INPUT DATA'!B61=\"\",\"\",'INPUT DATA'!B61)","v":""},null,null,null,null,null,null,null,null,null,null,null,null,null,null,null,null,null,null,null,null,null,null,null,null,null,null,"","",null,null,null,null,null,null,null,{"$f":"MAX(FREQUENCY(IF(D62:AB62=\"r\",COLUMN(D62:AB62)),IF(D62:AB62<>\"r\",COLUMN(D62:AB62))))","v":0},""]
["",{"$f":"IF('INPUT DATA'!B62=\"\",\"\",'INPUT DATA'!B62)","v":""},null,null,null,null,null,null,null,null,null,null,null,null,null,null,null,null,null,null,null,null,null,null,null,null,null,null,"","",null,null,null,null,null,null,null,{"$f":"MAX(FREQUENCY(IF(D63:AB63=\"r\",COLUMN(D63:AB63)),IF(D63:AB63<>\"r\",COLUMN(D63:AB63))))","v":0},""]
["MALE  | TOTAL Per Day",null,null,{"$f":"IF(D11=\"\",\"\",SUM(COUNTBLANK(D14:D63)-COUNTBLANK($B$14:$B$63),COUNTIF(D14:D63,\"z\")*0.5,COUNTIF(D14:D63,\"y\")*0.5))","v":19},19,20,20,20,20,20,20,20,20,20,20,20,20,20,20,20,20,20,20,20,20,20,20,20,{"$f":"SUM(AC14:AC63)","v":2},{"$f":"SUM(AD14:AD63)","v":498},null,null,null,null,null,null,null,{"$f":"MAX(FREQUENCY(IF(D64:AB64=\"r\",COLUMN(D64:AB64)),IF(D64:AB64<>\"r\",COLUMN(D64:AB64))))","v":0},""]
[{"$f":"IF(B65=\"\",\"\",\"1\")","v":"1"},{"$f":"IF('INPUT DATA'!B64=\"\",\"\",'INPUT DATA'!B64)","v":"Student 1"},null,null,null,null,null,null,null,null,null,null,null,null,null,null,null,null,null,null,null,null,null,null,null,null,null,null,{"$f":"IF(B65=\"\",\"\",SUM(COUNTIF(D65:AB65,\"z\")*0.5,COUNTIF(D65:AB65,\"y\")*0.5,COUNTIF(D65:AB65,\"r\")))","v":0},{"$f":"IF(B65=\"\",\"\",COUNTA($D$11:$AB$11)-AC65)","v":25},null,null,null,null,null,null,null,{"$f":"MAX(FREQUENCY(IF(D65:AB65=\"r\",COLUMN(D65:AB65)),IF(D65:AB65<>\"r\",COLUMN(D65:AB65))))","v":0},""]
[{"$f":"IF(B66=\"\",\"\",A65+1)","v":2},{"$f":"IF('INPUT DATA'!B65=\"\",\"\",'INPUT DATA'!B65)","v":"Student 2"},null,null,null,null,null,null,null,null,null,null,null,null,null,null,null,null,null,null,null,null,null,null,null,null,null,null,{"$f":"IF(B66=\"\",\"\",SUM(COUNTIF(D66:AB66,\"z\")*0.5,COUNTIF(D66:AB66,\"y\")*0.5,COUNTIF(D66:AB66,\"r\")))","v":0},{"$f":"IF(B66=\"\",\"\",COUNTA($D$11:$AB$11)-AC66)","v":25},null,null,null,null,null,null,null,{"$f":"MAX(FREQUENCY(IF(D66:AB66=\"r\",COLUMN(D66:AB66)),IF(D66:AB66<>\"r\",COLUMN(D66:AB66))))","v":0},""]
[{"$f":"IF(B67=\"\",\"\",A66+1)","v":3},{"$f":"IF('INPUT DATA'!B66=\"\",\"\",'INPUT DATA'!B66)","v":"Student 3"},null,null,null,null,null,null,null,null,null,null,null,null,null,null,null,null,null,null,null,null,null,null,null,null,null,null,0,25,null,null,null,null,null,null,null,{"$f":"MAX(FREQUENCY(IF(D67:AB67=\"r\",COLUMN(D67:AB67)),IF(D67:AB67<>\"r\",COLUMN(D67:AB67))))","v":0},""]
[4,{"$f":"IF('INPUT DATA'!B67=\"\",\"\",'INPUT DATA'!B67)","v":"Student 4"},null,null,null,null,null,null,null,null,null,null,null,null,null,null,null,null,null,null,null,null,null,null,null,null,null,null,0,25,null,null,null,null,null,null,null,{"$f":"MAX(FREQUENCY(IF(D68:AB68=\"r\",COLUMN(D68:AB68)),IF(D68:AB68<>\"r\",COLUMN(D68:AB68))))","v":0},""]
[5,{"$f":"IF('INPUT DATA'!B68=\"\",\"\",'INPUT DATA'!B68)","v":"Student 5"},null,null,null,null,null,null,null,null,null,null,null,null,null,null,null,null,null,null,null,null,null,null,null,null,null,null,0,25,null,null,null,null,null,null,null,{"$f":"MAX(FREQUENCY(IF(D69:AB69=\"r\",COLUMN(D69:AB69)),IF(D69:AB69<>\"r\",COLUMN(D69:AB69))))","v":0},""]
[6,{"$f":"IF('INPUT DATA'!B69=\"\",\"\",'INPUT DATA'!B69)","v":"Student 6"},null,null,null,null,null,null,null,null,null,null,null,null,null,null,null,null,null,null,null,null,null,null,null,null,null,null,0,25,null,null,null,null,null,null,null,{"$f":"MAX(FREQUENCY(IF(D70:AB70=\"r\",COLUMN(D70:AB70)),IF(D70:AB70<>\"r\",COLUMN(D70:AB70))))","v":0},""]
[7,{"$f":"IF('INPUT DATA'!B70=\"\",\"\",'INPUT DATA'!B70)","v":"Student 7"},null,null,null,null,null,null,null,null,null,null,null,null,null,null,null,null,null,null,null,null,null,null,null,null,null,null,0,25,null,null,null,null,null,null,null,{"$f":"MAX(FREQUENCY(IF(D71:AB71=\"r\",COLUMN(D71:AB71)),IF(D71:AB71<>\"r\",COLUMN(D71:AB71))))","v":0},""]
[8,{"$f":"IF('INPUT DATA'!B71=\"\",\"\",'INPUT DATA'!B71)","v":"Student 8"},null,null,null,null,null,null,null,null,null,null,null,null,null,null,null,null,null,null,null,null,null,null,null,null,null,null,0,25,null,null,null,null,null,null,null,{"$f":"MAX(FREQUENCY(IF(D72:AB72=\"r\",COLUMN(D72:AB72)),IF(D72:AB72<>\"r\",COLUMN(D72:AB72))))","v":0},""]
[9,{"$f":"IF('INPUT DATA'!B72=\"\",\"\",'INPUT DATA'!B72)","v":"Student 9"},null,null,null,null,null,null,null,null,null,null,null,null,null,null,null,null,null,null,null,null,null,null,null,null,null,null,0,25,null,null,null,null,null,null,null,{"$f":"MAX(FREQUENCY(IF(D73:AB73=\"r\",COLUMN(D73:AB73)),IF(D73:AB73<>\"r\",COLUMN(D73:AB73))))","v":0},""]
[10,{"$f":"IF('INPUT DATA'!B73=\"\",\"\",'INPUT DATA'!B73)","v":"Student 10"},null,null,null,null,null,null,null,null,null,null,null,null,null,null,null,null,null,null,null,null,null,null,null,null,null,null,0,25,null,null,null,null,null,null,null,{"$f":"MAX(FREQUENCY(IF(D74:AB74=\"r\",COLUMN(D74:AB74)),IF(D74:AB74<>\"r\",COLUMN(D74:AB74))))","v":0},""]
[11,{"$f":"IF('INPUT DATA'!B74=\"\",\"\",'INPUT DATA'!B74)","v":"Student 11"},null,null,null,null,null,null,null,null,null,null,null,null,null,null,null,null,null,null,null,null,null,null,null,null,null,null,0,25,null,null,null,null,null,null,null,{"$f":"MAX(FREQUENCY(IF(D75:AB75=\"r\",COLUMN(D75:AB75)),IF(D75:AB75<>\"r\",COLUMN(D75:AB75))))","v":0},""]
[12,{"$f":"IF('INPUT DATA'!B75=\"\",\"\",'INPUT DATA'!B75)","v":"Student 12"},null,null,null,null,null,null,null,null,null,null,null,null,null,null,null,null,null,null,null,null,null,null,null,null,null,null,0,25,null,null,null,null,null,null,null,{"$f":"MAX(FREQUENCY(IF(D76:AB76=\"r\",COLUMN(D76:AB76)),IF(D76:AB76<>\"r\",COLUMN(D76:AB76))))","v":0},""]
[13,{"$f":"IF('INPUT DATA'!B76=\"\",\"\",'INPUT DATA'!B76)","v":"Student 13"},null,null,null,null,null,null,null,null,null,null,null,null,null,null,null,null,null,null,null,null,null,null,null,null,null,null,0,25,null,null,null,null,null,null,null,{"$f":"MAX(FREQUENCY(IF(D77:AB77=\"r\",COLUMN(D77:AB77)),IF(D77:AB77<>\"r\",COLUMN(D77:AB77))))","v":0},""]
[14,{"$f":"IF('INPUT DATA'!B77=\"\",\"\",'INPUT DATA'!B77)","v":"Student 14"},null,null,null,null,null,null,null,null,null,null,null,null,null,null,null,null,null,null,null,null,null,null,null,null,null,null,0,25,null,null,null,null,null,null,null,{"$f":"MAX(FREQUENCY(IF(D78:AB78=\"r\",COLUMN(D78:AB78)),IF(D78:AB78<>\"r\",COLUMN(D78:AB78))))","v":0},""]
[15,{"$f":"IF('INPUT DATA'!B78=\"\",\"\",'INPUT DATA'!B78)","v":"Student 15"},null,null,null,null,null,null,null,null,null,null,null,null,null,null,null,null,null,null,null,null,null,null,null,null,null,null,0,25,null,null,null,null,null,null,null,{"$f":"MAX(FREQUENCY(IF(D79:AB79=\"r\",COLUMN(D79:AB79)),IF(D79:AB79<>\"r\",COLUMN(D79:AB79))))","v":0},{"$f":"IF(AL79>=5,1,\"\")","v":""}]
[16,{"$f":"IF('INPUT DATA'!B79=\"\",\"\",'INPUT DATA'!B79)","v":"Student 16"},null,null,null,null,null,null,null,null,null,null,null,null,null,null,null,null,null,null,null,null,null,null,null,null,null,null,0,25,null,null,null,null,null,null,null,{"$f":"MAX(FREQUENCY(IF(D80:AB80=\"r\",COLUMN(D80:AB80)),IF(D80:AB80<>\"r\",COLUMN(D80:AB80))))","v":0},""]
[17,{"$f":"IF('INPUT DATA'!B80=\"\",\"\",'INPUT DATA'!B80)","v":"Student 17"},null,null,null,null,null,null,null,null,null,null,null,null,null,null,null,null,null,null,null,null,null,null,null,null,null,null,0,25,null,null,null,null,null,null,null,{"$f":"MAX(FREQUENCY(IF(D81:AB81=\"r\",COLUMN(D81:AB81)),IF(D81:AB81<>\"r\",COLUMN(D81:AB81))))","v":0},""]
[18,{"$f":"IF('INPUT DATA'!B81=\"\",\"\",'INPUT DATA'!B81)","v":"Student 18"},null,null,null,null,null,null,null,null,null,null,null,null,null,null,null,null,null,null,null,null,null,null,null,null,null,null,0,25,null,null,null,null,null,null,null,{"$f":"MAX(FREQUENCY(IF(D82:AB82=\"r\",COLUMN(D82:AB82)),IF(D82:AB82<>\"r\",COLUMN(D82:AB82))))","v":0},""]
[19,{"$f":"IF('INPUT DATA'!B82=\"\",\"\",'INPUT DATA'!B82)","v":"Student 19"},null,null,null,null,null,null,null,null,null,null,null,null,null,null,null,null,null,null,null,null,null,null,null,null,null,null,0,25,null,null,null,null,null,null,null,{"$f":"MAX(FREQUENCY(IF(D83:AB83=\"r\",COLUMN(D83:AB83)),IF(D83:AB83<>\"r\",COLUMN(D83:AB83))))","v":0},""]
[20,{"$f":"IF('INPUT DATA'!B83=\"\",\"\",'INPUT DATA'!B83)","v":"Student 20"},null,null,null,null,null,null,null,null,null,null,null,null,null,null,null,null,null,null,null,null,null,null,null,null,null,null,0,25,null,null,null,null,null,null,null,{"$f":"MAX(FREQUENCY(IF(D84:AB84=\"r\",COLUMN(D84:AB84)),IF(D84:AB84<>\"r\",COLUMN(D84:AB84))))","v":0},""]
["",{"$f":"IF('INPUT DATA'!B84=\"\",\"\",'INPUT DATA'!B84)","v":""},null,null,null,null,null,null,null,null,null,null,null,null,null,null,null,null,null,null,null,null,null,null,null,null,null,null,"","",null,null,null,null,null,null,null,{"$f":"MAX(FREQUENCY(IF(D85:AB85=\"r\",COLUMN(D85:AB85)),IF(D85:AB85<>\"r\",COLUMN(D85:AB85))))","v":0},""]
["",{"$f":"IF('INPUT DATA'!B85=\"\",\"\",'INPUT DATA'!B85)","v":""},null,null,null,null,null,null,null,null,null,null,null,null,null,null,null,null,null,null,null,null,null,null,null,null,null,null,"","",null,null,null,null,null,null,null,{"$f":"MAX(FREQUENCY(IF(D86:AB86=\"r\",COLUMN(D86:AB86)),IF(D86:AB86<>\"r\",COLUMN(D86:AB86))))","v":0},""]
["",{"$f":"IF('INPUT DATA'!B86=\"\",\"\",'INPUT DATA'!B86)","v":""},null,null,null,null,null,null,null,null,null,null,null,null,null,null,null,null,null,null,null,null,null,null,null,null,null,null,"","",null,null,null,null,null,null,null,{"$f":"MAX(FREQUENCY(IF(D87:AB87=\"r\",COLUMN(D87:AB87)),IF(D87:AB87<>\"r\",COLUMN(D87:AB87))))","v":0},""]
["",{"$f":"IF('INPUT DATA'!B87=\"\",\"\",'INPUT DATA'!B87)","v":""},null,null,null,null,null,null,null,null,null,null,null,null,null,null,null,null,null,null,null,null,null,null,null,null,null,null,"","",null,null,null,null,null,null,null,{"$f":"MAX(FREQUENCY(IF(D88:AB88=\"r\",COLUMN(D88:AB88)),IF(D88:AB88<>\"r\",COLUMN(D88:AB88))))","v":0},""]
["",{"$f":"IF('INPUT DATA'!B88=\"\",\"\",'INPUT DATA'!B88)","v":""},null,null,null,null,null,null,null,null,null,null,null,null,null,null,null,null,null,null,null,null,null,null,null,null,null,null,"","",null,null,null,null,null,null,null,{"$f":"MAX(FREQUENCY(IF(D89:AB89=\"r\",COLUMN(D89:AB89)),IF(D89:AB89<>\"r\",COLUMN(D89:AB89))))","v":0},""]
["",{"$f":"IF('INPUT DATA'!B89=\"\",\"\",'INPUT DATA'!B89)","v":""},null,null,null,null,null,null,null,null,null,null,null,null,null,null,null,null,null,null,null,null,null,null,null,null,null,null,"","",null,null,null,null,null,null,null,{"$f":"MAX(FREQUENCY(IF(D90:AB90=\"r\",COLUMN(D90:AB90)),IF(D90:AB90<>\"r\",COLUMN(D90:AB90))))","v":0},""]
["",{"$f":"IF('INPUT DATA'!B90=\"\",\"\",'INPUT DATA'!B90)","v":""},null,null,null,null,null,null,null,null,null,null,null,null,null,null,null,null,null,null,null,null,null,null,null,null,null,null,"","",null,null,null,null,null,null,null,{"$f":"MAX(FREQUENCY(IF(D91:AB91=\"r\",COLUMN(D91:AB91)),IF(D91:AB91<>\"r\",COLUMN(D91:AB91))))","v":0},""]
["",{"$f":"IF('INPUT DATA'!B91=\"\",\"\",'INPUT DATA'!B91)","v":""},null,null,null,null,null,null,null,null,null,null,null,null,null,null,null,null,null,null,null,null,null,null,null,null,null,null,"","",null,null,null,null,null,null,null,{"$f":"MAX(FREQUENCY(IF(D92:AB92=\"r\",COLUMN(D92:AB92)),IF(D92:AB92<>\"r\",COLUMN(D92:AB92))))","v":0},""]
["",{"$f":"IF('INPUT DATA'!B92=\"\",\"\",'INPUT DATA'!B92)","v":""},null,null,null,null,null,null,null,null,null,null,null,null,null,null,null,null,null,null,null,null,null,null,null,null,null,null,"","",null,null,null,null,null,null,null,{"$f":"MAX(FREQUENCY(IF(D93:AB93=\"r\",COLUMN(D93:AB93)),IF(D93:AB93<>\"r\",COLUMN(D93:AB93))))","v":0},""]
["",{"$f":"IF('INPUT DATA'!B93=\"\",\"\",'INPUT DATA'!B93)","v":""},null,null,null,null,null,null,null,null,null,null,null,null,null,null,null,null,null,null,null,null,null,null,null,null,null,null,"","",null,null,null,null,null,null,null,{"$f":"MAX(FREQUENCY(IF(D94:AB94=\"r\",COLUMN(D94:AB94)),IF(D94:AB94<>\"r\",COLUMN(D94:AB94))))","v":0},""]
["",{"$f":"IF('INPUT DATA'!B94=\"\",\"\",'INPUT DATA'!B94)","v":""},null,null,null,null,null,null,null,null,null,null,null,null,null,null,null,null,null,null,null,null,null,null,null,null,null,null,"","",null,null,null,null,null,null,null,{"$f":"MAX(FREQUENCY(IF(D95:AB95=\"r\",COLUMN(D95:AB95)),IF(D95:AB95<>\"r\",COLUMN(D95:AB95))))","v":0},""]
["",{"$f":"IF('INPUT DATA'!B95=\"\",\"\",'INPUT DATA'!B95)","v":""},null,null,null,null,null,null,null,null,null,null,null,null,null,null,null,null,null,null,null,null,null,null,null,null,null,null,"","",null,null,null,null,null,null,null,{"$f":"MAX(FREQUENCY(IF(D96:AB96=\"r\",COLUMN(D96:AB96)),IF(D96:AB96<>\"r\",COLUMN(D96:AB96))))","v":0},""]
["",{"$f":"IF('INPUT DATA'!B96=\"\",\"\",'INPUT DATA'!B96)","v":""},null,null,null,null,null,null,null,null,null,null,null,null,null,null,null,null,null,null,null,null,null,null,null,null,null,null,"","",null,null,null,null,null,null,null,{"$f":"MAX(FREQUENCY(IF(D97:AB97=\"r\",COLUMN(D97:AB97)),IF(D97:AB97<>\"r\",COLUMN(D97:AB97))))","v":0},""]
["",{"$f":"IF('INPUT DATA'!B97=\"\",\"\",'INPUT DATA'!B97)","v":""},null,null,null,null,null,null,null,null,null,null,null,null,null,null,null,null,null,null,null,null,null,null,null,null,null,null,"","",null,null,null,null,null,null,null,{"$f":"MAX(FREQUENCY(IF(D98:AB98=\"r\",COLUMN(D98:AB98)),IF(D98:AB98<>\"r\",COLUMN(D98:AB98))))","v":0},""]
["",{"$f":"IF('INPUT DATA'!B98=\"\",\"\",'INPUT DATA'!B98)","v":""},null,null,null,null,null,null,null,null,null,null,null,null,null,null,null,null,null,null,null,null,null,null,null,null,null,null,"","",null,null,null,null,null,null,null,{"$f":"MAX(FREQUENCY(IF(D99:AB99=\"r\",COLUMN(D99:AB99)),IF(D99:AB99<>\"r\",COLUMN(D99:AB99))))","v":0},""]
["",{"$f":"IF('INPUT DATA'!B99=\"\",\"\",'INPUT DATA'!B99)","v":""},null,null,null,null,null,null,null,null,null,null,null,null,null,null,null,null,null,null,null,null,null,null,null,null,null,null,"","",null,null,null,null,null,null,null,{"$f":"MAX(FREQUENCY(IF(D100:AB100=\"r\",COLUMN(D100:AB100)),IF(D100:AB100<>\"r\",COLUMN(D100:AB100))))","v":0},""]
["",{"$f":"IF('INPUT DATA'!B100=\"\",\"\",'INPUT DATA'!B100)","v":""},null,null,null,null,null,null,null,null,null,null,null,null,null,null,null,null,null,null,null,null,null,null,null,null,null,null,"","",null,null,null,null,null,null,null,{"$f":"MAX(FREQUENCY(IF(D101:AB101=\"r\",COLUMN(D101:AB101)),IF(D101:AB101<>\"r\",COLUMN(D101:AB101))))","v":0},""]
["",{"$f":"IF('INPUT DATA'!B101=\"\",\"\",'INPUT DATA'!B101)","v":""},null,null,null,null,null,null,null,null,null,null,null,null,null,null,null,null,null,null,null,null,null,null,null,null,null,null,"","",null,null,null,null,null,null,null,{"$f":"MAX(FREQUENCY(IF(D102:AB102=\"r\",COLUMN(D102:AB102)),IF(D102:AB102<>\"r\",COLUMN(D102:AB102))))","v":0},""]
["",{"$f":"IF('INPUT DATA'!B102=\"\",\"\",'INPUT DATA'!B102)","v":""},null,null,null,null,null,null,null,null,null,null,null,null,null,null,null,null,null,null,null,null,null,null,null,null,null,null,"","",null,null,null,null,null,null,null,{"$f":"MAX(FREQUENCY(IF(D103:AB103=\"r\",COLUMN(D103:AB103)),IF(D103:AB103<>\"r\",COLUMN(D103:AB103))))","v":0},""]
["",{"$f":"IF('INPUT DATA'!B103=\"\",\"\",'INPUT DATA'!B103)","v":""},null,null,null,null,null,null,null,null,null,null,null,null,null,null,null,null,null,null,null,null,null,null,null,null,null,null,"","",null,null,null,null,null,null,null,{"$f":"MAX(FREQUENCY(IF(D104:AB104=\"r\",COLUMN(D104:AB104)),IF(D104:AB104<>\"r\",COLUMN(D104:AB104))))","v":0},""]
["",{"$f":"IF('INPUT DATA'!B104=\"\",\"\",'INPUT DATA'!B104)","v":""},null,null,null,null,null,null,null,null,null,null,null,null,null,null,null,null,null,null,null,null,null,null,null,null,null,null,"","",null,null,null,null,null,null,null,{"$f":"MAX(FREQUENCY(IF(D105:AB105=\"r\",COLUMN(D105:AB105)),IF(D105:AB105<>\"r\",COLUMN(D105:AB105))))","v":0},""]
["",{"$f":"IF('INPUT DATA'!B105=\"\",\"\",'INPUT DATA'!B105)","v":""},null,null,null,null,null,null,null,null,null,null,null,null,null,null,null,null,null,null,null,null,null,null,null,null,null,null,"","",null,null,null,null,null,null,null,{"$f":"MAX(FREQUENCY(IF(D106:AB106=\"r\",COLUMN(D106:AB106)),IF(D106:AB106<>\"r\",COLUMN(D106:AB106))))","v":0},""]
["",{"$f":"IF('INPUT DATA'!B106=\"\",\"\",'INPUT DATA'!B106)","v":""},null,null,null,null,null,null,null,null,null,null,null,null,null,null,null,null,null,null,null,null,null,null,null,null,null,null,"","",null,null,null,null,null,null,null,{"$f":"MAX(FREQUENCY(IF(D107:AB107=\"r\",COLUMN(D107:AB107)),IF(D107:AB107<>\"r\",COLUMN(D107:AB107))))","v":0},""]
["",{"$f":"IF('INPUT DATA'!B107=\"\",\"\",'INPUT DATA'!B107)","v":""},null,null,null,null,null,null,null,null,null,null,null,null,null,null,null,null,null,null,null,null,null,null,null,null,null,null,"","",null,null,null,null,null,null,null,{"$f":"MAX(FREQUENCY(IF(D108:AB108=\"r\",COLUMN(D108:AB108)),IF(D108:AB108<>\"r\",COLUMN(D108:AB108))))","v":0},""]
["",{"$f":"IF('INPUT DATA'!B108=\"\",\"\",'INPUT DATA'!B108)","v":""},null,null,null,null,null,null,null,null,null,null,null,null,null,null,null,null,null,null,null,null,null,null,null,null,null,null,"","",null,null,null,null,null,null,null,{"$f":"MAX(FREQUENCY(IF(D109:AB109=\"r\",COLUMN(D109:AB109)),IF(D109:AB109<>\"r\",COLUMN(D109:AB109))))","v":0},""]
["",{"$f":"IF('INPUT DATA'!B109=\"\",\"\",'INPUT DATA'!B109)","v":""},null,null,null,null,null,null,null,null,null,null,null,null,null,null,null,null,null,null,null,null,null,null,null,null,null,null,"","",null,null,null,null,null,null,null,{"$f":"MAX(FREQUENCY(IF(D110:AB110=\"r\",COLUMN(D110:AB110)),IF(D110:AB110<>\"r\",COLUMN(D110:AB110))))","v":0},""]
["",{"$f":"IF('INPUT DATA'!B110=\"\",\"\",'INPUT DATA'!B110)","v":""},null,null,null,null,null,null,null,null,null,null,null,null,null,null,null,null,null,null,null,null,null,null,null,null,null,null,"","",null,null,null,null,null,null,null,{"$f":"MAX(FREQUENCY(IF(D111:AB111=\"r\",COLUMN(D111:AB111)),IF(D111:AB111<>\"r\",COLUMN(D111:AB111))))","v":0},""]
["",{"$f":"IF('INPUT DATA'!B111=\"\",\"\",'INPUT DATA'!B111)","v":""},null,null,null,null,null,null,null,null,null,null,null,null,null,null,null,null,null,null,null,null,null,null,null,null,null,null,"","",null,null,null,null,null,null,null,{"$f":"MAX(FREQUENCY(IF(D112:AB112=\"r\",COLUMN(D112:AB112)),IF(D112:AB112<>\"r\",COLUMN(D112:AB112))))","v":0},""]
["",{"$f":"IF('INPUT DATA'!B112=\"\",\"\",'INPUT DATA'!B112)","v":""},null,null,null,null,null,null,null,null,null,null,null,null,null,null,null,null,null,null,null,null,null,null,null,null,null,null,"","",null,null,null,null,null,null,null,{"$f":"MAX(FREQUENCY(IF(D113:AB113=\"r\",COLUMN(D113:AB113)),IF(D113:AB113<>\"r\",COLUMN(D113:AB113))))","v":0},""]
["",{"$f":"IF('INPUT DATA'!B113=\"\",\"\",'INPUT DATA'!B113)","v":""},null,null,null,null,null,null,null,null,null,null,null,null,null,null,null,null,null,null,null,null,null,null,null,null,null,null,"","",null,null,null,null,null,null,null,{"$f":"MAX(FREQUENCY(IF(D114:AB114=\"r\",COLUMN(D114:AB114)),IF(D114:AB114<>\"r\",COLUMN(D114:AB114))))","v":0},""]
["FEMALE  | TOTAL Per Day",null,null,{"$f":"IF(D11=\"\",\"\",SUM(COUNTBLANK(D65:D114)-COUNTBLANK($B$65:$B$114),COUNTIF(D65:D114,\"z\")*0.5,COUNTIF(D65:D114,\"y\")*0.5))","v":20},20,20,20,20,20,20,20,20,20,20,20,20,20,20,20,20,20,20,20,20,20,20,20,20,{"$f":"SUM(AC65:AC114)","v":0},{"$f":"SUM(AD65:AD114)","v":500}]
["    Combined TOTAL PER DAY",null,null,{"$f":"IF(D11=\"\",\"\",SUM(D64,D115))","v":39},39,40,40,40,40,40,40,40,40,40,40,40,40,40,40,40,40,40,40,40,40,40,40,40,{"$f":"SUM(AC64,AC115)","v":2},{"$f":"SUM(AD64,AD115)","v":998}]
[]
["GUIDELINES:",null,null,null,null,null,null,null,null,null,null,null,null,null,null,null,"1. CODES FOR CHECKING ATTENDANCE",null,null,null,null,null,null,null,null,null,null,"Month:",{"$f":"X6","v":"February"},null,"No. of Days of Classes:",null,{"$f":"COUNT(D11:AB11)","v":25},"Summary for the Month"]
["1. The attendance shall be accomplished daily. Refer to the codes for checking learners' attendance.",null,null,null,null,null,null,null,null,null,null,null,null,null,null,null,"blank- Present;   (x)- Absent; Tardy (half shaded= Upper for Late Commer, Lower for Cutting Classes)",null,null,null,null,null,null,null,null,null,null,null,null,null,null,null,null,"M","F","TOTAL"]
["2. Dates shall be written in the preceding columns beside Learner's Name.",null,null,null,null,null,null,null,null,null,null,null,null,null,null,null,null,null,null,null,null,null,null,null,null,null,null,"* Enrolment  as of  (1st Friday of June)",null,null,null,null,null,{"$f":"IF('INPUT DATA'!R61=\"\",\"\",'INPUT DATA'!R61)","v":""},{"$f":"IF('INPUT DATA'!S61=\"\",\"\",'INPUT DATA'!S61)","v":""},{"$f":"SUM(AH120:AI121)","v":0}]
["3. To compute the following:"]
["a.","Percentage of Enrolment =",null,"Registered Learner as of End of the Month",null,null,null,null,null,null,null,null,null,"x 100",null,null,"2. REASONS/CAUSES OF DROP-OUTS",null,null,null,null,null,null,null,null,null,null,"Late Enrollment during the month                                               (beyond cut-off)",null,null,null,null,null,{"$f":"IF('INPUT DATA'!R62=\"\",\"\",'INPUT DATA'!R62)","v":""},{"$f":"IF('INPUT DATA'!S62=\"\",\"\",'INPUT DATA'!S62)","v":""},{"$f":"SUM(AH122:AI123)","v":0}]
[null,null,null,"Enrolment as of 1st Friday of June",null,null,null,null,null,null,null,null,null,null,null,null,"a. Domestic-Related Factors"]
["b.","Average Daily Attendance = ",null,"Total Daily Attendance",null,null,null,null,null,null,null,null,null,null,null,null,"a.1. Had to take care of siblings",null,null,null,null,null,null,null,null,null,null,"Registered Learner as of end of the month",null,null,null,null,null,{"$f":"IF('INPUT DATA'!R63=\"\",\"\",'INPUT DATA'!R63)","v":""},{"$f":"IF('INPUT DATA'!S63=\"\",\"\",'INPUT DATA'!S63)","v":""},{"$f":"SUM(AH124:AI125)","v":0}]
[null,null,null,"Number of School Days in reporting month",null,null,null,null,null,null,null,null,null,null,null,null,"a.2. Early marriage/pregnancy"]
["c.","Percentage of Attendance for the month =",null,"Average daily attendance",null,null,null,null,null,null,null,null,null,"x 100",null,null,"a.3. Parents' attitude toward schooling",null,null,null,null,null,null,null,null,null,null,"Percentage of Enrolment as of end of the month",null,null,null,null,null,{"$f":"CONCATENATE(IFERROR(ROUND((AH124)/(AH120)*100,0),\"\"),\"%\")","v":"%"},{"$f":"CONCATENATE(IFERROR(ROUND((AI124)/(AI120)*100,0),\"\"),\"%\")","v":"%"},{"$f":"CONCATENATE(IFERROR(ROUND((AJ124)/(AJ120)*100,0),\"\"),\"%\")","v":"%"}]
[null,null,null,"Registered Learner as of End of the month",null,null,null,null,null,null,null,null,null,null,null,null,"a.4. Family problems"]
[null,null,null,null,null,null,null,null,null,null,null,null,null,null,null,null,"b. Individual-Related Factors",null,null,null,null,null,null,null,null,null,null,"Average Daily Attendance",null,null,null,null,null,{"$f":"IFERROR(ROUND((AD64)/COUNTA(D11:AB11),2),\"\")","v":19.920000000000002},{"$f":"IFERROR(ROUND((AD115/COUNTA(D11:AB11)),2),\"\")","v":20},{"$f":"IFERROR(ROUND((AD116)/COUNTA(D11:AB11),2),\"\")","v":39.92}]
["4. Every End of the month, the class adviser will submit this form to the office of the principal for recording of \n     summary table into the School Form 4. Once signed by the principal, this form should be returned to the adviser.",null,null,null,null,null,null,null,null,null,null,null,null,null,null,null,"b.1. Illness",null,null,null,null,null,null,null,null,null,null,"Percentage of Attendance for the month ",null,null,null,null,null,{"$f":"CONCATENATE(IFERROR(ROUND((AH128/AH124)*100,0),\"\"),\"%\")","v":"%"},{"$f":"CONCATENATE(IFERROR(ROUND((AI128/AI124)*100,0),\"\"),\"%\")","v":"%"},{"$f":"CONCATENATE(IFERROR(ROUND((AJ128/AJ124)*100,0),\"\"),\"%\")","v":"%"}]
[null,null,null,null,null,null,null,null,null,null,null,null,null,null,null,null,"b.2. Overage"]
["5. The adviser will extend neccessary intervention including but not limited to home visitation  to learner/s that committed 5 consecutive days of absences or those with potentials of dropping out",null,null,null,null,null,null,null,null,null,null,null,null,null,null,null,"b.3. Death",null,null,null,null,null,null,null,null,null,null,"Number of students with 5 consecutive days of absences:",null,null,null,null,null,{"$f":"SUM(AM14:AM63)","v":0},{"$f":"SUM(AM65:AM114)","v":0},{"$f":"SUM(AH131:AI132)","v":0}]
[null,null,null,null,null,null,null,null,null,null,null,null,null,null,null,null,"b.4. Drug Abuse"]
["6.  Attendance performance of learner is expected to reflect in Form 137 and Form 138 every grading period",null,null,null,null,null,null,null,null,null,null,null,null,null,null,null,"b.5. Poor academic performance",null,null,null,null,null,null,null,null,null,null,"Drop out",null,null,null,null,null,{"$f":"IF('INPUT DATA'!R64=\"\",\"\",'INPUT DATA'!R64)","v":""},{"$f":"IF('INPUT DATA'!S64=\"\",\"\",'INPUT DATA'!S64)","v":""},{"$f":"SUM(AH133:AI134)","v":0}]
["*","Beginning of School Year cut-off report is every 1st Friday of School Calendar Days",null,null,null,null,null,null,null,null,null,null,null,null,null,null,"b.6. Lack of interest/Distractions"]
[null,null,null,null,null,null,null,null,null,null,null,null,null,null,null,null,"b.7. Hunger/Malnutrition",null,null,null,null,null,null,null,null,null,null,"Transferred out",null,null,null,null,null,{"$f":"IF('INPUT DATA'!R65=\"\",\"\",'INPUT DATA'!R65)","v":""},{"$f":"IF('INPUT DATA'!S65=\"\",\"\",'INPUT DATA'!S65)","v":""},{"$f":"SUM(AH135:AI136)","v":0}]
[null,null,null,null,null,null,null,null,null,null,null,null,null,null,null,null,"c. School-Related Factors"]
[null,null,null,null,null,null,null,null,null,null,null,null,null,null,null,null,"c.1. Teacher Factor",null,null,null,null,null,null,null,null,null,null,"Transferred in",null,null,null,null,null,{"$f":"IF('INPUT DATA'!R66=\"\",\"\",'INPUT DATA'!R66)","v":""},{"$f":"IF('INPUT DATA'!S66=\"\",\"\",'INPUT DATA'!S66)","v":""},{"$f":"SUM(AH137:AI138)","v":0}]
[null,null,null,null,null,null,null,null,null,null,null,null,null,null,null,null,"c.2. Physical condition of classroom"]
[null,null,null,null,null,null,null,null,null,null,null,null,null,null,null,null,"c.3. Peer influence"]
[null,null,null,null,null,null,null,null,null,null,null,null,null,null,null,null,"d. Geographic/Environmental",null,null,null,null,null,null,null,null,null,null,"I certify that this is a true and correct report."]
[null,null,null,null,null,null,null,null,null,null,null,null,null,null,null,null,"d.1. Distance between home and school"]
[null,null,null,null,null,null,null,null,null,null,null,null,null,null,null,null,"d.2. Armed conflict (incl. Tribal wars & clanfeuds)",null,null,null,null,null,null,null,null,null,null,null,null,{"$f":"UPPER(IF('INPUT DATA'!R7=\"\",\"\",'INPUT DATA'!R7))","v":""}]
[null,null,null,null,null,null,null,null,null,null,null,null,null,null,null,null,null,null,null,null,null,null,null,null,null,null,null,null,"                          (Signature of Teacher over Printed Name)"]
[null,null,null,null,null,null,null,null,null,null,null,null,null,null,null,null,"d.3. Calamities/Disasters"]
[null,null,null,null,null,null,null,null,null,null,null,null,null,null,null,null,"e. Financial-Related",null,null,null,null,null,null,null,null,null,null,"Attested by:"]
[null,null,null,null,null,null,null,null,null,null,null,null,null,null,null,null,"e.1. Child labor, work",null,null,null,null,null,null,null,null,null,null,null,null,{"$f":"UPPER(IF('INPUT DATA'!R6=\"\",\"\",'INPUT DATA'!R6))","v":""}]
[null,null,null,null,null,null,null,null,null,null,null,null,null,null,null,null,"f. Others",null,null,null,null,null,null,null,null,null,null,null,null,null,null," (Signature of School Head over Printed Name)"]

{"sheet":"SETTINGS","index":13,"n_rows":500,"n_cols":2,"rows_kept":500,"cut":false,"hidden":true,"merged":[]}
[null,"WTL0T-MW3RR-I9S7G-QDPFI"]
[false,"0SQMY-WCR8C-AIKU9-AHNK4"]
[50,"FS6JF-8U01Z-3TOTE-NMX02"]
[1,"WDOJ8-VXBVY-7FT2U-K3JI1"]
[1,"O0RTB-U1XA8-O3KEB-KV6KC"]
["Registered Device","IZVGH-3HLRJ-5CCBE-UZ4PY"]
["9CBC9200-B74E-11EE-A585-06829AF56F0Y","Y9BD7-PZUJ6-8M69J-G5EVW"]
["Unregistered Device","EKTCQ-CS5N5-D9LAP-ELQNV"]
["9CBC9200-B74E-11EE-A585-06829AF56F00","7HMNU-A7RSF-JW2VH-DEDG6"]
[null,"AFR99-KDF9Q-BWUIA-OHBLS"]
[null,"GG77Q-W4O1N-4GPGF-ANL1P"]
[null,"X1Y6I-JYZ5M-8T4QV-8E6SP"]
[null,"PORHC-H2LBM-OQL2M-7WTL0"]
[null,"TMW3R-RI9S7-GQDPF-I0SQM"]
[null,"YWCR8-CAIKU-9AHNK-4FS6J"]
[null,"F8U01-Z3TOT-ENMX0-2WDOJ"]
[null,"8VXBV-Y7FT2-UK3JI-1O0RT"]
[null,"BU1XA-8O3KE-BKV6K-CIZVG"]
[null,"H3HLR-J5CCB-EUZ4P-YY9BD"]
[null,"7PZUJ-68M69-JG5EV-WEKTC"]
[null,"QCS5N-5D9LA-PELQN-V7HMN"]
[null,"UA7RS-FJW2V-HDEDG-6AFR9"]
[null,"9KDF9-QBWUI-AOHBL-SGG77"]
[null,"QW4O1-N4GPG-FANL1-PX1Y6"]
[null,"IJYZ5-M8T4Q-V8E6S-PPORH"]
[null,"CH2LB-MOQL2-M7WTL-0TMW3"]
[null,"RRI9S-7GQDP-FI0SQ-MYWCR"]
[null,"8CAIK-U9AHN-K4FS6-JF8U0"]
[null,"1Z3TO-TENMX-02WDO-J8VXB"]
[null,"VY7FT-2UK3J-I1O0R-TBU1X"]
[null,"A8O3K-EBKV6-KCIZV-GH3HL"]
[null,"RJ5CC-BEUZ4-PYY9B-D7PZU"]
[null,"J68M6-9JG5E-VWEKT-CQCS5"]
[null,"N5D9L-APELQ-NV7HM-NUA7R"]
[null,"SFJW2-VHDED-G6AFR-99KDF"]
[null,"9QBWU-IAOHB-LSGG7-7QW4O"]
[null,"1N4GP-GFANL-1PX1Y-6IJYZ"]
[null,"5M8T4-QV8E6-SPPOR-HCH2L"]
[null,"BMOQL-2M7WT-L0TMW-3RRI9"]
[null,"S7GQD-PFI0S-QMYWC-R8CAI"]
[null,"KU9AH-NK4FS-6JF8U-01Z3T"]
[null,"OTENM-X02WD-OJ8VX-BVY7F"]
[null,"T2UK3-JI1O0-RTBU1-XA8O3"]
[null,"KEBKV-6KCIZ-VGH3H-LRJ5C"]
[null,"CBEUZ-4PYY9-BD7PZ-UJ68M"]
[null,"69JG5-EVWEK-TCQCS-5N5D9"]
[null,"LAPEL-QNV7H-MNUA7-RSFJW"]
[null,"2VHDE-DG6AF-R99KD-F9QBW"]
[null,"UIAOH-BLSGG-77QW4-O1N4G"]
[null,"PGFAN-L1PX1-Y6IJY-Z5M8T"]
[null,"4QV8E-6SPPO-RHCH2-LBMOQ"]
[null,"L2M7W-TL0TM-W3RRI-9S7GQ"]
[null,"DPFI0-SQMYW-CR8CA-IKU9A"]
[null,"HNK4F-S6JF8-U01Z3-TOTEN"]
[null,"MX02W-DOJ8V-XBVY7-FT2UK"]
[null,"3JI1O-0RTBU-1XA8O-3KEBK"]
[null,"V6KCI-ZVGH3-HLRJ5-CCBEU"]
[null,"Z4PYY-9BD7P-ZUJ68-M69JG"]
[null,"5EVWE-KTCQC-S5N5D-9LAPE"]
[null,"LQNV7-HMNUA-7RSFJ-W2VHD"]
[null,"EDG6A-FR99K-DF9QB-WUIAO"]
[null,"HBLSG-G77QW-4O1N4-GPGFA"]
[null,"NL1PX-1Y6IJ-YZ5M8-T4QV8"]
[null,"E6SPP-ORHCH-2LBMO-QL2M7"]
[null,"WTL0T-MW3RR-I9S7G-QDPFI"]
[null,"0SQMY-WCR8C-AIKU9-AHNK4"]
[null,"FS6JF-8U01Z-3TOTE-NMX02"]
[null,"WDOJ8-VXBVY-7FT2U-K3JI1"]
[null,"O0RTB-U1XA8-O3KEB-KV6KC"]
[null,"IZVGH-3HLRJ-5CCBE-UZ4PY"]
[null,"Y9BD7-PZUJ6-8M69J-G5EVW"]
[null,"EKTCQ-CS5N5-D9LAP-ELQNV"]
[null,"7HMNU-A7RSF-JW2VH-DEDG6"]
[null,"AFR99-KDF9Q-BWUIA-OHBLS"]
[null,"GG77Q-W4O1N-4GPGF-ANL1P"]
[null,"X1Y6I-JYZ5M-8T4QV-8E6SP"]
[null,"PORHC-H2LBM-OQL2M-7WTL0"]
[null,"TMW3R-RI9S7-GQDPF-I0SQM"]
[null,"YWCR8-CAIKU-9AHNK-4FS6J"]
[null,"F8U01-Z3TOT-ENMX0-2WDOJ"]
[null,"8VXBV-Y7FT2-UK3JI-1O0RT"]
[null,"BU1XA-8O3KE-BKV6K-CIZVG"]
[null,"H3HLR-J5CCB-EUZ4P-YY9BD"]
[null,"7PZUJ-68M69-JG5EV-WEKTC"]
[null,"QCS5N-5D9LA-PELQN-V7HMN"]
[null,"UA7RS-FJW2V-HDEDG-6AFR9"]
[null,"9KDF9-QBWUI-AOHBL-SGG77"]
[null,"QW4O1-N4GPG-FANL1-PX1Y6"]
[null,"IJYZ5-M8T4Q-V8E6S-PPORH"]
[null,"CH2LB-MOQL2-M7WTL-0TMW3"]
[null,"RRI9S-7GQDP-FI0SQ-MYWCR"]
[null,"8CAIK-U9AHN-K4FS6-JF8U0"]
[null,"1Z3TO-TENMX-02WDO-J8VXB"]
[null,"VY7FT-2UK3J-I1O0R-TBU1X"]
[null,"A8O3K-EBKV6-KCIZV-GH3HL"]
[null,"RJ5CC-BEUZ4-PYY9B-D7PZU"]
[null,"J68M6-9JG5E-VWEKT-CQCS5"]
[null,"N5D9L-APELQ-NV7HM-NUA7R"]
[null,"SFJW2-VHDED-G6AFR-99KDF"]
[null,"9QBWU-IAOHB-LSGG7-7QW4O"]
[null,"1N4GP-GFANL-1PX1Y-6IJYZ"]
[null,"5M8T4-QV8E6-SPPOR-HCH2L"]
[null,"BMOQL-2M7WT-L0TMW-3RRI9"]
[null,"S7GQD-PFI0S-QMYWC-R8CAI"]
[null,"KU9AH-NK4FS-6JF8U-01Z3T"]
[null,"OTENM-X02WD-OJ8VX-BVY7F"]
[null,"T2UK3-JI1O0-RTBU1-XA8O3"]
[null,"KEBKV-6KCIZ-VGH3H-LRJ5C"]
[null,"CBEUZ-4PYY9-BD7PZ-UJ68M"]
[null,"69JG5-EVWEK-TCQCS-5N5D9"]
[null,"LAPEL-QNV7H-MNUA7-RSFJW"]
[null,"2VHDE-DG6AF-R99KD-F9QBW"]
[null,"UIAOH-BLSGG-77QW4-O1N4G"]
[null,"PGFAN-L1PX1-Y6IJY-Z5M8T"]
[null,"4QV8E-6SPPO-RHCH2-LBMOQ"]
[null,"L2M7W-TL0TM-W3RRI-9S7GQ"]
[null,"DPFI0-SQMYW-CR8CA-IKU9A"]
[null,"HNK4F-S6JF8-U01Z3-TOTEN"]
[null,"MX02W-DOJ8V-XBVY7-FT2UK"]
[null,"3JI1O-0RTBU-1XA8O-3KEBK"]
[null,"V6KCI-ZVGH3-HLRJ5-CCBEU"]
[null,"Z4PYY-9BD7P-ZUJ68-M69JG"]
[null,"5EVWE-KTCQC-S5N5D-9LAPE"]
[null,"LQNV7-HMNUA-7RSFJ-W2VHD"]
[null,"EDG6A-FR99K-DF9QB-WUIAO"]
[null,"HBLSG-G77QW-4O1N4-GPGFA"]
[null,"NL1PX-1Y6IJ-YZ5M8-T4QV8"]
[null,"E6SPP-ORHCH-2LBMO-QL2M7"]
[null,"WTL0T-MW3RR-I9S5E-NBNDG"]
[null,"YPOJW-UAP6A-7FIS7-8ELI2"]
[null,"DQ4HD-6SYYX-1QLQB-KKVYZ"]
[null,"UBMG5-TU9SW-5CR0R-I1GFZ"]
[null,"MYOR9-RZV85-L0HC9-HT3IA"]
[null,"GXTDF-1FJOH-39A9C-SX2NW"]
[null,"V69B5-MXSH4-6K47H-E2CTT"]
[null,"CIRAO-9Q3K3-A6J7N-CJNLT"]
[null,"4FKLS-84PQD-HU0TE-BCAE3"]
[null,"8DP77-IBD7O-8USG8-MF9IQ"]
[null,"ED55O-T2MZL-2EMEC-8LJYN"]
[null,"VZW4G-HVW3J-6R1OS-6B4QN"]
[null,"NMPFA-F0J8K-MOI0K-5URJX"]
[null,"RKU1P-PG7P5-ENBND-GYPOJ"]
[null,"WUAP6-A7FIS-78ELI-2DQ4H"]
[null,"D6SYY-X1QLQ-BKKVY-ZUBMG"]
[null,"5TU9S-W5CR0-RI1GF-ZMYOR"]
[null,"9RZV8-5L0HC-9HT3I-AGXTD"]
[null,"F1FJO-H39A9-CSX2N-WV69B"]
[null,"5MXSH-46K47-HE2CT-TCIRA"]
[null,"O9Q3K-3A6J7-NCJNL-T4FKL"]
[null,"S84PQ-DHU0T-EBCAE-38DP7"]
[null,"7IBD7-O8USG-8MF9I-QED55"]
[null,"OT2MZ-L2EME-C8LJY-NVZW4"]
[null,"GHVW3-J6R1O-S6B4Q-NNMPF"]
[null,"AF0J8-KMOI0-K5URJ-XRKU1"]
[null,"PPG7P-5ENBN-DGYPO-JWUAP"]
[null,"6A7FI-S78EL-I2DQ4-HD6SY"]
[null,"YX1QL-QBKKV-YZUBM-G5TU9"]
[null,"SW5CR-0RI1G-FZMYO-R9RZV"]
[null,"85L0H-C9HT3-IAGXT-DF1FJ"]
[null,"OH39A-9CSX2-NWV69-B5MXS"]
[null,"H46K4-7HE2C-TTCIR-AO9Q3"]
[null,"K3A6J-7NCJN-LT4FK-LS84P"]
[null,"QDHU0-TEBCA-E38DP-77IBD"]
[null,"7O8US-G8MF9-IQED5-5OT2M"]
[null,"ZL2EM-EC8LJ-YNVZW-4GHVW"]
[null,"3J6R1-OS6B4-QNNMP-FAF0J"]
[null,"8KMOI-0K5UR-JXRKU-1PPG7"]
[null,"P5ENB-NDGYP-OJWUA-P6A7F"]
[null,"IS78E-LI2DQ-4HD6S-YYX1Q"]
[null,"LQBKK-VYZUB-MG5TU-9SW5C"]
[null,"R0RI1-GFZMY-OR9RZ-V85L0"]
[null,"HC9HT-3IAGX-TDF1F-JOH39"]
[null,"A9CSX-2NWV6-9B5MX-SH46K"]
[null,"47HE2-CTTCI-RAO9Q-3K3A6"]
[null,"J7NCJ-NLT4F-KLS84-PQDHU"]
[null,"0TEBC-AE38D-P77IB-D7O8U"]
[null,"SG8MF-9IQED-55OT2-MZL2E"]
[null,"MEC8L-JYNVZ-W4GHV-W3J6R"]
[null,"1OS6B-4QNNM-PFAF0-J8KMO"]
[null,"I0K5U-RJXRK-U1PPG-7P5EN"]
[null,"BNDGY-POJWU-AP6A7-FIS78"]
[null,"ELI2D-Q4HD6-SYYX1-QLQBK"]
[null,"KVYZU-BMG5T-U9SW5-CR0RI"]
[null,"1GFZM-YOR9R-ZV85L-0HC9H"]
[null,"T3IAG-XTDF1-FJOH3-9A9CS"]
[null,"X2NWV-69B5M-XSH46-K47HE"]
[null,"2CTTC-IRAO9-Q3K3A-6J7NC"]
[null,"JNLT4-FKLS8-4PQDH-U0TEB"]
[null,"CAE38-DP77I-BD7O8-USG8M"]
[null,"F9IQE-D55OT-2MZL2-EMEC8"]
[null,"LJYNV-ZW4GH-VW3J6-R1OS6"]
[null,"B4QNN-MPFAF-0J8KM-OI0K5"]
[null,"URJXR-KU1PP-G7P5E-NBNDG"]
[null,"YPOJW-UAP6A-7FIS7-8ELI2"]
[null,"DQ4HD-6SYYX-1QLQB-KKVYZ"]
[null,"UBMG5-TU9SW-5CR0R-I1GFZ"]
[null,"MYOR9-RZV85-L0HC9-HT3IA"]
[null,"GXTDF-1FJOH-39A9C-SX2NW"]
[null,"V69B5-MXSH4-6K47H-E2CTT"]
[null,"CIRAO-9Q3K3-A6J7N-CJNLT"]
[null,"4FKLS-84PQD-HU0TE-BCAE3"]
[null,"8DP77-IBD7O-8USG8-MF9IQ"]
[null,"ED55O-T2MZL-2EMEC-8LJYN"]
[null,"VZW4G-HVW3J-6R1OS-6B4QN"]
[null,"NMPFA-F0J8K-MOI0K-5URJX"]
[null,"RKU1P-PG7P5-ENBND-GYPOJ"]
[null,"WUAP6-A7FIS-78ELI-2DQ4H"]
[null,"D6SYY-X1QLQ-BKKVY-ZUBMG"]
[null,"5TU9S-W5CR0-RI1GF-ZMYOR"]
[null,"9RZV8-5L0HC-9HT3I-AGXTD"]
[null,"F1FJO-H39A9-CSX2N-WV69B"]
[null,"5MXSH-46K47-HE2CT-TCIRA"]
[null,"O9Q3K-3A6J7-NCJNL-T4FKL"]
[null,"S84PQ-DHU0T-EBCAE-38DP7"]
[null,"7IBD7-O8USG-8MF9I-QED55"]
[null,"OT2MZ-L2EME-C8LJY-NVZW4"]
[null,"GHVW3-J6R1O-S6B4Q-NNMPF"]
[null,"AF0J8-KMOI0-K5URJ-XRKU1"]
[null,"PPG7P-5ENBN-DGYPO-JWUAP"]
[null,"6A7FI-S78EL-I2DQ4-HD6SY"]
[null,"YX1QL-QBKKV-YZUBM-G5TU9"]
[null,"SW5CR-0RI1G-FZMYO-R9RZV"]
[null,"85L0H-C9HT3-IAGXT-DF1FJ"]
[null,"OH39A-9CSX2-NWV69-B5MXS"]
[null,"H46K4-7HE2C-TTCIR-AO9Q3"]
[null,"K3A6J-7NCJN-LT4FK-LS84P"]
[null,"QDHU0-TEBCA-E38DP-77IBD"]
[null,"7O8US-G8MF9-IQED5-5OT2M"]
[null,"ZL2EM-EC8LJ-YNVZW-4GHVW"]
[null,"3J6R1-OS6B4-QNNMP-FAF0J"]
[null,"8KMOI-0K5UR-JXRKU-1PPG7"]
[null,"P5ENB-NDGYP-OJWUA-P6A7F"]
[null,"IS78E-LI2DQ-4HD6S-YYX1Q"]
[null,"LQBKK-VYZUB-MG5TU-9SW5C"]
[null,"R0RI1-GFZMY-OR9RZ-V85L0"]
[null,"HC9HT-3IAGX-TDF1F-JOH39"]
[null,"A9CSX-2NWV6-9B5MX-SH46K"]
[null,"47HE2-CTTCI-RAO9Q-3K3A6"]
[null,"J7NCJ-NLT4F-KLS84-PQDHU"]
[null,"0TEBC-AE38D-P77IB-D7O8U"]
[null,"SG8MF-9IQED-55OT2-MZL2E"]
[null,"MEC8L-JYNVZ-W4GHV-W3J6R"]
[null,"1OS6B-4QNNM-PFAF0-J8KMO"]
[null,"I0K5U-RJXRK-U1PPG-7P5EN"]
[null,"BNDGY-POJWU-AP6A7-FIS78"]
[null,"ELI2D-Q4HD6-SYYX1-QLQBK"]
[null,"KVYZU-BMG5T-U9SW5-CR0RI"]
[null,"1GFZM-YOR9R-ZV85L-0HC9H"]
[null,"T3IAG-XTDF1-FJOH3-9A9CS"]
[null,"X2NWV-69B5M-XSH46-K47HE"]
[null,"2CTTC-IRAO9-Q3K3A-6J7NC"]
[null,"JNLT4-FKLS8-4PQDH-U0TEB"]
[null,"CAE38-DP77I-BD7O8-USG8M"]
[null,"F9IQE-D55OT-2MZL2-EMEC8"]
[null,"LJYNV-ZW4GH-VW3J6-R1OS6"]
[null,"B4QNN-MPFAF-0J8KM-OI0K5"]
[null,"URJXR-KU1PP-G7P5E-NBNDG"]
[null,"YPOJW-UAP6A-7FIS7-8ELI2"]
[null,"DQ4HD-6SYYX-1QLQB-KKVYZ"]
[null,"UBMG5-TU9SW-5CR0R-I1GFZ"]
[null,"MYOR9-RZV85-L0HC9-HT3IA"]
[null,"GXTDF-1FJOH-39A9C-SX2NW"]
[null,"V69B5-MXSH4-6K47H-E2CTT"]
[null,"CIRAO-9Q3K3-A6J7N-CJNLT"]
[null,"4FKLS-84PQD-HU0TE-BCAE3"]
[null,"8DP77-IBD7O-8USG8-MF9IQ"]
[null,"ED55O-T2MZL-2EMEC-8LJYN"]
[null,"VZW4G-HVW3J-6R1OS-6B4QN"]
[null,"NMPFA-F0J8K-MOI0K-5URJX"]
[null,"RKU1P-PG7P5-ENBND-GYPOJ"]
[null,"WUAP6-A7FIS-78ELI-2DQ4H"]
[null,"D6SYY-X1QLQ-BKKVY-ZUBMG"]
[null,"5TU9S-W5CR0-RI1GF-ZMYOR"]
[null,"9RZV8-5L0HC-9HT3I-AGXTD"]
[null,"F1FJO-H39A9-CSX2N-WV69B"]
[null,"5MXSH-46K47-HE2CT-TCIRA"]
[null,"O9Q3K-3A6J7-NCJNL-T4FKL"]
[null,"S84PQ-DHU0T-EBCAE-38DP7"]
[null,"7IBD7-O8USG-8MF9I-QED55"]
[null,"OT2MZ-L2EME-C8LJY-NVZW4"]
[null,"GHVW3-J6R1O-S6B4Q-NNMPF"]
[null,"AF0J8-KMOI0-K5URJ-XRKU1"]
[null,"PPG7P-5ENBN-DGYPO-JWUAP"]
[null,"6A7FI-S78EL-I2DQ4-HD6SY"]
[null,"YX1QL-QBKKV-YZUBM-G5TU9"]
[null,"SW5CR-0RI1G-FZMYO-R9RZV"]
[null,"85L0H-C9HT3-IAGXT-DF1FJ"]
[null,"OH39A-9CSX2-NWV69-B5MXS"]
[null,"H46K4-7HE2C-TTCIR-AO9Q3"]
[null,"K3A6J-7NCJN-LT4FK-LS84P"]
[null,"QDHU0-TEBCA-E38DP-77IBD"]
[null,"7O8US-G8MF9-IQED5-5OT2M"]
[null,"ZL2EM-EC8LJ-YNVZW-4GHVW"]
[null,"3J6R1-OS6B4-QNNMP-FAF0J"]
[null,"8KMOI-0K5UR-JXRKU-1PPG7"]
[null,"P5ENB-NDGYP-OJWUA-P6A7F"]
[null,"IS78E-LI2DQ-4HD6S-YYX1Q"]
[null,"LQBKK-VYZUB-MG5TU-9SW5C"]
[null,"R0RI1-GFZMY-OR9RZ-V85L0"]
[null,"HC9HT-3IAGX-TDF1F-JOH39"]
[null,"A9CSX-2NWV6-9B5MX-SH46K"]
[null,"47HE2-CTTCI-RAO9Q-3K3A6"]
[null,"J7NCJ-NLT4F-KLS84-PQDHU"]
[null,"0TEBC-AE38D-P77IB-D7O8U"]
[null,"SG8MF-9IQED-55OT2-MZL2E"]
[null,"MEC8L-JYNVZ-W4GHV-W3J6R"]
[null,"1OS6B-4QNNM-PFAF0-J8KMO"]
[null,"I0K5U-RJXRK-U1PPG-7P5EN"]
[null,"BNDGY-POJWU-AP6A7-FIS78"]
[null,"ELI2D-Q4HD6-SYYX1-QLQBK"]
[null,"KVYZU-BMG5T-U9SW5-CR0RI"]
[null,"1GFZM-YOR9R-ZV85L-0HC9H"]
[null,"T3IAG-XTDF1-FJOH3-9A9CS"]
[null,"X2NWV-69B5M-XSH46-K47HE"]
[null,"2CTTC-IRAO9-Q3K3A-6J7NC"]
[null,"JNLT4-FKLS8-4PQDH-U0TEB"]
[null,"CAE38-DP77I-BD7O8-USG8M"]
[null,"F9IQE-D55OT-2MZL2-EMEC8"]
[null,"LJYNV-ZW4GH-VW3J6-R1OS6"]
[null,"B4QNN-MPFAF-0J8KM-OI0K5"]
[null,"URJXR-KU1PP-G7P5E-NBNDG"]
[null,"YPOJW-UAP6A-7FIS7-8ELI2"]
[null,"DQ4HD-6SYYX-1QLQB-KKVYZ"]
[null,"UBMG5-TU9SW-5CR0R-I1GFZ"]
[null,"MYOR9-RZV85-L0HC9-HT3IA"]
[null,"GXTDF-1FJOH-39A9C-SX2NW"]
[null,"V69B5-MXSH4-6K47H-E2CTT"]
[null,"CIRAO-9Q3K3-A6J7N-CJNLT"]
[null,"4FKLS-84PQD-HU0TE-BCAE3"]
[null,"8DP77-IBD7O-8USG8-MF9IQ"]
[null,"ED55O-T2MZL-2EMEC-8LJYN"]
[null,"VZW4G-HVW3J-6R1OS-6B4QN"]
[null,"NMPFA-F0J8K-MOI0K-5URJX"]
[null,"RKU1P-PG7P5-ENBND-GYPOJ"]
[null,"WUAP6-A7FIS-78ELI-2DQ4H"]
[null,"D6SYY-X1QLQ-BKKVY-ZUBMG"]
[null,"5TU9S-W5CR0-RI1GF-ZMYOR"]
[null,"9RZV8-5L0HC-9HT3I-AGXTD"]
[null,"F1FJO-H39A9-CSX2N-WV69B"]
[null,"5MXSH-46K47-HE2CT-TCIRA"]
[null,"O9Q3K-3A6J7-NCJNL-T4FKL"]
[null,"S84PQ-DHU0T-EBCAE-38DP7"]
[null,"7IBD7-O8USG-8MF9I-QED55"]
[null,"OT2MZ-L2EME-C8LJY-NVZW4"]
[null,"GHVW3-J6R1O-S6B4Q-NNMPF"]
[null,"AF0J8-KMOI0-K5URJ-XRKU1"]
[null,"PPG7P-5ENBN-DGYPO-JWUAP"]
[null,"6A7FI-S78EL-I2DQ4-HD6SY"]
[null,"YX1QL-QBKKV-YZUBM-G5TU9"]
[null,"SW5CR-0RI1G-FZMYO-R9RZV"]
[null,"85L0H-C9HT3-IAGXT-DF1FJ"]
[null,"OH39A-9CSX2-NWV69-B5MXS"]
[null,"H46K4-7HE2C-TTCIR-AO9Q3"]
[null,"K3A6J-7NCJN-LT4FK-LS84P"]
[null,"QDHU0-TEBCA-E38DP-77IBD"]
[null,"7O8US-G8MF9-IQED5-5OT2M"]
[null,"ZL2EM-EC8LJ-YNVZW-4GHVW"]
[null,"3J6R1-OS6B4-QNNMP-FAF0J"]
[null,"8KMOI-0K5UR-JXRKU-1PPG7"]
[null,"P5ENB-NDGYP-OJWUA-P6A7F"]
[null,"IS78E-LI2DQ-4HD6S-YYX1Q"]
[null,"LQBKK-VYZUB-MG5TU-9SW5C"]
[null,"R0RI1-GFZMY-OR9RZ-V85L0"]
[null,"HC9HT-3IAGX-TDF1F-JOH39"]
[null,"A9CSX-2NWV6-9B5MX-SH46K"]
[null,"47HE2-CTTCI-RAO9Q-3K3A6"]
[null,"J7NCJ-NLT4F-KLS84-PQDHU"]
[null,"0TEBC-AE38D-P77IB-D7O8U"]
[null,"SG8MF-9IQED-55OT2-MZL2E"]
[null,"MEC8L-JYNVZ-W4GHV-W3J6R"]
[null,"1OS6B-4QNNM-PFAF0-J8KMO"]
[null,"I0K5U-RJXRK-U1PPG-7P5EN"]
[null,"BNDGY-POJWU-AP6A7-FIS78"]
[null,"ELI2D-Q4HD6-SYYX1-QLQBK"]
[null,"KVYZU-BMG5T-U9SW5-CR0RI"]
[null,"1GFZM-YOR9R-ZV85L-0HC9H"]
[null,"T3IAG-XTDF1-FJOH3-9A9CS"]
[null,"X2NWV-69B5M-XSH46-K47HE"]
[null,"2CTTC-IRAO9-Q3K3A-6J7NC"]
[null,"JNLT4-FKLS8-4PQDH-U0TEB"]
[null,"CAE38-DP77I-BD7O8-USG8M"]
[null,"F9IQE-D55OT-2MZL2-EMEC8"]
[null,"LJYNV-ZW4GH-VW3J6-R1OS6"]
[null,"B4QNN-MPFAF-0J8KM-OI0K5"]
[null,"URJXR-KU1PP-G7P5E-NBNDG"]
[null,"YPOJW-UAP6A-7FIS7-8ELI2"]
[null,"DQ4HD-6SYYX-1QLQB-KKVYZ"]
[null,"UBMG5-TU9SW-5CR0R-I1GFZ"]
[null,"MYOR9-RZV85-L0HC9-HT3IA"]
[null,"GXTDF-1FJOH-39A9C-SX2NW"]
[null,"V69B5-MXSH4-6K47H-E2CTT"]
[null,"CIRAO-9Q3K3-A6J7N-CJNLT"]
[null,"4FKLS-84PQD-HU0TE-BCAE3"]
[null,"8DP77-IBD7O-8USG8-MF9IQ"]
[null,"ED55O-T2MZL-2EMEC-8LJYN"]
[null,"VZW4G-HVW3J-6R1OS-6B4QN"]
[null,"NMPFA-F0J8K-MOI0K-5URJX"]
[null,"RKU1P-PG7P5-ENBND-GYPOJ"]
[null,"WUAP6-A7FIS-78ELI-2DQ4H"]
[null,"D6SYY-X1QLQ-BKKVY-ZUBMG"]
[null,"5TU9S-W5CR0-RI1GF-ZMYOR"]
[null,"9RZV8-5L0HC-9HT3I-AGXTD"]
[null,"F1FJO-H39A9-CSX2N-WV69B"]
[null,"5MXSH-46K47-HE2CT-TCIRA"]
[null,"O9Q3K-3A6J7-NCJNL-T4FKL"]
[null,"S84PQ-DHU0T-EBCAE-38DP7"]
[null,"7IBD7-O8USG-8MF9I-QED55"]
[null,"OT2MZ-L2EME-C8LJY-NVZW4"]
[null,"GHVW3-J6R1O-S6B4Q-NNMPF"]
[null,"AF0J8-KMOI0-K5URJ-XRKU1"]
[null,"PPG7P-5ENBN-DGYPO-JWUAP"]
[null,"6A7FI-S78EL-I2DQ4-HD6SY"]
[null,"YX1QL-QBKKV-YZUBM-G5TU9"]
[null,"SW5CR-0RI1G-FZMYO-R9RZV"]
[null,"85L0H-C9HT3-IAGXT-DF1FJ"]
[null,"OH39A-9CSX2-NWV69-B5MXS"]
[null,"H46K4-7HE2C-TTCIR-AO9Q3"]
[null,"K3A6J-7NCJN-LT4FK-LS84P"]
[null,"QDHU0-TEBCA-E38DP-77IBD"]
[null,"7O8US-G8MF9-IQED5-5OT2M"]
[null,"ZL2EM-EC8LJ-YNVZW-4GHVW"]
[null,"3J6R1-OS6B4-QNNMP-FAF0J"]
[null,"8KMOI-0K5UR-JXRKU-1PPG7"]
[null,"P5ENB-NDGYP-OJWUA-P6A7F"]
[null,"IS78E-LI2DQ-4HD6S-YYX1Q"]
[null,"LQBKK-VYZUB-MG5TU-9SW5C"]
[null,"R0RI1-GFZMY-OR9RZ-V85L0"]
[null,"HC9HT-3IAGX-TDF1F-JOH39"]
[null,"A9CSX-2NWV6-9B5MX-SH46K"]
[null,"47HE2-CTTCI-RAO9Q-3K3A6"]
[null,"J7NCJ-NLT4F-KLS84-PQDHU"]
[null,"0TEBC-AE38D-P77IB-D7O8U"]
[null,"SG8MF-9IQED-55OT2-MZL2E"]
[null,"MEC8L-JYNVZ-W4GHV-W3J6R"]
[null,"1OS6B-4QNNM-PFAF0-J8KMO"]
[null,"I0K5U-RJXRK-U1PPG-7P5EN"]
[null,"BNDGY-POJWU-AP6A7-FIS78"]
[null,"ELI2D-Q4HD6-SYYX1-QLQBK"]
[null,"KVYZU-BMG5T-U9SW5-CR0RI"]
[null,"1GFZM-YOR9R-ZV85L-0HC9H"]
[null,"T3IAG-XTDF1-FJOH3-9A9CS"]
[null,"X2NWV-69B5M-XSH46-K47HE"]
[null,"2CTTC-IRAO9-Q3K3A-6J7NC"]
[null,"JNLT4-FKLS8-4PQDH-U0TEB"]
[null,"CAE38-DP77I-BD7O8-USG8M"]
[null,"F9IQE-D55OT-2MZL2-EMEC8"]
[null,"LJYNV-ZW4GH-VW3J6-R1OS6"]
[null,"B4QNN-MPFAF-0J8KM-OI0K5"]
[null,"URJXR-KU1PP-G7P5E-NBNDG"]
[null,"YPOJW-UAP6A-7FIS7-8ELI2"]
[null,"DQ4HD-6SYYX-1QLQB-KKVYZ"]
[null,"UBMG5-TU9SW-5CR0R-I1GFZ"]
[null,"MYOR9-RZV85-L0HC9-HT3IA"]
[null,"GXTDF-1FJOH-39A9C-SX2NW"]
[null,"V69B5-MXSH4-6K47H-E2CTT"]
[null,"CIRAO-9Q3K3-A6J7N-CJNLT"]
[null,"4FKLS-84PQD-HU0TE-BCAE3"]
[null,"8DP77-IBD7O-8USG8-MF9IQ"]
[null,"ED55O-T2MZL-2EMEC-8LJYN"]
[null,"VZW4G-HVW3J-6R1OS-6B4QN"]
[null,"NMPFA-F0J8K-MOI0K-5URJX"]
[null,"RKU1P-PG7P5-ENBND-GYPOJ"]
[null,"WUAP6-A7FIS-78ELI-2DQ4H"]
[null,"D6SYY-X1QLQ-BKKVY-ZUBMG"]
[null,"5TU9S-W5CR0-RI1GF-ZMYOR"]
[null,"9RZV8-5L0HC-9HT3I-AGXTD"]
[null,"F1FJO-H39A9-CSX2N-WV69B"]
[null,"5MXSH-46K47-HE2CT-TCIRA"]
[null,"O9Q3K-3A6J7-NCJNL-T4FKL"]
[null,"S84PQ-DHU0T-EBCAE-38DP7"]
[null,"7IBD7-O8USG-8MF9I-QED55"]
[null,"OT2MZ-L2EME-C8LJY-NVZW4"]
[null,"GHVW3-J6R1O-S6B4Q-NNMPF"]
[null,"AF0J8-KMOI0-K5URJ-XRKU1"]
[null,"PPG7P-5ENBN-DGYPO-JWUAP"]
[null,"6A7FI-S78EL-I2DQ4-HD6SY"]
[null,"YX1QL-QBKKV-YZUBM-G5TU9"]
[null,"SW5CR-0RI1G-FZMYO-R9RZV"]
[null,"85L0H-C9HT3-IAGXT-DF1FJ"]
[null,"OH39A-9CSX2-NWV69-B5MXS"]
[null,"H46K4-7HE2C-TTCIR-AO9Q3"]
[null,"K3A6J-7NCJN-LT4FK-LS84P"]
[null,"QDHU0-TEBCA-E38DP-77IBD"]
[null,"7O8US-G8MF9-IQED5-5OT2M"]
[null,"ZL2EM-EC8LJ-YNVZW-4GHVW"]
[null,"3J6R1-OS6B4-QNNMP-FAF0J"]
[null,"8KMOI-0K5UR-JXRKU-1PPG7"]
[null,"P5ENB-KBEVN-LHUS8-N485D"]
[null,"FQ56C-JF0BO-1FB4P-WWVYO"]
[null,"JO9II-TVXR9-JE3RS-6QT3A"]
[null,"PYPGZ-EDXKW-MP7PX-T53JY"]
[null,"FA7FR-1G7EU-RBCZD-HMF17"]
[null,"76AQV-0LUT4-793KV-QF24I"]
[null,"25EC0-9RRAG-P8M7O-0I084"]
[null,"H5LAH-LIQ2C-IJP62-MOAFS"]
[null,"YQC99-8C16B-M54G9-A5M6R"]
[null,"QD5KD-7GNBB-22LR0-JXJZC"]
[null,"KCA6J-GWLSW-U2EET-U1H4O"]
[null,"ZMQ39-2OKLK-ND8DY-G6HKM"]
[null,"GXH3S-PHVOI-SZNNE-4N3BL"]